{"text_format":"1","workbook":"xlsx","n_sheets":6,"sheets":["最初にお読みください！","入力シート","出力シート","リスト","(おまけ)アップロードCSV書式説明","列挙値"],"not_rendered":{"charts":0,"images":7,"macros":1,"external_links":0,"defined_names":1,"comments":0,"pivot_tables":0},"unopened":[],"bounds":{"document_bytes":16777216,"sheet_cells":100000,"rows_first":2000,"rows_last":500,"rows_between":2000,"halvings":0,"cell_chars":16384,"cell_head_chars":4096},"cells_cut":0,"cells_raw":0,"read":"whole","date_system":"1900"}

{"sheet":"最初にお読みください！","index":0,"n_rows":25,"n_cols":10,"rows_kept":25,"cut":false,"hidden":false,"merged":[[24,9,27,11]]}
[]
[]
[]
[]
[]
[]
[]
[]
[]
[]
["入力シート"]
[]
[]
[]
[]
[]
["出力シート"]
[]
[]
[]
[]
[]
[]
[]
[null,null,null,null,null,null,null,null,"　","このようなエクセルが\nデスクトップにできたら完了"]

{"sheet":"入力シート","index":1,"n_rows":205,"n_cols":30,"rows_kept":205,"cut":false,"hidden":false,"merged":[]}
[]
[]
[null,"氏名（姓）","氏名（名）","フリガナ（姓）","フリガナ（名）","英字（姓）","英字（名）","性別","生年月日","住所\n郵便番号","住所\n都道府県","住所\n市区町村","住所\n番地・建物名","携帯電話番号","国籍","卒業高校名","卒業中学名","E-mail配信希望","勤務先名","勤務先郵便番号","勤務先都道府県","勤務先市区町村 / 番地 / 建物名","在籍学校名","在籍学校都道府県","障がいのクラス","会員基本情報備考","学年","登録番号","指導者チェック","役職名"]
[null,"必須","必須","必須","必須",null,null,"必須\nリストから選択","必須","ハイフン無し\n数字のみ","リストから\n選択",null,null,"ハイフン無し\n数字のみ","必須\nリストから選択",null,null,"必須\nリストから選択",null,"ハイフン無し\n数字のみ","リストから選択",null,null,"リストから選択","リストから選択",null,"リストから選択",null,"リストから選択","学連のみ使用"]
["サンプル","陸連","太郎","リクレン","タロウ","RIKUREN","Taro","男性","2008-09-20",3591111,"青森県",null,null,"09012341234","日本",null,null,"受け取る",null,"1001100",null,null,null,null,null,null,"小学1",null,"指導者"]
[1]
[2]
[3]
[4,null,null,null,null,{"$f":"IF(D9=\"\",\"\",ConvertHebon(D9))","v":""},{"$f":"IF(E9=\"\",\"\",ConvertHebon(E9))","v":""}]
[5,null,null,null,null,{"$f":"IF(D10=\"\",\"\",ConvertHebon(D10))","v":""},{"$f":"IF(E10=\"\",\"\",ConvertHebon(E10))","v":""}]
[6,null,null,null,null,{"$f":"IF(D11=\"\",\"\",ConvertHebon(D11))","v":""},{"$f":"IF(E11=\"\",\"\",ConvertHebon(E11))","v":""}]
[7,null,null,null,null,{"$f":"IF(D12=\"\",\"\",ConvertHebon(D12))","v":""},{"$f":"IF(E12=\"\",\"\",ConvertHebon(E12))","v":""}]
[8,null,null,null,null,{"$f":"IF(D13=\"\",\"\",ConvertHebon(D13))","v":""},{"$f":"IF(E13=\"\",\"\",ConvertHebon(E13))","v":""}]
[9,null,null,null,null,{"$f":"IF(D14=\"\",\"\",ConvertHebon(D14))","v":""},{"$f":"IF(E14=\"\",\"\",ConvertHebon(E14))","v":""}]
[10,null,null,null,null,{"$f":"IF(D15=\"\",\"\",ConvertHebon(D15))","v":""},{"$f":"IF(E15=\"\",\"\",ConvertHebon(E15))","v":""}]
[11,null,null,null,null,{"$f":"IF(D16=\"\",\"\",ConvertHebon(D16))","v":""},{"$f":"IF(E16=\"\",\"\",ConvertHebon(E16))","v":""}]
[12,null,null,null,null,{"$f":"IF(D17=\"\",\"\",ConvertHebon(D17))","v":""},{"$f":"IF(E17=\"\",\"\",ConvertHebon(E17))","v":""}]
[13,null,null,null,null,{"$f":"IF(D18=\"\",\"\",ConvertHebon(D18))","v":""},{"$f":"IF(E18=\"\",\"\",ConvertHebon(E18))","v":""}]
[14,null,null,null,null,{"$f":"IF(D19=\"\",\"\",ConvertHebon(D19))","v":""},{"$f":"IF(E19=\"\",\"\",ConvertHebon(E19))","v":""}]
[15,null,null,null,null,{"$f":"IF(D20=\"\",\"\",ConvertHebon(D20))","v":""},{"$f":"IF(E20=\"\",\"\",ConvertHebon(E20))","v":""}]
[16,null,null,null,null,{"$f":"IF(D21=\"\",\"\",ConvertHebon(D21))","v":""},{"$f":"IF(E21=\"\",\"\",ConvertHebon(E21))","v":""}]
[17,null,null,null,null,{"$f":"IF(D22=\"\",\"\",ConvertHebon(D22))","v":""},{"$f":"IF(E22=\"\",\"\",ConvertHebon(E22))","v":""}]
[18,null,null,null,null,{"$f":"IF(D23=\"\",\"\",ConvertHebon(D23))","v":""},{"$f":"IF(E23=\"\",\"\",ConvertHebon(E23))","v":""}]
[19,null,null,null,null,{"$f":"IF(D24=\"\",\"\",ConvertHebon(D24))","v":""},{"$f":"IF(E24=\"\",\"\",ConvertHebon(E24))","v":""}]
[20,null,null,null,null,{"$f":"IF(D25=\"\",\"\",ConvertHebon(D25))","v":""},{"$f":"IF(E25=\"\",\"\",ConvertHebon(E25))","v":""}]
[21,null,null,null,null,{"$f":"IF(D26=\"\",\"\",ConvertHebon(D26))","v":""},{"$f":"IF(E26=\"\",\"\",ConvertHebon(E26))","v":""}]
[22,null,null,null,null,{"$f":"IF(D27=\"\",\"\",ConvertHebon(D27))","v":""},{"$f":"IF(E27=\"\",\"\",ConvertHebon(E27))","v":""}]
[23,null,null,null,null,{"$f":"IF(D28=\"\",\"\",ConvertHebon(D28))","v":""},{"$f":"IF(E28=\"\",\"\",ConvertHebon(E28))","v":""}]
[24,null,null,null,null,{"$f":"IF(D29=\"\",\"\",ConvertHebon(D29))","v":""},{"$f":"IF(E29=\"\",\"\",ConvertHebon(E29))","v":""}]
[25,null,null,null,null,{"$f":"IF(D30=\"\",\"\",ConvertHebon(D30))","v":""},{"$f":"IF(E30=\"\",\"\",ConvertHebon(E30))","v":""}]
[26,null,null,null,null,{"$f":"IF(D31=\"\",\"\",ConvertHebon(D31))","v":""},{"$f":"IF(E31=\"\",\"\",ConvertHebon(E31))","v":""}]
[27,null,null,null,null,{"$f":"IF(D32=\"\",\"\",ConvertHebon(D32))","v":""},{"$f":"IF(E32=\"\",\"\",ConvertHebon(E32))","v":""}]
[28,null,null,null,null,{"$f":"IF(D33=\"\",\"\",ConvertHebon(D33))","v":""},{"$f":"IF(E33=\"\",\"\",ConvertHebon(E33))","v":""}]
[29,null,null,null,null,{"$f":"IF(D34=\"\",\"\",ConvertHebon(D34))","v":""},{"$f":"IF(E34=\"\",\"\",ConvertHebon(E34))","v":""}]
[30,null,null,null,null,{"$f":"IF(D35=\"\",\"\",ConvertHebon(D35))","v":""},{"$f":"IF(E35=\"\",\"\",ConvertHebon(E35))","v":""}]
[31,null,null,null,null,{"$f":"IF(D36=\"\",\"\",ConvertHebon(D36))","v":""},{"$f":"IF(E36=\"\",\"\",ConvertHebon(E36))","v":""}]
[32,null,null,null,null,{"$f":"IF(D37=\"\",\"\",ConvertHebon(D37))","v":""},{"$f":"IF(E37=\"\",\"\",ConvertHebon(E37))","v":""}]
[33,null,null,null,null,{"$f":"IF(D38=\"\",\"\",ConvertHebon(D38))","v":""},{"$f":"IF(E38=\"\",\"\",ConvertHebon(E38))","v":""}]
[34,null,null,null,null,{"$f":"IF(D39=\"\",\"\",ConvertHebon(D39))","v":""},{"$f":"IF(E39=\"\",\"\",ConvertHebon(E39))","v":""}]
[35,null,null,null,null,{"$f":"IF(D40=\"\",\"\",ConvertHebon(D40))","v":""},{"$f":"IF(E40=\"\",\"\",ConvertHebon(E40))","v":""}]
[36,null,null,null,null,{"$f":"IF(D41=\"\",\"\",ConvertHebon(D41))","v":""},{"$f":"IF(E41=\"\",\"\",ConvertHebon(E41))","v":""}]
[37,null,null,null,null,{"$f":"IF(D42=\"\",\"\",ConvertHebon(D42))","v":""},{"$f":"IF(E42=\"\",\"\",ConvertHebon(E42))","v":""}]
[38,null,null,null,null,{"$f":"IF(D43=\"\",\"\",ConvertHebon(D43))","v":""},{"$f":"IF(E43=\"\",\"\",ConvertHebon(E43))","v":""}]
[39,null,null,null,null,{"$f":"IF(D44=\"\",\"\",ConvertHebon(D44))","v":""},{"$f":"IF(E44=\"\",\"\",ConvertHebon(E44))","v":""}]
[40,null,null,null,null,{"$f":"IF(D45=\"\",\"\",ConvertHebon(D45))","v":""},{"$f":"IF(E45=\"\",\"\",ConvertHebon(E45))","v":""}]
[41,null,null,null,null,{"$f":"IF(D46=\"\",\"\",ConvertHebon(D46))","v":""},{"$f":"IF(E46=\"\",\"\",ConvertHebon(E46))","v":""}]
[42,null,null,null,null,{"$f":"IF(D47=\"\",\"\",ConvertHebon(D47))","v":""},{"$f":"IF(E47=\"\",\"\",ConvertHebon(E47))","v":""}]
[43,null,null,null,null,{"$f":"IF(D48=\"\",\"\",ConvertHebon(D48))","v":""},{"$f":"IF(E48=\"\",\"\",ConvertHebon(E48))","v":""}]
[44,null,null,null,null,{"$f":"IF(D49=\"\",\"\",ConvertHebon(D49))","v":""},{"$f":"IF(E49=\"\",\"\",ConvertHebon(E49))","v":""}]
[45,null,null,null,null,{"$f":"IF(D50=\"\",\"\",ConvertHebon(D50))","v":""},{"$f":"IF(E50=\"\",\"\",ConvertHebon(E50))","v":""}]
[46,null,null,null,null,{"$f":"IF(D51=\"\",\"\",ConvertHebon(D51))","v":""},{"$f":"IF(E51=\"\",\"\",ConvertHebon(E51))","v":""}]
[47,null,null,null,null,{"$f":"IF(D52=\"\",\"\",ConvertHebon(D52))","v":""},{"$f":"IF(E52=\"\",\"\",ConvertHebon(E52))","v":""}]
[48,null,null,null,null,{"$f":"IF(D53=\"\",\"\",ConvertHebon(D53))","v":""},{"$f":"IF(E53=\"\",\"\",ConvertHebon(E53))","v":""}]
[49,null,null,null,null,{"$f":"IF(D54=\"\",\"\",ConvertHebon(D54))","v":""},{"$f":"IF(E54=\"\",\"\",ConvertHebon(E54))","v":""}]
[50,null,null,null,null,{"$f":"IF(D55=\"\",\"\",ConvertHebon(D55))","v":""},{"$f":"IF(E55=\"\",\"\",ConvertHebon(E55))","v":""}]
[51,null,null,null,null,{"$f":"IF(D56=\"\",\"\",ConvertHebon(D56))","v":""},{"$f":"IF(E56=\"\",\"\",ConvertHebon(E56))","v":""}]
[52,null,null,null,null,{"$f":"IF(D57=\"\",\"\",ConvertHebon(D57))","v":""},{"$f":"IF(E57=\"\",\"\",ConvertHebon(E57))","v":""}]
[53,null,null,null,null,{"$f":"IF(D58=\"\",\"\",ConvertHebon(D58))","v":""},{"$f":"IF(E58=\"\",\"\",ConvertHebon(E58))","v":""}]
[54,null,null,null,null,{"$f":"IF(D59=\"\",\"\",ConvertHebon(D59))","v":""},{"$f":"IF(E59=\"\",\"\",ConvertHebon(E59))","v":""}]
[55,null,null,null,null,{"$f":"IF(D60=\"\",\"\",ConvertHebon(D60))","v":""},{"$f":"IF(E60=\"\",\"\",ConvertHebon(E60))","v":""}]
[56,null,null,null,null,{"$f":"IF(D61=\"\",\"\",ConvertHebon(D61))","v":""},{"$f":"IF(E61=\"\",\"\",ConvertHebon(E61))","v":""}]
[57,null,null,null,null,{"$f":"IF(D62=\"\",\"\",ConvertHebon(D62))","v":""},{"$f":"IF(E62=\"\",\"\",ConvertHebon(E62))","v":""}]
[58,null,null,null,null,{"$f":"IF(D63=\"\",\"\",ConvertHebon(D63))","v":""},{"$f":"IF(E63=\"\",\"\",ConvertHebon(E63))","v":""}]
[59,null,null,null,null,{"$f":"IF(D64=\"\",\"\",ConvertHebon(D64))","v":""},{"$f":"IF(E64=\"\",\"\",ConvertHebon(E64))","v":""}]
[60,null,null,null,null,{"$f":"IF(D65=\"\",\"\",ConvertHebon(D65))","v":""},{"$f":"IF(E65=\"\",\"\",ConvertHebon(E65))","v":""}]
[61,null,null,null,null,{"$f":"IF(D66=\"\",\"\",ConvertHebon(D66))","v":""},{"$f":"IF(E66=\"\",\"\",ConvertHebon(E66))","v":""}]
[62,null,null,null,null,{"$f":"IF(D67=\"\",\"\",ConvertHebon(D67))","v":""},{"$f":"IF(E67=\"\",\"\",ConvertHebon(E67))","v":""}]
[63,null,null,null,null,{"$f":"IF(D68=\"\",\"\",ConvertHebon(D68))","v":""},{"$f":"IF(E68=\"\",\"\",ConvertHebon(E68))","v":""}]
[64,null,null,null,null,{"$f":"IF(D69=\"\",\"\",ConvertHebon(D69))","v":""},{"$f":"IF(E69=\"\",\"\",ConvertHebon(E69))","v":""}]
[65,null,null,null,null,{"$f":"IF(D70=\"\",\"\",ConvertHebon(D70))","v":""},{"$f":"IF(E70=\"\",\"\",ConvertHebon(E70))","v":""}]
[66,null,null,null,null,{"$f":"IF(D71=\"\",\"\",ConvertHebon(D71))","v":""},{"$f":"IF(E71=\"\",\"\",ConvertHebon(E71))","v":""}]
[67,null,null,null,null,{"$f":"IF(D72=\"\",\"\",ConvertHebon(D72))","v":""},{"$f":"IF(E72=\"\",\"\",ConvertHebon(E72))","v":""}]
[68,null,null,null,null,{"$f":"IF(D73=\"\",\"\",ConvertHebon(D73))","v":""},{"$f":"IF(E73=\"\",\"\",ConvertHebon(E73))","v":""}]
[69,null,null,null,null,{"$f":"IF(D74=\"\",\"\",ConvertHebon(D74))","v":""},{"$f":"IF(E74=\"\",\"\",ConvertHebon(E74))","v":""}]
[70,null,null,null,null,{"$f":"IF(D75=\"\",\"\",ConvertHebon(D75))","v":""},{"$f":"IF(E75=\"\",\"\",ConvertHebon(E75))","v":""}]
[71,null,null,null,null,{"$f":"IF(D76=\"\",\"\",ConvertHebon(D76))","v":""},{"$f":"IF(E76=\"\",\"\",ConvertHebon(E76))","v":""}]
[72,null,null,null,null,{"$f":"IF(D77=\"\",\"\",ConvertHebon(D77))","v":""},{"$f":"IF(E77=\"\",\"\",ConvertHebon(E77))","v":""}]
[73,null,null,null,null,{"$f":"IF(D78=\"\",\"\",ConvertHebon(D78))","v":""},{"$f":"IF(E78=\"\",\"\",ConvertHebon(E78))","v":""}]
[74,null,null,null,null,{"$f":"IF(D79=\"\",\"\",ConvertHebon(D79))","v":""},{"$f":"IF(E79=\"\",\"\",ConvertHebon(E79))","v":""}]
[75,null,null,null,null,{"$f":"IF(D80=\"\",\"\",ConvertHebon(D80))","v":""},{"$f":"IF(E80=\"\",\"\",ConvertHebon(E80))","v":""}]
[76,null,null,null,null,{"$f":"IF(D81=\"\",\"\",ConvertHebon(D81))","v":""},{"$f":"IF(E81=\"\",\"\",ConvertHebon(E81))","v":""}]
[77,null,null,null,null,{"$f":"IF(D82=\"\",\"\",ConvertHebon(D82))","v":""},{"$f":"IF(E82=\"\",\"\",ConvertHebon(E82))","v":""}]
[78,null,null,null,null,{"$f":"IF(D83=\"\",\"\",ConvertHebon(D83))","v":""},{"$f":"IF(E83=\"\",\"\",ConvertHebon(E83))","v":""}]
[79,null,null,null,null,{"$f":"IF(D84=\"\",\"\",ConvertHebon(D84))","v":""},{"$f":"IF(E84=\"\",\"\",ConvertHebon(E84))","v":""}]
[80,null,null,null,null,{"$f":"IF(D85=\"\",\"\",ConvertHebon(D85))","v":""},{"$f":"IF(E85=\"\",\"\",ConvertHebon(E85))","v":""}]
[81,null,null,null,null,{"$f":"IF(D86=\"\",\"\",ConvertHebon(D86))","v":""},{"$f":"IF(E86=\"\",\"\",ConvertHebon(E86))","v":""}]
[82,null,null,null,null,{"$f":"IF(D87=\"\",\"\",ConvertHebon(D87))","v":""},{"$f":"IF(E87=\"\",\"\",ConvertHebon(E87))","v":""}]
[83,null,null,null,null,{"$f":"IF(D88=\"\",\"\",ConvertHebon(D88))","v":""},{"$f":"IF(E88=\"\",\"\",ConvertHebon(E88))","v":""}]
[84,null,null,null,null,{"$f":"IF(D89=\"\",\"\",ConvertHebon(D89))","v":""},{"$f":"IF(E89=\"\",\"\",ConvertHebon(E89))","v":""}]
[85,null,null,null,null,{"$f":"IF(D90=\"\",\"\",ConvertHebon(D90))","v":""},{"$f":"IF(E90=\"\",\"\",ConvertHebon(E90))","v":""}]
[86,null,null,null,null,{"$f":"IF(D91=\"\",\"\",ConvertHebon(D91))","v":""},{"$f":"IF(E91=\"\",\"\",ConvertHebon(E91))","v":""}]
[87,null,null,null,null,{"$f":"IF(D92=\"\",\"\",ConvertHebon(D92))","v":""},{"$f":"IF(E92=\"\",\"\",ConvertHebon(E92))","v":""}]
[88,null,null,null,null,{"$f":"IF(D93=\"\",\"\",ConvertHebon(D93))","v":""},{"$f":"IF(E93=\"\",\"\",ConvertHebon(E93))","v":""}]
[89,null,null,null,null,{"$f":"IF(D94=\"\",\"\",ConvertHebon(D94))","v":""},{"$f":"IF(E94=\"\",\"\",ConvertHebon(E94))","v":""}]
[90,null,null,null,null,{"$f":"IF(D95=\"\",\"\",ConvertHebon(D95))","v":""},{"$f":"IF(E95=\"\",\"\",ConvertHebon(E95))","v":""}]
[91,null,null,null,null,{"$f":"IF(D96=\"\",\"\",ConvertHebon(D96))","v":""},{"$f":"IF(E96=\"\",\"\",ConvertHebon(E96))","v":""}]
[92,null,null,null,null,{"$f":"IF(D97=\"\",\"\",ConvertHebon(D97))","v":""},{"$f":"IF(E97=\"\",\"\",ConvertHebon(E97))","v":""}]
[93,null,null,null,null,{"$f":"IF(D98=\"\",\"\",ConvertHebon(D98))","v":""},{"$f":"IF(E98=\"\",\"\",ConvertHebon(E98))","v":""}]
[94,null,null,null,null,{"$f":"IF(D99=\"\",\"\",ConvertHebon(D99))","v":""},{"$f":"IF(E99=\"\",\"\",ConvertHebon(E99))","v":""}]
[95,null,null,null,null,{"$f":"IF(D100=\"\",\"\",ConvertHebon(D100))","v":""},{"$f":"IF(E100=\"\",\"\",ConvertHebon(E100))","v":""}]
[96,null,null,null,null,{"$f":"IF(D101=\"\",\"\",ConvertHebon(D101))","v":""},{"$f":"IF(E101=\"\",\"\",ConvertHebon(E101))","v":""}]
[97,null,null,null,null,{"$f":"IF(D102=\"\",\"\",ConvertHebon(D102))","v":""},{"$f":"IF(E102=\"\",\"\",ConvertHebon(E102))","v":""}]
[98,null,null,null,null,{"$f":"IF(D103=\"\",\"\",ConvertHebon(D103))","v":""},{"$f":"IF(E103=\"\",\"\",ConvertHebon(E103))","v":""}]
[99,null,null,null,null,{"$f":"IF(D104=\"\",\"\",ConvertHebon(D104))","v":""},{"$f":"IF(E104=\"\",\"\",ConvertHebon(E104))","v":""}]
[100,null,null,null,null,{"$f":"IF(D105=\"\",\"\",ConvertHebon(D105))","v":""},{"$f":"IF(E105=\"\",\"\",ConvertHebon(E105))","v":""}]
[101,null,null,null,null,{"$f":"IF(D106=\"\",\"\",ConvertHebon(D106))","v":""},{"$f":"IF(E106=\"\",\"\",ConvertHebon(E106))","v":""}]
[102,null,null,null,null,{"$f":"IF(D107=\"\",\"\",ConvertHebon(D107))","v":""},{"$f":"IF(E107=\"\",\"\",ConvertHebon(E107))","v":""}]
[103,null,null,null,null,{"$f":"IF(D108=\"\",\"\",ConvertHebon(D108))","v":""},{"$f":"IF(E108=\"\",\"\",ConvertHebon(E108))","v":""}]
[104,null,null,null,null,{"$f":"IF(D109=\"\",\"\",ConvertHebon(D109))","v":""},{"$f":"IF(E109=\"\",\"\",ConvertHebon(E109))","v":""}]
[105,null,null,null,null,{"$f":"IF(D110=\"\",\"\",ConvertHebon(D110))","v":""},{"$f":"IF(E110=\"\",\"\",ConvertHebon(E110))","v":""}]
[106,null,null,null,null,{"$f":"IF(D111=\"\",\"\",ConvertHebon(D111))","v":""},{"$f":"IF(E111=\"\",\"\",ConvertHebon(E111))","v":""}]
[107,null,null,null,null,{"$f":"IF(D112=\"\",\"\",ConvertHebon(D112))","v":""},{"$f":"IF(E112=\"\",\"\",ConvertHebon(E112))","v":""}]
[108,null,null,null,null,{"$f":"IF(D113=\"\",\"\",ConvertHebon(D113))","v":""},{"$f":"IF(E113=\"\",\"\",ConvertHebon(E113))","v":""}]
[109,null,null,null,null,{"$f":"IF(D114=\"\",\"\",ConvertHebon(D114))","v":""},{"$f":"IF(E114=\"\",\"\",ConvertHebon(E114))","v":""}]
[110,null,null,null,null,{"$f":"IF(D115=\"\",\"\",ConvertHebon(D115))","v":""},{"$f":"IF(E115=\"\",\"\",ConvertHebon(E115))","v":""}]
[111,null,null,null,null,{"$f":"IF(D116=\"\",\"\",ConvertHebon(D116))","v":""},{"$f":"IF(E116=\"\",\"\",ConvertHebon(E116))","v":""}]
[112,null,null,null,null,{"$f":"IF(D117=\"\",\"\",ConvertHebon(D117))","v":""},{"$f":"IF(E117=\"\",\"\",ConvertHebon(E117))","v":""}]
[113,null,null,null,null,{"$f":"IF(D118=\"\",\"\",ConvertHebon(D118))","v":""},{"$f":"IF(E118=\"\",\"\",ConvertHebon(E118))","v":""}]
[114,null,null,null,null,{"$f":"IF(D119=\"\",\"\",ConvertHebon(D119))","v":""},{"$f":"IF(E119=\"\",\"\",ConvertHebon(E119))","v":""}]
[115,null,null,null,null,{"$f":"IF(D120=\"\",\"\",ConvertHebon(D120))","v":""},{"$f":"IF(E120=\"\",\"\",ConvertHebon(E120))","v":""}]
[116,null,null,null,null,{"$f":"IF(D121=\"\",\"\",ConvertHebon(D121))","v":""},{"$f":"IF(E121=\"\",\"\",ConvertHebon(E121))","v":""}]
[117,null,null,null,null,{"$f":"IF(D122=\"\",\"\",ConvertHebon(D122))","v":""},{"$f":"IF(E122=\"\",\"\",ConvertHebon(E122))","v":""}]
[118,null,null,null,null,{"$f":"IF(D123=\"\",\"\",ConvertHebon(D123))","v":""},{"$f":"IF(E123=\"\",\"\",ConvertHebon(E123))","v":""}]
[119,null,null,null,null,{"$f":"IF(D124=\"\",\"\",ConvertHebon(D124))","v":""},{"$f":"IF(E124=\"\",\"\",ConvertHebon(E124))","v":""}]
[120,null,null,null,null,{"$f":"IF(D125=\"\",\"\",ConvertHebon(D125))","v":""},{"$f":"IF(E125=\"\",\"\",ConvertHebon(E125))","v":""}]
[121,null,null,null,null,{"$f":"IF(D126=\"\",\"\",ConvertHebon(D126))","v":""},{"$f":"IF(E126=\"\",\"\",ConvertHebon(E126))","v":""}]
[122,null,null,null,null,{"$f":"IF(D127=\"\",\"\",ConvertHebon(D127))","v":""},{"$f":"IF(E127=\"\",\"\",ConvertHebon(E127))","v":""}]
[123,null,null,null,null,{"$f":"IF(D128=\"\",\"\",ConvertHebon(D128))","v":""},{"$f":"IF(E128=\"\",\"\",ConvertHebon(E128))","v":""}]
[124,null,null,null,null,{"$f":"IF(D129=\"\",\"\",ConvertHebon(D129))","v":""},{"$f":"IF(E129=\"\",\"\",ConvertHebon(E129))","v":""}]
[125,null,null,null,null,{"$f":"IF(D130=\"\",\"\",ConvertHebon(D130))","v":""},{"$f":"IF(E130=\"\",\"\",ConvertHebon(E130))","v":""}]
[126,null,null,null,null,{"$f":"IF(D131=\"\",\"\",ConvertHebon(D131))","v":""},{"$f":"IF(E131=\"\",\"\",ConvertHebon(E131))","v":""}]
[127,null,null,null,null,{"$f":"IF(D132=\"\",\"\",ConvertHebon(D132))","v":""},{"$f":"IF(E132=\"\",\"\",ConvertHebon(E132))","v":""}]
[128,null,null,null,null,{"$f":"IF(D133=\"\",\"\",ConvertHebon(D133))","v":""},{"$f":"IF(E133=\"\",\"\",ConvertHebon(E133))","v":""}]
[129,null,null,null,null,{"$f":"IF(D134=\"\",\"\",ConvertHebon(D134))","v":""},{"$f":"IF(E134=\"\",\"\",ConvertHebon(E134))","v":""}]
[130,null,null,null,null,{"$f":"IF(D135=\"\",\"\",ConvertHebon(D135))","v":""},{"$f":"IF(E135=\"\",\"\",ConvertHebon(E135))","v":""}]
[131,null,null,null,null,{"$f":"IF(D136=\"\",\"\",ConvertHebon(D136))","v":""},{"$f":"IF(E136=\"\",\"\",ConvertHebon(E136))","v":""}]
[132,null,null,null,null,{"$f":"IF(D137=\"\",\"\",ConvertHebon(D137))","v":""},{"$f":"IF(E137=\"\",\"\",ConvertHebon(E137))","v":""}]
[133,null,null,null,null,{"$f":"IF(D138=\"\",\"\",ConvertHebon(D138))","v":""},{"$f":"IF(E138=\"\",\"\",ConvertHebon(E138))","v":""}]
[134,null,null,null,null,{"$f":"IF(D139=\"\",\"\",ConvertHebon(D139))","v":""},{"$f":"IF(E139=\"\",\"\",ConvertHebon(E139))","v":""}]
[135,null,null,null,null,{"$f":"IF(D140=\"\",\"\",ConvertHebon(D140))","v":""},{"$f":"IF(E140=\"\",\"\",ConvertHebon(E140))","v":""}]
[136,null,null,null,null,{"$f":"IF(D141=\"\",\"\",ConvertHebon(D141))","v":""},{"$f":"IF(E141=\"\",\"\",ConvertHebon(E141))","v":""}]
[137,null,null,null,null,{"$f":"IF(D142=\"\",\"\",ConvertHebon(D142))","v":""},{"$f":"IF(E142=\"\",\"\",ConvertHebon(E142))","v":""}]
[138,null,null,null,null,{"$f":"IF(D143=\"\",\"\",ConvertHebon(D143))","v":""},{"$f":"IF(E143=\"\",\"\",ConvertHebon(E143))","v":""}]
[139,null,null,null,null,{"$f":"IF(D144=\"\",\"\",ConvertHebon(D144))","v":""},{"$f":"IF(E144=\"\",\"\",ConvertHebon(E144))","v":""}]
[140,null,null,null,null,{"$f":"IF(D145=\"\",\"\",ConvertHebon(D145))","v":""},{"$f":"IF(E145=\"\",\"\",ConvertHebon(E145))","v":""}]
[141,null,null,null,null,{"$f":"IF(D146=\"\",\"\",ConvertHebon(D146))","v":""},{"$f":"IF(E146=\"\",\"\",ConvertHebon(E146))","v":""}]
[142,null,null,null,null,{"$f":"IF(D147=\"\",\"\",ConvertHebon(D147))","v":""},{"$f":"IF(E147=\"\",\"\",ConvertHebon(E147))","v":""}]
[143,null,null,null,null,{"$f":"IF(D148=\"\",\"\",ConvertHebon(D148))","v":""},{"$f":"IF(E148=\"\",\"\",ConvertHebon(E148))","v":""}]
[144,null,null,null,null,{"$f":"IF(D149=\"\",\"\",ConvertHebon(D149))","v":""},{"$f":"IF(E149=\"\",\"\",ConvertHebon(E149))","v":""}]
[145,null,null,null,null,{"$f":"IF(D150=\"\",\"\",ConvertHebon(D150))","v":""},{"$f":"IF(E150=\"\",\"\",ConvertHebon(E150))","v":""}]
[146,null,null,null,null,{"$f":"IF(D151=\"\",\"\",ConvertHebon(D151))","v":""},{"$f":"IF(E151=\"\",\"\",ConvertHebon(E151))","v":""}]
[147,null,null,null,null,{"$f":"IF(D152=\"\",\"\",ConvertHebon(D152))","v":""},{"$f":"IF(E152=\"\",\"\",ConvertHebon(E152))","v":""}]
[148,null,null,null,null,{"$f":"IF(D153=\"\",\"\",ConvertHebon(D153))","v":""},{"$f":"IF(E153=\"\",\"\",ConvertHebon(E153))","v":""}]
[149,null,null,null,null,{"$f":"IF(D154=\"\",\"\",ConvertHebon(D154))","v":""},{"$f":"IF(E154=\"\",\"\",ConvertHebon(E154))","v":""}]
[150,null,null,null,null,{"$f":"IF(D155=\"\",\"\",ConvertHebon(D155))","v":""},{"$f":"IF(E155=\"\",\"\",ConvertHebon(E155))","v":""}]
[151,null,null,null,null,{"$f":"IF(D156=\"\",\"\",ConvertHebon(D156))","v":""},{"$f":"IF(E156=\"\",\"\",ConvertHebon(E156))","v":""}]
[152,null,null,null,null,{"$f":"IF(D157=\"\",\"\",ConvertHebon(D157))","v":""},{"$f":"IF(E157=\"\",\"\",ConvertHebon(E157))","v":""}]
[153,null,null,null,null,{"$f":"IF(D158=\"\",\"\",ConvertHebon(D158))","v":""},{"$f":"IF(E158=\"\",\"\",ConvertHebon(E158))","v":""}]
[154,null,null,null,null,{"$f":"IF(D159=\"\",\"\",ConvertHebon(D159))","v":""},{"$f":"IF(E159=\"\",\"\",ConvertHebon(E159))","v":""}]
[155,null,null,null,null,{"$f":"IF(D160=\"\",\"\",ConvertHebon(D160))","v":""},{"$f":"IF(E160=\"\",\"\",ConvertHebon(E160))","v":""}]
[156,null,null,null,null,{"$f":"IF(D161=\"\",\"\",ConvertHebon(D161))","v":""},{"$f":"IF(E161=\"\",\"\",ConvertHebon(E161))","v":""}]
[157,null,null,null,null,{"$f":"IF(D162=\"\",\"\",ConvertHebon(D162))","v":""},{"$f":"IF(E162=\"\",\"\",ConvertHebon(E162))","v":""}]
[158,null,null,null,null,{"$f":"IF(D163=\"\",\"\",ConvertHebon(D163))","v":""},{"$f":"IF(E163=\"\",\"\",ConvertHebon(E163))","v":""}]
[159,null,null,null,null,{"$f":"IF(D164=\"\",\"\",ConvertHebon(D164))","v":""},{"$f":"IF(E164=\"\",\"\",ConvertHebon(E164))","v":""}]
[160,null,null,null,null,{"$f":"IF(D165=\"\",\"\",ConvertHebon(D165))","v":""},{"$f":"IF(E165=\"\",\"\",ConvertHebon(E165))","v":""}]
[161,null,null,null,null,{"$f":"IF(D166=\"\",\"\",ConvertHebon(D166))","v":""},{"$f":"IF(E166=\"\",\"\",ConvertHebon(E166))","v":""}]
[162,null,null,null,null,{"$f":"IF(D167=\"\",\"\",ConvertHebon(D167))","v":""},{"$f":"IF(E167=\"\",\"\",ConvertHebon(E167))","v":""}]
[163,null,null,null,null,{"$f":"IF(D168=\"\",\"\",ConvertHebon(D168))","v":""},{"$f":"IF(E168=\"\",\"\",ConvertHebon(E168))","v":""}]
[164,null,null,null,null,{"$f":"IF(D169=\"\",\"\",ConvertHebon(D169))","v":""},{"$f":"IF(E169=\"\",\"\",ConvertHebon(E169))","v":""}]
[165,null,null,null,null,{"$f":"IF(D170=\"\",\"\",ConvertHebon(D170))","v":""},{"$f":"IF(E170=\"\",\"\",ConvertHebon(E170))","v":""}]
[166,null,null,null,null,{"$f":"IF(D171=\"\",\"\",ConvertHebon(D171))","v":""},{"$f":"IF(E171=\"\",\"\",ConvertHebon(E171))","v":""}]
[167,null,null,null,null,{"$f":"IF(D172=\"\",\"\",ConvertHebon(D172))","v":""},{"$f":"IF(E172=\"\",\"\",ConvertHebon(E172))","v":""}]
[168,null,null,null,null,{"$f":"IF(D173=\"\",\"\",ConvertHebon(D173))","v":""},{"$f":"IF(E173=\"\",\"\",ConvertHebon(E173))","v":""}]
[169,null,null,null,null,{"$f":"IF(D174=\"\",\"\",ConvertHebon(D174))","v":""},{"$f":"IF(E174=\"\",\"\",ConvertHebon(E174))","v":""}]
[170,null,null,null,null,{"$f":"IF(D175=\"\",\"\",ConvertHebon(D175))","v":""},{"$f":"IF(E175=\"\",\"\",ConvertHebon(E175))","v":""}]
[171,null,null,null,null,{"$f":"IF(D176=\"\",\"\",ConvertHebon(D176))","v":""},{"$f":"IF(E176=\"\",\"\",ConvertHebon(E176))","v":""}]
[172,null,null,null,null,{"$f":"IF(D177=\"\",\"\",ConvertHebon(D177))","v":""},{"$f":"IF(E177=\"\",\"\",ConvertHebon(E177))","v":""}]
[173,null,null,null,null,{"$f":"IF(D178=\"\",\"\",ConvertHebon(D178))","v":""},{"$f":"IF(E178=\"\",\"\",ConvertHebon(E178))","v":""}]
[174,null,null,null,null,{"$f":"IF(D179=\"\",\"\",ConvertHebon(D179))","v":""},{"$f":"IF(E179=\"\",\"\",ConvertHebon(E179))","v":""}]
[175,null,null,null,null,{"$f":"IF(D180=\"\",\"\",ConvertHebon(D180))","v":""},{"$f":"IF(E180=\"\",\"\",ConvertHebon(E180))","v":""}]
[176,null,null,null,null,{"$f":"IF(D181=\"\",\"\",ConvertHebon(D181))","v":""},{"$f":"IF(E181=\"\",\"\",ConvertHebon(E181))","v":""}]
[177,null,null,null,null,{"$f":"IF(D182=\"\",\"\",ConvertHebon(D182))","v":""},{"$f":"IF(E182=\"\",\"\",ConvertHebon(E182))","v":""}]
[178,null,null,null,null,{"$f":"IF(D183=\"\",\"\",ConvertHebon(D183))","v":""},{"$f":"IF(E183=\"\",\"\",ConvertHebon(E183))","v":""}]
[179,null,null,null,null,{"$f":"IF(D184=\"\",\"\",ConvertHebon(D184))","v":""},{"$f":"IF(E184=\"\",\"\",ConvertHebon(E184))","v":""}]
[180,null,null,null,null,{"$f":"IF(D185=\"\",\"\",ConvertHebon(D185))","v":""},{"$f":"IF(E185=\"\",\"\",ConvertHebon(E185))","v":""}]
[181,null,null,null,null,{"$f":"IF(D186=\"\",\"\",ConvertHebon(D186))","v":""},{"$f":"IF(E186=\"\",\"\",ConvertHebon(E186))","v":""}]
[182,null,null,null,null,{"$f":"IF(D187=\"\",\"\",ConvertHebon(D187))","v":""},{"$f":"IF(E187=\"\",\"\",ConvertHebon(E187))","v":""}]
[183,null,null,null,null,{"$f":"IF(D188=\"\",\"\",ConvertHebon(D188))","v":""},{"$f":"IF(E188=\"\",\"\",ConvertHebon(E188))","v":""}]
[184,null,null,null,null,{"$f":"IF(D189=\"\",\"\",ConvertHebon(D189))","v":""},{"$f":"IF(E189=\"\",\"\",ConvertHebon(E189))","v":""}]
[185,null,null,null,null,{"$f":"IF(D190=\"\",\"\",ConvertHebon(D190))","v":""},{"$f":"IF(E190=\"\",\"\",ConvertHebon(E190))","v":""}]
[186,null,null,null,null,{"$f":"IF(D191=\"\",\"\",ConvertHebon(D191))","v":""},{"$f":"IF(E191=\"\",\"\",ConvertHebon(E191))","v":""}]
[187,null,null,null,null,{"$f":"IF(D192=\"\",\"\",ConvertHebon(D192))","v":""},{"$f":"IF(E192=\"\",\"\",ConvertHebon(E192))","v":""}]
[188,null,null,null,null,{"$f":"IF(D193=\"\",\"\",ConvertHebon(D193))","v":""},{"$f":"IF(E193=\"\",\"\",ConvertHebon(E193))","v":""}]
[189,null,null,null,null,{"$f":"IF(D194=\"\",\"\",ConvertHebon(D194))","v":""},{"$f":"IF(E194=\"\",\"\",ConvertHebon(E194))","v":""}]
[190,null,null,null,null,{"$f":"IF(D195=\"\",\"\",ConvertHebon(D195))","v":""},{"$f":"IF(E195=\"\",\"\",ConvertHebon(E195))","v":""}]
[191,null,null,null,null,{"$f":"IF(D196=\"\",\"\",ConvertHebon(D196))","v":""},{"$f":"IF(E196=\"\",\"\",ConvertHebon(E196))","v":""}]
[192,null,null,null,null,{"$f":"IF(D197=\"\",\"\",ConvertHebon(D197))","v":""},{"$f":"IF(E197=\"\",\"\",ConvertHebon(E197))","v":""}]
[193,null,null,null,null,{"$f":"IF(D198=\"\",\"\",ConvertHebon(D198))","v":""},{"$f":"IF(E198=\"\",\"\",ConvertHebon(E198))","v":""}]
[194,null,null,null,null,{"$f":"IF(D199=\"\",\"\",ConvertHebon(D199))","v":""},{"$f":"IF(E199=\"\",\"\",ConvertHebon(E199))","v":""}]
[195,null,null,null,null,{"$f":"IF(D200=\"\",\"\",ConvertHebon(D200))","v":""},{"$f":"IF(E200=\"\",\"\",ConvertHebon(E200))","v":""}]
[196,null,null,null,null,{"$f":"IF(D201=\"\",\"\",ConvertHebon(D201))","v":""},{"$f":"IF(E201=\"\",\"\",ConvertHebon(E201))","v":""}]
[197,null,null,null,null,{"$f":"IF(D202=\"\",\"\",ConvertHebon(D202))","v":""},{"$f":"IF(E202=\"\",\"\",ConvertHebon(E202))","v":""}]
[198,null,null,null,null,{"$f":"IF(D203=\"\",\"\",ConvertHebon(D203))","v":""},{"$f":"IF(E203=\"\",\"\",ConvertHebon(E203))","v":""}]
[199,null,null,null,null,{"$f":"IF(D204=\"\",\"\",ConvertHebon(D204))","v":""},{"$f":"IF(E204=\"\",\"\",ConvertHebon(E204))","v":""}]
[200,null,null,null,null,{"$f":"IF(D205=\"\",\"\",ConvertHebon(D205))","v":""},{"$f":"IF(E205=\"\",\"\",ConvertHebon(E205))","v":""}]

{"sheet":"出力シート","index":2,"n_rows":380,"n_cols":33,"rows_kept":380,"cut":false,"hidden":false,"merged":[]}
["氏名（姓）","氏名（名）","フリガナ（姓）","フリガナ（名）","英字（姓）","英字（名）","性別","生年月日","郵便番号","都道府県","市区町村","番地・建物名","携帯電話番号","国籍","学年","卒業高校名","卒業中学名","E-mail配信希望","勤務先名","勤務先郵便番号","勤務先都道府県","勤務先市区町村 / 番地 / 建物名","在籍学校名","在籍学校都道府県","障がいのクラス","会員基本情報備考","実施している種目","興味がある種目","属性","学年","登録番号","指導者チェック","役職名"]
[{"$f":"IF(入力シート!B6=\"\",\"\",入力シート!B6)","v":""},{"$f":"IF(入力シート!C6=\"\",\"\",入力シート!C6)","v":""},{"$f":"IF(入力シート!D6=\"\",\"\",DBCS(入力シート!D6))","v":""},{"$f":"IF(入力シート!E6=\"\",\"\",DBCS(入力シート!E6))","v":""},{"$f":"ASC(IF(入力シート!F6=\"\",\"\",UPPER(入力シート!F6)))","v":""},{"$f":"IF(入力シート!G6=\"\",\"\",PROPER(入力シート!G6))","v":""},{"$f":"IF(入力シート!H6=\"\",\"\",入力シート!H6)","v":""},{"$f":"IF(入力シート!I6=\"\",\"\",TEXT(入力シート!I6,\"yyyy/mm/dd\"))","v":""},{"$f":"IF(入力シート!J6=\"\",\"\",入力シート!J6)","v":""},{"$f":"IF(入力シート!K6=\"\",\"\",入力シート!K6)","v":""},{"$f":"IF(入力シート!L6=\"\",\"\",入力シート!L6)","v":""},{"$f":"IF(入力シート!M6=\"\",\"\",入力シート!M6)","v":""},{"$f":"IF(入力シート!N6=\"\",\"\",入力シート!N6)","v":""},{"$f":"IF(入力シート!O6=\"\",\"\",入力シート!O6)","v":""},null,{"$f":"IF(入力シート!P6=\"\",\"\",入力シート!P6)","v":""},{"$f":"IF(入力シート!Q6=\"\",\"\",入力シート!Q6)","v":""},{"$f":"IF(入力シート!R6=\"\",\"\",入力シート!R6)","v":""},{"$f":"IF(入力シート!S6=\"\",\"\",入力シート!S6)","v":""},{"$f":"IF(入力シート!T6=\"\",\"\",入力シート!T6)","v":""},{"$f":"IF(入力シート!U6=\"\",\"\",入力シート!U6)","v":""},{"$f":"IF(入力シート!V6=\"\",\"\",入力シート!V6)","v":""},{"$f":"IF(入力シート!W6=\"\",\"\",入力シート!W6)","v":""},{"$f":"IF(入力シート!X6=\"\",\"\",入力シート!X6)","v":""},{"$f":"IF(入力シート!Y6=\"\",\"\",入力シート!Y6)","v":""},{"$f":"IF(入力シート!Z6=\"\",\"\",入力シート!Z6)","v":""},null,null,{"$f":"IF(入力シート!H6=\"\",\"\",\"〇\")","v":""},{"$f":"IF(入力シート!AA6=\"\",\"\",入力シート!AA6)","v":""},{"$f":"IF(入力シート!AB6=\"\",\"\",入力シート!AB6)","v":""},{"$f":"IF(入力シート!AC6=\"\",\"\",入力シート!AC6)","v":""},{"$f":"IF(入力シート!AD6=\"\",\"\",入力シート!AD6)","v":""}]
[{"$f":"IF(入力シート!B7=\"\",\"\",入力シート!B7)","v":""},{"$f":"IF(入力シート!C7=\"\",\"\",入力シート!C7)","v":""},{"$f":"IF(入力シート!D7=\"\",\"\",DBCS(入力シート!D7))","v":""},{"$f":"IF(入力シート!E7=\"\",\"\",DBCS(入力シート!E7))","v":""},{"$f":"ASC(IF(入力シート!F7=\"\",\"\",UPPER(入力シート!F7)))","v":""},{"$f":"IF(入力シート!G7=\"\",\"\",PROPER(入力シート!G7))","v":""},{"$f":"IF(入力シート!H7=\"\",\"\",入力シート!H7)","v":""},{"$f":"IF(入力シート!I7=\"\",\"\",TEXT(入力シート!I7,\"yyyy/mm/dd\"))","v":""},{"$f":"IF(入力シート!J7=\"\",\"\",入力シート!J7)","v":""},{"$f":"IF(入力シート!K7=\"\",\"\",入力シート!K7)","v":""},{"$f":"IF(入力シート!L7=\"\",\"\",入力シート!L7)","v":""},{"$f":"IF(入力シート!M7=\"\",\"\",入力シート!M7)","v":""},{"$f":"IF(入力シート!N7=\"\",\"\",入力シート!N7)","v":""},{"$f":"IF(入力シート!O7=\"\",\"\",入力シート!O7)","v":""},null,{"$f":"IF(入力シート!P7=\"\",\"\",入力シート!P7)","v":""},{"$f":"IF(入力シート!Q7=\"\",\"\",入力シート!Q7)","v":""},{"$f":"IF(入力シート!R7=\"\",\"\",入力シート!R7)","v":""},{"$f":"IF(入力シート!S7=\"\",\"\",入力シート!S7)","v":""},{"$f":"IF(入力シート!T7=\"\",\"\",入力シート!T7)","v":""},{"$f":"IF(入力シート!U7=\"\",\"\",入力シート!U7)","v":""},{"$f":"IF(入力シート!V7=\"\",\"\",入力シート!V7)","v":""},{"$f":"IF(入力シート!W7=\"\",\"\",入力シート!W7)","v":""},{"$f":"IF(入力シート!X7=\"\",\"\",入力シート!X7)","v":""},{"$f":"IF(入力シート!Y7=\"\",\"\",入力シート!Y7)","v":""},{"$f":"IF(入力シート!Z7=\"\",\"\",入力シート!Z7)","v":""},null,null,{"$f":"IF(入力シート!H7=\"\",\"\",\"〇\")","v":""},{"$f":"IF(入力シート!AA7=\"\",\"\",入力シート!AA7)","v":""},{"$f":"IF(入力シート!AB7=\"\",\"\",入力シート!AB7)","v":""},{"$f":"IF(入力シート!AC7=\"\",\"\",入力シート!AC7)","v":""},{"$f":"IF(入力シート!AD7=\"\",\"\",入力シート!AD7)","v":""}]
[{"$f":"IF(入力シート!B8=\"\",\"\",入力シート!B8)","v":""},{"$f":"IF(入力シート!C8=\"\",\"\",入力シート!C8)","v":""},{"$f":"IF(入力シート!D8=\"\",\"\",DBCS(入力シート!D8))","v":""},{"$f":"IF(入力シート!E8=\"\",\"\",DBCS(入力シート!E8))","v":""},{"$f":"ASC(IF(入力シート!F8=\"\",\"\",UPPER(入力シート!F8)))","v":""},{"$f":"IF(入力シート!G8=\"\",\"\",PROPER(入力シート!G8))","v":""},{"$f":"IF(入力シート!H8=\"\",\"\",入力シート!H8)","v":""},{"$f":"IF(入力シート!I8=\"\",\"\",TEXT(入力シート!I8,\"yyyy/mm/dd\"))","v":""},{"$f":"IF(入力シート!J8=\"\",\"\",入力シート!J8)","v":""},{"$f":"IF(入力シート!K8=\"\",\"\",入力シート!K8)","v":""},{"$f":"IF(入力シート!L8=\"\",\"\",入力シート!L8)","v":""},{"$f":"IF(入力シート!M8=\"\",\"\",入力シート!M8)","v":""},{"$f":"IF(入力シート!N8=\"\",\"\",入力シート!N8)","v":""},{"$f":"IF(入力シート!O8=\"\",\"\",入力シート!O8)","v":""},null,{"$f":"IF(入力シート!P8=\"\",\"\",入力シート!P8)","v":""},{"$f":"IF(入力シート!Q8=\"\",\"\",入力シート!Q8)","v":""},{"$f":"IF(入力シート!R8=\"\",\"\",入力シート!R8)","v":""},{"$f":"IF(入力シート!S8=\"\",\"\",入力シート!S8)","v":""},{"$f":"IF(入力シート!T8=\"\",\"\",入力シート!T8)","v":""},{"$f":"IF(入力シート!U8=\"\",\"\",入力シート!U8)","v":""},{"$f":"IF(入力シート!V8=\"\",\"\",入力シート!V8)","v":""},{"$f":"IF(入力シート!W8=\"\",\"\",入力シート!W8)","v":""},{"$f":"IF(入力シート!X8=\"\",\"\",入力シート!X8)","v":""},{"$f":"IF(入力シート!Y8=\"\",\"\",入力シート!Y8)","v":""},{"$f":"IF(入力シート!Z8=\"\",\"\",入力シート!Z8)","v":""},null,null,{"$f":"IF(入力シート!H8=\"\",\"\",\"〇\")","v":""},{"$f":"IF(入力シート!AA8=\"\",\"\",入力シート!AA8)","v":""},{"$f":"IF(入力シート!AB8=\"\",\"\",入力シート!AB8)","v":""},{"$f":"IF(入力シート!AC8=\"\",\"\",入力シート!AC8)","v":""},{"$f":"IF(入力シート!AD8=\"\",\"\",入力シート!AD8)","v":""}]
[{"$f":"IF(入力シート!B9=\"\",\"\",入力シート!B9)","v":""},{"$f":"IF(入力シート!C9=\"\",\"\",入力シート!C9)","v":""},{"$f":"IF(入力シート!D9=\"\",\"\",DBCS(入力シート!D9))","v":""},{"$f":"IF(入力シート!E9=\"\",\"\",DBCS(入力シート!E9))","v":""},{"$f":"ASC(IF(入力シート!F9=\"\",\"\",UPPER(入力シート!F9)))","v":""},{"$f":"IF(入力シート!G9=\"\",\"\",PROPER(入力シート!G9))","v":""},{"$f":"IF(入力シート!H9=\"\",\"\",入力シート!H9)","v":""},{"$f":"IF(入力シート!I9=\"\",\"\",TEXT(入力シート!I9,\"yyyy/mm/dd\"))","v":""},{"$f":"IF(入力シート!J9=\"\",\"\",入力シート!J9)","v":""},{"$f":"IF(入力シート!K9=\"\",\"\",入力シート!K9)","v":""},{"$f":"IF(入力シート!L9=\"\",\"\",入力シート!L9)","v":""},{"$f":"IF(入力シート!M9=\"\",\"\",入力シート!M9)","v":""},{"$f":"IF(入力シート!N9=\"\",\"\",入力シート!N9)","v":""},{"$f":"IF(入力シート!O9=\"\",\"\",入力シート!O9)","v":""},null,{"$f":"IF(入力シート!P9=\"\",\"\",入力シート!P9)","v":""},{"$f":"IF(入力シート!Q9=\"\",\"\",入力シート!Q9)","v":""},{"$f":"IF(入力シート!R9=\"\",\"\",入力シート!R9)","v":""},{"$f":"IF(入力シート!S9=\"\",\"\",入力シート!S9)","v":""},{"$f":"IF(入力シート!T9=\"\",\"\",入力シート!T9)","v":""},{"$f":"IF(入力シート!U9=\"\",\"\",入力シート!U9)","v":""},{"$f":"IF(入力シート!V9=\"\",\"\",入力シート!V9)","v":""},{"$f":"IF(入力シート!W9=\"\",\"\",入力シート!W9)","v":""},{"$f":"IF(入力シート!X9=\"\",\"\",入力シート!X9)","v":""},{"$f":"IF(入力シート!Y9=\"\",\"\",入力シート!Y9)","v":""},{"$f":"IF(入力シート!Z9=\"\",\"\",入力シート!Z9)","v":""},null,null,{"$f":"IF(入力シート!H9=\"\",\"\",\"〇\")","v":""},{"$f":"IF(入力シート!AA9=\"\",\"\",入力シート!AA9)","v":""},{"$f":"IF(入力シート!AB9=\"\",\"\",入力シート!AB9)","v":""},{"$f":"IF(入力シート!AC9=\"\",\"\",入力シート!AC9)","v":""},{"$f":"IF(入力シート!AD9=\"\",\"\",入力シート!AD9)","v":""}]
[{"$f":"IF(入力シート!B10=\"\",\"\",入力シート!B10)","v":""},{"$f":"IF(入力シート!C10=\"\",\"\",入力シート!C10)","v":""},{"$f":"IF(入力シート!D10=\"\",\"\",DBCS(入力シート!D10))","v":""},{"$f":"IF(入力シート!E10=\"\",\"\",DBCS(入力シート!E10))","v":""},{"$f":"ASC(IF(入力シート!F10=\"\",\"\",UPPER(入力シート!F10)))","v":""},{"$f":"IF(入力シート!G10=\"\",\"\",PROPER(入力シート!G10))","v":""},{"$f":"IF(入力シート!H10=\"\",\"\",入力シート!H10)","v":""},{"$f":"IF(入力シート!I10=\"\",\"\",TEXT(入力シート!I10,\"yyyy/mm/dd\"))","v":""},{"$f":"IF(入力シート!J10=\"\",\"\",入力シート!J10)","v":""},{"$f":"IF(入力シート!K10=\"\",\"\",入力シート!K10)","v":""},{"$f":"IF(入力シート!L10=\"\",\"\",入力シート!L10)","v":""},{"$f":"IF(入力シート!M10=\"\",\"\",入力シート!M10)","v":""},{"$f":"IF(入力シート!N10=\"\",\"\",入力シート!N10)","v":""},{"$f":"IF(入力シート!O10=\"\",\"\",入力シート!O10)","v":""},null,{"$f":"IF(入力シート!P10=\"\",\"\",入力シート!P10)","v":""},{"$f":"IF(入力シート!Q10=\"\",\"\",入力シート!Q10)","v":""},{"$f":"IF(入力シート!R10=\"\",\"\",入力シート!R10)","v":""},{"$f":"IF(入力シート!S10=\"\",\"\",入力シート!S10)","v":""},{"$f":"IF(入力シート!T10=\"\",\"\",入力シート!T10)","v":""},{"$f":"IF(入力シート!U10=\"\",\"\",入力シート!U10)","v":""},{"$f":"IF(入力シート!V10=\"\",\"\",入力シート!V10)","v":""},{"$f":"IF(入力シート!W10=\"\",\"\",入力シート!W10)","v":""},{"$f":"IF(入力シート!X10=\"\",\"\",入力シート!X10)","v":""},{"$f":"IF(入力シート!Y10=\"\",\"\",入力シート!Y10)","v":""},{"$f":"IF(入力シート!Z10=\"\",\"\",入力シート!Z10)","v":""},null,null,{"$f":"IF(入力シート!H10=\"\",\"\",\"〇\")","v":""},{"$f":"IF(入力シート!AA10=\"\",\"\",入力シート!AA10)","v":""},{"$f":"IF(入力シート!AB10=\"\",\"\",入力シート!AB10)","v":""},{"$f":"IF(入力シート!AC10=\"\",\"\",入力シート!AC10)","v":""},{"$f":"IF(入力シート!AD10=\"\",\"\",入力シート!AD10)","v":""}]
[{"$f":"IF(入力シート!B11=\"\",\"\",入力シート!B11)","v":""},{"$f":"IF(入力シート!C11=\"\",\"\",入力シート!C11)","v":""},{"$f":"IF(入力シート!D11=\"\",\"\",DBCS(入力シート!D11))","v":""},{"$f":"IF(入力シート!E11=\"\",\"\",DBCS(入力シート!E11))","v":""},{"$f":"ASC(IF(入力シート!F11=\"\",\"\",UPPER(入力シート!F11)))","v":""},{"$f":"IF(入力シート!G11=\"\",\"\",PROPER(入力シート!G11))","v":""},{"$f":"IF(入力シート!H11=\"\",\"\",入力シート!H11)","v":""},{"$f":"IF(入力シート!I11=\"\",\"\",TEXT(入力シート!I11,\"yyyy/mm/dd\"))","v":""},{"$f":"IF(入力シート!J11=\"\",\"\",入力シート!J11)","v":""},{"$f":"IF(入力シート!K11=\"\",\"\",入力シート!K11)","v":""},{"$f":"IF(入力シート!L11=\"\",\"\",入力シート!L11)","v":""},{"$f":"IF(入力シート!M11=\"\",\"\",入力シート!M11)","v":""},{"$f":"IF(入力シート!N11=\"\",\"\",入力シート!N11)","v":""},{"$f":"IF(入力シート!O11=\"\",\"\",入力シート!O11)","v":""},null,{"$f":"IF(入力シート!P11=\"\",\"\",入力シート!P11)","v":""},{"$f":"IF(入力シート!Q11=\"\",\"\",入力シート!Q11)","v":""},{"$f":"IF(入力シート!R11=\"\",\"\",入力シート!R11)","v":""},{"$f":"IF(入力シート!S11=\"\",\"\",入力シート!S11)","v":""},{"$f":"IF(入力シート!T11=\"\",\"\",入力シート!T11)","v":""},{"$f":"IF(入力シート!U11=\"\",\"\",入力シート!U11)","v":""},{"$f":"IF(入力シート!V11=\"\",\"\",入力シート!V11)","v":""},{"$f":"IF(入力シート!W11=\"\",\"\",入力シート!W11)","v":""},{"$f":"IF(入力シート!X11=\"\",\"\",入力シート!X11)","v":""},{"$f":"IF(入力シート!Y11=\"\",\"\",入力シート!Y11)","v":""},{"$f":"IF(入力シート!Z11=\"\",\"\",入力シート!Z11)","v":""},null,null,{"$f":"IF(入力シート!H11=\"\",\"\",\"〇\")","v":""},{"$f":"IF(入力シート!AA11=\"\",\"\",入力シート!AA11)","v":""},{"$f":"IF(入力シート!AB11=\"\",\"\",入力シート!AB11)","v":""},{"$f":"IF(入力シート!AC11=\"\",\"\",入力シート!AC11)","v":""},{"$f":"IF(入力シート!AD11=\"\",\"\",入力シート!AD11)","v":""}]
[{"$f":"IF(入力シート!B12=\"\",\"\",入力シート!B12)","v":""},{"$f":"IF(入力シート!C12=\"\",\"\",入力シート!C12)","v":""},{"$f":"IF(入力シート!D12=\"\",\"\",DBCS(入力シート!D12))","v":""},{"$f":"IF(入力シート!E12=\"\",\"\",DBCS(入力シート!E12))","v":""},{"$f":"ASC(IF(入力シート!F12=\"\",\"\",UPPER(入力シート!F12)))","v":""},{"$f":"IF(入力シート!G12=\"\",\"\",PROPER(入力シート!G12))","v":""},{"$f":"IF(入力シート!H12=\"\",\"\",入力シート!H12)","v":""},{"$f":"IF(入力シート!I12=\"\",\"\",TEXT(入力シート!I12,\"yyyy/mm/dd\"))","v":""},{"$f":"IF(入力シート!J12=\"\",\"\",入力シート!J12)","v":""},{"$f":"IF(入力シート!K12=\"\",\"\",入力シート!K12)","v":""},{"$f":"IF(入力シート!L12=\"\",\"\",入力シート!L12)","v":""},{"$f":"IF(入力シート!M12=\"\",\"\",入力シート!M12)","v":""},{"$f":"IF(入力シート!N12=\"\",\"\",入力シート!N12)","v":""},{"$f":"IF(入力シート!O12=\"\",\"\",入力シート!O12)","v":""},null,{"$f":"IF(入力シート!P12=\"\",\"\",入力シート!P12)","v":""},{"$f":"IF(入力シート!Q12=\"\",\"\",入力シート!Q12)","v":""},{"$f":"IF(入力シート!R12=\"\",\"\",入力シート!R12)","v":""},{"$f":"IF(入力シート!S12=\"\",\"\",入力シート!S12)","v":""},{"$f":"IF(入力シート!T12=\"\",\"\",入力シート!T12)","v":""},{"$f":"IF(入力シート!U12=\"\",\"\",入力シート!U12)","v":""},{"$f":"IF(入力シート!V12=\"\",\"\",入力シート!V12)","v":""},{"$f":"IF(入力シート!W12=\"\",\"\",入力シート!W12)","v":""},{"$f":"IF(入力シート!X12=\"\",\"\",入力シート!X12)","v":""},{"$f":"IF(入力シート!Y12=\"\",\"\",入力シート!Y12)","v":""},{"$f":"IF(入力シート!Z12=\"\",\"\",入力シート!Z12)","v":""},null,null,{"$f":"IF(入力シート!H12=\"\",\"\",\"〇\")","v":""},{"$f":"IF(入力シート!AA12=\"\",\"\",入力シート!AA12)","v":""},{"$f":"IF(入力シート!AB12=\"\",\"\",入力シート!AB12)","v":""},{"$f":"IF(入力シート!AC12=\"\",\"\",入力シート!AC12)","v":""},{"$f":"IF(入力シート!AD12=\"\",\"\",入力シート!AD12)","v":""}]
[{"$f":"IF(入力シート!B13=\"\",\"\",入力シート!B13)","v":""},{"$f":"IF(入力シート!C13=\"\",\"\",入力シート!C13)","v":""},{"$f":"IF(入力シート!D13=\"\",\"\",DBCS(入力シート!D13))","v":""},{"$f":"IF(入力シート!E13=\"\",\"\",DBCS(入力シート!E13))","v":""},{"$f":"ASC(IF(入力シート!F13=\"\",\"\",UPPER(入力シート!F13)))","v":""},{"$f":"IF(入力シート!G13=\"\",\"\",PROPER(入力シート!G13))","v":""},{"$f":"IF(入力シート!H13=\"\",\"\",入力シート!H13)","v":""},{"$f":"IF(入力シート!I13=\"\",\"\",TEXT(入力シート!I13,\"yyyy/mm/dd\"))","v":""},{"$f":"IF(入力シート!J13=\"\",\"\",入力シート!J13)","v":""},{"$f":"IF(入力シート!K13=\"\",\"\",入力シート!K13)","v":""},{"$f":"IF(入力シート!L13=\"\",\"\",入力シート!L13)","v":""},{"$f":"IF(入力シート!M13=\"\",\"\",入力シート!M13)","v":""},{"$f":"IF(入力シート!N13=\"\",\"\",入力シート!N13)","v":""},{"$f":"IF(入力シート!O13=\"\",\"\",入力シート!O13)","v":""},null,{"$f":"IF(入力シート!P13=\"\",\"\",入力シート!P13)","v":""},{"$f":"IF(入力シート!Q13=\"\",\"\",入力シート!Q13)","v":""},{"$f":"IF(入力シート!R13=\"\",\"\",入力シート!R13)","v":""},{"$f":"IF(入力シート!S13=\"\",\"\",入力シート!S13)","v":""},{"$f":"IF(入力シート!T13=\"\",\"\",入力シート!T13)","v":""},{"$f":"IF(入力シート!U13=\"\",\"\",入力シート!U13)","v":""},{"$f":"IF(入力シート!V13=\"\",\"\",入力シート!V13)","v":""},{"$f":"IF(入力シート!W13=\"\",\"\",入力シート!W13)","v":""},{"$f":"IF(入力シート!X13=\"\",\"\",入力シート!X13)","v":""},{"$f":"IF(入力シート!Y13=\"\",\"\",入力シート!Y13)","v":""},{"$f":"IF(入力シート!Z13=\"\",\"\",入力シート!Z13)","v":""},null,null,{"$f":"IF(入力シート!H13=\"\",\"\",\"〇\")","v":""},{"$f":"IF(入力シート!AA13=\"\",\"\",入力シート!AA13)","v":""},{"$f":"IF(入力シート!AB13=\"\",\"\",入力シート!AB13)","v":""},{"$f":"IF(入力シート!AC13=\"\",\"\",入力シート!AC13)","v":""},{"$f":"IF(入力シート!AD13=\"\",\"\",入力シート!AD13)","v":""}]
[{"$f":"IF(入力シート!B14=\"\",\"\",入力シート!B14)","v":""},{"$f":"IF(入力シート!C14=\"\",\"\",入力シート!C14)","v":""},{"$f":"IF(入力シート!D14=\"\",\"\",DBCS(入力シート!D14))","v":""},{"$f":"IF(入力シート!E14=\"\",\"\",DBCS(入力シート!E14))","v":""},{"$f":"ASC(IF(入力シート!F14=\"\",\"\",UPPER(入力シート!F14)))","v":""},{"$f":"IF(入力シート!G14=\"\",\"\",PROPER(入力シート!G14))","v":""},{"$f":"IF(入力シート!H14=\"\",\"\",入力シート!H14)","v":""},{"$f":"IF(入力シート!I14=\"\",\"\",TEXT(入力シート!I14,\"yyyy/mm/dd\"))","v":""},{"$f":"IF(入力シート!J14=\"\",\"\",入力シート!J14)","v":""},{"$f":"IF(入力シート!K14=\"\",\"\",入力シート!K14)","v":""},{"$f":"IF(入力シート!L14=\"\",\"\",入力シート!L14)","v":""},{"$f":"IF(入力シート!M14=\"\",\"\",入力シート!M14)","v":""},{"$f":"IF(入力シート!N14=\"\",\"\",入力シート!N14)","v":""},{"$f":"IF(入力シート!O14=\"\",\"\",入力シート!O14)","v":""},null,{"$f":"IF(入力シート!P14=\"\",\"\",入力シート!P14)","v":""},{"$f":"IF(入力シート!Q14=\"\",\"\",入力シート!Q14)","v":""},{"$f":"IF(入力シート!R14=\"\",\"\",入力シート!R14)","v":""},{"$f":"IF(入力シート!S14=\"\",\"\",入力シート!S14)","v":""},{"$f":"IF(入力シート!T14=\"\",\"\",入力シート!T14)","v":""},{"$f":"IF(入力シート!U14=\"\",\"\",入力シート!U14)","v":""},{"$f":"IF(入力シート!V14=\"\",\"\",入力シート!V14)","v":""},{"$f":"IF(入力シート!W14=\"\",\"\",入力シート!W14)","v":""},{"$f":"IF(入力シート!X14=\"\",\"\",入力シート!X14)","v":""},{"$f":"IF(入力シート!Y14=\"\",\"\",入力シート!Y14)","v":""},{"$f":"IF(入力シート!Z14=\"\",\"\",入力シート!Z14)","v":""},null,null,{"$f":"IF(入力シート!H14=\"\",\"\",\"〇\")","v":""},{"$f":"IF(入力シート!AA14=\"\",\"\",入力シート!AA14)","v":""},{"$f":"IF(入力シート!AB14=\"\",\"\",入力シート!AB14)","v":""},{"$f":"IF(入力シート!AC14=\"\",\"\",入力シート!AC14)","v":""},{"$f":"IF(入力シート!AD14=\"\",\"\",入力シート!AD14)","v":""}]
[{"$f":"IF(入力シート!B15=\"\",\"\",入力シート!B15)","v":""},{"$f":"IF(入力シート!C15=\"\",\"\",入力シート!C15)","v":""},{"$f":"IF(入力シート!D15=\"\",\"\",DBCS(入力シート!D15))","v":""},{"$f":"IF(入力シート!E15=\"\",\"\",DBCS(入力シート!E15))","v":""},{"$f":"ASC(IF(入力シート!F15=\"\",\"\",UPPER(入力シート!F15)))","v":""},{"$f":"IF(入力シート!G15=\"\",\"\",PROPER(入力シート!G15))","v":""},{"$f":"IF(入力シート!H15=\"\",\"\",入力シート!H15)","v":""},{"$f":"IF(入力シート!I15=\"\",\"\",TEXT(入力シート!I15,\"yyyy/mm/dd\"))","v":""},{"$f":"IF(入力シート!J15=\"\",\"\",入力シート!J15)","v":""},{"$f":"IF(入力シート!K15=\"\",\"\",入力シート!K15)","v":""},{"$f":"IF(入力シート!L15=\"\",\"\",入力シート!L15)","v":""},{"$f":"IF(入力シート!M15=\"\",\"\",入力シート!M15)","v":""},{"$f":"IF(入力シート!N15=\"\",\"\",入力シート!N15)","v":""},{"$f":"IF(入力シート!O15=\"\",\"\",入力シート!O15)","v":""},null,{"$f":"IF(入力シート!P15=\"\",\"\",入力シート!P15)","v":""},{"$f":"IF(入力シート!Q15=\"\",\"\",入力シート!Q15)","v":""},{"$f":"IF(入力シート!R15=\"\",\"\",入力シート!R15)","v":""},{"$f":"IF(入力シート!S15=\"\",\"\",入力シート!S15)","v":""},{"$f":"IF(入力シート!T15=\"\",\"\",入力シート!T15)","v":""},{"$f":"IF(入力シート!U15=\"\",\"\",入力シート!U15)","v":""},{"$f":"IF(入力シート!V15=\"\",\"\",入力シート!V15)","v":""},{"$f":"IF(入力シート!W15=\"\",\"\",入力シート!W15)","v":""},{"$f":"IF(入力シート!X15=\"\",\"\",入力シート!X15)","v":""},{"$f":"IF(入力シート!Y15=\"\",\"\",入力シート!Y15)","v":""},{"$f":"IF(入力シート!Z15=\"\",\"\",入力シート!Z15)","v":""},null,null,{"$f":"IF(入力シート!H15=\"\",\"\",\"〇\")","v":""},{"$f":"IF(入力シート!AA15=\"\",\"\",入力シート!AA15)","v":""},{"$f":"IF(入力シート!AB15=\"\",\"\",入力シート!AB15)","v":""},{"$f":"IF(入力シート!AC15=\"\",\"\",入力シート!AC15)","v":""},{"$f":"IF(入力シート!AD15=\"\",\"\",入力シート!AD15)","v":""}]
[{"$f":"IF(入力シート!B16=\"\",\"\",入力シート!B16)","v":""},{"$f":"IF(入力シート!C16=\"\",\"\",入力シート!C16)","v":""},{"$f":"IF(入力シート!D16=\"\",\"\",DBCS(入力シート!D16))","v":""},{"$f":"IF(入力シート!E16=\"\",\"\",DBCS(入力シート!E16))","v":""},{"$f":"ASC(IF(入力シート!F16=\"\",\"\",UPPER(入力シート!F16)))","v":""},{"$f":"IF(入力シート!G16=\"\",\"\",PROPER(入力シート!G16))","v":""},{"$f":"IF(入力シート!H16=\"\",\"\",入力シート!H16)","v":""},{"$f":"IF(入力シート!I16=\"\",\"\",TEXT(入力シート!I16,\"yyyy/mm/dd\"))","v":""},{"$f":"IF(入力シート!J16=\"\",\"\",入力シート!J16)","v":""},{"$f":"IF(入力シート!K16=\"\",\"\",入力シート!K16)","v":""},{"$f":"IF(入力シート!L16=\"\",\"\",入力シート!L16)","v":""},{"$f":"IF(入力シート!M16=\"\",\"\",入力シート!M16)","v":""},{"$f":"IF(入力シート!N16=\"\",\"\",入力シート!N16)","v":""},{"$f":"IF(入力シート!O16=\"\",\"\",入力シート!O16)","v":""},null,{"$f":"IF(入力シート!P16=\"\",\"\",入力シート!P16)","v":""},{"$f":"IF(入力シート!Q16=\"\",\"\",入力シート!Q16)","v":""},{"$f":"IF(入力シート!R16=\"\",\"\",入力シート!R16)","v":""},{"$f":"IF(入力シート!S16=\"\",\"\",入力シート!S16)","v":""},{"$f":"IF(入力シート!T16=\"\",\"\",入力シート!T16)","v":""},{"$f":"IF(入力シート!U16=\"\",\"\",入力シート!U16)","v":""},{"$f":"IF(入力シート!V16=\"\",\"\",入力シート!V16)","v":""},{"$f":"IF(入力シート!W16=\"\",\"\",入力シート!W16)","v":""},{"$f":"IF(入力シート!X16=\"\",\"\",入力シート!X16)","v":""},{"$f":"IF(入力シート!Y16=\"\",\"\",入力シート!Y16)","v":""},{"$f":"IF(入力シート!Z16=\"\",\"\",入力シート!Z16)","v":""},null,null,{"$f":"IF(入力シート!H16=\"\",\"\",\"〇\")","v":""},{"$f":"IF(入力シート!AA16=\"\",\"\",入力シート!AA16)","v":""},{"$f":"IF(入力シート!AB16=\"\",\"\",入力シート!AB16)","v":""},{"$f":"IF(入力シート!AC16=\"\",\"\",入力シート!AC16)","v":""},{"$f":"IF(入力シート!AD16=\"\",\"\",入力シート!AD16)","v":""}]
[{"$f":"IF(入力シート!B17=\"\",\"\",入力シート!B17)","v":""},{"$f":"IF(入力シート!C17=\"\",\"\",入力シート!C17)","v":""},{"$f":"IF(入力シート!D17=\"\",\"\",DBCS(入力シート!D17))","v":""},{"$f":"IF(入力シート!E17=\"\",\"\",DBCS(入力シート!E17))","v":""},{"$f":"ASC(IF(入力シート!F17=\"\",\"\",UPPER(入力シート!F17)))","v":""},{"$f":"IF(入力シート!G17=\"\",\"\",PROPER(入力シート!G17))","v":""},{"$f":"IF(入力シート!H17=\"\",\"\",入力シート!H17)","v":""},{"$f":"IF(入力シート!I17=\"\",\"\",TEXT(入力シート!I17,\"yyyy/mm/dd\"))","v":""},{"$f":"IF(入力シート!J17=\"\",\"\",入力シート!J17)","v":""},{"$f":"IF(入力シート!K17=\"\",\"\",入力シート!K17)","v":""},{"$f":"IF(入力シート!L17=\"\",\"\",入力シート!L17)","v":""},{"$f":"IF(入力シート!M17=\"\",\"\",入力シート!M17)","v":""},{"$f":"IF(入力シート!N17=\"\",\"\",入力シート!N17)","v":""},{"$f":"IF(入力シート!O17=\"\",\"\",入力シート!O17)","v":""},null,{"$f":"IF(入力シート!P17=\"\",\"\",入力シート!P17)","v":""},{"$f":"IF(入力シート!Q17=\"\",\"\",入力シート!Q17)","v":""},{"$f":"IF(入力シート!R17=\"\",\"\",入力シート!R17)","v":""},{"$f":"IF(入力シート!S17=\"\",\"\",入力シート!S17)","v":""},{"$f":"IF(入力シート!T17=\"\",\"\",入力シート!T17)","v":""},{"$f":"IF(入力シート!U17=\"\",\"\",入力シート!U17)","v":""},{"$f":"IF(入力シート!V17=\"\",\"\",入力シート!V17)","v":""},{"$f":"IF(入力シート!W17=\"\",\"\",入力シート!W17)","v":""},{"$f":"IF(入力シート!X17=\"\",\"\",入力シート!X17)","v":""},{"$f":"IF(入力シート!Y17=\"\",\"\",入力シート!Y17)","v":""},{"$f":"IF(入力シート!Z17=\"\",\"\",入力シート!Z17)","v":""},null,null,{"$f":"IF(入力シート!H17=\"\",\"\",\"〇\")","v":""},{"$f":"IF(入力シート!AA17=\"\",\"\",入力シート!AA17)","v":""},{"$f":"IF(入力シート!AB17=\"\",\"\",入力シート!AB17)","v":""},{"$f":"IF(入力シート!AC17=\"\",\"\",入力シート!AC17)","v":""},{"$f":"IF(入力シート!AD17=\"\",\"\",入力シート!AD17)","v":""}]
[{"$f":"IF(入力シート!B18=\"\",\"\",入力シート!B18)","v":""},{"$f":"IF(入力シート!C18=\"\",\"\",入力シート!C18)","v":""},{"$f":"IF(入力シート!D18=\"\",\"\",DBCS(入力シート!D18))","v":""},{"$f":"IF(入力シート!E18=\"\",\"\",DBCS(入力シート!E18))","v":""},{"$f":"ASC(IF(入力シート!F18=\"\",\"\",UPPER(入力シート!F18)))","v":""},{"$f":"IF(入力シート!G18=\"\",\"\",PROPER(入力シート!G18))","v":""},{"$f":"IF(入力シート!H18=\"\",\"\",入力シート!H18)","v":""},{"$f":"IF(入力シート!I18=\"\",\"\",TEXT(入力シート!I18,\"yyyy/mm/dd\"))","v":""},{"$f":"IF(入力シート!J18=\"\",\"\",入力シート!J18)","v":""},{"$f":"IF(入力シート!K18=\"\",\"\",入力シート!K18)","v":""},{"$f":"IF(入力シート!L18=\"\",\"\",入力シート!L18)","v":""},{"$f":"IF(入力シート!M18=\"\",\"\",入力シート!M18)","v":""},{"$f":"IF(入力シート!N18=\"\",\"\",入力シート!N18)","v":""},{"$f":"IF(入力シート!O18=\"\",\"\",入力シート!O18)","v":""},null,{"$f":"IF(入力シート!P18=\"\",\"\",入力シート!P18)","v":""},{"$f":"IF(入力シート!Q18=\"\",\"\",入力シート!Q18)","v":""},{"$f":"IF(入力シート!R18=\"\",\"\",入力シート!R18)","v":""},{"$f":"IF(入力シート!S18=\"\",\"\",入力シート!S18)","v":""},{"$f":"IF(入力シート!T18=\"\",\"\",入力シート!T18)","v":""},{"$f":"IF(入力シート!U18=\"\",\"\",入力シート!U18)","v":""},{"$f":"IF(入力シート!V18=\"\",\"\",入力シート!V18)","v":""},{"$f":"IF(入力シート!W18=\"\",\"\",入力シート!W18)","v":""},{"$f":"IF(入力シート!X18=\"\",\"\",入力シート!X18)","v":""},{"$f":"IF(入力シート!Y18=\"\",\"\",入力シート!Y18)","v":""},{"$f":"IF(入力シート!Z18=\"\",\"\",入力シート!Z18)","v":""},null,null,{"$f":"IF(入力シート!H18=\"\",\"\",\"〇\")","v":""},{"$f":"IF(入力シート!AA18=\"\",\"\",入力シート!AA18)","v":""},{"$f":"IF(入力シート!AB18=\"\",\"\",入力シート!AB18)","v":""},{"$f":"IF(入力シート!AC18=\"\",\"\",入力シート!AC18)","v":""},{"$f":"IF(入力シート!AD18=\"\",\"\",入力シート!AD18)","v":""}]
[{"$f":"IF(入力シート!B19=\"\",\"\",入力シート!B19)","v":""},{"$f":"IF(入力シート!C19=\"\",\"\",入力シート!C19)","v":""},{"$f":"IF(入力シート!D19=\"\",\"\",DBCS(入力シート!D19))","v":""},{"$f":"IF(入力シート!E19=\"\",\"\",DBCS(入力シート!E19))","v":""},{"$f":"ASC(IF(入力シート!F19=\"\",\"\",UPPER(入力シート!F19)))","v":""},{"$f":"IF(入力シート!G19=\"\",\"\",PROPER(入力シート!G19))","v":""},{"$f":"IF(入力シート!H19=\"\",\"\",入力シート!H19)","v":""},{"$f":"IF(入力シート!I19=\"\",\"\",TEXT(入力シート!I19,\"yyyy/mm/dd\"))","v":""},{"$f":"IF(入力シート!J19=\"\",\"\",入力シート!J19)","v":""},{"$f":"IF(入力シート!K19=\"\",\"\",入力シート!K19)","v":""},{"$f":"IF(入力シート!L19=\"\",\"\",入力シート!L19)","v":""},{"$f":"IF(入力シート!M19=\"\",\"\",入力シート!M19)","v":""},{"$f":"IF(入力シート!N19=\"\",\"\",入力シート!N19)","v":""},{"$f":"IF(入力シート!O19=\"\",\"\",入力シート!O19)","v":""},null,{"$f":"IF(入力シート!P19=\"\",\"\",入力シート!P19)","v":""},{"$f":"IF(入力シート!Q19=\"\",\"\",入力シート!Q19)","v":""},{"$f":"IF(入力シート!R19=\"\",\"\",入力シート!R19)","v":""},{"$f":"IF(入力シート!S19=\"\",\"\",入力シート!S19)","v":""},{"$f":"IF(入力シート!T19=\"\",\"\",入力シート!T19)","v":""},{"$f":"IF(入力シート!U19=\"\",\"\",入力シート!U19)","v":""},{"$f":"IF(入力シート!V19=\"\",\"\",入力シート!V19)","v":""},{"$f":"IF(入力シート!W19=\"\",\"\",入力シート!W19)","v":""},{"$f":"IF(入力シート!X19=\"\",\"\",入力シート!X19)","v":""},{"$f":"IF(入力シート!Y19=\"\",\"\",入力シート!Y19)","v":""},{"$f":"IF(入力シート!Z19=\"\",\"\",入力シート!Z19)","v":""},null,null,{"$f":"IF(入力シート!H19=\"\",\"\",\"〇\")","v":""},{"$f":"IF(入力シート!AA19=\"\",\"\",入力シート!AA19)","v":""},{"$f":"IF(入力シート!AB19=\"\",\"\",入力シート!AB19)","v":""},{"$f":"IF(入力シート!AC19=\"\",\"\",入力シート!AC19)","v":""},{"$f":"IF(入力シート!AD19=\"\",\"\",入力シート!AD19)","v":""}]
[{"$f":"IF(入力シート!B20=\"\",\"\",入力シート!B20)","v":""},{"$f":"IF(入力シート!C20=\"\",\"\",入力シート!C20)","v":""},{"$f":"IF(入力シート!D20=\"\",\"\",DBCS(入力シート!D20))","v":""},{"$f":"IF(入力シート!E20=\"\",\"\",DBCS(入力シート!E20))","v":""},{"$f":"ASC(IF(入力シート!F20=\"\",\"\",UPPER(入力シート!F20)))","v":""},{"$f":"IF(入力シート!G20=\"\",\"\",PROPER(入力シート!G20))","v":""},{"$f":"IF(入力シート!H20=\"\",\"\",入力シート!H20)","v":""},{"$f":"IF(入力シート!I20=\"\",\"\",TEXT(入力シート!I20,\"yyyy/mm/dd\"))","v":""},{"$f":"IF(入力シート!J20=\"\",\"\",入力シート!J20)","v":""},{"$f":"IF(入力シート!K20=\"\",\"\",入力シート!K20)","v":""},{"$f":"IF(入力シート!L20=\"\",\"\",入力シート!L20)","v":""},{"$f":"IF(入力シート!M20=\"\",\"\",入力シート!M20)","v":""},{"$f":"IF(入力シート!N20=\"\",\"\",入力シート!N20)","v":""},{"$f":"IF(入力シート!O20=\"\",\"\",入力シート!O20)","v":""},null,{"$f":"IF(入力シート!P20=\"\",\"\",入力シート!P20)","v":""},{"$f":"IF(入力シート!Q20=\"\",\"\",入力シート!Q20)","v":""},{"$f":"IF(入力シート!R20=\"\",\"\",入力シート!R20)","v":""},{"$f":"IF(入力シート!S20=\"\",\"\",入力シート!S20)","v":""},{"$f":"IF(入力シート!T20=\"\",\"\",入力シート!T20)","v":""},{"$f":"IF(入力シート!U20=\"\",\"\",入力シート!U20)","v":""},{"$f":"IF(入力シート!V20=\"\",\"\",入力シート!V20)","v":""},{"$f":"IF(入力シート!W20=\"\",\"\",入力シート!W20)","v":""},{"$f":"IF(入力シート!X20=\"\",\"\",入力シート!X20)","v":""},{"$f":"IF(入力シート!Y20=\"\",\"\",入力シート!Y20)","v":""},{"$f":"IF(入力シート!Z20=\"\",\"\",入力シート!Z20)","v":""},null,null,{"$f":"IF(入力シート!H20=\"\",\"\",\"〇\")","v":""},{"$f":"IF(入力シート!AA20=\"\",\"\",入力シート!AA20)","v":""},{"$f":"IF(入力シート!AB20=\"\",\"\",入力シート!AB20)","v":""},{"$f":"IF(入力シート!AC20=\"\",\"\",入力シート!AC20)","v":""},{"$f":"IF(入力シート!AD20=\"\",\"\",入力シート!AD20)","v":""}]
[{"$f":"IF(入力シート!B21=\"\",\"\",入力シート!B21)","v":""},{"$f":"IF(入力シート!C21=\"\",\"\",入力シート!C21)","v":""},{"$f":"IF(入力シート!D21=\"\",\"\",DBCS(入力シート!D21))","v":""},{"$f":"IF(入力シート!E21=\"\",\"\",DBCS(入力シート!E21))","v":""},{"$f":"ASC(IF(入力シート!F21=\"\",\"\",UPPER(入力シート!F21)))","v":""},{"$f":"IF(入力シート!G21=\"\",\"\",PROPER(入力シート!G21))","v":""},{"$f":"IF(入力シート!H21=\"\",\"\",入力シート!H21)","v":""},{"$f":"IF(入力シート!I21=\"\",\"\",TEXT(入力シート!I21,\"yyyy/mm/dd\"))","v":""},{"$f":"IF(入力シート!J21=\"\",\"\",入力シート!J21)","v":""},{"$f":"IF(入力シート!K21=\"\",\"\",入力シート!K21)","v":""},{"$f":"IF(入力シート!L21=\"\",\"\",入力シート!L21)","v":""},{"$f":"IF(入力シート!M21=\"\",\"\",入力シート!M21)","v":""},{"$f":"IF(入力シート!N21=\"\",\"\",入力シート!N21)","v":""},{"$f":"IF(入力シート!O21=\"\",\"\",入力シート!O21)","v":""},null,{"$f":"IF(入力シート!P21=\"\",\"\",入力シート!P21)","v":""},{"$f":"IF(入力シート!Q21=\"\",\"\",入力シート!Q21)","v":""},{"$f":"IF(入力シート!R21=\"\",\"\",入力シート!R21)","v":""},{"$f":"IF(入力シート!S21=\"\",\"\",入力シート!S21)","v":""},{"$f":"IF(入力シート!T21=\"\",\"\",入力シート!T21)","v":""},{"$f":"IF(入力シート!U21=\"\",\"\",入力シート!U21)","v":""},{"$f":"IF(入力シート!V21=\"\",\"\",入力シート!V21)","v":""},{"$f":"IF(入力シート!W21=\"\",\"\",入力シート!W21)","v":""},{"$f":"IF(入力シート!X21=\"\",\"\",入力シート!X21)","v":""},{"$f":"IF(入力シート!Y21=\"\",\"\",入力シート!Y21)","v":""},{"$f":"IF(入力シート!Z21=\"\",\"\",入力シート!Z21)","v":""},null,null,{"$f":"IF(入力シート!H21=\"\",\"\",\"〇\")","v":""},{"$f":"IF(入力シート!AA21=\"\",\"\",入力シート!AA21)","v":""},{"$f":"IF(入力シート!AB21=\"\",\"\",入力シート!AB21)","v":""},{"$f":"IF(入力シート!AC21=\"\",\"\",入力シート!AC21)","v":""},{"$f":"IF(入力シート!AD21=\"\",\"\",入力シート!AD21)","v":""}]
[{"$f":"IF(入力シート!B22=\"\",\"\",入力シート!B22)","v":""},{"$f":"IF(入力シート!C22=\"\",\"\",入力シート!C22)","v":""},{"$f":"IF(入力シート!D22=\"\",\"\",DBCS(入力シート!D22))","v":""},{"$f":"IF(入力シート!E22=\"\",\"\",DBCS(入力シート!E22))","v":""},{"$f":"ASC(IF(入力シート!F22=\"\",\"\",UPPER(入力シート!F22)))","v":""},{"$f":"IF(入力シート!G22=\"\",\"\",PROPER(入力シート!G22))","v":""},{"$f":"IF(入力シート!H22=\"\",\"\",入力シート!H22)","v":""},{"$f":"IF(入力シート!I22=\"\",\"\",TEXT(入力シート!I22,\"yyyy/mm/dd\"))","v":""},{"$f":"IF(入力シート!J22=\"\",\"\",入力シート!J22)","v":""},{"$f":"IF(入力シート!K22=\"\",\"\",入力シート!K22)","v":""},{"$f":"IF(入力シート!L22=\"\",\"\",入力シート!L22)","v":""},{"$f":"IF(入力シート!M22=\"\",\"\",入力シート!M22)","v":""},{"$f":"IF(入力シート!N22=\"\",\"\",入力シート!N22)","v":""},{"$f":"IF(入力シート!O22=\"\",\"\",入力シート!O22)","v":""},null,{"$f":"IF(入力シート!P22=\"\",\"\",入力シート!P22)","v":""},{"$f":"IF(入力シート!Q22=\"\",\"\",入力シート!Q22)","v":""},{"$f":"IF(入力シート!R22=\"\",\"\",入力シート!R22)","v":""},{"$f":"IF(入力シート!S22=\"\",\"\",入力シート!S22)","v":""},{"$f":"IF(入力シート!T22=\"\",\"\",入力シート!T22)","v":""},{"$f":"IF(入力シート!U22=\"\",\"\",入力シート!U22)","v":""},{"$f":"IF(入力シート!V22=\"\",\"\",入力シート!V22)","v":""},{"$f":"IF(入力シート!W22=\"\",\"\",入力シート!W22)","v":""},{"$f":"IF(入力シート!X22=\"\",\"\",入力シート!X22)","v":""},{"$f":"IF(入力シート!Y22=\"\",\"\",入力シート!Y22)","v":""},{"$f":"IF(入力シート!Z22=\"\",\"\",入力シート!Z22)","v":""},null,null,{"$f":"IF(入力シート!H22=\"\",\"\",\"〇\")","v":""},{"$f":"IF(入力シート!AA22=\"\",\"\",入力シート!AA22)","v":""},{"$f":"IF(入力シート!AB22=\"\",\"\",入力シート!AB22)","v":""},{"$f":"IF(入力シート!AC22=\"\",\"\",入力シート!AC22)","v":""},{"$f":"IF(入力シート!AD22=\"\",\"\",入力シート!AD22)","v":""}]
[{"$f":"IF(入力シート!B23=\"\",\"\",入力シート!B23)","v":""},{"$f":"IF(入力シート!C23=\"\",\"\",入力シート!C23)","v":""},{"$f":"IF(入力シート!D23=\"\",\"\",DBCS(入力シート!D23))","v":""},{"$f":"IF(入力シート!E23=\"\",\"\",DBCS(入力シート!E23))","v":""},{"$f":"ASC(IF(入力シート!F23=\"\",\"\",UPPER(入力シート!F23)))","v":""},{"$f":"IF(入力シート!G23=\"\",\"\",PROPER(入力シート!G23))","v":""},{"$f":"IF(入力シート!H23=\"\",\"\",入力シート!H23)","v":""},{"$f":"IF(入力シート!I23=\"\",\"\",TEXT(入力シート!I23,\"yyyy/mm/dd\"))","v":""},{"$f":"IF(入力シート!J23=\"\",\"\",入力シート!J23)","v":""},{"$f":"IF(入力シート!K23=\"\",\"\",入力シート!K23)","v":""},{"$f":"IF(入力シート!L23=\"\",\"\",入力シート!L23)","v":""},{"$f":"IF(入力シート!M23=\"\",\"\",入力シート!M23)","v":""},{"$f":"IF(入力シート!N23=\"\",\"\",入力シート!N23)","v":""},{"$f":"IF(入力シート!O23=\"\",\"\",入力シート!O23)","v":""},null,{"$f":"IF(入力シート!P23=\"\",\"\",入力シート!P23)","v":""},{"$f":"IF(入力シート!Q23=\"\",\"\",入力シート!Q23)","v":""},{"$f":"IF(入力シート!R23=\"\",\"\",入力シート!R23)","v":""},{"$f":"IF(入力シート!S23=\"\",\"\",入力シート!S23)","v":""},{"$f":"IF(入力シート!T23=\"\",\"\",入力シート!T23)","v":""},{"$f":"IF(入力シート!U23=\"\",\"\",入力シート!U23)","v":""},{"$f":"IF(入力シート!V23=\"\",\"\",入力シート!V23)","v":""},{"$f":"IF(入力シート!W23=\"\",\"\",入力シート!W23)","v":""},{"$f":"IF(入力シート!X23=\"\",\"\",入力シート!X23)","v":""},{"$f":"IF(入力シート!Y23=\"\",\"\",入力シート!Y23)","v":""},{"$f":"IF(入力シート!Z23=\"\",\"\",入力シート!Z23)","v":""},null,null,{"$f":"IF(入力シート!H23=\"\",\"\",\"〇\")","v":""},{"$f":"IF(入力シート!AA23=\"\",\"\",入力シート!AA23)","v":""},{"$f":"IF(入力シート!AB23=\"\",\"\",入力シート!AB23)","v":""},{"$f":"IF(入力シート!AC23=\"\",\"\",入力シート!AC23)","v":""},{"$f":"IF(入力シート!AD23=\"\",\"\",入力シート!AD23)","v":""}]
[{"$f":"IF(入力シート!B24=\"\",\"\",入力シート!B24)","v":""},{"$f":"IF(入力シート!C24=\"\",\"\",入力シート!C24)","v":""},{"$f":"IF(入力シート!D24=\"\",\"\",DBCS(入力シート!D24))","v":""},{"$f":"IF(入力シート!E24=\"\",\"\",DBCS(入力シート!E24))","v":""},{"$f":"ASC(IF(入力シート!F24=\"\",\"\",UPPER(入力シート!F24)))","v":""},{"$f":"IF(入力シート!G24=\"\",\"\",PROPER(入力シート!G24))","v":""},{"$f":"IF(入力シート!H24=\"\",\"\",入力シート!H24)","v":""},{"$f":"IF(入力シート!I24=\"\",\"\",TEXT(入力シート!I24,\"yyyy/mm/dd\"))","v":""},{"$f":"IF(入力シート!J24=\"\",\"\",入力シート!J24)","v":""},{"$f":"IF(入力シート!K24=\"\",\"\",入力シート!K24)","v":""},{"$f":"IF(入力シート!L24=\"\",\"\",入力シート!L24)","v":""},{"$f":"IF(入力シート!M24=\"\",\"\",入力シート!M24)","v":""},{"$f":"IF(入力シート!N24=\"\",\"\",入力シート!N24)","v":""},{"$f":"IF(入力シート!O24=\"\",\"\",入力シート!O24)","v":""},null,{"$f":"IF(入力シート!P24=\"\",\"\",入力シート!P24)","v":""},{"$f":"IF(入力シート!Q24=\"\",\"\",入力シート!Q24)","v":""},{"$f":"IF(入力シート!R24=\"\",\"\",入力シート!R24)","v":""},{"$f":"IF(入力シート!S24=\"\",\"\",入力シート!S24)","v":""},{"$f":"IF(入力シート!T24=\"\",\"\",入力シート!T24)","v":""},{"$f":"IF(入力シート!U24=\"\",\"\",入力シート!U24)","v":""},{"$f":"IF(入力シート!V24=\"\",\"\",入力シート!V24)","v":""},{"$f":"IF(入力シート!W24=\"\",\"\",入力シート!W24)","v":""},{"$f":"IF(入力シート!X24=\"\",\"\",入力シート!X24)","v":""},{"$f":"IF(入力シート!Y24=\"\",\"\",入力シート!Y24)","v":""},{"$f":"IF(入力シート!Z24=\"\",\"\",入力シート!Z24)","v":""},null,null,{"$f":"IF(入力シート!H24=\"\",\"\",\"〇\")","v":""},{"$f":"IF(入力シート!AA24=\"\",\"\",入力シート!AA24)","v":""},{"$f":"IF(入力シート!AB24=\"\",\"\",入力シート!AB24)","v":""},{"$f":"IF(入力シート!AC24=\"\",\"\",入力シート!AC24)","v":""},{"$f":"IF(入力シート!AD24=\"\",\"\",入力シート!AD24)","v":""}]
[{"$f":"IF(入力シート!B25=\"\",\"\",入力シート!B25)","v":""},{"$f":"IF(入力シート!C25=\"\",\"\",入力シート!C25)","v":""},{"$f":"IF(入力シート!D25=\"\",\"\",DBCS(入力シート!D25))","v":""},{"$f":"IF(入力シート!E25=\"\",\"\",DBCS(入力シート!E25))","v":""},{"$f":"ASC(IF(入力シート!F25=\"\",\"\",UPPER(入力シート!F25)))","v":""},{"$f":"IF(入力シート!G25=\"\",\"\",PROPER(入力シート!G25))","v":""},{"$f":"IF(入力シート!H25=\"\",\"\",入力シート!H25)","v":""},{"$f":"IF(入力シート!I25=\"\",\"\",TEXT(入力シート!I25,\"yyyy/mm/dd\"))","v":""},{"$f":"IF(入力シート!J25=\"\",\"\",入力シート!J25)","v":""},{"$f":"IF(入力シート!K25=\"\",\"\",入力シート!K25)","v":""},{"$f":"IF(入力シート!L25=\"\",\"\",入力シート!L25)","v":""},{"$f":"IF(入力シート!M25=\"\",\"\",入力シート!M25)","v":""},{"$f":"IF(入力シート!N25=\"\",\"\",入力シート!N25)","v":""},{"$f":"IF(入力シート!O25=\"\",\"\",入力シート!O25)","v":""},null,{"$f":"IF(入力シート!P25=\"\",\"\",入力シート!P25)","v":""},{"$f":"IF(入力シート!Q25=\"\",\"\",入力シート!Q25)","v":""},{"$f":"IF(入力シート!R25=\"\",\"\",入力シート!R25)","v":""},{"$f":"IF(入力シート!S25=\"\",\"\",入力シート!S25)","v":""},{"$f":"IF(入力シート!T25=\"\",\"\",入力シート!T25)","v":""},{"$f":"IF(入力シート!U25=\"\",\"\",入力シート!U25)","v":""},{"$f":"IF(入力シート!V25=\"\",\"\",入力シート!V25)","v":""},{"$f":"IF(入力シート!W25=\"\",\"\",入力シート!W25)","v":""},{"$f":"IF(入力シート!X25=\"\",\"\",入力シート!X25)","v":""},{"$f":"IF(入力シート!Y25=\"\",\"\",入力シート!Y25)","v":""},{"$f":"IF(入力シート!Z25=\"\",\"\",入力シート!Z25)","v":""},null,null,{"$f":"IF(入力シート!H25=\"\",\"\",\"〇\")","v":""},{"$f":"IF(入力シート!AA25=\"\",\"\",入力シート!AA25)","v":""},{"$f":"IF(入力シート!AB25=\"\",\"\",入力シート!AB25)","v":""},{"$f":"IF(入力シート!AC25=\"\",\"\",入力シート!AC25)","v":""},{"$f":"IF(入力シート!AD25=\"\",\"\",入力シート!AD25)","v":""}]
[{"$f":"IF(入力シート!B26=\"\",\"\",入力シート!B26)","v":""},{"$f":"IF(入力シート!C26=\"\",\"\",入力シート!C26)","v":""},{"$f":"IF(入力シート!D26=\"\",\"\",DBCS(入力シート!D26))","v":""},{"$f":"IF(入力シート!E26=\"\",\"\",DBCS(入力シート!E26))","v":""},{"$f":"ASC(IF(入力シート!F26=\"\",\"\",UPPER(入力シート!F26)))","v":""},{"$f":"IF(入力シート!G26=\"\",\"\",PROPER(入力シート!G26))","v":""},{"$f":"IF(入力シート!H26=\"\",\"\",入力シート!H26)","v":""},{"$f":"IF(入力シート!I26=\"\",\"\",TEXT(入力シート!I26,\"yyyy/mm/dd\"))","v":""},{"$f":"IF(入力シート!J26=\"\",\"\",入力シート!J26)","v":""},{"$f":"IF(入力シート!K26=\"\",\"\",入力シート!K26)","v":""},{"$f":"IF(入力シート!L26=\"\",\"\",入力シート!L26)","v":""},{"$f":"IF(入力シート!M26=\"\",\"\",入力シート!M26)","v":""},{"$f":"IF(入力シート!N26=\"\",\"\",入力シート!N26)","v":""},{"$f":"IF(入力シート!O26=\"\",\"\",入力シート!O26)","v":""},null,{"$f":"IF(入力シート!P26=\"\",\"\",入力シート!P26)","v":""},{"$f":"IF(入力シート!Q26=\"\",\"\",入力シート!Q26)","v":""},{"$f":"IF(入力シート!R26=\"\",\"\",入力シート!R26)","v":""},{"$f":"IF(入力シート!S26=\"\",\"\",入力シート!S26)","v":""},{"$f":"IF(入力シート!T26=\"\",\"\",入力シート!T26)","v":""},{"$f":"IF(入力シート!U26=\"\",\"\",入力シート!U26)","v":""},{"$f":"IF(入力シート!V26=\"\",\"\",入力シート!V26)","v":""},{"$f":"IF(入力シート!W26=\"\",\"\",入力シート!W26)","v":""},{"$f":"IF(入力シート!X26=\"\",\"\",入力シート!X26)","v":""},{"$f":"IF(入力シート!Y26=\"\",\"\",入力シート!Y26)","v":""},{"$f":"IF(入力シート!Z26=\"\",\"\",入力シート!Z26)","v":""},null,null,{"$f":"IF(入力シート!H26=\"\",\"\",\"〇\")","v":""},{"$f":"IF(入力シート!AA26=\"\",\"\",入力シート!AA26)","v":""},{"$f":"IF(入力シート!AB26=\"\",\"\",入力シート!AB26)","v":""},{"$f":"IF(入力シート!AC26=\"\",\"\",入力シート!AC26)","v":""},{"$f":"IF(入力シート!AD26=\"\",\"\",入力シート!AD26)","v":""}]
[{"$f":"IF(入力シート!B27=\"\",\"\",入力シート!B27)","v":""},{"$f":"IF(入力シート!C27=\"\",\"\",入力シート!C27)","v":""},{"$f":"IF(入力シート!D27=\"\",\"\",DBCS(入力シート!D27))","v":""},{"$f":"IF(入力シート!E27=\"\",\"\",DBCS(入力シート!E27))","v":""},{"$f":"ASC(IF(入力シート!F27=\"\",\"\",UPPER(入力シート!F27)))","v":""},{"$f":"IF(入力シート!G27=\"\",\"\",PROPER(入力シート!G27))","v":""},{"$f":"IF(入力シート!H27=\"\",\"\",入力シート!H27)","v":""},{"$f":"IF(入力シート!I27=\"\",\"\",TEXT(入力シート!I27,\"yyyy/mm/dd\"))","v":""},{"$f":"IF(入力シート!J27=\"\",\"\",入力シート!J27)","v":""},{"$f":"IF(入力シート!K27=\"\",\"\",入力シート!K27)","v":""},{"$f":"IF(入力シート!L27=\"\",\"\",入力シート!L27)","v":""},{"$f":"IF(入力シート!M27=\"\",\"\",入力シート!M27)","v":""},{"$f":"IF(入力シート!N27=\"\",\"\",入力シート!N27)","v":""},{"$f":"IF(入力シート!O27=\"\",\"\",入力シート!O27)","v":""},null,{"$f":"IF(入力シート!P27=\"\",\"\",入力シート!P27)","v":""},{"$f":"IF(入力シート!Q27=\"\",\"\",入力シート!Q27)","v":""},{"$f":"IF(入力シート!R27=\"\",\"\",入力シート!R27)","v":""},{"$f":"IF(入力シート!S27=\"\",\"\",入力シート!S27)","v":""},{"$f":"IF(入力シート!T27=\"\",\"\",入力シート!T27)","v":""},{"$f":"IF(入力シート!U27=\"\",\"\",入力シート!U27)","v":""},{"$f":"IF(入力シート!V27=\"\",\"\",入力シート!V27)","v":""},{"$f":"IF(入力シート!W27=\"\",\"\",入力シート!W27)","v":""},{"$f":"IF(入力シート!X27=\"\",\"\",入力シート!X27)","v":""},{"$f":"IF(入力シート!Y27=\"\",\"\",入力シート!Y27)","v":""},{"$f":"IF(入力シート!Z27=\"\",\"\",入力シート!Z27)","v":""},null,null,{"$f":"IF(入力シート!H27=\"\",\"\",\"〇\")","v":""},{"$f":"IF(入力シート!AA27=\"\",\"\",入力シート!AA27)","v":""},{"$f":"IF(入力シート!AB27=\"\",\"\",入力シート!AB27)","v":""},{"$f":"IF(入力シート!AC27=\"\",\"\",入力シート!AC27)","v":""},{"$f":"IF(入力シート!AD27=\"\",\"\",入力シート!AD27)","v":""}]
[{"$f":"IF(入力シート!B28=\"\",\"\",入力シート!B28)","v":""},{"$f":"IF(入力シート!C28=\"\",\"\",入力シート!C28)","v":""},{"$f":"IF(入力シート!D28=\"\",\"\",DBCS(入力シート!D28))","v":""},{"$f":"IF(入力シート!E28=\"\",\"\",DBCS(入力シート!E28))","v":""},{"$f":"ASC(IF(入力シート!F28=\"\",\"\",UPPER(入力シート!F28)))","v":""},{"$f":"IF(入力シート!G28=\"\",\"\",PROPER(入力シート!G28))","v":""},{"$f":"IF(入力シート!H28=\"\",\"\",入力シート!H28)","v":""},{"$f":"IF(入力シート!I28=\"\",\"\",TEXT(入力シート!I28,\"yyyy/mm/dd\"))","v":""},{"$f":"IF(入力シート!J28=\"\",\"\",入力シート!J28)","v":""},{"$f":"IF(入力シート!K28=\"\",\"\",入力シート!K28)","v":""},{"$f":"IF(入力シート!L28=\"\",\"\",入力シート!L28)","v":""},{"$f":"IF(入力シート!M28=\"\",\"\",入力シート!M28)","v":""},{"$f":"IF(入力シート!N28=\"\",\"\",入力シート!N28)","v":""},{"$f":"IF(入力シート!O28=\"\",\"\",入力シート!O28)","v":""},null,{"$f":"IF(入力シート!P28=\"\",\"\",入力シート!P28)","v":""},{"$f":"IF(入力シート!Q28=\"\",\"\",入力シート!Q28)","v":""},{"$f":"IF(入力シート!R28=\"\",\"\",入力シート!R28)","v":""},{"$f":"IF(入力シート!S28=\"\",\"\",入力シート!S28)","v":""},{"$f":"IF(入力シート!T28=\"\",\"\",入力シート!T28)","v":""},{"$f":"IF(入力シート!U28=\"\",\"\",入力シート!U28)","v":""},{"$f":"IF(入力シート!V28=\"\",\"\",入力シート!V28)","v":""},{"$f":"IF(入力シート!W28=\"\",\"\",入力シート!W28)","v":""},{"$f":"IF(入力シート!X28=\"\",\"\",入力シート!X28)","v":""},{"$f":"IF(入力シート!Y28=\"\",\"\",入力シート!Y28)","v":""},{"$f":"IF(入力シート!Z28=\"\",\"\",入力シート!Z28)","v":""},null,null,{"$f":"IF(入力シート!H28=\"\",\"\",\"〇\")","v":""},{"$f":"IF(入力シート!AA28=\"\",\"\",入力シート!AA28)","v":""},{"$f":"IF(入力シート!AB28=\"\",\"\",入力シート!AB28)","v":""},{"$f":"IF(入力シート!AC28=\"\",\"\",入力シート!AC28)","v":""},{"$f":"IF(入力シート!AD28=\"\",\"\",入力シート!AD28)","v":""}]
[{"$f":"IF(入力シート!B29=\"\",\"\",入力シート!B29)","v":""},{"$f":"IF(入力シート!C29=\"\",\"\",入力シート!C29)","v":""},{"$f":"IF(入力シート!D29=\"\",\"\",DBCS(入力シート!D29))","v":""},{"$f":"IF(入力シート!E29=\"\",\"\",DBCS(入力シート!E29))","v":""},{"$f":"ASC(IF(入力シート!F29=\"\",\"\",UPPER(入力シート!F29)))","v":""},{"$f":"IF(入力シート!G29=\"\",\"\",PROPER(入力シート!G29))","v":""},{"$f":"IF(入力シート!H29=\"\",\"\",入力シート!H29)","v":""},{"$f":"IF(入力シート!I29=\"\",\"\",TEXT(入力シート!I29,\"yyyy/mm/dd\"))","v":""},{"$f":"IF(入力シート!J29=\"\",\"\",入力シート!J29)","v":""},{"$f":"IF(入力シート!K29=\"\",\"\",入力シート!K29)","v":""},{"$f":"IF(入力シート!L29=\"\",\"\",入力シート!L29)","v":""},{"$f":"IF(入力シート!M29=\"\",\"\",入力シート!M29)","v":""},{"$f":"IF(入力シート!N29=\"\",\"\",入力シート!N29)","v":""},{"$f":"IF(入力シート!O29=\"\",\"\",入力シート!O29)","v":""},null,{"$f":"IF(入力シート!P29=\"\",\"\",入力シート!P29)","v":""},{"$f":"IF(入力シート!Q29=\"\",\"\",入力シート!Q29)","v":""},{"$f":"IF(入力シート!R29=\"\",\"\",入力シート!R29)","v":""},{"$f":"IF(入力シート!S29=\"\",\"\",入力シート!S29)","v":""},{"$f":"IF(入力シート!T29=\"\",\"\",入力シート!T29)","v":""},{"$f":"IF(入力シート!U29=\"\",\"\",入力シート!U29)","v":""},{"$f":"IF(入力シート!V29=\"\",\"\",入力シート!V29)","v":""},{"$f":"IF(入力シート!W29=\"\",\"\",入力シート!W29)","v":""},{"$f":"IF(入力シート!X29=\"\",\"\",入力シート!X29)","v":""},{"$f":"IF(入力シート!Y29=\"\",\"\",入力シート!Y29)","v":""},{"$f":"IF(入力シート!Z29=\"\",\"\",入力シート!Z29)","v":""},null,null,{"$f":"IF(入力シート!H29=\"\",\"\",\"〇\")","v":""},{"$f":"IF(入力シート!AA29=\"\",\"\",入力シート!AA29)","v":""},{"$f":"IF(入力シート!AB29=\"\",\"\",入力シート!AB29)","v":""},{"$f":"IF(入力シート!AC29=\"\",\"\",入力シート!AC29)","v":""},{"$f":"IF(入力シート!AD29=\"\",\"\",入力シート!AD29)","v":""}]
[{"$f":"IF(入力シート!B30=\"\",\"\",入力シート!B30)","v":""},{"$f":"IF(入力シート!C30=\"\",\"\",入力シート!C30)","v":""},{"$f":"IF(入力シート!D30=\"\",\"\",DBCS(入力シート!D30))","v":""},{"$f":"IF(入力シート!E30=\"\",\"\",DBCS(入力シート!E30))","v":""},{"$f":"ASC(IF(入力シート!F30=\"\",\"\",UPPER(入力シート!F30)))","v":""},{"$f":"IF(入力シート!G30=\"\",\"\",PROPER(入力シート!G30))","v":""},{"$f":"IF(入力シート!H30=\"\",\"\",入力シート!H30)","v":""},{"$f":"IF(入力シート!I30=\"\",\"\",TEXT(入力シート!I30,\"yyyy/mm/dd\"))","v":""},{"$f":"IF(入力シート!J30=\"\",\"\",入力シート!J30)","v":""},{"$f":"IF(入力シート!K30=\"\",\"\",入力シート!K30)","v":""},{"$f":"IF(入力シート!L30=\"\",\"\",入力シート!L30)","v":""},{"$f":"IF(入力シート!M30=\"\",\"\",入力シート!M30)","v":""},{"$f":"IF(入力シート!N30=\"\",\"\",入力シート!N30)","v":""},{"$f":"IF(入力シート!O30=\"\",\"\",入力シート!O30)","v":""},null,{"$f":"IF(入力シート!P30=\"\",\"\",入力シート!P30)","v":""},{"$f":"IF(入力シート!Q30=\"\",\"\",入力シート!Q30)","v":""},{"$f":"IF(入力シート!R30=\"\",\"\",入力シート!R30)","v":""},{"$f":"IF(入力シート!S30=\"\",\"\",入力シート!S30)","v":""},{"$f":"IF(入力シート!T30=\"\",\"\",入力シート!T30)","v":""},{"$f":"IF(入力シート!U30=\"\",\"\",入力シート!U30)","v":""},{"$f":"IF(入力シート!V30=\"\",\"\",入力シート!V30)","v":""},{"$f":"IF(入力シート!W30=\"\",\"\",入力シート!W30)","v":""},{"$f":"IF(入力シート!X30=\"\",\"\",入力シート!X30)","v":""},{"$f":"IF(入力シート!Y30=\"\",\"\",入力シート!Y30)","v":""},{"$f":"IF(入力シート!Z30=\"\",\"\",入力シート!Z30)","v":""},null,null,{"$f":"IF(入力シート!H30=\"\",\"\",\"〇\")","v":""},{"$f":"IF(入力シート!AA30=\"\",\"\",入力シート!AA30)","v":""},{"$f":"IF(入力シート!AB30=\"\",\"\",入力シート!AB30)","v":""},{"$f":"IF(入力シート!AC30=\"\",\"\",入力シート!AC30)","v":""},{"$f":"IF(入力シート!AD30=\"\",\"\",入力シート!AD30)","v":""}]
[{"$f":"IF(入力シート!B31=\"\",\"\",入力シート!B31)","v":""},{"$f":"IF(入力シート!C31=\"\",\"\",入力シート!C31)","v":""},{"$f":"IF(入力シート!D31=\"\",\"\",DBCS(入力シート!D31))","v":""},{"$f":"IF(入力シート!E31=\"\",\"\",DBCS(入力シート!E31))","v":""},{"$f":"ASC(IF(入力シート!F31=\"\",\"\",UPPER(入力シート!F31)))","v":""},{"$f":"IF(入力シート!G31=\"\",\"\",PROPER(入力シート!G31))","v":""},{"$f":"IF(入力シート!H31=\"\",\"\",入力シート!H31)","v":""},{"$f":"IF(入力シート!I31=\"\",\"\",TEXT(入力シート!I31,\"yyyy/mm/dd\"))","v":""},{"$f":"IF(入力シート!J31=\"\",\"\",入力シート!J31)","v":""},{"$f":"IF(入力シート!K31=\"\",\"\",入力シート!K31)","v":""},{"$f":"IF(入力シート!L31=\"\",\"\",入力シート!L31)","v":""},{"$f":"IF(入力シート!M31=\"\",\"\",入力シート!M31)","v":""},{"$f":"IF(入力シート!N31=\"\",\"\",入力シート!N31)","v":""},{"$f":"IF(入力シート!O31=\"\",\"\",入力シート!O31)","v":""},null,{"$f":"IF(入力シート!P31=\"\",\"\",入力シート!P31)","v":""},{"$f":"IF(入力シート!Q31=\"\",\"\",入力シート!Q31)","v":""},{"$f":"IF(入力シート!R31=\"\",\"\",入力シート!R31)","v":""},{"$f":"IF(入力シート!S31=\"\",\"\",入力シート!S31)","v":""},{"$f":"IF(入力シート!T31=\"\",\"\",入力シート!T31)","v":""},{"$f":"IF(入力シート!U31=\"\",\"\",入力シート!U31)","v":""},{"$f":"IF(入力シート!V31=\"\",\"\",入力シート!V31)","v":""},{"$f":"IF(入力シート!W31=\"\",\"\",入力シート!W31)","v":""},{"$f":"IF(入力シート!X31=\"\",\"\",入力シート!X31)","v":""},{"$f":"IF(入力シート!Y31=\"\",\"\",入力シート!Y31)","v":""},{"$f":"IF(入力シート!Z31=\"\",\"\",入力シート!Z31)","v":""},null,null,{"$f":"IF(入力シート!H31=\"\",\"\",\"〇\")","v":""},{"$f":"IF(入力シート!AA31=\"\",\"\",入力シート!AA31)","v":""},{"$f":"IF(入力シート!AB31=\"\",\"\",入力シート!AB31)","v":""},{"$f":"IF(入力シート!AC31=\"\",\"\",入力シート!AC31)","v":""},{"$f":"IF(入力シート!AD31=\"\",\"\",入力シート!AD31)","v":""}]
[{"$f":"IF(入力シート!B32=\"\",\"\",入力シート!B32)","v":""},{"$f":"IF(入力シート!C32=\"\",\"\",入力シート!C32)","v":""},{"$f":"IF(入力シート!D32=\"\",\"\",DBCS(入力シート!D32))","v":""},{"$f":"IF(入力シート!E32=\"\",\"\",DBCS(入力シート!E32))","v":""},{"$f":"ASC(IF(入力シート!F32=\"\",\"\",UPPER(入力シート!F32)))","v":""},{"$f":"IF(入力シート!G32=\"\",\"\",PROPER(入力シート!G32))","v":""},{"$f":"IF(入力シート!H32=\"\",\"\",入力シート!H32)","v":""},{"$f":"IF(入力シート!I32=\"\",\"\",TEXT(入力シート!I32,\"yyyy/mm/dd\"))","v":""},{"$f":"IF(入力シート!J32=\"\",\"\",入力シート!J32)","v":""},{"$f":"IF(入力シート!K32=\"\",\"\",入力シート!K32)","v":""},{"$f":"IF(入力シート!L32=\"\",\"\",入力シート!L32)","v":""},{"$f":"IF(入力シート!M32=\"\",\"\",入力シート!M32)","v":""},{"$f":"IF(入力シート!N32=\"\",\"\",入力シート!N32)","v":""},{"$f":"IF(入力シート!O32=\"\",\"\",入力シート!O32)","v":""},null,{"$f":"IF(入力シート!P32=\"\",\"\",入力シート!P32)","v":""},{"$f":"IF(入力シート!Q32=\"\",\"\",入力シート!Q32)","v":""},{"$f":"IF(入力シート!R32=\"\",\"\",入力シート!R32)","v":""},{"$f":"IF(入力シート!S32=\"\",\"\",入力シート!S32)","v":""},{"$f":"IF(入力シート!T32=\"\",\"\",入力シート!T32)","v":""},{"$f":"IF(入力シート!U32=\"\",\"\",入力シート!U32)","v":""},{"$f":"IF(入力シート!V32=\"\",\"\",入力シート!V32)","v":""},{"$f":"IF(入力シート!W32=\"\",\"\",入力シート!W32)","v":""},{"$f":"IF(入力シート!X32=\"\",\"\",入力シート!X32)","v":""},{"$f":"IF(入力シート!Y32=\"\",\"\",入力シート!Y32)","v":""},{"$f":"IF(入力シート!Z32=\"\",\"\",入力シート!Z32)","v":""},null,null,{"$f":"IF(入力シート!H32=\"\",\"\",\"〇\")","v":""},{"$f":"IF(入力シート!AA32=\"\",\"\",入力シート!AA32)","v":""},{"$f":"IF(入力シート!AB32=\"\",\"\",入力シート!AB32)","v":""},{"$f":"IF(入力シート!AC32=\"\",\"\",入力シート!AC32)","v":""},{"$f":"IF(入力シート!AD32=\"\",\"\",入力シート!AD32)","v":""}]
[{"$f":"IF(入力シート!B33=\"\",\"\",入力シート!B33)","v":""},{"$f":"IF(入力シート!C33=\"\",\"\",入力シート!C33)","v":""},{"$f":"IF(入力シート!D33=\"\",\"\",DBCS(入力シート!D33))","v":""},{"$f":"IF(入力シート!E33=\"\",\"\",DBCS(入力シート!E33))","v":""},{"$f":"ASC(IF(入力シート!F33=\"\",\"\",UPPER(入力シート!F33)))","v":""},{"$f":"IF(入力シート!G33=\"\",\"\",PROPER(入力シート!G33))","v":""},{"$f":"IF(入力シート!H33=\"\",\"\",入力シート!H33)","v":""},{"$f":"IF(入力シート!I33=\"\",\"\",TEXT(入力シート!I33,\"yyyy/mm/dd\"))","v":""},{"$f":"IF(入力シート!J33=\"\",\"\",入力シート!J33)","v":""},{"$f":"IF(入力シート!K33=\"\",\"\",入力シート!K33)","v":""},{"$f":"IF(入力シート!L33=\"\",\"\",入力シート!L33)","v":""},{"$f":"IF(入力シート!M33=\"\",\"\",入力シート!M33)","v":""},{"$f":"IF(入力シート!N33=\"\",\"\",入力シート!N33)","v":""},{"$f":"IF(入力シート!O33=\"\",\"\",入力シート!O33)","v":""},null,{"$f":"IF(入力シート!P33=\"\",\"\",入力シート!P33)","v":""},{"$f":"IF(入力シート!Q33=\"\",\"\",入力シート!Q33)","v":""},{"$f":"IF(入力シート!R33=\"\",\"\",入力シート!R33)","v":""},{"$f":"IF(入力シート!S33=\"\",\"\",入力シート!S33)","v":""},{"$f":"IF(入力シート!T33=\"\",\"\",入力シート!T33)","v":""},{"$f":"IF(入力シート!U33=\"\",\"\",入力シート!U33)","v":""},{"$f":"IF(入力シート!V33=\"\",\"\",入力シート!V33)","v":""},{"$f":"IF(入力シート!W33=\"\",\"\",入力シート!W33)","v":""},{"$f":"IF(入力シート!X33=\"\",\"\",入力シート!X33)","v":""},{"$f":"IF(入力シート!Y33=\"\",\"\",入力シート!Y33)","v":""},{"$f":"IF(入力シート!Z33=\"\",\"\",入力シート!Z33)","v":""},null,null,{"$f":"IF(入力シート!H33=\"\",\"\",\"〇\")","v":""},{"$f":"IF(入力シート!AA33=\"\",\"\",入力シート!AA33)","v":""},{"$f":"IF(入力シート!AB33=\"\",\"\",入力シート!AB33)","v":""},{"$f":"IF(入力シート!AC33=\"\",\"\",入力シート!AC33)","v":""},{"$f":"IF(入力シート!AD33=\"\",\"\",入力シート!AD33)","v":""}]
[{"$f":"IF(入力シート!B34=\"\",\"\",入力シート!B34)","v":""},{"$f":"IF(入力シート!C34=\"\",\"\",入力シート!C34)","v":""},{"$f":"IF(入力シート!D34=\"\",\"\",DBCS(入力シート!D34))","v":""},{"$f":"IF(入力シート!E34=\"\",\"\",DBCS(入力シート!E34))","v":""},{"$f":"ASC(IF(入力シート!F34=\"\",\"\",UPPER(入力シート!F34)))","v":""},{"$f":"IF(入力シート!G34=\"\",\"\",PROPER(入力シート!G34))","v":""},{"$f":"IF(入力シート!H34=\"\",\"\",入力シート!H34)","v":""},{"$f":"IF(入力シート!I34=\"\",\"\",TEXT(入力シート!I34,\"yyyy/mm/dd\"))","v":""},{"$f":"IF(入力シート!J34=\"\",\"\",入力シート!J34)","v":""},{"$f":"IF(入力シート!K34=\"\",\"\",入力シート!K34)","v":""},{"$f":"IF(入力シート!L34=\"\",\"\",入力シート!L34)","v":""},{"$f":"IF(入力シート!M34=\"\",\"\",入力シート!M34)","v":""},{"$f":"IF(入力シート!N34=\"\",\"\",入力シート!N34)","v":""},{"$f":"IF(入力シート!O34=\"\",\"\",入力シート!O34)","v":""},null,{"$f":"IF(入力シート!P34=\"\",\"\",入力シート!P34)","v":""},{"$f":"IF(入力シート!Q34=\"\",\"\",入力シート!Q34)","v":""},{"$f":"IF(入力シート!R34=\"\",\"\",入力シート!R34)","v":""},{"$f":"IF(入力シート!S34=\"\",\"\",入力シート!S34)","v":""},{"$f":"IF(入力シート!T34=\"\",\"\",入力シート!T34)","v":""},{"$f":"IF(入力シート!U34=\"\",\"\",入力シート!U34)","v":""},{"$f":"IF(入力シート!V34=\"\",\"\",入力シート!V34)","v":""},{"$f":"IF(入力シート!W34=\"\",\"\",入力シート!W34)","v":""},{"$f":"IF(入力シート!X34=\"\",\"\",入力シート!X34)","v":""},{"$f":"IF(入力シート!Y34=\"\",\"\",入力シート!Y34)","v":""},{"$f":"IF(入力シート!Z34=\"\",\"\",入力シート!Z34)","v":""},null,null,{"$f":"IF(入力シート!H34=\"\",\"\",\"〇\")","v":""},{"$f":"IF(入力シート!AA34=\"\",\"\",入力シート!AA34)","v":""},{"$f":"IF(入力シート!AB34=\"\",\"\",入力シート!AB34)","v":""},{"$f":"IF(入力シート!AC34=\"\",\"\",入力シート!AC34)","v":""},{"$f":"IF(入力シート!AD34=\"\",\"\",入力シート!AD34)","v":""}]
[{"$f":"IF(入力シート!B35=\"\",\"\",入力シート!B35)","v":""},{"$f":"IF(入力シート!C35=\"\",\"\",入力シート!C35)","v":""},{"$f":"IF(入力シート!D35=\"\",\"\",DBCS(入力シート!D35))","v":""},{"$f":"IF(入力シート!E35=\"\",\"\",DBCS(入力シート!E35))","v":""},{"$f":"ASC(IF(入力シート!F35=\"\",\"\",UPPER(入力シート!F35)))","v":""},{"$f":"IF(入力シート!G35=\"\",\"\",PROPER(入力シート!G35))","v":""},{"$f":"IF(入力シート!H35=\"\",\"\",入力シート!H35)","v":""},{"$f":"IF(入力シート!I35=\"\",\"\",TEXT(入力シート!I35,\"yyyy/mm/dd\"))","v":""},{"$f":"IF(入力シート!J35=\"\",\"\",入力シート!J35)","v":""},{"$f":"IF(入力シート!K35=\"\",\"\",入力シート!K35)","v":""},{"$f":"IF(入力シート!L35=\"\",\"\",入力シート!L35)","v":""},{"$f":"IF(入力シート!M35=\"\",\"\",入力シート!M35)","v":""},{"$f":"IF(入力シート!N35=\"\",\"\",入力シート!N35)","v":""},{"$f":"IF(入力シート!O35=\"\",\"\",入力シート!O35)","v":""},null,{"$f":"IF(入力シート!P35=\"\",\"\",入力シート!P35)","v":""},{"$f":"IF(入力シート!Q35=\"\",\"\",入力シート!Q35)","v":""},{"$f":"IF(入力シート!R35=\"\",\"\",入力シート!R35)","v":""},{"$f":"IF(入力シート!S35=\"\",\"\",入力シート!S35)","v":""},{"$f":"IF(入力シート!T35=\"\",\"\",入力シート!T35)","v":""},{"$f":"IF(入力シート!U35=\"\",\"\",入力シート!U35)","v":""},{"$f":"IF(入力シート!V35=\"\",\"\",入力シート!V35)","v":""},{"$f":"IF(入力シート!W35=\"\",\"\",入力シート!W35)","v":""},{"$f":"IF(入力シート!X35=\"\",\"\",入力シート!X35)","v":""},{"$f":"IF(入力シート!Y35=\"\",\"\",入力シート!Y35)","v":""},{"$f":"IF(入力シート!Z35=\"\",\"\",入力シート!Z35)","v":""},null,null,{"$f":"IF(入力シート!H35=\"\",\"\",\"〇\")","v":""},{"$f":"IF(入力シート!AA35=\"\",\"\",入力シート!AA35)","v":""},{"$f":"IF(入力シート!AB35=\"\",\"\",入力シート!AB35)","v":""},{"$f":"IF(入力シート!AC35=\"\",\"\",入力シート!AC35)","v":""},{"$f":"IF(入力シート!AD35=\"\",\"\",入力シート!AD35)","v":""}]
[{"$f":"IF(入力シート!B36=\"\",\"\",入力シート!B36)","v":""},{"$f":"IF(入力シート!C36=\"\",\"\",入力シート!C36)","v":""},{"$f":"IF(入力シート!D36=\"\",\"\",DBCS(入力シート!D36))","v":""},{"$f":"IF(入力シート!E36=\"\",\"\",DBCS(入力シート!E36))","v":""},{"$f":"ASC(IF(入力シート!F36=\"\",\"\",UPPER(入力シート!F36)))","v":""},{"$f":"IF(入力シート!G36=\"\",\"\",PROPER(入力シート!G36))","v":""},{"$f":"IF(入力シート!H36=\"\",\"\",入力シート!H36)","v":""},{"$f":"IF(入力シート!I36=\"\",\"\",TEXT(入力シート!I36,\"yyyy/mm/dd\"))","v":""},{"$f":"IF(入力シート!J36=\"\",\"\",入力シート!J36)","v":""},{"$f":"IF(入力シート!K36=\"\",\"\",入力シート!K36)","v":""},{"$f":"IF(入力シート!L36=\"\",\"\",入力シート!L36)","v":""},{"$f":"IF(入力シート!M36=\"\",\"\",入力シート!M36)","v":""},{"$f":"IF(入力シート!N36=\"\",\"\",入力シート!N36)","v":""},{"$f":"IF(入力シート!O36=\"\",\"\",入力シート!O36)","v":""},null,{"$f":"IF(入力シート!P36=\"\",\"\",入力シート!P36)","v":""},{"$f":"IF(入力シート!Q36=\"\",\"\",入力シート!Q36)","v":""},{"$f":"IF(入力シート!R36=\"\",\"\",入力シート!R36)","v":""},{"$f":"IF(入力シート!S36=\"\",\"\",入力シート!S36)","v":""},{"$f":"IF(入力シート!T36=\"\",\"\",入力シート!T36)","v":""},{"$f":"IF(入力シート!U36=\"\",\"\",入力シート!U36)","v":""},{"$f":"IF(入力シート!V36=\"\",\"\",入力シート!V36)","v":""},{"$f":"IF(入力シート!W36=\"\",\"\",入力シート!W36)","v":""},{"$f":"IF(入力シート!X36=\"\",\"\",入力シート!X36)","v":""},{"$f":"IF(入力シート!Y36=\"\",\"\",入力シート!Y36)","v":""},{"$f":"IF(入力シート!Z36=\"\",\"\",入力シート!Z36)","v":""},null,null,{"$f":"IF(入力シート!H36=\"\",\"\",\"〇\")","v":""},{"$f":"IF(入力シート!AA36=\"\",\"\",入力シート!AA36)","v":""},{"$f":"IF(入力シート!AB36=\"\",\"\",入力シート!AB36)","v":""},{"$f":"IF(入力シート!AC36=\"\",\"\",入力シート!AC36)","v":""},{"$f":"IF(入力シート!AD36=\"\",\"\",入力シート!AD36)","v":""}]
[{"$f":"IF(入力シート!B37=\"\",\"\",入力シート!B37)","v":""},{"$f":"IF(入力シート!C37=\"\",\"\",入力シート!C37)","v":""},{"$f":"IF(入力シート!D37=\"\",\"\",DBCS(入力シート!D37))","v":""},{"$f":"IF(入力シート!E37=\"\",\"\",DBCS(入力シート!E37))","v":""},{"$f":"ASC(IF(入力シート!F37=\"\",\"\",UPPER(入力シート!F37)))","v":""},{"$f":"IF(入力シート!G37=\"\",\"\",PROPER(入力シート!G37))","v":""},{"$f":"IF(入力シート!H37=\"\",\"\",入力シート!H37)","v":""},{"$f":"IF(入力シート!I37=\"\",\"\",TEXT(入力シート!I37,\"yyyy/mm/dd\"))","v":""},{"$f":"IF(入力シート!J37=\"\",\"\",入力シート!J37)","v":""},{"$f":"IF(入力シート!K37=\"\",\"\",入力シート!K37)","v":""},{"$f":"IF(入力シート!L37=\"\",\"\",入力シート!L37)","v":""},{"$f":"IF(入力シート!M37=\"\",\"\",入力シート!M37)","v":""},{"$f":"IF(入力シート!N37=\"\",\"\",入力シート!N37)","v":""},{"$f":"IF(入力シート!O37=\"\",\"\",入力シート!O37)","v":""},null,{"$f":"IF(入力シート!P37=\"\",\"\",入力シート!P37)","v":""},{"$f":"IF(入力シート!Q37=\"\",\"\",入力シート!Q37)","v":""},{"$f":"IF(入力シート!R37=\"\",\"\",入力シート!R37)","v":""},{"$f":"IF(入力シート!S37=\"\",\"\",入力シート!S37)","v":""},{"$f":"IF(入力シート!T37=\"\",\"\",入力シート!T37)","v":""},{"$f":"IF(入力シート!U37=\"\",\"\",入力シート!U37)","v":""},{"$f":"IF(入力シート!V37=\"\",\"\",入力シート!V37)","v":""},{"$f":"IF(入力シート!W37=\"\",\"\",入力シート!W37)","v":""},{"$f":"IF(入力シート!X37=\"\",\"\",入力シート!X37)","v":""},{"$f":"IF(入力シート!Y37=\"\",\"\",入力シート!Y37)","v":""},{"$f":"IF(入力シート!Z37=\"\",\"\",入力シート!Z37)","v":""},null,null,{"$f":"IF(入力シート!H37=\"\",\"\",\"〇\")","v":""},{"$f":"IF(入力シート!AA37=\"\",\"\",入力シート!AA37)","v":""},{"$f":"IF(入力シート!AB37=\"\",\"\",入力シート!AB37)","v":""},{"$f":"IF(入力シート!AC37=\"\",\"\",入力シート!AC37)","v":""},{"$f":"IF(入力シート!AD37=\"\",\"\",入力シート!AD37)","v":""}]
[{"$f":"IF(入力シート!B38=\"\",\"\",入力シート!B38)","v":""},{"$f":"IF(入力シート!C38=\"\",\"\",入力シート!C38)","v":""},{"$f":"IF(入力シート!D38=\"\",\"\",DBCS(入力シート!D38))","v":""},{"$f":"IF(入力シート!E38=\"\",\"\",DBCS(入力シート!E38))","v":""},{"$f":"ASC(IF(入力シート!F38=\"\",\"\",UPPER(入力シート!F38)))","v":""},{"$f":"IF(入力シート!G38=\"\",\"\",PROPER(入力シート!G38))","v":""},{"$f":"IF(入力シート!H38=\"\",\"\",入力シート!H38)","v":""},{"$f":"IF(入力シート!I38=\"\",\"\",TEXT(入力シート!I38,\"yyyy/mm/dd\"))","v":""},{"$f":"IF(入力シート!J38=\"\",\"\",入力シート!J38)","v":""},{"$f":"IF(入力シート!K38=\"\",\"\",入力シート!K38)","v":""},{"$f":"IF(入力シート!L38=\"\",\"\",入力シート!L38)","v":""},{"$f":"IF(入力シート!M38=\"\",\"\",入力シート!M38)","v":""},{"$f":"IF(入力シート!N38=\"\",\"\",入力シート!N38)","v":""},{"$f":"IF(入力シート!O38=\"\",\"\",入力シート!O38)","v":""},null,{"$f":"IF(入力シート!P38=\"\",\"\",入力シート!P38)","v":""},{"$f":"IF(入力シート!Q38=\"\",\"\",入力シート!Q38)","v":""},{"$f":"IF(入力シート!R38=\"\",\"\",入力シート!R38)","v":""},{"$f":"IF(入力シート!S38=\"\",\"\",入力シート!S38)","v":""},{"$f":"IF(入力シート!T38=\"\",\"\",入力シート!T38)","v":""},{"$f":"IF(入力シート!U38=\"\",\"\",入力シート!U38)","v":""},{"$f":"IF(入力シート!V38=\"\",\"\",入力シート!V38)","v":""},{"$f":"IF(入力シート!W38=\"\",\"\",入力シート!W38)","v":""},{"$f":"IF(入力シート!X38=\"\",\"\",入力シート!X38)","v":""},{"$f":"IF(入力シート!Y38=\"\",\"\",入力シート!Y38)","v":""},{"$f":"IF(入力シート!Z38=\"\",\"\",入力シート!Z38)","v":""},null,null,{"$f":"IF(入力シート!H38=\"\",\"\",\"〇\")","v":""},{"$f":"IF(入力シート!AA38=\"\",\"\",入力シート!AA38)","v":""},{"$f":"IF(入力シート!AB38=\"\",\"\",入力シート!AB38)","v":""},{"$f":"IF(入力シート!AC38=\"\",\"\",入力シート!AC38)","v":""},{"$f":"IF(入力シート!AD38=\"\",\"\",入力シート!AD38)","v":""}]
[{"$f":"IF(入力シート!B39=\"\",\"\",入力シート!B39)","v":""},{"$f":"IF(入力シート!C39=\"\",\"\",入力シート!C39)","v":""},{"$f":"IF(入力シート!D39=\"\",\"\",DBCS(入力シート!D39))","v":""},{"$f":"IF(入力シート!E39=\"\",\"\",DBCS(入力シート!E39))","v":""},{"$f":"ASC(IF(入力シート!F39=\"\",\"\",UPPER(入力シート!F39)))","v":""},{"$f":"IF(入力シート!G39=\"\",\"\",PROPER(入力シート!G39))","v":""},{"$f":"IF(入力シート!H39=\"\",\"\",入力シート!H39)","v":""},{"$f":"IF(入力シート!I39=\"\",\"\",TEXT(入力シート!I39,\"yyyy/mm/dd\"))","v":""},{"$f":"IF(入力シート!J39=\"\",\"\",入力シート!J39)","v":""},{"$f":"IF(入力シート!K39=\"\",\"\",入力シート!K39)","v":""},{"$f":"IF(入力シート!L39=\"\",\"\",入力シート!L39)","v":""},{"$f":"IF(入力シート!M39=\"\",\"\",入力シート!M39)","v":""},{"$f":"IF(入力シート!N39=\"\",\"\",入力シート!N39)","v":""},{"$f":"IF(入力シート!O39=\"\",\"\",入力シート!O39)","v":""},null,{"$f":"IF(入力シート!P39=\"\",\"\",入力シート!P39)","v":""},{"$f":"IF(入力シート!Q39=\"\",\"\",入力シート!Q39)","v":""},{"$f":"IF(入力シート!R39=\"\",\"\",入力シート!R39)","v":""},{"$f":"IF(入力シート!S39=\"\",\"\",入力シート!S39)","v":""},{"$f":"IF(入力シート!T39=\"\",\"\",入力シート!T39)","v":""},{"$f":"IF(入力シート!U39=\"\",\"\",入力シート!U39)","v":""},{"$f":"IF(入力シート!V39=\"\",\"\",入力シート!V39)","v":""},{"$f":"IF(入力シート!W39=\"\",\"\",入力シート!W39)","v":""},{"$f":"IF(入力シート!X39=\"\",\"\",入力シート!X39)","v":""},{"$f":"IF(入力シート!Y39=\"\",\"\",入力シート!Y39)","v":""},{"$f":"IF(入力シート!Z39=\"\",\"\",入力シート!Z39)","v":""},null,null,{"$f":"IF(入力シート!H39=\"\",\"\",\"〇\")","v":""},{"$f":"IF(入力シート!AA39=\"\",\"\",入力シート!AA39)","v":""},{"$f":"IF(入力シート!AB39=\"\",\"\",入力シート!AB39)","v":""},{"$f":"IF(入力シート!AC39=\"\",\"\",入力シート!AC39)","v":""},{"$f":"IF(入力シート!AD39=\"\",\"\",入力シート!AD39)","v":""}]
[{"$f":"IF(入力シート!B40=\"\",\"\",入力シート!B40)","v":""},{"$f":"IF(入力シート!C40=\"\",\"\",入力シート!C40)","v":""},{"$f":"IF(入力シート!D40=\"\",\"\",DBCS(入力シート!D40))","v":""},{"$f":"IF(入力シート!E40=\"\",\"\",DBCS(入力シート!E40))","v":""},{"$f":"ASC(IF(入力シート!F40=\"\",\"\",UPPER(入力シート!F40)))","v":""},{"$f":"IF(入力シート!G40=\"\",\"\",PROPER(入力シート!G40))","v":""},{"$f":"IF(入力シート!H40=\"\",\"\",入力シート!H40)","v":""},{"$f":"IF(入力シート!I40=\"\",\"\",TEXT(入力シート!I40,\"yyyy/mm/dd\"))","v":""},{"$f":"IF(入力シート!J40=\"\",\"\",入力シート!J40)","v":""},{"$f":"IF(入力シート!K40=\"\",\"\",入力シート!K40)","v":""},{"$f":"IF(入力シート!L40=\"\",\"\",入力シート!L40)","v":""},{"$f":"IF(入力シート!M40=\"\",\"\",入力シート!M40)","v":""},{"$f":"IF(入力シート!N40=\"\",\"\",入力シート!N40)","v":""},{"$f":"IF(入力シート!O40=\"\",\"\",入力シート!O40)","v":""},null,{"$f":"IF(入力シート!P40=\"\",\"\",入力シート!P40)","v":""},{"$f":"IF(入力シート!Q40=\"\",\"\",入力シート!Q40)","v":""},{"$f":"IF(入力シート!R40=\"\",\"\",入力シート!R40)","v":""},{"$f":"IF(入力シート!S40=\"\",\"\",入力シート!S40)","v":""},{"$f":"IF(入力シート!T40=\"\",\"\",入力シート!T40)","v":""},{"$f":"IF(入力シート!U40=\"\",\"\",入力シート!U40)","v":""},{"$f":"IF(入力シート!V40=\"\",\"\",入力シート!V40)","v":""},{"$f":"IF(入力シート!W40=\"\",\"\",入力シート!W40)","v":""},{"$f":"IF(入力シート!X40=\"\",\"\",入力シート!X40)","v":""},{"$f":"IF(入力シート!Y40=\"\",\"\",入力シート!Y40)","v":""},{"$f":"IF(入力シート!Z40=\"\",\"\",入力シート!Z40)","v":""},null,null,{"$f":"IF(入力シート!H40=\"\",\"\",\"〇\")","v":""},{"$f":"IF(入力シート!AA40=\"\",\"\",入力シート!AA40)","v":""},{"$f":"IF(入力シート!AB40=\"\",\"\",入力シート!AB40)","v":""},{"$f":"IF(入力シート!AC40=\"\",\"\",入力シート!AC40)","v":""},{"$f":"IF(入力シート!AD40=\"\",\"\",入力シート!AD40)","v":""}]
[{"$f":"IF(入力シート!B41=\"\",\"\",入力シート!B41)","v":""},{"$f":"IF(入力シート!C41=\"\",\"\",入力シート!C41)","v":""},{"$f":"IF(入力シート!D41=\"\",\"\",DBCS(入力シート!D41))","v":""},{"$f":"IF(入力シート!E41=\"\",\"\",DBCS(入力シート!E41))","v":""},{"$f":"ASC(IF(入力シート!F41=\"\",\"\",UPPER(入力シート!F41)))","v":""},{"$f":"IF(入力シート!G41=\"\",\"\",PROPER(入力シート!G41))","v":""},{"$f":"IF(入力シート!H41=\"\",\"\",入力シート!H41)","v":""},{"$f":"IF(入力シート!I41=\"\",\"\",TEXT(入力シート!I41,\"yyyy/mm/dd\"))","v":""},{"$f":"IF(入力シート!J41=\"\",\"\",入力シート!J41)","v":""},{"$f":"IF(入力シート!K41=\"\",\"\",入力シート!K41)","v":""},{"$f":"IF(入力シート!L41=\"\",\"\",入力シート!L41)","v":""},{"$f":"IF(入力シート!M41=\"\",\"\",入力シート!M41)","v":""},{"$f":"IF(入力シート!N41=\"\",\"\",入力シート!N41)","v":""},{"$f":"IF(入力シート!O41=\"\",\"\",入力シート!O41)","v":""},null,{"$f":"IF(入力シート!P41=\"\",\"\",入力シート!P41)","v":""},{"$f":"IF(入力シート!Q41=\"\",\"\",入力シート!Q41)","v":""},{"$f":"IF(入力シート!R41=\"\",\"\",入力シート!R41)","v":""},{"$f":"IF(入力シート!S41=\"\",\"\",入力シート!S41)","v":""},{"$f":"IF(入力シート!T41=\"\",\"\",入力シート!T41)","v":""},{"$f":"IF(入力シート!U41=\"\",\"\",入力シート!U41)","v":""},{"$f":"IF(入力シート!V41=\"\",\"\",入力シート!V41)","v":""},{"$f":"IF(入力シート!W41=\"\",\"\",入力シート!W41)","v":""},{"$f":"IF(入力シート!X41=\"\",\"\",入力シート!X41)","v":""},{"$f":"IF(入力シート!Y41=\"\",\"\",入力シート!Y41)","v":""},{"$f":"IF(入力シート!Z41=\"\",\"\",入力シート!Z41)","v":""},null,null,{"$f":"IF(入力シート!H41=\"\",\"\",\"〇\")","v":""},{"$f":"IF(入力シート!AA41=\"\",\"\",入力シート!AA41)","v":""},{"$f":"IF(入力シート!AB41=\"\",\"\",入力シート!AB41)","v":""},{"$f":"IF(入力シート!AC41=\"\",\"\",入力シート!AC41)","v":""},{"$f":"IF(入力シート!AD41=\"\",\"\",入力シート!AD41)","v":""}]
[{"$f":"IF(入力シート!B42=\"\",\"\",入力シート!B42)","v":""},{"$f":"IF(入力シート!C42=\"\",\"\",入力シート!C42)","v":""},{"$f":"IF(入力シート!D42=\"\",\"\",DBCS(入力シート!D42))","v":""},{"$f":"IF(入力シート!E42=\"\",\"\",DBCS(入力シート!E42))","v":""},{"$f":"ASC(IF(入力シート!F42=\"\",\"\",UPPER(入力シート!F42)))","v":""},{"$f":"IF(入力シート!G42=\"\",\"\",PROPER(入力シート!G42))","v":""},{"$f":"IF(入力シート!H42=\"\",\"\",入力シート!H42)","v":""},{"$f":"IF(入力シート!I42=\"\",\"\",TEXT(入力シート!I42,\"yyyy/mm/dd\"))","v":""},{"$f":"IF(入力シート!J42=\"\",\"\",入力シート!J42)","v":""},{"$f":"IF(入力シート!K42=\"\",\"\",入力シート!K42)","v":""},{"$f":"IF(入力シート!L42=\"\",\"\",入力シート!L42)","v":""},{"$f":"IF(入力シート!M42=\"\",\"\",入力シート!M42)","v":""},{"$f":"IF(入力シート!N42=\"\",\"\",入力シート!N42)","v":""},{"$f":"IF(入力シート!O42=\"\",\"\",入力シート!O42)","v":""},null,{"$f":"IF(入力シート!P42=\"\",\"\",入力シート!P42)","v":""},{"$f":"IF(入力シート!Q42=\"\",\"\",入力シート!Q42)","v":""},{"$f":"IF(入力シート!R42=\"\",\"\",入力シート!R42)","v":""},{"$f":"IF(入力シート!S42=\"\",\"\",入力シート!S42)","v":""},{"$f":"IF(入力シート!T42=\"\",\"\",入力シート!T42)","v":""},{"$f":"IF(入力シート!U42=\"\",\"\",入力シート!U42)","v":""},{"$f":"IF(入力シート!V42=\"\",\"\",入力シート!V42)","v":""},{"$f":"IF(入力シート!W42=\"\",\"\",入力シート!W42)","v":""},{"$f":"IF(入力シート!X42=\"\",\"\",入力シート!X42)","v":""},{"$f":"IF(入力シート!Y42=\"\",\"\",入力シート!Y42)","v":""},{"$f":"IF(入力シート!Z42=\"\",\"\",入力シート!Z42)","v":""},null,null,{"$f":"IF(入力シート!H42=\"\",\"\",\"〇\")","v":""},{"$f":"IF(入力シート!AA42=\"\",\"\",入力シート!AA42)","v":""},{"$f":"IF(入力シート!AB42=\"\",\"\",入力シート!AB42)","v":""},{"$f":"IF(入力シート!AC42=\"\",\"\",入力シート!AC42)","v":""},{"$f":"IF(入力シート!AD42=\"\",\"\",入力シート!AD42)","v":""}]
[{"$f":"IF(入力シート!B43=\"\",\"\",入力シート!B43)","v":""},{"$f":"IF(入力シート!C43=\"\",\"\",入力シート!C43)","v":""},{"$f":"IF(入力シート!D43=\"\",\"\",DBCS(入力シート!D43))","v":""},{"$f":"IF(入力シート!E43=\"\",\"\",DBCS(入力シート!E43))","v":""},{"$f":"ASC(IF(入力シート!F43=\"\",\"\",UPPER(入力シート!F43)))","v":""},{"$f":"IF(入力シート!G43=\"\",\"\",PROPER(入力シート!G43))","v":""},{"$f":"IF(入力シート!H43=\"\",\"\",入力シート!H43)","v":""},{"$f":"IF(入力シート!I43=\"\",\"\",TEXT(入力シート!I43,\"yyyy/mm/dd\"))","v":""},{"$f":"IF(入力シート!J43=\"\",\"\",入力シート!J43)","v":""},{"$f":"IF(入力シート!K43=\"\",\"\",入力シート!K43)","v":""},{"$f":"IF(入力シート!L43=\"\",\"\",入力シート!L43)","v":""},{"$f":"IF(入力シート!M43=\"\",\"\",入力シート!M43)","v":""},{"$f":"IF(入力シート!N43=\"\",\"\",入力シート!N43)","v":""},{"$f":"IF(入力シート!O43=\"\",\"\",入力シート!O43)","v":""},null,{"$f":"IF(入力シート!P43=\"\",\"\",入力シート!P43)","v":""},{"$f":"IF(入力シート!Q43=\"\",\"\",入力シート!Q43)","v":""},{"$f":"IF(入力シート!R43=\"\",\"\",入力シート!R43)","v":""},{"$f":"IF(入力シート!S43=\"\",\"\",入力シート!S43)","v":""},{"$f":"IF(入力シート!T43=\"\",\"\",入力シート!T43)","v":""},{"$f":"IF(入力シート!U43=\"\",\"\",入力シート!U43)","v":""},{"$f":"IF(入力シート!V43=\"\",\"\",入力シート!V43)","v":""},{"$f":"IF(入力シート!W43=\"\",\"\",入力シート!W43)","v":""},{"$f":"IF(入力シート!X43=\"\",\"\",入力シート!X43)","v":""},{"$f":"IF(入力シート!Y43=\"\",\"\",入力シート!Y43)","v":""},{"$f":"IF(入力シート!Z43=\"\",\"\",入力シート!Z43)","v":""},null,null,{"$f":"IF(入力シート!H43=\"\",\"\",\"〇\")","v":""},{"$f":"IF(入力シート!AA43=\"\",\"\",入力シート!AA43)","v":""},{"$f":"IF(入力シート!AB43=\"\",\"\",入力シート!AB43)","v":""},{"$f":"IF(入力シート!AC43=\"\",\"\",入力シート!AC43)","v":""},{"$f":"IF(入力シート!AD43=\"\",\"\",入力シート!AD43)","v":""}]
[{"$f":"IF(入力シート!B44=\"\",\"\",入力シート!B44)","v":""},{"$f":"IF(入力シート!C44=\"\",\"\",入力シート!C44)","v":""},{"$f":"IF(入力シート!D44=\"\",\"\",DBCS(入力シート!D44))","v":""},{"$f":"IF(入力シート!E44=\"\",\"\",DBCS(入力シート!E44))","v":""},{"$f":"ASC(IF(入力シート!F44=\"\",\"\",UPPER(入力シート!F44)))","v":""},{"$f":"IF(入力シート!G44=\"\",\"\",PROPER(入力シート!G44))","v":""},{"$f":"IF(入力シート!H44=\"\",\"\",入力シート!H44)","v":""},{"$f":"IF(入力シート!I44=\"\",\"\",TEXT(入力シート!I44,\"yyyy/mm/dd\"))","v":""},{"$f":"IF(入力シート!J44=\"\",\"\",入力シート!J44)","v":""},{"$f":"IF(入力シート!K44=\"\",\"\",入力シート!K44)","v":""},{"$f":"IF(入力シート!L44=\"\",\"\",入力シート!L44)","v":""},{"$f":"IF(入力シート!M44=\"\",\"\",入力シート!M44)","v":""},{"$f":"IF(入力シート!N44=\"\",\"\",入力シート!N44)","v":""},{"$f":"IF(入力シート!O44=\"\",\"\",入力シート!O44)","v":""},null,{"$f":"IF(入力シート!P44=\"\",\"\",入力シート!P44)","v":""},{"$f":"IF(入力シート!Q44=\"\",\"\",入力シート!Q44)","v":""},{"$f":"IF(入力シート!R44=\"\",\"\",入力シート!R44)","v":""},{"$f":"IF(入力シート!S44=\"\",\"\",入力シート!S44)","v":""},{"$f":"IF(入力シート!T44=\"\",\"\",入力シート!T44)","v":""},{"$f":"IF(入力シート!U44=\"\",\"\",入力シート!U44)","v":""},{"$f":"IF(入力シート!V44=\"\",\"\",入力シート!V44)","v":""},{"$f":"IF(入力シート!W44=\"\",\"\",入力シート!W44)","v":""},{"$f":"IF(入力シート!X44=\"\",\"\",入力シート!X44)","v":""},{"$f":"IF(入力シート!Y44=\"\",\"\",入力シート!Y44)","v":""},{"$f":"IF(入力シート!Z44=\"\",\"\",入力シート!Z44)","v":""},null,null,{"$f":"IF(入力シート!H44=\"\",\"\",\"〇\")","v":""},{"$f":"IF(入力シート!AA44=\"\",\"\",入力シート!AA44)","v":""},{"$f":"IF(入力シート!AB44=\"\",\"\",入力シート!AB44)","v":""},{"$f":"IF(入力シート!AC44=\"\",\"\",入力シート!AC44)","v":""},{"$f":"IF(入力シート!AD44=\"\",\"\",入力シート!AD44)","v":""}]
[{"$f":"IF(入力シート!B45=\"\",\"\",入力シート!B45)","v":""},{"$f":"IF(入力シート!C45=\"\",\"\",入力シート!C45)","v":""},{"$f":"IF(入力シート!D45=\"\",\"\",DBCS(入力シート!D45))","v":""},{"$f":"IF(入力シート!E45=\"\",\"\",DBCS(入力シート!E45))","v":""},{"$f":"ASC(IF(入力シート!F45=\"\",\"\",UPPER(入力シート!F45)))","v":""},{"$f":"IF(入力シート!G45=\"\",\"\",PROPER(入力シート!G45))","v":""},{"$f":"IF(入力シート!H45=\"\",\"\",入力シート!H45)","v":""},{"$f":"IF(入力シート!I45=\"\",\"\",TEXT(入力シート!I45,\"yyyy/mm/dd\"))","v":""},{"$f":"IF(入力シート!J45=\"\",\"\",入力シート!J45)","v":""},{"$f":"IF(入力シート!K45=\"\",\"\",入力シート!K45)","v":""},{"$f":"IF(入力シート!L45=\"\",\"\",入力シート!L45)","v":""},{"$f":"IF(入力シート!M45=\"\",\"\",入力シート!M45)","v":""},{"$f":"IF(入力シート!N45=\"\",\"\",入力シート!N45)","v":""},{"$f":"IF(入力シート!O45=\"\",\"\",入力シート!O45)","v":""},null,{"$f":"IF(入力シート!P45=\"\",\"\",入力シート!P45)","v":""},{"$f":"IF(入力シート!Q45=\"\",\"\",入力シート!Q45)","v":""},{"$f":"IF(入力シート!R45=\"\",\"\",入力シート!R45)","v":""},{"$f":"IF(入力シート!S45=\"\",\"\",入力シート!S45)","v":""},{"$f":"IF(入力シート!T45=\"\",\"\",入力シート!T45)","v":""},{"$f":"IF(入力シート!U45=\"\",\"\",入力シート!U45)","v":""},{"$f":"IF(入力シート!V45=\"\",\"\",入力シート!V45)","v":""},{"$f":"IF(入力シート!W45=\"\",\"\",入力シート!W45)","v":""},{"$f":"IF(入力シート!X45=\"\",\"\",入力シート!X45)","v":""},{"$f":"IF(入力シート!Y45=\"\",\"\",入力シート!Y45)","v":""},{"$f":"IF(入力シート!Z45=\"\",\"\",入力シート!Z45)","v":""},null,null,{"$f":"IF(入力シート!H45=\"\",\"\",\"〇\")","v":""},{"$f":"IF(入力シート!AA45=\"\",\"\",入力シート!AA45)","v":""},{"$f":"IF(入力シート!AB45=\"\",\"\",入力シート!AB45)","v":""},{"$f":"IF(入力シート!AC45=\"\",\"\",入力シート!AC45)","v":""},{"$f":"IF(入力シート!AD45=\"\",\"\",入力シート!AD45)","v":""}]
[{"$f":"IF(入力シート!B46=\"\",\"\",入力シート!B46)","v":""},{"$f":"IF(入力シート!C46=\"\",\"\",入力シート!C46)","v":""},{"$f":"IF(入力シート!D46=\"\",\"\",DBCS(入力シート!D46))","v":""},{"$f":"IF(入力シート!E46=\"\",\"\",DBCS(入力シート!E46))","v":""},{"$f":"ASC(IF(入力シート!F46=\"\",\"\",UPPER(入力シート!F46)))","v":""},{"$f":"IF(入力シート!G46=\"\",\"\",PROPER(入力シート!G46))","v":""},{"$f":"IF(入力シート!H46=\"\",\"\",入力シート!H46)","v":""},{"$f":"IF(入力シート!I46=\"\",\"\",TEXT(入力シート!I46,\"yyyy/mm/dd\"))","v":""},{"$f":"IF(入力シート!J46=\"\",\"\",入力シート!J46)","v":""},{"$f":"IF(入力シート!K46=\"\",\"\",入力シート!K46)","v":""},{"$f":"IF(入力シート!L46=\"\",\"\",入力シート!L46)","v":""},{"$f":"IF(入力シート!M46=\"\",\"\",入力シート!M46)","v":""},{"$f":"IF(入力シート!N46=\"\",\"\",入力シート!N46)","v":""},{"$f":"IF(入力シート!O46=\"\",\"\",入力シート!O46)","v":""},null,{"$f":"IF(入力シート!P46=\"\",\"\",入力シート!P46)","v":""},{"$f":"IF(入力シート!Q46=\"\",\"\",入力シート!Q46)","v":""},{"$f":"IF(入力シート!R46=\"\",\"\",入力シート!R46)","v":""},{"$f":"IF(入力シート!S46=\"\",\"\",入力シート!S46)","v":""},{"$f":"IF(入力シート!T46=\"\",\"\",入力シート!T46)","v":""},{"$f":"IF(入力シート!U46=\"\",\"\",入力シート!U46)","v":""},{"$f":"IF(入力シート!V46=\"\",\"\",入力シート!V46)","v":""},{"$f":"IF(入力シート!W46=\"\",\"\",入力シート!W46)","v":""},{"$f":"IF(入力シート!X46=\"\",\"\",入力シート!X46)","v":""},{"$f":"IF(入力シート!Y46=\"\",\"\",入力シート!Y46)","v":""},{"$f":"IF(入力シート!Z46=\"\",\"\",入力シート!Z46)","v":""},null,null,{"$f":"IF(入力シート!H46=\"\",\"\",\"〇\")","v":""},{"$f":"IF(入力シート!AA46=\"\",\"\",入力シート!AA46)","v":""},{"$f":"IF(入力シート!AB46=\"\",\"\",入力シート!AB46)","v":""},{"$f":"IF(入力シート!AC46=\"\",\"\",入力シート!AC46)","v":""},{"$f":"IF(入力シート!AD46=\"\",\"\",入力シート!AD46)","v":""}]
[{"$f":"IF(入力シート!B47=\"\",\"\",入力シート!B47)","v":""},{"$f":"IF(入力シート!C47=\"\",\"\",入力シート!C47)","v":""},{"$f":"IF(入力シート!D47=\"\",\"\",DBCS(入力シート!D47))","v":""},{"$f":"IF(入力シート!E47=\"\",\"\",DBCS(入力シート!E47))","v":""},{"$f":"ASC(IF(入力シート!F47=\"\",\"\",UPPER(入力シート!F47)))","v":""},{"$f":"IF(入力シート!G47=\"\",\"\",PROPER(入力シート!G47))","v":""},{"$f":"IF(入力シート!H47=\"\",\"\",入力シート!H47)","v":""},{"$f":"IF(入力シート!I47=\"\",\"\",TEXT(入力シート!I47,\"yyyy/mm/dd\"))","v":""},{"$f":"IF(入力シート!J47=\"\",\"\",入力シート!J47)","v":""},{"$f":"IF(入力シート!K47=\"\",\"\",入力シート!K47)","v":""},{"$f":"IF(入力シート!L47=\"\",\"\",入力シート!L47)","v":""},{"$f":"IF(入力シート!M47=\"\",\"\",入力シート!M47)","v":""},{"$f":"IF(入力シート!N47=\"\",\"\",入力シート!N47)","v":""},{"$f":"IF(入力シート!O47=\"\",\"\",入力シート!O47)","v":""},null,{"$f":"IF(入力シート!P47=\"\",\"\",入力シート!P47)","v":""},{"$f":"IF(入力シート!Q47=\"\",\"\",入力シート!Q47)","v":""},{"$f":"IF(入力シート!R47=\"\",\"\",入力シート!R47)","v":""},{"$f":"IF(入力シート!S47=\"\",\"\",入力シート!S47)","v":""},{"$f":"IF(入力シート!T47=\"\",\"\",入力シート!T47)","v":""},{"$f":"IF(入力シート!U47=\"\",\"\",入力シート!U47)","v":""},{"$f":"IF(入力シート!V47=\"\",\"\",入力シート!V47)","v":""},{"$f":"IF(入力シート!W47=\"\",\"\",入力シート!W47)","v":""},{"$f":"IF(入力シート!X47=\"\",\"\",入力シート!X47)","v":""},{"$f":"IF(入力シート!Y47=\"\",\"\",入力シート!Y47)","v":""},{"$f":"IF(入力シート!Z47=\"\",\"\",入力シート!Z47)","v":""},null,null,{"$f":"IF(入力シート!H47=\"\",\"\",\"〇\")","v":""},{"$f":"IF(入力シート!AA47=\"\",\"\",入力シート!AA47)","v":""},{"$f":"IF(入力シート!AB47=\"\",\"\",入力シート!AB47)","v":""},{"$f":"IF(入力シート!AC47=\"\",\"\",入力シート!AC47)","v":""},{"$f":"IF(入力シート!AD47=\"\",\"\",入力シート!AD47)","v":""}]
[{"$f":"IF(入力シート!B48=\"\",\"\",入力シート!B48)","v":""},{"$f":"IF(入力シート!C48=\"\",\"\",入力シート!C48)","v":""},{"$f":"IF(入力シート!D48=\"\",\"\",DBCS(入力シート!D48))","v":""},{"$f":"IF(入力シート!E48=\"\",\"\",DBCS(入力シート!E48))","v":""},{"$f":"ASC(IF(入力シート!F48=\"\",\"\",UPPER(入力シート!F48)))","v":""},{"$f":"IF(入力シート!G48=\"\",\"\",PROPER(入力シート!G48))","v":""},{"$f":"IF(入力シート!H48=\"\",\"\",入力シート!H48)","v":""},{"$f":"IF(入力シート!I48=\"\",\"\",TEXT(入力シート!I48,\"yyyy/mm/dd\"))","v":""},{"$f":"IF(入力シート!J48=\"\",\"\",入力シート!J48)","v":""},{"$f":"IF(入力シート!K48=\"\",\"\",入力シート!K48)","v":""},{"$f":"IF(入力シート!L48=\"\",\"\",入力シート!L48)","v":""},{"$f":"IF(入力シート!M48=\"\",\"\",入力シート!M48)","v":""},{"$f":"IF(入力シート!N48=\"\",\"\",入力シート!N48)","v":""},{"$f":"IF(入力シート!O48=\"\",\"\",入力シート!O48)","v":""},null,{"$f":"IF(入力シート!P48=\"\",\"\",入力シート!P48)","v":""},{"$f":"IF(入力シート!Q48=\"\",\"\",入力シート!Q48)","v":""},{"$f":"IF(入力シート!R48=\"\",\"\",入力シート!R48)","v":""},{"$f":"IF(入力シート!S48=\"\",\"\",入力シート!S48)","v":""},{"$f":"IF(入力シート!T48=\"\",\"\",入力シート!T48)","v":""},{"$f":"IF(入力シート!U48=\"\",\"\",入力シート!U48)","v":""},{"$f":"IF(入力シート!V48=\"\",\"\",入力シート!V48)","v":""},{"$f":"IF(入力シート!W48=\"\",\"\",入力シート!W48)","v":""},{"$f":"IF(入力シート!X48=\"\",\"\",入力シート!X48)","v":""},{"$f":"IF(入力シート!Y48=\"\",\"\",入力シート!Y48)","v":""},{"$f":"IF(入力シート!Z48=\"\",\"\",入力シート!Z48)","v":""},null,null,{"$f":"IF(入力シート!H48=\"\",\"\",\"〇\")","v":""},{"$f":"IF(入力シート!AA48=\"\",\"\",入力シート!AA48)","v":""},{"$f":"IF(入力シート!AB48=\"\",\"\",入力シート!AB48)","v":""},{"$f":"IF(入力シート!AC48=\"\",\"\",入力シート!AC48)","v":""},{"$f":"IF(入力シート!AD48=\"\",\"\",入力シート!AD48)","v":""}]
[{"$f":"IF(入力シート!B49=\"\",\"\",入力シート!B49)","v":""},{"$f":"IF(入力シート!C49=\"\",\"\",入力シート!C49)","v":""},{"$f":"IF(入力シート!D49=\"\",\"\",DBCS(入力シート!D49))","v":""},{"$f":"IF(入力シート!E49=\"\",\"\",DBCS(入力シート!E49))","v":""},{"$f":"ASC(IF(入力シート!F49=\"\",\"\",UPPER(入力シート!F49)))","v":""},{"$f":"IF(入力シート!G49=\"\",\"\",PROPER(入力シート!G49))","v":""},{"$f":"IF(入力シート!H49=\"\",\"\",入力シート!H49)","v":""},{"$f":"IF(入力シート!I49=\"\",\"\",TEXT(入力シート!I49,\"yyyy/mm/dd\"))","v":""},{"$f":"IF(入力シート!J49=\"\",\"\",入力シート!J49)","v":""},{"$f":"IF(入力シート!K49=\"\",\"\",入力シート!K49)","v":""},{"$f":"IF(入力シート!L49=\"\",\"\",入力シート!L49)","v":""},{"$f":"IF(入力シート!M49=\"\",\"\",入力シート!M49)","v":""},{"$f":"IF(入力シート!N49=\"\",\"\",入力シート!N49)","v":""},{"$f":"IF(入力シート!O49=\"\",\"\",入力シート!O49)","v":""},null,{"$f":"IF(入力シート!P49=\"\",\"\",入力シート!P49)","v":""},{"$f":"IF(入力シート!Q49=\"\",\"\",入力シート!Q49)","v":""},{"$f":"IF(入力シート!R49=\"\",\"\",入力シート!R49)","v":""},{"$f":"IF(入力シート!S49=\"\",\"\",入力シート!S49)","v":""},{"$f":"IF(入力シート!T49=\"\",\"\",入力シート!T49)","v":""},{"$f":"IF(入力シート!U49=\"\",\"\",入力シート!U49)","v":""},{"$f":"IF(入力シート!V49=\"\",\"\",入力シート!V49)","v":""},{"$f":"IF(入力シート!W49=\"\",\"\",入力シート!W49)","v":""},{"$f":"IF(入力シート!X49=\"\",\"\",入力シート!X49)","v":""},{"$f":"IF(入力シート!Y49=\"\",\"\",入力シート!Y49)","v":""},{"$f":"IF(入力シート!Z49=\"\",\"\",入力シート!Z49)","v":""},null,null,{"$f":"IF(入力シート!H49=\"\",\"\",\"〇\")","v":""},{"$f":"IF(入力シート!AA49=\"\",\"\",入力シート!AA49)","v":""},{"$f":"IF(入力シート!AB49=\"\",\"\",入力シート!AB49)","v":""},{"$f":"IF(入力シート!AC49=\"\",\"\",入力シート!AC49)","v":""},{"$f":"IF(入力シート!AD49=\"\",\"\",入力シート!AD49)","v":""}]
[{"$f":"IF(入力シート!B50=\"\",\"\",入力シート!B50)","v":""},{"$f":"IF(入力シート!C50=\"\",\"\",入力シート!C50)","v":""},{"$f":"IF(入力シート!D50=\"\",\"\",DBCS(入力シート!D50))","v":""},{"$f":"IF(入力シート!E50=\"\",\"\",DBCS(入力シート!E50))","v":""},{"$f":"ASC(IF(入力シート!F50=\"\",\"\",UPPER(入力シート!F50)))","v":""},{"$f":"IF(入力シート!G50=\"\",\"\",PROPER(入力シート!G50))","v":""},{"$f":"IF(入力シート!H50=\"\",\"\",入力シート!H50)","v":""},{"$f":"IF(入力シート!I50=\"\",\"\",TEXT(入力シート!I50,\"yyyy/mm/dd\"))","v":""},{"$f":"IF(入力シート!J50=\"\",\"\",入力シート!J50)","v":""},{"$f":"IF(入力シート!K50=\"\",\"\",入力シート!K50)","v":""},{"$f":"IF(入力シート!L50=\"\",\"\",入力シート!L50)","v":""},{"$f":"IF(入力シート!M50=\"\",\"\",入力シート!M50)","v":""},{"$f":"IF(入力シート!N50=\"\",\"\",入力シート!N50)","v":""},{"$f":"IF(入力シート!O50=\"\",\"\",入力シート!O50)","v":""},null,{"$f":"IF(入力シート!P50=\"\",\"\",入力シート!P50)","v":""},{"$f":"IF(入力シート!Q50=\"\",\"\",入力シート!Q50)","v":""},{"$f":"IF(入力シート!R50=\"\",\"\",入力シート!R50)","v":""},{"$f":"IF(入力シート!S50=\"\",\"\",入力シート!S50)","v":""},{"$f":"IF(入力シート!T50=\"\",\"\",入力シート!T50)","v":""},{"$f":"IF(入力シート!U50=\"\",\"\",入力シート!U50)","v":""},{"$f":"IF(入力シート!V50=\"\",\"\",入力シート!V50)","v":""},{"$f":"IF(入力シート!W50=\"\",\"\",入力シート!W50)","v":""},{"$f":"IF(入力シート!X50=\"\",\"\",入力シート!X50)","v":""},{"$f":"IF(入力シート!Y50=\"\",\"\",入力シート!Y50)","v":""},{"$f":"IF(入力シート!Z50=\"\",\"\",入力シート!Z50)","v":""},null,null,{"$f":"IF(入力シート!H50=\"\",\"\",\"〇\")","v":""},{"$f":"IF(入力シート!AA50=\"\",\"\",入力シート!AA50)","v":""},{"$f":"IF(入力シート!AB50=\"\",\"\",入力シート!AB50)","v":""},{"$f":"IF(入力シート!AC50=\"\",\"\",入力シート!AC50)","v":""},{"$f":"IF(入力シート!AD50=\"\",\"\",入力シート!AD50)","v":""}]
[{"$f":"IF(入力シート!B51=\"\",\"\",入力シート!B51)","v":""},{"$f":"IF(入力シート!C51=\"\",\"\",入力シート!C51)","v":""},{"$f":"IF(入力シート!D51=\"\",\"\",DBCS(入力シート!D51))","v":""},{"$f":"IF(入力シート!E51=\"\",\"\",DBCS(入力シート!E51))","v":""},{"$f":"ASC(IF(入力シート!F51=\"\",\"\",UPPER(入力シート!F51)))","v":""},{"$f":"IF(入力シート!G51=\"\",\"\",PROPER(入力シート!G51))","v":""},{"$f":"IF(入力シート!H51=\"\",\"\",入力シート!H51)","v":""},{"$f":"IF(入力シート!I51=\"\",\"\",TEXT(入力シート!I51,\"yyyy/mm/dd\"))","v":""},{"$f":"IF(入力シート!J51=\"\",\"\",入力シート!J51)","v":""},{"$f":"IF(入力シート!K51=\"\",\"\",入力シート!K51)","v":""},{"$f":"IF(入力シート!L51=\"\",\"\",入力シート!L51)","v":""},{"$f":"IF(入力シート!M51=\"\",\"\",入力シート!M51)","v":""},{"$f":"IF(入力シート!N51=\"\",\"\",入力シート!N51)","v":""},{"$f":"IF(入力シート!O51=\"\",\"\",入力シート!O51)","v":""},null,{"$f":"IF(入力シート!P51=\"\",\"\",入力シート!P51)","v":""},{"$f":"IF(入力シート!Q51=\"\",\"\",入力シート!Q51)","v":""},{"$f":"IF(入力シート!R51=\"\",\"\",入力シート!R51)","v":""},{"$f":"IF(入力シート!S51=\"\",\"\",入力シート!S51)","v":""},{"$f":"IF(入力シート!T51=\"\",\"\",入力シート!T51)","v":""},{"$f":"IF(入力シート!U51=\"\",\"\",入力シート!U51)","v":""},{"$f":"IF(入力シート!V51=\"\",\"\",入力シート!V51)","v":""},{"$f":"IF(入力シート!W51=\"\",\"\",入力シート!W51)","v":""},{"$f":"IF(入力シート!X51=\"\",\"\",入力シート!X51)","v":""},{"$f":"IF(入力シート!Y51=\"\",\"\",入力シート!Y51)","v":""},{"$f":"IF(入力シート!Z51=\"\",\"\",入力シート!Z51)","v":""},null,null,{"$f":"IF(入力シート!H51=\"\",\"\",\"〇\")","v":""},{"$f":"IF(入力シート!AA51=\"\",\"\",入力シート!AA51)","v":""},{"$f":"IF(入力シート!AB51=\"\",\"\",入力シート!AB51)","v":""},{"$f":"IF(入力シート!AC51=\"\",\"\",入力シート!AC51)","v":""},{"$f":"IF(入力シート!AD51=\"\",\"\",入力シート!AD51)","v":""}]
[{"$f":"IF(入力シート!B52=\"\",\"\",入力シート!B52)","v":""},{"$f":"IF(入力シート!C52=\"\",\"\",入力シート!C52)","v":""},{"$f":"IF(入力シート!D52=\"\",\"\",DBCS(入力シート!D52))","v":""},{"$f":"IF(入力シート!E52=\"\",\"\",DBCS(入力シート!E52))","v":""},{"$f":"ASC(IF(入力シート!F52=\"\",\"\",UPPER(入力シート!F52)))","v":""},{"$f":"IF(入力シート!G52=\"\",\"\",PROPER(入力シート!G52))","v":""},{"$f":"IF(入力シート!H52=\"\",\"\",入力シート!H52)","v":""},{"$f":"IF(入力シート!I52=\"\",\"\",TEXT(入力シート!I52,\"yyyy/mm/dd\"))","v":""},{"$f":"IF(入力シート!J52=\"\",\"\",入力シート!J52)","v":""},{"$f":"IF(入力シート!K52=\"\",\"\",入力シート!K52)","v":""},{"$f":"IF(入力シート!L52=\"\",\"\",入力シート!L52)","v":""},{"$f":"IF(入力シート!M52=\"\",\"\",入力シート!M52)","v":""},{"$f":"IF(入力シート!N52=\"\",\"\",入力シート!N52)","v":""},{"$f":"IF(入力シート!O52=\"\",\"\",入力シート!O52)","v":""},null,{"$f":"IF(入力シート!P52=\"\",\"\",入力シート!P52)","v":""},{"$f":"IF(入力シート!Q52=\"\",\"\",入力シート!Q52)","v":""},{"$f":"IF(入力シート!R52=\"\",\"\",入力シート!R52)","v":""},{"$f":"IF(入力シート!S52=\"\",\"\",入力シート!S52)","v":""},{"$f":"IF(入力シート!T52=\"\",\"\",入力シート!T52)","v":""},{"$f":"IF(入力シート!U52=\"\",\"\",入力シート!U52)","v":""},{"$f":"IF(入力シート!V52=\"\",\"\",入力シート!V52)","v":""},{"$f":"IF(入力シート!W52=\"\",\"\",入力シート!W52)","v":""},{"$f":"IF(入力シート!X52=\"\",\"\",入力シート!X52)","v":""},{"$f":"IF(入力シート!Y52=\"\",\"\",入力シート!Y52)","v":""},{"$f":"IF(入力シート!Z52=\"\",\"\",入力シート!Z52)","v":""},null,null,{"$f":"IF(入力シート!H52=\"\",\"\",\"〇\")","v":""},{"$f":"IF(入力シート!AA52=\"\",\"\",入力シート!AA52)","v":""},{"$f":"IF(入力シート!AB52=\"\",\"\",入力シート!AB52)","v":""},{"$f":"IF(入力シート!AC52=\"\",\"\",入力シート!AC52)","v":""},{"$f":"IF(入力シート!AD52=\"\",\"\",入力シート!AD52)","v":""}]
[{"$f":"IF(入力シート!B53=\"\",\"\",入力シート!B53)","v":""},{"$f":"IF(入力シート!C53=\"\",\"\",入力シート!C53)","v":""},{"$f":"IF(入力シート!D53=\"\",\"\",DBCS(入力シート!D53))","v":""},{"$f":"IF(入力シート!E53=\"\",\"\",DBCS(入力シート!E53))","v":""},{"$f":"ASC(IF(入力シート!F53=\"\",\"\",UPPER(入力シート!F53)))","v":""},{"$f":"IF(入力シート!G53=\"\",\"\",PROPER(入力シート!G53))","v":""},{"$f":"IF(入力シート!H53=\"\",\"\",入力シート!H53)","v":""},{"$f":"IF(入力シート!I53=\"\",\"\",TEXT(入力シート!I53,\"yyyy/mm/dd\"))","v":""},{"$f":"IF(入力シート!J53=\"\",\"\",入力シート!J53)","v":""},{"$f":"IF(入力シート!K53=\"\",\"\",入力シート!K53)","v":""},{"$f":"IF(入力シート!L53=\"\",\"\",入力シート!L53)","v":""},{"$f":"IF(入力シート!M53=\"\",\"\",入力シート!M53)","v":""},{"$f":"IF(入力シート!N53=\"\",\"\",入力シート!N53)","v":""},{"$f":"IF(入力シート!O53=\"\",\"\",入力シート!O53)","v":""},null,{"$f":"IF(入力シート!P53=\"\",\"\",入力シート!P53)","v":""},{"$f":"IF(入力シート!Q53=\"\",\"\",入力シート!Q53)","v":""},{"$f":"IF(入力シート!R53=\"\",\"\",入力シート!R53)","v":""},{"$f":"IF(入力シート!S53=\"\",\"\",入力シート!S53)","v":""},{"$f":"IF(入力シート!T53=\"\",\"\",入力シート!T53)","v":""},{"$f":"IF(入力シート!U53=\"\",\"\",入力シート!U53)","v":""},{"$f":"IF(入力シート!V53=\"\",\"\",入力シート!V53)","v":""},{"$f":"IF(入力シート!W53=\"\",\"\",入力シート!W53)","v":""},{"$f":"IF(入力シート!X53=\"\",\"\",入力シート!X53)","v":""},{"$f":"IF(入力シート!Y53=\"\",\"\",入力シート!Y53)","v":""},{"$f":"IF(入力シート!Z53=\"\",\"\",入力シート!Z53)","v":""},null,null,{"$f":"IF(入力シート!H53=\"\",\"\",\"〇\")","v":""},{"$f":"IF(入力シート!AA53=\"\",\"\",入力シート!AA53)","v":""},{"$f":"IF(入力シート!AB53=\"\",\"\",入力シート!AB53)","v":""},{"$f":"IF(入力シート!AC53=\"\",\"\",入力シート!AC53)","v":""},{"$f":"IF(入力シート!AD53=\"\",\"\",入力シート!AD53)","v":""}]
[{"$f":"IF(入力シート!B54=\"\",\"\",入力シート!B54)","v":""},{"$f":"IF(入力シート!C54=\"\",\"\",入力シート!C54)","v":""},{"$f":"IF(入力シート!D54=\"\",\"\",DBCS(入力シート!D54))","v":""},{"$f":"IF(入力シート!E54=\"\",\"\",DBCS(入力シート!E54))","v":""},{"$f":"ASC(IF(入力シート!F54=\"\",\"\",UPPER(入力シート!F54)))","v":""},{"$f":"IF(入力シート!G54=\"\",\"\",PROPER(入力シート!G54))","v":""},{"$f":"IF(入力シート!H54=\"\",\"\",入力シート!H54)","v":""},{"$f":"IF(入力シート!I54=\"\",\"\",TEXT(入力シート!I54,\"yyyy/mm/dd\"))","v":""},{"$f":"IF(入力シート!J54=\"\",\"\",入力シート!J54)","v":""},{"$f":"IF(入力シート!K54=\"\",\"\",入力シート!K54)","v":""},{"$f":"IF(入力シート!L54=\"\",\"\",入力シート!L54)","v":""},{"$f":"IF(入力シート!M54=\"\",\"\",入力シート!M54)","v":""},{"$f":"IF(入力シート!N54=\"\",\"\",入力シート!N54)","v":""},{"$f":"IF(入力シート!O54=\"\",\"\",入力シート!O54)","v":""},null,{"$f":"IF(入力シート!P54=\"\",\"\",入力シート!P54)","v":""},{"$f":"IF(入力シート!Q54=\"\",\"\",入力シート!Q54)","v":""},{"$f":"IF(入力シート!R54=\"\",\"\",入力シート!R54)","v":""},{"$f":"IF(入力シート!S54=\"\",\"\",入力シート!S54)","v":""},{"$f":"IF(入力シート!T54=\"\",\"\",入力シート!T54)","v":""},{"$f":"IF(入力シート!U54=\"\",\"\",入力シート!U54)","v":""},{"$f":"IF(入力シート!V54=\"\",\"\",入力シート!V54)","v":""},{"$f":"IF(入力シート!W54=\"\",\"\",入力シート!W54)","v":""},{"$f":"IF(入力シート!X54=\"\",\"\",入力シート!X54)","v":""},{"$f":"IF(入力シート!Y54=\"\",\"\",入力シート!Y54)","v":""},{"$f":"IF(入力シート!Z54=\"\",\"\",入力シート!Z54)","v":""},null,null,{"$f":"IF(入力シート!H54=\"\",\"\",\"〇\")","v":""},{"$f":"IF(入力シート!AA54=\"\",\"\",入力シート!AA54)","v":""},{"$f":"IF(入力シート!AB54=\"\",\"\",入力シート!AB54)","v":""},{"$f":"IF(入力シート!AC54=\"\",\"\",入力シート!AC54)","v":""},{"$f":"IF(入力シート!AD54=\"\",\"\",入力シート!AD54)","v":""}]
[{"$f":"IF(入力シート!B55=\"\",\"\",入力シート!B55)","v":""},{"$f":"IF(入力シート!C55=\"\",\"\",入力シート!C55)","v":""},{"$f":"IF(入力シート!D55=\"\",\"\",DBCS(入力シート!D55))","v":""},{"$f":"IF(入力シート!E55=\"\",\"\",DBCS(入力シート!E55))","v":""},{"$f":"ASC(IF(入力シート!F55=\"\",\"\",UPPER(入力シート!F55)))","v":""},{"$f":"IF(入力シート!G55=\"\",\"\",PROPER(入力シート!G55))","v":""},{"$f":"IF(入力シート!H55=\"\",\"\",入力シート!H55)","v":""},{"$f":"IF(入力シート!I55=\"\",\"\",TEXT(入力シート!I55,\"yyyy/mm/dd\"))","v":""},{"$f":"IF(入力シート!J55=\"\",\"\",入力シート!J55)","v":""},{"$f":"IF(入力シート!K55=\"\",\"\",入力シート!K55)","v":""},{"$f":"IF(入力シート!L55=\"\",\"\",入力シート!L55)","v":""},{"$f":"IF(入力シート!M55=\"\",\"\",入力シート!M55)","v":""},{"$f":"IF(入力シート!N55=\"\",\"\",入力シート!N55)","v":""},{"$f":"IF(入力シート!O55=\"\",\"\",入力シート!O55)","v":""},null,{"$f":"IF(入力シート!P55=\"\",\"\",入力シート!P55)","v":""},{"$f":"IF(入力シート!Q55=\"\",\"\",入力シート!Q55)","v":""},{"$f":"IF(入力シート!R55=\"\",\"\",入力シート!R55)","v":""},{"$f":"IF(入力シート!S55=\"\",\"\",入力シート!S55)","v":""},{"$f":"IF(入力シート!T55=\"\",\"\",入力シート!T55)","v":""},{"$f":"IF(入力シート!U55=\"\",\"\",入力シート!U55)","v":""},{"$f":"IF(入力シート!V55=\"\",\"\",入力シート!V55)","v":""},{"$f":"IF(入力シート!W55=\"\",\"\",入力シート!W55)","v":""},{"$f":"IF(入力シート!X55=\"\",\"\",入力シート!X55)","v":""},{"$f":"IF(入力シート!Y55=\"\",\"\",入力シート!Y55)","v":""},{"$f":"IF(入力シート!Z55=\"\",\"\",入力シート!Z55)","v":""},null,null,{"$f":"IF(入力シート!H55=\"\",\"\",\"〇\")","v":""},{"$f":"IF(入力シート!AA55=\"\",\"\",入力シート!AA55)","v":""},{"$f":"IF(入力シート!AB55=\"\",\"\",入力シート!AB55)","v":""},{"$f":"IF(入力シート!AC55=\"\",\"\",入力シート!AC55)","v":""},{"$f":"IF(入力シート!AD55=\"\",\"\",入力シート!AD55)","v":""}]
[{"$f":"IF(入力シート!B56=\"\",\"\",入力シート!B56)","v":""},{"$f":"IF(入力シート!C56=\"\",\"\",入力シート!C56)","v":""},{"$f":"IF(入力シート!D56=\"\",\"\",DBCS(入力シート!D56))","v":""},{"$f":"IF(入力シート!E56=\"\",\"\",DBCS(入力シート!E56))","v":""},{"$f":"ASC(IF(入力シート!F56=\"\",\"\",UPPER(入力シート!F56)))","v":""},{"$f":"IF(入力シート!G56=\"\",\"\",PROPER(入力シート!G56))","v":""},{"$f":"IF(入力シート!H56=\"\",\"\",入力シート!H56)","v":""},{"$f":"IF(入力シート!I56=\"\",\"\",TEXT(入力シート!I56,\"yyyy/mm/dd\"))","v":""},{"$f":"IF(入力シート!J56=\"\",\"\",入力シート!J56)","v":""},{"$f":"IF(入力シート!K56=\"\",\"\",入力シート!K56)","v":""},{"$f":"IF(入力シート!L56=\"\",\"\",入力シート!L56)","v":""},{"$f":"IF(入力シート!M56=\"\",\"\",入力シート!M56)","v":""},{"$f":"IF(入力シート!N56=\"\",\"\",入力シート!N56)","v":""},{"$f":"IF(入力シート!O56=\"\",\"\",入力シート!O56)","v":""},null,{"$f":"IF(入力シート!P56=\"\",\"\",入力シート!P56)","v":""},{"$f":"IF(入力シート!Q56=\"\",\"\",入力シート!Q56)","v":""},{"$f":"IF(入力シート!R56=\"\",\"\",入力シート!R56)","v":""},{"$f":"IF(入力シート!S56=\"\",\"\",入力シート!S56)","v":""},{"$f":"IF(入力シート!T56=\"\",\"\",入力シート!T56)","v":""},{"$f":"IF(入力シート!U56=\"\",\"\",入力シート!U56)","v":""},{"$f":"IF(入力シート!V56=\"\",\"\",入力シート!V56)","v":""},{"$f":"IF(入力シート!W56=\"\",\"\",入力シート!W56)","v":""},{"$f":"IF(入力シート!X56=\"\",\"\",入力シート!X56)","v":""},{"$f":"IF(入力シート!Y56=\"\",\"\",入力シート!Y56)","v":""},{"$f":"IF(入力シート!Z56=\"\",\"\",入力シート!Z56)","v":""},null,null,{"$f":"IF(入力シート!H56=\"\",\"\",\"〇\")","v":""},{"$f":"IF(入力シート!AA56=\"\",\"\",入力シート!AA56)","v":""},{"$f":"IF(入力シート!AB56=\"\",\"\",入力シート!AB56)","v":""},{"$f":"IF(入力シート!AC56=\"\",\"\",入力シート!AC56)","v":""},{"$f":"IF(入力シート!AD56=\"\",\"\",入力シート!AD56)","v":""}]
[{"$f":"IF(入力シート!B57=\"\",\"\",入力シート!B57)","v":""},{"$f":"IF(入力シート!C57=\"\",\"\",入力シート!C57)","v":""},{"$f":"IF(入力シート!D57=\"\",\"\",DBCS(入力シート!D57))","v":""},{"$f":"IF(入力シート!E57=\"\",\"\",DBCS(入力シート!E57))","v":""},{"$f":"ASC(IF(入力シート!F57=\"\",\"\",UPPER(入力シート!F57)))","v":""},{"$f":"IF(入力シート!G57=\"\",\"\",PROPER(入力シート!G57))","v":""},{"$f":"IF(入力シート!H57=\"\",\"\",入力シート!H57)","v":""},{"$f":"IF(入力シート!I57=\"\",\"\",TEXT(入力シート!I57,\"yyyy/mm/dd\"))","v":""},{"$f":"IF(入力シート!J57=\"\",\"\",入力シート!J57)","v":""},{"$f":"IF(入力シート!K57=\"\",\"\",入力シート!K57)","v":""},{"$f":"IF(入力シート!L57=\"\",\"\",入力シート!L57)","v":""},{"$f":"IF(入力シート!M57=\"\",\"\",入力シート!M57)","v":""},{"$f":"IF(入力シート!N57=\"\",\"\",入力シート!N57)","v":""},{"$f":"IF(入力シート!O57=\"\",\"\",入力シート!O57)","v":""},null,{"$f":"IF(入力シート!P57=\"\",\"\",入力シート!P57)","v":""},{"$f":"IF(入力シート!Q57=\"\",\"\",入力シート!Q57)","v":""},{"$f":"IF(入力シート!R57=\"\",\"\",入力シート!R57)","v":""},{"$f":"IF(入力シート!S57=\"\",\"\",入力シート!S57)","v":""},{"$f":"IF(入力シート!T57=\"\",\"\",入力シート!T57)","v":""},{"$f":"IF(入力シート!U57=\"\",\"\",入力シート!U57)","v":""},{"$f":"IF(入力シート!V57=\"\",\"\",入力シート!V57)","v":""},{"$f":"IF(入力シート!W57=\"\",\"\",入力シート!W57)","v":""},{"$f":"IF(入力シート!X57=\"\",\"\",入力シート!X57)","v":""},{"$f":"IF(入力シート!Y57=\"\",\"\",入力シート!Y57)","v":""},{"$f":"IF(入力シート!Z57=\"\",\"\",入力シート!Z57)","v":""},null,null,{"$f":"IF(入力シート!H57=\"\",\"\",\"〇\")","v":""},{"$f":"IF(入力シート!AA57=\"\",\"\",入力シート!AA57)","v":""},{"$f":"IF(入力シート!AB57=\"\",\"\",入力シート!AB57)","v":""},{"$f":"IF(入力シート!AC57=\"\",\"\",入力シート!AC57)","v":""},{"$f":"IF(入力シート!AD57=\"\",\"\",入力シート!AD57)","v":""}]
[{"$f":"IF(入力シート!B58=\"\",\"\",入力シート!B58)","v":""},{"$f":"IF(入力シート!C58=\"\",\"\",入力シート!C58)","v":""},{"$f":"IF(入力シート!D58=\"\",\"\",DBCS(入力シート!D58))","v":""},{"$f":"IF(入力シート!E58=\"\",\"\",DBCS(入力シート!E58))","v":""},{"$f":"ASC(IF(入力シート!F58=\"\",\"\",UPPER(入力シート!F58)))","v":""},{"$f":"IF(入力シート!G58=\"\",\"\",PROPER(入力シート!G58))","v":""},{"$f":"IF(入力シート!H58=\"\",\"\",入力シート!H58)","v":""},{"$f":"IF(入力シート!I58=\"\",\"\",TEXT(入力シート!I58,\"yyyy/mm/dd\"))","v":""},{"$f":"IF(入力シート!J58=\"\",\"\",入力シート!J58)","v":""},{"$f":"IF(入力シート!K58=\"\",\"\",入力シート!K58)","v":""},{"$f":"IF(入力シート!L58=\"\",\"\",入力シート!L58)","v":""},{"$f":"IF(入力シート!M58=\"\",\"\",入力シート!M58)","v":""},{"$f":"IF(入力シート!N58=\"\",\"\",入力シート!N58)","v":""},{"$f":"IF(入力シート!O58=\"\",\"\",入力シート!O58)","v":""},null,{"$f":"IF(入力シート!P58=\"\",\"\",入力シート!P58)","v":""},{"$f":"IF(入力シート!Q58=\"\",\"\",入力シート!Q58)","v":""},{"$f":"IF(入力シート!R58=\"\",\"\",入力シート!R58)","v":""},{"$f":"IF(入力シート!S58=\"\",\"\",入力シート!S58)","v":""},{"$f":"IF(入力シート!T58=\"\",\"\",入力シート!T58)","v":""},{"$f":"IF(入力シート!U58=\"\",\"\",入力シート!U58)","v":""},{"$f":"IF(入力シート!V58=\"\",\"\",入力シート!V58)","v":""},{"$f":"IF(入力シート!W58=\"\",\"\",入力シート!W58)","v":""},{"$f":"IF(入力シート!X58=\"\",\"\",入力シート!X58)","v":""},{"$f":"IF(入力シート!Y58=\"\",\"\",入力シート!Y58)","v":""},{"$f":"IF(入力シート!Z58=\"\",\"\",入力シート!Z58)","v":""},null,null,{"$f":"IF(入力シート!H58=\"\",\"\",\"〇\")","v":""},{"$f":"IF(入力シート!AA58=\"\",\"\",入力シート!AA58)","v":""},{"$f":"IF(入力シート!AB58=\"\",\"\",入力シート!AB58)","v":""},{"$f":"IF(入力シート!AC58=\"\",\"\",入力シート!AC58)","v":""},{"$f":"IF(入力シート!AD58=\"\",\"\",入力シート!AD58)","v":""}]
[{"$f":"IF(入力シート!B59=\"\",\"\",入力シート!B59)","v":""},{"$f":"IF(入力シート!C59=\"\",\"\",入力シート!C59)","v":""},{"$f":"IF(入力シート!D59=\"\",\"\",DBCS(入力シート!D59))","v":""},{"$f":"IF(入力シート!E59=\"\",\"\",DBCS(入力シート!E59))","v":""},{"$f":"ASC(IF(入力シート!F59=\"\",\"\",UPPER(入力シート!F59)))","v":""},{"$f":"IF(入力シート!G59=\"\",\"\",PROPER(入力シート!G59))","v":""},{"$f":"IF(入力シート!H59=\"\",\"\",入力シート!H59)","v":""},{"$f":"IF(入力シート!I59=\"\",\"\",TEXT(入力シート!I59,\"yyyy/mm/dd\"))","v":""},{"$f":"IF(入力シート!J59=\"\",\"\",入力シート!J59)","v":""},{"$f":"IF(入力シート!K59=\"\",\"\",入力シート!K59)","v":""},{"$f":"IF(入力シート!L59=\"\",\"\",入力シート!L59)","v":""},{"$f":"IF(入力シート!M59=\"\",\"\",入力シート!M59)","v":""},{"$f":"IF(入力シート!N59=\"\",\"\",入力シート!N59)","v":""},{"$f":"IF(入力シート!O59=\"\",\"\",入力シート!O59)","v":""},null,{"$f":"IF(入力シート!P59=\"\",\"\",入力シート!P59)","v":""},{"$f":"IF(入力シート!Q59=\"\",\"\",入力シート!Q59)","v":""},{"$f":"IF(入力シート!R59=\"\",\"\",入力シート!R59)","v":""},{"$f":"IF(入力シート!S59=\"\",\"\",入力シート!S59)","v":""},{"$f":"IF(入力シート!T59=\"\",\"\",入力シート!T59)","v":""},{"$f":"IF(入力シート!U59=\"\",\"\",入力シート!U59)","v":""},{"$f":"IF(入力シート!V59=\"\",\"\",入力シート!V59)","v":""},{"$f":"IF(入力シート!W59=\"\",\"\",入力シート!W59)","v":""},{"$f":"IF(入力シート!X59=\"\",\"\",入力シート!X59)","v":""},{"$f":"IF(入力シート!Y59=\"\",\"\",入力シート!Y59)","v":""},{"$f":"IF(入力シート!Z59=\"\",\"\",入力シート!Z59)","v":""},null,null,{"$f":"IF(入力シート!H59=\"\",\"\",\"〇\")","v":""},{"$f":"IF(入力シート!AA59=\"\",\"\",入力シート!AA59)","v":""},{"$f":"IF(入力シート!AB59=\"\",\"\",入力シート!AB59)","v":""},{"$f":"IF(入力シート!AC59=\"\",\"\",入力シート!AC59)","v":""},{"$f":"IF(入力シート!AD59=\"\",\"\",入力シート!AD59)","v":""}]
[{"$f":"IF(入力シート!B60=\"\",\"\",入力シート!B60)","v":""},{"$f":"IF(入力シート!C60=\"\",\"\",入力シート!C60)","v":""},{"$f":"IF(入力シート!D60=\"\",\"\",DBCS(入力シート!D60))","v":""},{"$f":"IF(入力シート!E60=\"\",\"\",DBCS(入力シート!E60))","v":""},{"$f":"ASC(IF(入力シート!F60=\"\",\"\",UPPER(入力シート!F60)))","v":""},{"$f":"IF(入力シート!G60=\"\",\"\",PROPER(入力シート!G60))","v":""},{"$f":"IF(入力シート!H60=\"\",\"\",入力シート!H60)","v":""},{"$f":"IF(入力シート!I60=\"\",\"\",TEXT(入力シート!I60,\"yyyy/mm/dd\"))","v":""},{"$f":"IF(入力シート!J60=\"\",\"\",入力シート!J60)","v":""},{"$f":"IF(入力シート!K60=\"\",\"\",入力シート!K60)","v":""},{"$f":"IF(入力シート!L60=\"\",\"\",入力シート!L60)","v":""},{"$f":"IF(入力シート!M60=\"\",\"\",入力シート!M60)","v":""},{"$f":"IF(入力シート!N60=\"\",\"\",入力シート!N60)","v":""},{"$f":"IF(入力シート!O60=\"\",\"\",入力シート!O60)","v":""},null,{"$f":"IF(入力シート!P60=\"\",\"\",入力シート!P60)","v":""},{"$f":"IF(入力シート!Q60=\"\",\"\",入力シート!Q60)","v":""},{"$f":"IF(入力シート!R60=\"\",\"\",入力シート!R60)","v":""},{"$f":"IF(入力シート!S60=\"\",\"\",入力シート!S60)","v":""},{"$f":"IF(入力シート!T60=\"\",\"\",入力シート!T60)","v":""},{"$f":"IF(入力シート!U60=\"\",\"\",入力シート!U60)","v":""},{"$f":"IF(入力シート!V60=\"\",\"\",入力シート!V60)","v":""},{"$f":"IF(入力シート!W60=\"\",\"\",入力シート!W60)","v":""},{"$f":"IF(入力シート!X60=\"\",\"\",入力シート!X60)","v":""},{"$f":"IF(入力シート!Y60=\"\",\"\",入力シート!Y60)","v":""},{"$f":"IF(入力シート!Z60=\"\",\"\",入力シート!Z60)","v":""},null,null,{"$f":"IF(入力シート!H60=\"\",\"\",\"〇\")","v":""},{"$f":"IF(入力シート!AA60=\"\",\"\",入力シート!AA60)","v":""},{"$f":"IF(入力シート!AB60=\"\",\"\",入力シート!AB60)","v":""},{"$f":"IF(入力シート!AC60=\"\",\"\",入力シート!AC60)","v":""},{"$f":"IF(入力シート!AD60=\"\",\"\",入力シート!AD60)","v":""}]
[{"$f":"IF(入力シート!B61=\"\",\"\",入力シート!B61)","v":""},{"$f":"IF(入力シート!C61=\"\",\"\",入力シート!C61)","v":""},{"$f":"IF(入力シート!D61=\"\",\"\",DBCS(入力シート!D61))","v":""},{"$f":"IF(入力シート!E61=\"\",\"\",DBCS(入力シート!E61))","v":""},{"$f":"ASC(IF(入力シート!F61=\"\",\"\",UPPER(入力シート!F61)))","v":""},{"$f":"IF(入力シート!G61=\"\",\"\",PROPER(入力シート!G61))","v":""},{"$f":"IF(入力シート!H61=\"\",\"\",入力シート!H61)","v":""},{"$f":"IF(入力シート!I61=\"\",\"\",TEXT(入力シート!I61,\"yyyy/mm/dd\"))","v":""},{"$f":"IF(入力シート!J61=\"\",\"\",入力シート!J61)","v":""},{"$f":"IF(入力シート!K61=\"\",\"\",入力シート!K61)","v":""},{"$f":"IF(入力シート!L61=\"\",\"\",入力シート!L61)","v":""},{"$f":"IF(入力シート!M61=\"\",\"\",入力シート!M61)","v":""},{"$f":"IF(入力シート!N61=\"\",\"\",入力シート!N61)","v":""},{"$f":"IF(入力シート!O61=\"\",\"\",入力シート!O61)","v":""},null,{"$f":"IF(入力シート!P61=\"\",\"\",入力シート!P61)","v":""},{"$f":"IF(入力シート!Q61=\"\",\"\",入力シート!Q61)","v":""},{"$f":"IF(入力シート!R61=\"\",\"\",入力シート!R61)","v":""},{"$f":"IF(入力シート!S61=\"\",\"\",入力シート!S61)","v":""},{"$f":"IF(入力シート!T61=\"\",\"\",入力シート!T61)","v":""},{"$f":"IF(入力シート!U61=\"\",\"\",入力シート!U61)","v":""},{"$f":"IF(入力シート!V61=\"\",\"\",入力シート!V61)","v":""},{"$f":"IF(入力シート!W61=\"\",\"\",入力シート!W61)","v":""},{"$f":"IF(入力シート!X61=\"\",\"\",入力シート!X61)","v":""},{"$f":"IF(入力シート!Y61=\"\",\"\",入力シート!Y61)","v":""},{"$f":"IF(入力シート!Z61=\"\",\"\",入力シート!Z61)","v":""},null,null,{"$f":"IF(入力シート!H61=\"\",\"\",\"〇\")","v":""},{"$f":"IF(入力シート!AA61=\"\",\"\",入力シート!AA61)","v":""},{"$f":"IF(入力シート!AB61=\"\",\"\",入力シート!AB61)","v":""},{"$f":"IF(入力シート!AC61=\"\",\"\",入力シート!AC61)","v":""},{"$f":"IF(入力シート!AD61=\"\",\"\",入力シート!AD61)","v":""}]
[{"$f":"IF(入力シート!B62=\"\",\"\",入力シート!B62)","v":""},{"$f":"IF(入力シート!C62=\"\",\"\",入力シート!C62)","v":""},{"$f":"IF(入力シート!D62=\"\",\"\",DBCS(入力シート!D62))","v":""},{"$f":"IF(入力シート!E62=\"\",\"\",DBCS(入力シート!E62))","v":""},{"$f":"ASC(IF(入力シート!F62=\"\",\"\",UPPER(入力シート!F62)))","v":""},{"$f":"IF(入力シート!G62=\"\",\"\",PROPER(入力シート!G62))","v":""},{"$f":"IF(入力シート!H62=\"\",\"\",入力シート!H62)","v":""},{"$f":"IF(入力シート!I62=\"\",\"\",TEXT(入力シート!I62,\"yyyy/mm/dd\"))","v":""},{"$f":"IF(入力シート!J62=\"\",\"\",入力シート!J62)","v":""},{"$f":"IF(入力シート!K62=\"\",\"\",入力シート!K62)","v":""},{"$f":"IF(入力シート!L62=\"\",\"\",入力シート!L62)","v":""},{"$f":"IF(入力シート!M62=\"\",\"\",入力シート!M62)","v":""},{"$f":"IF(入力シート!N62=\"\",\"\",入力シート!N62)","v":""},{"$f":"IF(入力シート!O62=\"\",\"\",入力シート!O62)","v":""},null,{"$f":"IF(入力シート!P62=\"\",\"\",入力シート!P62)","v":""},{"$f":"IF(入力シート!Q62=\"\",\"\",入力シート!Q62)","v":""},{"$f":"IF(入力シート!R62=\"\",\"\",入力シート!R62)","v":""},{"$f":"IF(入力シート!S62=\"\",\"\",入力シート!S62)","v":""},{"$f":"IF(入力シート!T62=\"\",\"\",入力シート!T62)","v":""},{"$f":"IF(入力シート!U62=\"\",\"\",入力シート!U62)","v":""},{"$f":"IF(入力シート!V62=\"\",\"\",入力シート!V62)","v":""},{"$f":"IF(入力シート!W62=\"\",\"\",入力シート!W62)","v":""},{"$f":"IF(入力シート!X62=\"\",\"\",入力シート!X62)","v":""},{"$f":"IF(入力シート!Y62=\"\",\"\",入力シート!Y62)","v":""},{"$f":"IF(入力シート!Z62=\"\",\"\",入力シート!Z62)","v":""},null,null,{"$f":"IF(入力シート!H62=\"\",\"\",\"〇\")","v":""},{"$f":"IF(入力シート!AA62=\"\",\"\",入力シート!AA62)","v":""},{"$f":"IF(入力シート!AB62=\"\",\"\",入力シート!AB62)","v":""},{"$f":"IF(入力シート!AC62=\"\",\"\",入力シート!AC62)","v":""},{"$f":"IF(入力シート!AD62=\"\",\"\",入力シート!AD62)","v":""}]
[{"$f":"IF(入力シート!B63=\"\",\"\",入力シート!B63)","v":""},{"$f":"IF(入力シート!C63=\"\",\"\",入力シート!C63)","v":""},{"$f":"IF(入力シート!D63=\"\",\"\",DBCS(入力シート!D63))","v":""},{"$f":"IF(入力シート!E63=\"\",\"\",DBCS(入力シート!E63))","v":""},{"$f":"ASC(IF(入力シート!F63=\"\",\"\",UPPER(入力シート!F63)))","v":""},{"$f":"IF(入力シート!G63=\"\",\"\",PROPER(入力シート!G63))","v":""},{"$f":"IF(入力シート!H63=\"\",\"\",入力シート!H63)","v":""},{"$f":"IF(入力シート!I63=\"\",\"\",TEXT(入力シート!I63,\"yyyy/mm/dd\"))","v":""},{"$f":"IF(入力シート!J63=\"\",\"\",入力シート!J63)","v":""},{"$f":"IF(入力シート!K63=\"\",\"\",入力シート!K63)","v":""},{"$f":"IF(入力シート!L63=\"\",\"\",入力シート!L63)","v":""},{"$f":"IF(入力シート!M63=\"\",\"\",入力シート!M63)","v":""},{"$f":"IF(入力シート!N63=\"\",\"\",入力シート!N63)","v":""},{"$f":"IF(入力シート!O63=\"\",\"\",入力シート!O63)","v":""},null,{"$f":"IF(入力シート!P63=\"\",\"\",入力シート!P63)","v":""},{"$f":"IF(入力シート!Q63=\"\",\"\",入力シート!Q63)","v":""},{"$f":"IF(入力シート!R63=\"\",\"\",入力シート!R63)","v":""},{"$f":"IF(入力シート!S63=\"\",\"\",入力シート!S63)","v":""},{"$f":"IF(入力シート!T63=\"\",\"\",入力シート!T63)","v":""},{"$f":"IF(入力シート!U63=\"\",\"\",入力シート!U63)","v":""},{"$f":"IF(入力シート!V63=\"\",\"\",入力シート!V63)","v":""},{"$f":"IF(入力シート!W63=\"\",\"\",入力シート!W63)","v":""},{"$f":"IF(入力シート!X63=\"\",\"\",入力シート!X63)","v":""},{"$f":"IF(入力シート!Y63=\"\",\"\",入力シート!Y63)","v":""},{"$f":"IF(入力シート!Z63=\"\",\"\",入力シート!Z63)","v":""},null,null,{"$f":"IF(入力シート!H63=\"\",\"\",\"〇\")","v":""},{"$f":"IF(入力シート!AA63=\"\",\"\",入力シート!AA63)","v":""},{"$f":"IF(入力シート!AB63=\"\",\"\",入力シート!AB63)","v":""},{"$f":"IF(入力シート!AC63=\"\",\"\",入力シート!AC63)","v":""},{"$f":"IF(入力シート!AD63=\"\",\"\",入力シート!AD63)","v":""}]
[{"$f":"IF(入力シート!B64=\"\",\"\",入力シート!B64)","v":""},{"$f":"IF(入力シート!C64=\"\",\"\",入力シート!C64)","v":""},{"$f":"IF(入力シート!D64=\"\",\"\",DBCS(入力シート!D64))","v":""},{"$f":"IF(入力シート!E64=\"\",\"\",DBCS(入力シート!E64))","v":""},{"$f":"ASC(IF(入力シート!F64=\"\",\"\",UPPER(入力シート!F64)))","v":""},{"$f":"IF(入力シート!G64=\"\",\"\",PROPER(入力シート!G64))","v":""},{"$f":"IF(入力シート!H64=\"\",\"\",入力シート!H64)","v":""},{"$f":"IF(入力シート!I64=\"\",\"\",TEXT(入力シート!I64,\"yyyy/mm/dd\"))","v":""},{"$f":"IF(入力シート!J64=\"\",\"\",入力シート!J64)","v":""},{"$f":"IF(入力シート!K64=\"\",\"\",入力シート!K64)","v":""},{"$f":"IF(入力シート!L64=\"\",\"\",入力シート!L64)","v":""},{"$f":"IF(入力シート!M64=\"\",\"\",入力シート!M64)","v":""},{"$f":"IF(入力シート!N64=\"\",\"\",入力シート!N64)","v":""},{"$f":"IF(入力シート!O64=\"\",\"\",入力シート!O64)","v":""},null,{"$f":"IF(入力シート!P64=\"\",\"\",入力シート!P64)","v":""},{"$f":"IF(入力シート!Q64=\"\",\"\",入力シート!Q64)","v":""},{"$f":"IF(入力シート!R64=\"\",\"\",入力シート!R64)","v":""},{"$f":"IF(入力シート!S64=\"\",\"\",入力シート!S64)","v":""},{"$f":"IF(入力シート!T64=\"\",\"\",入力シート!T64)","v":""},{"$f":"IF(入力シート!U64=\"\",\"\",入力シート!U64)","v":""},{"$f":"IF(入力シート!V64=\"\",\"\",入力シート!V64)","v":""},{"$f":"IF(入力シート!W64=\"\",\"\",入力シート!W64)","v":""},{"$f":"IF(入力シート!X64=\"\",\"\",入力シート!X64)","v":""},{"$f":"IF(入力シート!Y64=\"\",\"\",入力シート!Y64)","v":""},{"$f":"IF(入力シート!Z64=\"\",\"\",入力シート!Z64)","v":""},null,null,{"$f":"IF(入力シート!H64=\"\",\"\",\"〇\")","v":""},{"$f":"IF(入力シート!AA64=\"\",\"\",入力シート!AA64)","v":""},{"$f":"IF(入力シート!AB64=\"\",\"\",入力シート!AB64)","v":""},{"$f":"IF(入力シート!AC64=\"\",\"\",入力シート!AC64)","v":""},{"$f":"IF(入力シート!AD64=\"\",\"\",入力シート!AD64)","v":""}]
[{"$f":"IF(入力シート!B65=\"\",\"\",入力シート!B65)","v":""},{"$f":"IF(入力シート!C65=\"\",\"\",入力シート!C65)","v":""},{"$f":"IF(入力シート!D65=\"\",\"\",DBCS(入力シート!D65))","v":""},{"$f":"IF(入力シート!E65=\"\",\"\",DBCS(入力シート!E65))","v":""},{"$f":"ASC(IF(入力シート!F65=\"\",\"\",UPPER(入力シート!F65)))","v":""},{"$f":"IF(入力シート!G65=\"\",\"\",PROPER(入力シート!G65))","v":""},{"$f":"IF(入力シート!H65=\"\",\"\",入力シート!H65)","v":""},{"$f":"IF(入力シート!I65=\"\",\"\",TEXT(入力シート!I65,\"yyyy/mm/dd\"))","v":""},{"$f":"IF(入力シート!J65=\"\",\"\",入力シート!J65)","v":""},{"$f":"IF(入力シート!K65=\"\",\"\",入力シート!K65)","v":""},{"$f":"IF(入力シート!L65=\"\",\"\",入力シート!L65)","v":""},{"$f":"IF(入力シート!M65=\"\",\"\",入力シート!M65)","v":""},{"$f":"IF(入力シート!N65=\"\",\"\",入力シート!N65)","v":""},{"$f":"IF(入力シート!O65=\"\",\"\",入力シート!O65)","v":""},null,{"$f":"IF(入力シート!P65=\"\",\"\",入力シート!P65)","v":""},{"$f":"IF(入力シート!Q65=\"\",\"\",入力シート!Q65)","v":""},{"$f":"IF(入力シート!R65=\"\",\"\",入力シート!R65)","v":""},{"$f":"IF(入力シート!S65=\"\",\"\",入力シート!S65)","v":""},{"$f":"IF(入力シート!T65=\"\",\"\",入力シート!T65)","v":""},{"$f":"IF(入力シート!U65=\"\",\"\",入力シート!U65)","v":""},{"$f":"IF(入力シート!V65=\"\",\"\",入力シート!V65)","v":""},{"$f":"IF(入力シート!W65=\"\",\"\",入力シート!W65)","v":""},{"$f":"IF(入力シート!X65=\"\",\"\",入力シート!X65)","v":""},{"$f":"IF(入力シート!Y65=\"\",\"\",入力シート!Y65)","v":""},{"$f":"IF(入力シート!Z65=\"\",\"\",入力シート!Z65)","v":""},null,null,{"$f":"IF(入力シート!H65=\"\",\"\",\"〇\")","v":""},{"$f":"IF(入力シート!AA65=\"\",\"\",入力シート!AA65)","v":""},{"$f":"IF(入力シート!AB65=\"\",\"\",入力シート!AB65)","v":""},{"$f":"IF(入力シート!AC65=\"\",\"\",入力シート!AC65)","v":""},{"$f":"IF(入力シート!AD65=\"\",\"\",入力シート!AD65)","v":""}]
[{"$f":"IF(入力シート!B66=\"\",\"\",入力シート!B66)","v":""},{"$f":"IF(入力シート!C66=\"\",\"\",入力シート!C66)","v":""},{"$f":"IF(入力シート!D66=\"\",\"\",DBCS(入力シート!D66))","v":""},{"$f":"IF(入力シート!E66=\"\",\"\",DBCS(入力シート!E66))","v":""},{"$f":"ASC(IF(入力シート!F66=\"\",\"\",UPPER(入力シート!F66)))","v":""},{"$f":"IF(入力シート!G66=\"\",\"\",PROPER(入力シート!G66))","v":""},{"$f":"IF(入力シート!H66=\"\",\"\",入力シート!H66)","v":""},{"$f":"IF(入力シート!I66=\"\",\"\",TEXT(入力シート!I66,\"yyyy/mm/dd\"))","v":""},{"$f":"IF(入力シート!J66=\"\",\"\",入力シート!J66)","v":""},{"$f":"IF(入力シート!K66=\"\",\"\",入力シート!K66)","v":""},{"$f":"IF(入力シート!L66=\"\",\"\",入力シート!L66)","v":""},{"$f":"IF(入力シート!M66=\"\",\"\",入力シート!M66)","v":""},{"$f":"IF(入力シート!N66=\"\",\"\",入力シート!N66)","v":""},{"$f":"IF(入力シート!O66=\"\",\"\",入力シート!O66)","v":""},null,{"$f":"IF(入力シート!P66=\"\",\"\",入力シート!P66)","v":""},{"$f":"IF(入力シート!Q66=\"\",\"\",入力シート!Q66)","v":""},{"$f":"IF(入力シート!R66=\"\",\"\",入力シート!R66)","v":""},{"$f":"IF(入力シート!S66=\"\",\"\",入力シート!S66)","v":""},{"$f":"IF(入力シート!T66=\"\",\"\",入力シート!T66)","v":""},{"$f":"IF(入力シート!U66=\"\",\"\",入力シート!U66)","v":""},{"$f":"IF(入力シート!V66=\"\",\"\",入力シート!V66)","v":""},{"$f":"IF(入力シート!W66=\"\",\"\",入力シート!W66)","v":""},{"$f":"IF(入力シート!X66=\"\",\"\",入力シート!X66)","v":""},{"$f":"IF(入力シート!Y66=\"\",\"\",入力シート!Y66)","v":""},{"$f":"IF(入力シート!Z66=\"\",\"\",入力シート!Z66)","v":""},null,null,{"$f":"IF(入力シート!H66=\"\",\"\",\"〇\")","v":""},{"$f":"IF(入力シート!AA66=\"\",\"\",入力シート!AA66)","v":""},{"$f":"IF(入力シート!AB66=\"\",\"\",入力シート!AB66)","v":""},{"$f":"IF(入力シート!AC66=\"\",\"\",入力シート!AC66)","v":""},{"$f":"IF(入力シート!AD66=\"\",\"\",入力シート!AD66)","v":""}]
[{"$f":"IF(入力シート!B67=\"\",\"\",入力シート!B67)","v":""},{"$f":"IF(入力シート!C67=\"\",\"\",入力シート!C67)","v":""},{"$f":"IF(入力シート!D67=\"\",\"\",DBCS(入力シート!D67))","v":""},{"$f":"IF(入力シート!E67=\"\",\"\",DBCS(入力シート!E67))","v":""},{"$f":"ASC(IF(入力シート!F67=\"\",\"\",UPPER(入力シート!F67)))","v":""},{"$f":"IF(入力シート!G67=\"\",\"\",PROPER(入力シート!G67))","v":""},{"$f":"IF(入力シート!H67=\"\",\"\",入力シート!H67)","v":""},{"$f":"IF(入力シート!I67=\"\",\"\",TEXT(入力シート!I67,\"yyyy/mm/dd\"))","v":""},{"$f":"IF(入力シート!J67=\"\",\"\",入力シート!J67)","v":""},{"$f":"IF(入力シート!K67=\"\",\"\",入力シート!K67)","v":""},{"$f":"IF(入力シート!L67=\"\",\"\",入力シート!L67)","v":""},{"$f":"IF(入力シート!M67=\"\",\"\",入力シート!M67)","v":""},{"$f":"IF(入力シート!N67=\"\",\"\",入力シート!N67)","v":""},{"$f":"IF(入力シート!O67=\"\",\"\",入力シート!O67)","v":""},null,{"$f":"IF(入力シート!P67=\"\",\"\",入力シート!P67)","v":""},{"$f":"IF(入力シート!Q67=\"\",\"\",入力シート!Q67)","v":""},{"$f":"IF(入力シート!R67=\"\",\"\",入力シート!R67)","v":""},{"$f":"IF(入力シート!S67=\"\",\"\",入力シート!S67)","v":""},{"$f":"IF(入力シート!T67=\"\",\"\",入力シート!T67)","v":""},{"$f":"IF(入力シート!U67=\"\",\"\",入力シート!U67)","v":""},{"$f":"IF(入力シート!V67=\"\",\"\",入力シート!V67)","v":""},{"$f":"IF(入力シート!W67=\"\",\"\",入力シート!W67)","v":""},{"$f":"IF(入力シート!X67=\"\",\"\",入力シート!X67)","v":""},{"$f":"IF(入力シート!Y67=\"\",\"\",入力シート!Y67)","v":""},{"$f":"IF(入力シート!Z67=\"\",\"\",入力シート!Z67)","v":""},null,null,{"$f":"IF(入力シート!H67=\"\",\"\",\"〇\")","v":""},{"$f":"IF(入力シート!AA67=\"\",\"\",入力シート!AA67)","v":""},{"$f":"IF(入力シート!AB67=\"\",\"\",入力シート!AB67)","v":""},{"$f":"IF(入力シート!AC67=\"\",\"\",入力シート!AC67)","v":""},{"$f":"IF(入力シート!AD67=\"\",\"\",入力シート!AD67)","v":""}]
[{"$f":"IF(入力シート!B68=\"\",\"\",入力シート!B68)","v":""},{"$f":"IF(入力シート!C68=\"\",\"\",入力シート!C68)","v":""},{"$f":"IF(入力シート!D68=\"\",\"\",DBCS(入力シート!D68))","v":""},{"$f":"IF(入力シート!E68=\"\",\"\",DBCS(入力シート!E68))","v":""},{"$f":"ASC(IF(入力シート!F68=\"\",\"\",UPPER(入力シート!F68)))","v":""},{"$f":"IF(入力シート!G68=\"\",\"\",PROPER(入力シート!G68))","v":""},{"$f":"IF(入力シート!H68=\"\",\"\",入力シート!H68)","v":""},{"$f":"IF(入力シート!I68=\"\",\"\",TEXT(入力シート!I68,\"yyyy/mm/dd\"))","v":""},{"$f":"IF(入力シート!J68=\"\",\"\",入力シート!J68)","v":""},{"$f":"IF(入力シート!K68=\"\",\"\",入力シート!K68)","v":""},{"$f":"IF(入力シート!L68=\"\",\"\",入力シート!L68)","v":""},{"$f":"IF(入力シート!M68=\"\",\"\",入力シート!M68)","v":""},{"$f":"IF(入力シート!N68=\"\",\"\",入力シート!N68)","v":""},{"$f":"IF(入力シート!O68=\"\",\"\",入力シート!O68)","v":""},null,{"$f":"IF(入力シート!P68=\"\",\"\",入力シート!P68)","v":""},{"$f":"IF(入力シート!Q68=\"\",\"\",入力シート!Q68)","v":""},{"$f":"IF(入力シート!R68=\"\",\"\",入力シート!R68)","v":""},{"$f":"IF(入力シート!S68=\"\",\"\",入力シート!S68)","v":""},{"$f":"IF(入力シート!T68=\"\",\"\",入力シート!T68)","v":""},{"$f":"IF(入力シート!U68=\"\",\"\",入力シート!U68)","v":""},{"$f":"IF(入力シート!V68=\"\",\"\",入力シート!V68)","v":""},{"$f":"IF(入力シート!W68=\"\",\"\",入力シート!W68)","v":""},{"$f":"IF(入力シート!X68=\"\",\"\",入力シート!X68)","v":""},{"$f":"IF(入力シート!Y68=\"\",\"\",入力シート!Y68)","v":""},{"$f":"IF(入力シート!Z68=\"\",\"\",入力シート!Z68)","v":""},null,null,{"$f":"IF(入力シート!H68=\"\",\"\",\"〇\")","v":""},{"$f":"IF(入力シート!AA68=\"\",\"\",入力シート!AA68)","v":""},{"$f":"IF(入力シート!AB68=\"\",\"\",入力シート!AB68)","v":""},{"$f":"IF(入力シート!AC68=\"\",\"\",入力シート!AC68)","v":""},{"$f":"IF(入力シート!AD68=\"\",\"\",入力シート!AD68)","v":""}]
[{"$f":"IF(入力シート!B69=\"\",\"\",入力シート!B69)","v":""},{"$f":"IF(入力シート!C69=\"\",\"\",入力シート!C69)","v":""},{"$f":"IF(入力シート!D69=\"\",\"\",DBCS(入力シート!D69))","v":""},{"$f":"IF(入力シート!E69=\"\",\"\",DBCS(入力シート!E69))","v":""},{"$f":"ASC(IF(入力シート!F69=\"\",\"\",UPPER(入力シート!F69)))","v":""},{"$f":"IF(入力シート!G69=\"\",\"\",PROPER(入力シート!G69))","v":""},{"$f":"IF(入力シート!H69=\"\",\"\",入力シート!H69)","v":""},{"$f":"IF(入力シート!I69=\"\",\"\",TEXT(入力シート!I69,\"yyyy/mm/dd\"))","v":""},{"$f":"IF(入力シート!J69=\"\",\"\",入力シート!J69)","v":""},{"$f":"IF(入力シート!K69=\"\",\"\",入力シート!K69)","v":""},{"$f":"IF(入力シート!L69=\"\",\"\",入力シート!L69)","v":""},{"$f":"IF(入力シート!M69=\"\",\"\",入力シート!M69)","v":""},{"$f":"IF(入力シート!N69=\"\",\"\",入力シート!N69)","v":""},{"$f":"IF(入力シート!O69=\"\",\"\",入力シート!O69)","v":""},null,{"$f":"IF(入力シート!P69=\"\",\"\",入力シート!P69)","v":""},{"$f":"IF(入力シート!Q69=\"\",\"\",入力シート!Q69)","v":""},{"$f":"IF(入力シート!R69=\"\",\"\",入力シート!R69)","v":""},{"$f":"IF(入力シート!S69=\"\",\"\",入力シート!S69)","v":""},{"$f":"IF(入力シート!T69=\"\",\"\",入力シート!T69)","v":""},{"$f":"IF(入力シート!U69=\"\",\"\",入力シート!U69)","v":""},{"$f":"IF(入力シート!V69=\"\",\"\",入力シート!V69)","v":""},{"$f":"IF(入力シート!W69=\"\",\"\",入力シート!W69)","v":""},{"$f":"IF(入力シート!X69=\"\",\"\",入力シート!X69)","v":""},{"$f":"IF(入力シート!Y69=\"\",\"\",入力シート!Y69)","v":""},{"$f":"IF(入力シート!Z69=\"\",\"\",入力シート!Z69)","v":""},null,null,{"$f":"IF(入力シート!H69=\"\",\"\",\"〇\")","v":""},{"$f":"IF(入力シート!AA69=\"\",\"\",入力シート!AA69)","v":""},{"$f":"IF(入力シート!AB69=\"\",\"\",入力シート!AB69)","v":""},{"$f":"IF(入力シート!AC69=\"\",\"\",入力シート!AC69)","v":""},{"$f":"IF(入力シート!AD69=\"\",\"\",入力シート!AD69)","v":""}]
[{"$f":"IF(入力シート!B70=\"\",\"\",入力シート!B70)","v":""},{"$f":"IF(入力シート!C70=\"\",\"\",入力シート!C70)","v":""},{"$f":"IF(入力シート!D70=\"\",\"\",DBCS(入力シート!D70))","v":""},{"$f":"IF(入力シート!E70=\"\",\"\",DBCS(入力シート!E70))","v":""},{"$f":"ASC(IF(入力シート!F70=\"\",\"\",UPPER(入力シート!F70)))","v":""},{"$f":"IF(入力シート!G70=\"\",\"\",PROPER(入力シート!G70))","v":""},{"$f":"IF(入力シート!H70=\"\",\"\",入力シート!H70)","v":""},{"$f":"IF(入力シート!I70=\"\",\"\",TEXT(入力シート!I70,\"yyyy/mm/dd\"))","v":""},{"$f":"IF(入力シート!J70=\"\",\"\",入力シート!J70)","v":""},{"$f":"IF(入力シート!K70=\"\",\"\",入力シート!K70)","v":""},{"$f":"IF(入力シート!L70=\"\",\"\",入力シート!L70)","v":""},{"$f":"IF(入力シート!M70=\"\",\"\",入力シート!M70)","v":""},{"$f":"IF(入力シート!N70=\"\",\"\",入力シート!N70)","v":""},{"$f":"IF(入力シート!O70=\"\",\"\",入力シート!O70)","v":""},null,{"$f":"IF(入力シート!P70=\"\",\"\",入力シート!P70)","v":""},{"$f":"IF(入力シート!Q70=\"\",\"\",入力シート!Q70)","v":""},{"$f":"IF(入力シート!R70=\"\",\"\",入力シート!R70)","v":""},{"$f":"IF(入力シート!S70=\"\",\"\",入力シート!S70)","v":""},{"$f":"IF(入力シート!T70=\"\",\"\",入力シート!T70)","v":""},{"$f":"IF(入力シート!U70=\"\",\"\",入力シート!U70)","v":""},{"$f":"IF(入力シート!V70=\"\",\"\",入力シート!V70)","v":""},{"$f":"IF(入力シート!W70=\"\",\"\",入力シート!W70)","v":""},{"$f":"IF(入力シート!X70=\"\",\"\",入力シート!X70)","v":""},{"$f":"IF(入力シート!Y70=\"\",\"\",入力シート!Y70)","v":""},{"$f":"IF(入力シート!Z70=\"\",\"\",入力シート!Z70)","v":""},null,null,{"$f":"IF(入力シート!H70=\"\",\"\",\"〇\")","v":""},{"$f":"IF(入力シート!AA70=\"\",\"\",入力シート!AA70)","v":""},{"$f":"IF(入力シート!AB70=\"\",\"\",入力シート!AB70)","v":""},{"$f":"IF(入力シート!AC70=\"\",\"\",入力シート!AC70)","v":""},{"$f":"IF(入力シート!AD70=\"\",\"\",入力シート!AD70)","v":""}]
[{"$f":"IF(入力シート!B71=\"\",\"\",入力シート!B71)","v":""},{"$f":"IF(入力シート!C71=\"\",\"\",入力シート!C71)","v":""},{"$f":"IF(入力シート!D71=\"\",\"\",DBCS(入力シート!D71))","v":""},{"$f":"IF(入力シート!E71=\"\",\"\",DBCS(入力シート!E71))","v":""},{"$f":"ASC(IF(入力シート!F71=\"\",\"\",UPPER(入力シート!F71)))","v":""},{"$f":"IF(入力シート!G71=\"\",\"\",PROPER(入力シート!G71))","v":""},{"$f":"IF(入力シート!H71=\"\",\"\",入力シート!H71)","v":""},{"$f":"IF(入力シート!I71=\"\",\"\",TEXT(入力シート!I71,\"yyyy/mm/dd\"))","v":""},{"$f":"IF(入力シート!J71=\"\",\"\",入力シート!J71)","v":""},{"$f":"IF(入力シート!K71=\"\",\"\",入力シート!K71)","v":""},{"$f":"IF(入力シート!L71=\"\",\"\",入力シート!L71)","v":""},{"$f":"IF(入力シート!M71=\"\",\"\",入力シート!M71)","v":""},{"$f":"IF(入力シート!N71=\"\",\"\",入力シート!N71)","v":""},{"$f":"IF(入力シート!O71=\"\",\"\",入力シート!O71)","v":""},null,{"$f":"IF(入力シート!P71=\"\",\"\",入力シート!P71)","v":""},{"$f":"IF(入力シート!Q71=\"\",\"\",入力シート!Q71)","v":""},{"$f":"IF(入力シート!R71=\"\",\"\",入力シート!R71)","v":""},{"$f":"IF(入力シート!S71=\"\",\"\",入力シート!S71)","v":""},{"$f":"IF(入力シート!T71=\"\",\"\",入力シート!T71)","v":""},{"$f":"IF(入力シート!U71=\"\",\"\",入力シート!U71)","v":""},{"$f":"IF(入力シート!V71=\"\",\"\",入力シート!V71)","v":""},{"$f":"IF(入力シート!W71=\"\",\"\",入力シート!W71)","v":""},{"$f":"IF(入力シート!X71=\"\",\"\",入力シート!X71)","v":""},{"$f":"IF(入力シート!Y71=\"\",\"\",入力シート!Y71)","v":""},{"$f":"IF(入力シート!Z71=\"\",\"\",入力シート!Z71)","v":""},null,null,{"$f":"IF(入力シート!H71=\"\",\"\",\"〇\")","v":""},{"$f":"IF(入力シート!AA71=\"\",\"\",入力シート!AA71)","v":""},{"$f":"IF(入力シート!AB71=\"\",\"\",入力シート!AB71)","v":""},{"$f":"IF(入力シート!AC71=\"\",\"\",入力シート!AC71)","v":""},{"$f":"IF(入力シート!AD71=\"\",\"\",入力シート!AD71)","v":""}]
[{"$f":"IF(入力シート!B72=\"\",\"\",入力シート!B72)","v":""},{"$f":"IF(入力シート!C72=\"\",\"\",入力シート!C72)","v":""},{"$f":"IF(入力シート!D72=\"\",\"\",DBCS(入力シート!D72))","v":""},{"$f":"IF(入力シート!E72=\"\",\"\",DBCS(入力シート!E72))","v":""},{"$f":"ASC(IF(入力シート!F72=\"\",\"\",UPPER(入力シート!F72)))","v":""},{"$f":"IF(入力シート!G72=\"\",\"\",PROPER(入力シート!G72))","v":""},{"$f":"IF(入力シート!H72=\"\",\"\",入力シート!H72)","v":""},{"$f":"IF(入力シート!I72=\"\",\"\",TEXT(入力シート!I72,\"yyyy/mm/dd\"))","v":""},{"$f":"IF(入力シート!J72=\"\",\"\",入力シート!J72)","v":""},{"$f":"IF(入力シート!K72=\"\",\"\",入力シート!K72)","v":""},{"$f":"IF(入力シート!L72=\"\",\"\",入力シート!L72)","v":""},{"$f":"IF(入力シート!M72=\"\",\"\",入力シート!M72)","v":""},{"$f":"IF(入力シート!N72=\"\",\"\",入力シート!N72)","v":""},{"$f":"IF(入力シート!O72=\"\",\"\",入力シート!O72)","v":""},null,{"$f":"IF(入力シート!P72=\"\",\"\",入力シート!P72)","v":""},{"$f":"IF(入力シート!Q72=\"\",\"\",入力シート!Q72)","v":""},{"$f":"IF(入力シート!R72=\"\",\"\",入力シート!R72)","v":""},{"$f":"IF(入力シート!S72=\"\",\"\",入力シート!S72)","v":""},{"$f":"IF(入力シート!T72=\"\",\"\",入力シート!T72)","v":""},{"$f":"IF(入力シート!U72=\"\",\"\",入力シート!U72)","v":""},{"$f":"IF(入力シート!V72=\"\",\"\",入力シート!V72)","v":""},{"$f":"IF(入力シート!W72=\"\",\"\",入力シート!W72)","v":""},{"$f":"IF(入力シート!X72=\"\",\"\",入力シート!X72)","v":""},{"$f":"IF(入力シート!Y72=\"\",\"\",入力シート!Y72)","v":""},{"$f":"IF(入力シート!Z72=\"\",\"\",入力シート!Z72)","v":""},null,null,{"$f":"IF(入力シート!H72=\"\",\"\",\"〇\")","v":""},{"$f":"IF(入力シート!AA72=\"\",\"\",入力シート!AA72)","v":""},{"$f":"IF(入力シート!AB72=\"\",\"\",入力シート!AB72)","v":""},{"$f":"IF(入力シート!AC72=\"\",\"\",入力シート!AC72)","v":""},{"$f":"IF(入力シート!AD72=\"\",\"\",入力シート!AD72)","v":""}]
[{"$f":"IF(入力シート!B73=\"\",\"\",入力シート!B73)","v":""},{"$f":"IF(入力シート!C73=\"\",\"\",入力シート!C73)","v":""},{"$f":"IF(入力シート!D73=\"\",\"\",DBCS(入力シート!D73))","v":""},{"$f":"IF(入力シート!E73=\"\",\"\",DBCS(入力シート!E73))","v":""},{"$f":"ASC(IF(入力シート!F73=\"\",\"\",UPPER(入力シート!F73)))","v":""},{"$f":"IF(入力シート!G73=\"\",\"\",PROPER(入力シート!G73))","v":""},{"$f":"IF(入力シート!H73=\"\",\"\",入力シート!H73)","v":""},{"$f":"IF(入力シート!I73=\"\",\"\",TEXT(入力シート!I73,\"yyyy/mm/dd\"))","v":""},{"$f":"IF(入力シート!J73=\"\",\"\",入力シート!J73)","v":""},{"$f":"IF(入力シート!K73=\"\",\"\",入力シート!K73)","v":""},{"$f":"IF(入力シート!L73=\"\",\"\",入力シート!L73)","v":""},{"$f":"IF(入力シート!M73=\"\",\"\",入力シート!M73)","v":""},{"$f":"IF(入力シート!N73=\"\",\"\",入力シート!N73)","v":""},{"$f":"IF(入力シート!O73=\"\",\"\",入力シート!O73)","v":""},null,{"$f":"IF(入力シート!P73=\"\",\"\",入力シート!P73)","v":""},{"$f":"IF(入力シート!Q73=\"\",\"\",入力シート!Q73)","v":""},{"$f":"IF(入力シート!R73=\"\",\"\",入力シート!R73)","v":""},{"$f":"IF(入力シート!S73=\"\",\"\",入力シート!S73)","v":""},{"$f":"IF(入力シート!T73=\"\",\"\",入力シート!T73)","v":""},{"$f":"IF(入力シート!U73=\"\",\"\",入力シート!U73)","v":""},{"$f":"IF(入力シート!V73=\"\",\"\",入力シート!V73)","v":""},{"$f":"IF(入力シート!W73=\"\",\"\",入力シート!W73)","v":""},{"$f":"IF(入力シート!X73=\"\",\"\",入力シート!X73)","v":""},{"$f":"IF(入力シート!Y73=\"\",\"\",入力シート!Y73)","v":""},{"$f":"IF(入力シート!Z73=\"\",\"\",入力シート!Z73)","v":""},null,null,{"$f":"IF(入力シート!H73=\"\",\"\",\"〇\")","v":""},{"$f":"IF(入力シート!AA73=\"\",\"\",入力シート!AA73)","v":""},{"$f":"IF(入力シート!AB73=\"\",\"\",入力シート!AB73)","v":""},{"$f":"IF(入力シート!AC73=\"\",\"\",入力シート!AC73)","v":""},{"$f":"IF(入力シート!AD73=\"\",\"\",入力シート!AD73)","v":""}]
[{"$f":"IF(入力シート!B74=\"\",\"\",入力シート!B74)","v":""},{"$f":"IF(入力シート!C74=\"\",\"\",入力シート!C74)","v":""},{"$f":"IF(入力シート!D74=\"\",\"\",DBCS(入力シート!D74))","v":""},{"$f":"IF(入力シート!E74=\"\",\"\",DBCS(入力シート!E74))","v":""},{"$f":"ASC(IF(入力シート!F74=\"\",\"\",UPPER(入力シート!F74)))","v":""},{"$f":"IF(入力シート!G74=\"\",\"\",PROPER(入力シート!G74))","v":""},{"$f":"IF(入力シート!H74=\"\",\"\",入力シート!H74)","v":""},{"$f":"IF(入力シート!I74=\"\",\"\",TEXT(入力シート!I74,\"yyyy/mm/dd\"))","v":""},{"$f":"IF(入力シート!J74=\"\",\"\",入力シート!J74)","v":""},{"$f":"IF(入力シート!K74=\"\",\"\",入力シート!K74)","v":""},{"$f":"IF(入力シート!L74=\"\",\"\",入力シート!L74)","v":""},{"$f":"IF(入力シート!M74=\"\",\"\",入力シート!M74)","v":""},{"$f":"IF(入力シート!N74=\"\",\"\",入力シート!N74)","v":""},{"$f":"IF(入力シート!O74=\"\",\"\",入力シート!O74)","v":""},null,{"$f":"IF(入力シート!P74=\"\",\"\",入力シート!P74)","v":""},{"$f":"IF(入力シート!Q74=\"\",\"\",入力シート!Q74)","v":""},{"$f":"IF(入力シート!R74=\"\",\"\",入力シート!R74)","v":""},{"$f":"IF(入力シート!S74=\"\",\"\",入力シート!S74)","v":""},{"$f":"IF(入力シート!T74=\"\",\"\",入力シート!T74)","v":""},{"$f":"IF(入力シート!U74=\"\",\"\",入力シート!U74)","v":""},{"$f":"IF(入力シート!V74=\"\",\"\",入力シート!V74)","v":""},{"$f":"IF(入力シート!W74=\"\",\"\",入力シート!W74)","v":""},{"$f":"IF(入力シート!X74=\"\",\"\",入力シート!X74)","v":""},{"$f":"IF(入力シート!Y74=\"\",\"\",入力シート!Y74)","v":""},{"$f":"IF(入力シート!Z74=\"\",\"\",入力シート!Z74)","v":""},null,null,{"$f":"IF(入力シート!H74=\"\",\"\",\"〇\")","v":""},{"$f":"IF(入力シート!AA74=\"\",\"\",入力シート!AA74)","v":""},{"$f":"IF(入力シート!AB74=\"\",\"\",入力シート!AB74)","v":""},{"$f":"IF(入力シート!AC74=\"\",\"\",入力シート!AC74)","v":""},{"$f":"IF(入力シート!AD74=\"\",\"\",入力シート!AD74)","v":""}]
[{"$f":"IF(入力シート!B75=\"\",\"\",入力シート!B75)","v":""},{"$f":"IF(入力シート!C75=\"\",\"\",入力シート!C75)","v":""},{"$f":"IF(入力シート!D75=\"\",\"\",DBCS(入力シート!D75))","v":""},{"$f":"IF(入力シート!E75=\"\",\"\",DBCS(入力シート!E75))","v":""},{"$f":"ASC(IF(入力シート!F75=\"\",\"\",UPPER(入力シート!F75)))","v":""},{"$f":"IF(入力シート!G75=\"\",\"\",PROPER(入力シート!G75))","v":""},{"$f":"IF(入力シート!H75=\"\",\"\",入力シート!H75)","v":""},{"$f":"IF(入力シート!I75=\"\",\"\",TEXT(入力シート!I75,\"yyyy/mm/dd\"))","v":""},{"$f":"IF(入力シート!J75=\"\",\"\",入力シート!J75)","v":""},{"$f":"IF(入力シート!K75=\"\",\"\",入力シート!K75)","v":""},{"$f":"IF(入力シート!L75=\"\",\"\",入力シート!L75)","v":""},{"$f":"IF(入力シート!M75=\"\",\"\",入力シート!M75)","v":""},{"$f":"IF(入力シート!N75=\"\",\"\",入力シート!N75)","v":""},{"$f":"IF(入力シート!O75=\"\",\"\",入力シート!O75)","v":""},null,{"$f":"IF(入力シート!P75=\"\",\"\",入力シート!P75)","v":""},{"$f":"IF(入力シート!Q75=\"\",\"\",入力シート!Q75)","v":""},{"$f":"IF(入力シート!R75=\"\",\"\",入力シート!R75)","v":""},{"$f":"IF(入力シート!S75=\"\",\"\",入力シート!S75)","v":""},{"$f":"IF(入力シート!T75=\"\",\"\",入力シート!T75)","v":""},{"$f":"IF(入力シート!U75=\"\",\"\",入力シート!U75)","v":""},{"$f":"IF(入力シート!V75=\"\",\"\",入力シート!V75)","v":""},{"$f":"IF(入力シート!W75=\"\",\"\",入力シート!W75)","v":""},{"$f":"IF(入力シート!X75=\"\",\"\",入力シート!X75)","v":""},{"$f":"IF(入力シート!Y75=\"\",\"\",入力シート!Y75)","v":""},{"$f":"IF(入力シート!Z75=\"\",\"\",入力シート!Z75)","v":""},null,null,{"$f":"IF(入力シート!H75=\"\",\"\",\"〇\")","v":""},{"$f":"IF(入力シート!AA75=\"\",\"\",入力シート!AA75)","v":""},{"$f":"IF(入力シート!AB75=\"\",\"\",入力シート!AB75)","v":""},{"$f":"IF(入力シート!AC75=\"\",\"\",入力シート!AC75)","v":""},{"$f":"IF(入力シート!AD75=\"\",\"\",入力シート!AD75)","v":""}]
[{"$f":"IF(入力シート!B76=\"\",\"\",入力シート!B76)","v":""},{"$f":"IF(入力シート!C76=\"\",\"\",入力シート!C76)","v":""},{"$f":"IF(入力シート!D76=\"\",\"\",DBCS(入力シート!D76))","v":""},{"$f":"IF(入力シート!E76=\"\",\"\",DBCS(入力シート!E76))","v":""},{"$f":"ASC(IF(入力シート!F76=\"\",\"\",UPPER(入力シート!F76)))","v":""},{"$f":"IF(入力シート!G76=\"\",\"\",PROPER(入力シート!G76))","v":""},{"$f":"IF(入力シート!H76=\"\",\"\",入力シート!H76)","v":""},{"$f":"IF(入力シート!I76=\"\",\"\",TEXT(入力シート!I76,\"yyyy/mm/dd\"))","v":""},{"$f":"IF(入力シート!J76=\"\",\"\",入力シート!J76)","v":""},{"$f":"IF(入力シート!K76=\"\",\"\",入力シート!K76)","v":""},{"$f":"IF(入力シート!L76=\"\",\"\",入力シート!L76)","v":""},{"$f":"IF(入力シート!M76=\"\",\"\",入力シート!M76)","v":""},{"$f":"IF(入力シート!N76=\"\",\"\",入力シート!N76)","v":""},{"$f":"IF(入力シート!O76=\"\",\"\",入力シート!O76)","v":""},null,{"$f":"IF(入力シート!P76=\"\",\"\",入力シート!P76)","v":""},{"$f":"IF(入力シート!Q76=\"\",\"\",入力シート!Q76)","v":""},{"$f":"IF(入力シート!R76=\"\",\"\",入力シート!R76)","v":""},{"$f":"IF(入力シート!S76=\"\",\"\",入力シート!S76)","v":""},{"$f":"IF(入力シート!T76=\"\",\"\",入力シート!T76)","v":""},{"$f":"IF(入力シート!U76=\"\",\"\",入力シート!U76)","v":""},{"$f":"IF(入力シート!V76=\"\",\"\",入力シート!V76)","v":""},{"$f":"IF(入力シート!W76=\"\",\"\",入力シート!W76)","v":""},{"$f":"IF(入力シート!X76=\"\",\"\",入力シート!X76)","v":""},{"$f":"IF(入力シート!Y76=\"\",\"\",入力シート!Y76)","v":""},{"$f":"IF(入力シート!Z76=\"\",\"\",入力シート!Z76)","v":""},null,null,{"$f":"IF(入力シート!H76=\"\",\"\",\"〇\")","v":""},{"$f":"IF(入力シート!AA76=\"\",\"\",入力シート!AA76)","v":""},{"$f":"IF(入力シート!AB76=\"\",\"\",入力シート!AB76)","v":""},{"$f":"IF(入力シート!AC76=\"\",\"\",入力シート!AC76)","v":""},{"$f":"IF(入力シート!AD76=\"\",\"\",入力シート!AD76)","v":""}]
[{"$f":"IF(入力シート!B77=\"\",\"\",入力シート!B77)","v":""},{"$f":"IF(入力シート!C77=\"\",\"\",入力シート!C77)","v":""},{"$f":"IF(入力シート!D77=\"\",\"\",DBCS(入力シート!D77))","v":""},{"$f":"IF(入力シート!E77=\"\",\"\",DBCS(入力シート!E77))","v":""},{"$f":"ASC(IF(入力シート!F77=\"\",\"\",UPPER(入力シート!F77)))","v":""},{"$f":"IF(入力シート!G77=\"\",\"\",PROPER(入力シート!G77))","v":""},{"$f":"IF(入力シート!H77=\"\",\"\",入力シート!H77)","v":""},{"$f":"IF(入力シート!I77=\"\",\"\",TEXT(入力シート!I77,\"yyyy/mm/dd\"))","v":""},{"$f":"IF(入力シート!J77=\"\",\"\",入力シート!J77)","v":""},{"$f":"IF(入力シート!K77=\"\",\"\",入力シート!K77)","v":""},{"$f":"IF(入力シート!L77=\"\",\"\",入力シート!L77)","v":""},{"$f":"IF(入力シート!M77=\"\",\"\",入力シート!M77)","v":""},{"$f":"IF(入力シート!N77=\"\",\"\",入力シート!N77)","v":""},{"$f":"IF(入力シート!O77=\"\",\"\",入力シート!O77)","v":""},null,{"$f":"IF(入力シート!P77=\"\",\"\",入力シート!P77)","v":""},{"$f":"IF(入力シート!Q77=\"\",\"\",入力シート!Q77)","v":""},{"$f":"IF(入力シート!R77=\"\",\"\",入力シート!R77)","v":""},{"$f":"IF(入力シート!S77=\"\",\"\",入力シート!S77)","v":""},{"$f":"IF(入力シート!T77=\"\",\"\",入力シート!T77)","v":""},{"$f":"IF(入力シート!U77=\"\",\"\",入力シート!U77)","v":""},{"$f":"IF(入力シート!V77=\"\",\"\",入力シート!V77)","v":""},{"$f":"IF(入力シート!W77=\"\",\"\",入力シート!W77)","v":""},{"$f":"IF(入力シート!X77=\"\",\"\",入力シート!X77)","v":""},{"$f":"IF(入力シート!Y77=\"\",\"\",入力シート!Y77)","v":""},{"$f":"IF(入力シート!Z77=\"\",\"\",入力シート!Z77)","v":""},null,null,{"$f":"IF(入力シート!H77=\"\",\"\",\"〇\")","v":""},{"$f":"IF(入力シート!AA77=\"\",\"\",入力シート!AA77)","v":""},{"$f":"IF(入力シート!AB77=\"\",\"\",入力シート!AB77)","v":""},{"$f":"IF(入力シート!AC77=\"\",\"\",入力シート!AC77)","v":""},{"$f":"IF(入力シート!AD77=\"\",\"\",入力シート!AD77)","v":""}]
[{"$f":"IF(入力シート!B78=\"\",\"\",入力シート!B78)","v":""},{"$f":"IF(入力シート!C78=\"\",\"\",入力シート!C78)","v":""},{"$f":"IF(入力シート!D78=\"\",\"\",DBCS(入力シート!D78))","v":""},{"$f":"IF(入力シート!E78=\"\",\"\",DBCS(入力シート!E78))","v":""},{"$f":"ASC(IF(入力シート!F78=\"\",\"\",UPPER(入力シート!F78)))","v":""},{"$f":"IF(入力シート!G78=\"\",\"\",PROPER(入力シート!G78))","v":""},{"$f":"IF(入力シート!H78=\"\",\"\",入力シート!H78)","v":""},{"$f":"IF(入力シート!I78=\"\",\"\",TEXT(入力シート!I78,\"yyyy/mm/dd\"))","v":""},{"$f":"IF(入力シート!J78=\"\",\"\",入力シート!J78)","v":""},{"$f":"IF(入力シート!K78=\"\",\"\",入力シート!K78)","v":""},{"$f":"IF(入力シート!L78=\"\",\"\",入力シート!L78)","v":""},{"$f":"IF(入力シート!M78=\"\",\"\",入力シート!M78)","v":""},{"$f":"IF(入力シート!N78=\"\",\"\",入力シート!N78)","v":""},{"$f":"IF(入力シート!O78=\"\",\"\",入力シート!O78)","v":""},null,{"$f":"IF(入力シート!P78=\"\",\"\",入力シート!P78)","v":""},{"$f":"IF(入力シート!Q78=\"\",\"\",入力シート!Q78)","v":""},{"$f":"IF(入力シート!R78=\"\",\"\",入力シート!R78)","v":""},{"$f":"IF(入力シート!S78=\"\",\"\",入力シート!S78)","v":""},{"$f":"IF(入力シート!T78=\"\",\"\",入力シート!T78)","v":""},{"$f":"IF(入力シート!U78=\"\",\"\",入力シート!U78)","v":""},{"$f":"IF(入力シート!V78=\"\",\"\",入力シート!V78)","v":""},{"$f":"IF(入力シート!W78=\"\",\"\",入力シート!W78)","v":""},{"$f":"IF(入力シート!X78=\"\",\"\",入力シート!X78)","v":""},{"$f":"IF(入力シート!Y78=\"\",\"\",入力シート!Y78)","v":""},{"$f":"IF(入力シート!Z78=\"\",\"\",入力シート!Z78)","v":""},null,null,{"$f":"IF(入力シート!H78=\"\",\"\",\"〇\")","v":""},{"$f":"IF(入力シート!AA78=\"\",\"\",入力シート!AA78)","v":""},{"$f":"IF(入力シート!AB78=\"\",\"\",入力シート!AB78)","v":""},{"$f":"IF(入力シート!AC78=\"\",\"\",入力シート!AC78)","v":""},{"$f":"IF(入力シート!AD78=\"\",\"\",入力シート!AD78)","v":""}]
[{"$f":"IF(入力シート!B79=\"\",\"\",入力シート!B79)","v":""},{"$f":"IF(入力シート!C79=\"\",\"\",入力シート!C79)","v":""},{"$f":"IF(入力シート!D79=\"\",\"\",DBCS(入力シート!D79))","v":""},{"$f":"IF(入力シート!E79=\"\",\"\",DBCS(入力シート!E79))","v":""},{"$f":"ASC(IF(入力シート!F79=\"\",\"\",UPPER(入力シート!F79)))","v":""},{"$f":"IF(入力シート!G79=\"\",\"\",PROPER(入力シート!G79))","v":""},{"$f":"IF(入力シート!H79=\"\",\"\",入力シート!H79)","v":""},{"$f":"IF(入力シート!I79=\"\",\"\",TEXT(入力シート!I79,\"yyyy/mm/dd\"))","v":""},{"$f":"IF(入力シート!J79=\"\",\"\",入力シート!J79)","v":""},{"$f":"IF(入力シート!K79=\"\",\"\",入力シート!K79)","v":""},{"$f":"IF(入力シート!L79=\"\",\"\",入力シート!L79)","v":""},{"$f":"IF(入力シート!M79=\"\",\"\",入力シート!M79)","v":""},{"$f":"IF(入力シート!N79=\"\",\"\",入力シート!N79)","v":""},{"$f":"IF(入力シート!O79=\"\",\"\",入力シート!O79)","v":""},null,{"$f":"IF(入力シート!P79=\"\",\"\",入力シート!P79)","v":""},{"$f":"IF(入力シート!Q79=\"\",\"\",入力シート!Q79)","v":""},{"$f":"IF(入力シート!R79=\"\",\"\",入力シート!R79)","v":""},{"$f":"IF(入力シート!S79=\"\",\"\",入力シート!S79)","v":""},{"$f":"IF(入力シート!T79=\"\",\"\",入力シート!T79)","v":""},{"$f":"IF(入力シート!U79=\"\",\"\",入力シート!U79)","v":""},{"$f":"IF(入力シート!V79=\"\",\"\",入力シート!V79)","v":""},{"$f":"IF(入力シート!W79=\"\",\"\",入力シート!W79)","v":""},{"$f":"IF(入力シート!X79=\"\",\"\",入力シート!X79)","v":""},{"$f":"IF(入力シート!Y79=\"\",\"\",入力シート!Y79)","v":""},{"$f":"IF(入力シート!Z79=\"\",\"\",入力シート!Z79)","v":""},null,null,{"$f":"IF(入力シート!H79=\"\",\"\",\"〇\")","v":""},{"$f":"IF(入力シート!AA79=\"\",\"\",入力シート!AA79)","v":""},{"$f":"IF(入力シート!AB79=\"\",\"\",入力シート!AB79)","v":""},{"$f":"IF(入力シート!AC79=\"\",\"\",入力シート!AC79)","v":""},{"$f":"IF(入力シート!AD79=\"\",\"\",入力シート!AD79)","v":""}]
[{"$f":"IF(入力シート!B80=\"\",\"\",入力シート!B80)","v":""},{"$f":"IF(入力シート!C80=\"\",\"\",入力シート!C80)","v":""},{"$f":"IF(入力シート!D80=\"\",\"\",DBCS(入力シート!D80))","v":""},{"$f":"IF(入力シート!E80=\"\",\"\",DBCS(入力シート!E80))","v":""},{"$f":"ASC(IF(入力シート!F80=\"\",\"\",UPPER(入力シート!F80)))","v":""},{"$f":"IF(入力シート!G80=\"\",\"\",PROPER(入力シート!G80))","v":""},{"$f":"IF(入力シート!H80=\"\",\"\",入力シート!H80)","v":""},{"$f":"IF(入力シート!I80=\"\",\"\",TEXT(入力シート!I80,\"yyyy/mm/dd\"))","v":""},{"$f":"IF(入力シート!J80=\"\",\"\",入力シート!J80)","v":""},{"$f":"IF(入力シート!K80=\"\",\"\",入力シート!K80)","v":""},{"$f":"IF(入力シート!L80=\"\",\"\",入力シート!L80)","v":""},{"$f":"IF(入力シート!M80=\"\",\"\",入力シート!M80)","v":""},{"$f":"IF(入力シート!N80=\"\",\"\",入力シート!N80)","v":""},{"$f":"IF(入力シート!O80=\"\",\"\",入力シート!O80)","v":""},null,{"$f":"IF(入力シート!P80=\"\",\"\",入力シート!P80)","v":""},{"$f":"IF(入力シート!Q80=\"\",\"\",入力シート!Q80)","v":""},{"$f":"IF(入力シート!R80=\"\",\"\",入力シート!R80)","v":""},{"$f":"IF(入力シート!S80=\"\",\"\",入力シート!S80)","v":""},{"$f":"IF(入力シート!T80=\"\",\"\",入力シート!T80)","v":""},{"$f":"IF(入力シート!U80=\"\",\"\",入力シート!U80)","v":""},{"$f":"IF(入力シート!V80=\"\",\"\",入力シート!V80)","v":""},{"$f":"IF(入力シート!W80=\"\",\"\",入力シート!W80)","v":""},{"$f":"IF(入力シート!X80=\"\",\"\",入力シート!X80)","v":""},{"$f":"IF(入力シート!Y80=\"\",\"\",入力シート!Y80)","v":""},{"$f":"IF(入力シート!Z80=\"\",\"\",入力シート!Z80)","v":""},null,null,{"$f":"IF(入力シート!H80=\"\",\"\",\"〇\")","v":""},{"$f":"IF(入力シート!AA80=\"\",\"\",入力シート!AA80)","v":""},{"$f":"IF(入力シート!AB80=\"\",\"\",入力シート!AB80)","v":""},{"$f":"IF(入力シート!AC80=\"\",\"\",入力シート!AC80)","v":""},{"$f":"IF(入力シート!AD80=\"\",\"\",入力シート!AD80)","v":""}]
[{"$f":"IF(入力シート!B81=\"\",\"\",入力シート!B81)","v":""},{"$f":"IF(入力シート!C81=\"\",\"\",入力シート!C81)","v":""},{"$f":"IF(入力シート!D81=\"\",\"\",DBCS(入力シート!D81))","v":""},{"$f":"IF(入力シート!E81=\"\",\"\",DBCS(入力シート!E81))","v":""},{"$f":"ASC(IF(入力シート!F81=\"\",\"\",UPPER(入力シート!F81)))","v":""},{"$f":"IF(入力シート!G81=\"\",\"\",PROPER(入力シート!G81))","v":""},{"$f":"IF(入力シート!H81=\"\",\"\",入力シート!H81)","v":""},{"$f":"IF(入力シート!I81=\"\",\"\",TEXT(入力シート!I81,\"yyyy/mm/dd\"))","v":""},{"$f":"IF(入力シート!J81=\"\",\"\",入力シート!J81)","v":""},{"$f":"IF(入力シート!K81=\"\",\"\",入力シート!K81)","v":""},{"$f":"IF(入力シート!L81=\"\",\"\",入力シート!L81)","v":""},{"$f":"IF(入力シート!M81=\"\",\"\",入力シート!M81)","v":""},{"$f":"IF(入力シート!N81=\"\",\"\",入力シート!N81)","v":""},{"$f":"IF(入力シート!O81=\"\",\"\",入力シート!O81)","v":""},null,{"$f":"IF(入力シート!P81=\"\",\"\",入力シート!P81)","v":""},{"$f":"IF(入力シート!Q81=\"\",\"\",入力シート!Q81)","v":""},{"$f":"IF(入力シート!R81=\"\",\"\",入力シート!R81)","v":""},{"$f":"IF(入力シート!S81=\"\",\"\",入力シート!S81)","v":""},{"$f":"IF(入力シート!T81=\"\",\"\",入力シート!T81)","v":""},{"$f":"IF(入力シート!U81=\"\",\"\",入力シート!U81)","v":""},{"$f":"IF(入力シート!V81=\"\",\"\",入力シート!V81)","v":""},{"$f":"IF(入力シート!W81=\"\",\"\",入力シート!W81)","v":""},{"$f":"IF(入力シート!X81=\"\",\"\",入力シート!X81)","v":""},{"$f":"IF(入力シート!Y81=\"\",\"\",入力シート!Y81)","v":""},{"$f":"IF(入力シート!Z81=\"\",\"\",入力シート!Z81)","v":""},null,null,{"$f":"IF(入力シート!H81=\"\",\"\",\"〇\")","v":""},{"$f":"IF(入力シート!AA81=\"\",\"\",入力シート!AA81)","v":""},{"$f":"IF(入力シート!AB81=\"\",\"\",入力シート!AB81)","v":""},{"$f":"IF(入力シート!AC81=\"\",\"\",入力シート!AC81)","v":""},{"$f":"IF(入力シート!AD81=\"\",\"\",入力シート!AD81)","v":""}]
[{"$f":"IF(入力シート!B82=\"\",\"\",入力シート!B82)","v":""},{"$f":"IF(入力シート!C82=\"\",\"\",入力シート!C82)","v":""},{"$f":"IF(入力シート!D82=\"\",\"\",DBCS(入力シート!D82))","v":""},{"$f":"IF(入力シート!E82=\"\",\"\",DBCS(入力シート!E82))","v":""},{"$f":"ASC(IF(入力シート!F82=\"\",\"\",UPPER(入力シート!F82)))","v":""},{"$f":"IF(入力シート!G82=\"\",\"\",PROPER(入力シート!G82))","v":""},{"$f":"IF(入力シート!H82=\"\",\"\",入力シート!H82)","v":""},{"$f":"IF(入力シート!I82=\"\",\"\",TEXT(入力シート!I82,\"yyyy/mm/dd\"))","v":""},{"$f":"IF(入力シート!J82=\"\",\"\",入力シート!J82)","v":""},{"$f":"IF(入力シート!K82=\"\",\"\",入力シート!K82)","v":""},{"$f":"IF(入力シート!L82=\"\",\"\",入力シート!L82)","v":""},{"$f":"IF(入力シート!M82=\"\",\"\",入力シート!M82)","v":""},{"$f":"IF(入力シート!N82=\"\",\"\",入力シート!N82)","v":""},{"$f":"IF(入力シート!O82=\"\",\"\",入力シート!O82)","v":""},null,{"$f":"IF(入力シート!P82=\"\",\"\",入力シート!P82)","v":""},{"$f":"IF(入力シート!Q82=\"\",\"\",入力シート!Q82)","v":""},{"$f":"IF(入力シート!R82=\"\",\"\",入力シート!R82)","v":""},{"$f":"IF(入力シート!S82=\"\",\"\",入力シート!S82)","v":""},{"$f":"IF(入力シート!T82=\"\",\"\",入力シート!T82)","v":""},{"$f":"IF(入力シート!U82=\"\",\"\",入力シート!U82)","v":""},{"$f":"IF(入力シート!V82=\"\",\"\",入力シート!V82)","v":""},{"$f":"IF(入力シート!W82=\"\",\"\",入力シート!W82)","v":""},{"$f":"IF(入力シート!X82=\"\",\"\",入力シート!X82)","v":""},{"$f":"IF(入力シート!Y82=\"\",\"\",入力シート!Y82)","v":""},{"$f":"IF(入力シート!Z82=\"\",\"\",入力シート!Z82)","v":""},null,null,{"$f":"IF(入力シート!H82=\"\",\"\",\"〇\")","v":""},{"$f":"IF(入力シート!AA82=\"\",\"\",入力シート!AA82)","v":""},{"$f":"IF(入力シート!AB82=\"\",\"\",入力シート!AB82)","v":""},{"$f":"IF(入力シート!AC82=\"\",\"\",入力シート!AC82)","v":""},{"$f":"IF(入力シート!AD82=\"\",\"\",入力シート!AD82)","v":""}]
[{"$f":"IF(入力シート!B83=\"\",\"\",入力シート!B83)","v":""},{"$f":"IF(入力シート!C83=\"\",\"\",入力シート!C83)","v":""},{"$f":"IF(入力シート!D83=\"\",\"\",DBCS(入力シート!D83))","v":""},{"$f":"IF(入力シート!E83=\"\",\"\",DBCS(入力シート!E83))","v":""},{"$f":"ASC(IF(入力シート!F83=\"\",\"\",UPPER(入力シート!F83)))","v":""},{"$f":"IF(入力シート!G83=\"\",\"\",PROPER(入力シート!G83))","v":""},{"$f":"IF(入力シート!H83=\"\",\"\",入力シート!H83)","v":""},{"$f":"IF(入力シート!I83=\"\",\"\",TEXT(入力シート!I83,\"yyyy/mm/dd\"))","v":""},{"$f":"IF(入力シート!J83=\"\",\"\",入力シート!J83)","v":""},{"$f":"IF(入力シート!K83=\"\",\"\",入力シート!K83)","v":""},{"$f":"IF(入力シート!L83=\"\",\"\",入力シート!L83)","v":""},{"$f":"IF(入力シート!M83=\"\",\"\",入力シート!M83)","v":""},{"$f":"IF(入力シート!N83=\"\",\"\",入力シート!N83)","v":""},{"$f":"IF(入力シート!O83=\"\",\"\",入力シート!O83)","v":""},null,{"$f":"IF(入力シート!P83=\"\",\"\",入力シート!P83)","v":""},{"$f":"IF(入力シート!Q83=\"\",\"\",入力シート!Q83)","v":""},{"$f":"IF(入力シート!R83=\"\",\"\",入力シート!R83)","v":""},{"$f":"IF(入力シート!S83=\"\",\"\",入力シート!S83)","v":""},{"$f":"IF(入力シート!T83=\"\",\"\",入力シート!T83)","v":""},{"$f":"IF(入力シート!U83=\"\",\"\",入力シート!U83)","v":""},{"$f":"IF(入力シート!V83=\"\",\"\",入力シート!V83)","v":""},{"$f":"IF(入力シート!W83=\"\",\"\",入力シート!W83)","v":""},{"$f":"IF(入力シート!X83=\"\",\"\",入力シート!X83)","v":""},{"$f":"IF(入力シート!Y83=\"\",\"\",入力シート!Y83)","v":""},{"$f":"IF(入力シート!Z83=\"\",\"\",入力シート!Z83)","v":""},null,null,{"$f":"IF(入力シート!H83=\"\",\"\",\"〇\")","v":""},{"$f":"IF(入力シート!AA83=\"\",\"\",入力シート!AA83)","v":""},{"$f":"IF(入力シート!AB83=\"\",\"\",入力シート!AB83)","v":""},{"$f":"IF(入力シート!AC83=\"\",\"\",入力シート!AC83)","v":""},{"$f":"IF(入力シート!AD83=\"\",\"\",入力シート!AD83)","v":""}]
[{"$f":"IF(入力シート!B84=\"\",\"\",入力シート!B84)","v":""},{"$f":"IF(入力シート!C84=\"\",\"\",入力シート!C84)","v":""},{"$f":"IF(入力シート!D84=\"\",\"\",DBCS(入力シート!D84))","v":""},{"$f":"IF(入力シート!E84=\"\",\"\",DBCS(入力シート!E84))","v":""},{"$f":"ASC(IF(入力シート!F84=\"\",\"\",UPPER(入力シート!F84)))","v":""},{"$f":"IF(入力シート!G84=\"\",\"\",PROPER(入力シート!G84))","v":""},{"$f":"IF(入力シート!H84=\"\",\"\",入力シート!H84)","v":""},{"$f":"IF(入力シート!I84=\"\",\"\",TEXT(入力シート!I84,\"yyyy/mm/dd\"))","v":""},{"$f":"IF(入力シート!J84=\"\",\"\",入力シート!J84)","v":""},{"$f":"IF(入力シート!K84=\"\",\"\",入力シート!K84)","v":""},{"$f":"IF(入力シート!L84=\"\",\"\",入力シート!L84)","v":""},{"$f":"IF(入力シート!M84=\"\",\"\",入力シート!M84)","v":""},{"$f":"IF(入力シート!N84=\"\",\"\",入力シート!N84)","v":""},{"$f":"IF(入力シート!O84=\"\",\"\",入力シート!O84)","v":""},null,{"$f":"IF(入力シート!P84=\"\",\"\",入力シート!P84)","v":""},{"$f":"IF(入力シート!Q84=\"\",\"\",入力シート!Q84)","v":""},{"$f":"IF(入力シート!R84=\"\",\"\",入力シート!R84)","v":""},{"$f":"IF(入力シート!S84=\"\",\"\",入力シート!S84)","v":""},{"$f":"IF(入力シート!T84=\"\",\"\",入力シート!T84)","v":""},{"$f":"IF(入力シート!U84=\"\",\"\",入力シート!U84)","v":""},{"$f":"IF(入力シート!V84=\"\",\"\",入力シート!V84)","v":""},{"$f":"IF(入力シート!W84=\"\",\"\",入力シート!W84)","v":""},{"$f":"IF(入力シート!X84=\"\",\"\",入力シート!X84)","v":""},{"$f":"IF(入力シート!Y84=\"\",\"\",入力シート!Y84)","v":""},{"$f":"IF(入力シート!Z84=\"\",\"\",入力シート!Z84)","v":""},null,null,{"$f":"IF(入力シート!H84=\"\",\"\",\"〇\")","v":""},{"$f":"IF(入力シート!AA84=\"\",\"\",入力シート!AA84)","v":""},{"$f":"IF(入力シート!AB84=\"\",\"\",入力シート!AB84)","v":""},{"$f":"IF(入力シート!AC84=\"\",\"\",入力シート!AC84)","v":""},{"$f":"IF(入力シート!AD84=\"\",\"\",入力シート!AD84)","v":""}]
[{"$f":"IF(入力シート!B85=\"\",\"\",入力シート!B85)","v":""},{"$f":"IF(入力シート!C85=\"\",\"\",入力シート!C85)","v":""},{"$f":"IF(入力シート!D85=\"\",\"\",DBCS(入力シート!D85))","v":""},{"$f":"IF(入力シート!E85=\"\",\"\",DBCS(入力シート!E85))","v":""},{"$f":"ASC(IF(入力シート!F85=\"\",\"\",UPPER(入力シート!F85)))","v":""},{"$f":"IF(入力シート!G85=\"\",\"\",PROPER(入力シート!G85))","v":""},{"$f":"IF(入力シート!H85=\"\",\"\",入力シート!H85)","v":""},{"$f":"IF(入力シート!I85=\"\",\"\",TEXT(入力シート!I85,\"yyyy/mm/dd\"))","v":""},{"$f":"IF(入力シート!J85=\"\",\"\",入力シート!J85)","v":""},{"$f":"IF(入力シート!K85=\"\",\"\",入力シート!K85)","v":""},{"$f":"IF(入力シート!L85=\"\",\"\",入力シート!L85)","v":""},{"$f":"IF(入力シート!M85=\"\",\"\",入力シート!M85)","v":""},{"$f":"IF(入力シート!N85=\"\",\"\",入力シート!N85)","v":""},{"$f":"IF(入力シート!O85=\"\",\"\",入力シート!O85)","v":""},null,{"$f":"IF(入力シート!P85=\"\",\"\",入力シート!P85)","v":""},{"$f":"IF(入力シート!Q85=\"\",\"\",入力シート!Q85)","v":""},{"$f":"IF(入力シート!R85=\"\",\"\",入力シート!R85)","v":""},{"$f":"IF(入力シート!S85=\"\",\"\",入力シート!S85)","v":""},{"$f":"IF(入力シート!T85=\"\",\"\",入力シート!T85)","v":""},{"$f":"IF(入力シート!U85=\"\",\"\",入力シート!U85)","v":""},{"$f":"IF(入力シート!V85=\"\",\"\",入力シート!V85)","v":""},{"$f":"IF(入力シート!W85=\"\",\"\",入力シート!W85)","v":""},{"$f":"IF(入力シート!X85=\"\",\"\",入力シート!X85)","v":""},{"$f":"IF(入力シート!Y85=\"\",\"\",入力シート!Y85)","v":""},{"$f":"IF(入力シート!Z85=\"\",\"\",入力シート!Z85)","v":""},null,null,{"$f":"IF(入力シート!H85=\"\",\"\",\"〇\")","v":""},{"$f":"IF(入力シート!AA85=\"\",\"\",入力シート!AA85)","v":""},{"$f":"IF(入力シート!AB85=\"\",\"\",入力シート!AB85)","v":""},{"$f":"IF(入力シート!AC85=\"\",\"\",入力シート!AC85)","v":""},{"$f":"IF(入力シート!AD85=\"\",\"\",入力シート!AD85)","v":""}]
[{"$f":"IF(入力シート!B86=\"\",\"\",入力シート!B86)","v":""},{"$f":"IF(入力シート!C86=\"\",\"\",入力シート!C86)","v":""},{"$f":"IF(入力シート!D86=\"\",\"\",DBCS(入力シート!D86))","v":""},{"$f":"IF(入力シート!E86=\"\",\"\",DBCS(入力シート!E86))","v":""},{"$f":"ASC(IF(入力シート!F86=\"\",\"\",UPPER(入力シート!F86)))","v":""},{"$f":"IF(入力シート!G86=\"\",\"\",PROPER(入力シート!G86))","v":""},{"$f":"IF(入力シート!H86=\"\",\"\",入力シート!H86)","v":""},{"$f":"IF(入力シート!I86=\"\",\"\",TEXT(入力シート!I86,\"yyyy/mm/dd\"))","v":""},{"$f":"IF(入力シート!J86=\"\",\"\",入力シート!J86)","v":""},{"$f":"IF(入力シート!K86=\"\",\"\",入力シート!K86)","v":""},{"$f":"IF(入力シート!L86=\"\",\"\",入力シート!L86)","v":""},{"$f":"IF(入力シート!M86=\"\",\"\",入力シート!M86)","v":""},{"$f":"IF(入力シート!N86=\"\",\"\",入力シート!N86)","v":""},{"$f":"IF(入力シート!O86=\"\",\"\",入力シート!O86)","v":""},null,{"$f":"IF(入力シート!P86=\"\",\"\",入力シート!P86)","v":""},{"$f":"IF(入力シート!Q86=\"\",\"\",入力シート!Q86)","v":""},{"$f":"IF(入力シート!R86=\"\",\"\",入力シート!R86)","v":""},{"$f":"IF(入力シート!S86=\"\",\"\",入力シート!S86)","v":""},{"$f":"IF(入力シート!T86=\"\",\"\",入力シート!T86)","v":""},{"$f":"IF(入力シート!U86=\"\",\"\",入力シート!U86)","v":""},{"$f":"IF(入力シート!V86=\"\",\"\",入力シート!V86)","v":""},{"$f":"IF(入力シート!W86=\"\",\"\",入力シート!W86)","v":""},{"$f":"IF(入力シート!X86=\"\",\"\",入力シート!X86)","v":""},{"$f":"IF(入力シート!Y86=\"\",\"\",入力シート!Y86)","v":""},{"$f":"IF(入力シート!Z86=\"\",\"\",入力シート!Z86)","v":""},null,null,{"$f":"IF(入力シート!H86=\"\",\"\",\"〇\")","v":""},{"$f":"IF(入力シート!AA86=\"\",\"\",入力シート!AA86)","v":""},{"$f":"IF(入力シート!AB86=\"\",\"\",入力シート!AB86)","v":""},{"$f":"IF(入力シート!AC86=\"\",\"\",入力シート!AC86)","v":""},{"$f":"IF(入力シート!AD86=\"\",\"\",入力シート!AD86)","v":""}]
[{"$f":"IF(入力シート!B87=\"\",\"\",入力シート!B87)","v":""},{"$f":"IF(入力シート!C87=\"\",\"\",入力シート!C87)","v":""},{"$f":"IF(入力シート!D87=\"\",\"\",DBCS(入力シート!D87))","v":""},{"$f":"IF(入力シート!E87=\"\",\"\",DBCS(入力シート!E87))","v":""},{"$f":"ASC(IF(入力シート!F87=\"\",\"\",UPPER(入力シート!F87)))","v":""},{"$f":"IF(入力シート!G87=\"\",\"\",PROPER(入力シート!G87))","v":""},{"$f":"IF(入力シート!H87=\"\",\"\",入力シート!H87)","v":""},{"$f":"IF(入力シート!I87=\"\",\"\",TEXT(入力シート!I87,\"yyyy/mm/dd\"))","v":""},{"$f":"IF(入力シート!J87=\"\",\"\",入力シート!J87)","v":""},{"$f":"IF(入力シート!K87=\"\",\"\",入力シート!K87)","v":""},{"$f":"IF(入力シート!L87=\"\",\"\",入力シート!L87)","v":""},{"$f":"IF(入力シート!M87=\"\",\"\",入力シート!M87)","v":""},{"$f":"IF(入力シート!N87=\"\",\"\",入力シート!N87)","v":""},{"$f":"IF(入力シート!O87=\"\",\"\",入力シート!O87)","v":""},null,{"$f":"IF(入力シート!P87=\"\",\"\",入力シート!P87)","v":""},{"$f":"IF(入力シート!Q87=\"\",\"\",入力シート!Q87)","v":""},{"$f":"IF(入力シート!R87=\"\",\"\",入力シート!R87)","v":""},{"$f":"IF(入力シート!S87=\"\",\"\",入力シート!S87)","v":""},{"$f":"IF(入力シート!T87=\"\",\"\",入力シート!T87)","v":""},{"$f":"IF(入力シート!U87=\"\",\"\",入力シート!U87)","v":""},{"$f":"IF(入力シート!V87=\"\",\"\",入力シート!V87)","v":""},{"$f":"IF(入力シート!W87=\"\",\"\",入力シート!W87)","v":""},{"$f":"IF(入力シート!X87=\"\",\"\",入力シート!X87)","v":""},{"$f":"IF(入力シート!Y87=\"\",\"\",入力シート!Y87)","v":""},{"$f":"IF(入力シート!Z87=\"\",\"\",入力シート!Z87)","v":""},null,null,{"$f":"IF(入力シート!H87=\"\",\"\",\"〇\")","v":""},{"$f":"IF(入力シート!AA87=\"\",\"\",入力シート!AA87)","v":""},{"$f":"IF(入力シート!AB87=\"\",\"\",入力シート!AB87)","v":""},{"$f":"IF(入力シート!AC87=\"\",\"\",入力シート!AC87)","v":""},{"$f":"IF(入力シート!AD87=\"\",\"\",入力シート!AD87)","v":""}]
[{"$f":"IF(入力シート!B88=\"\",\"\",入力シート!B88)","v":""},{"$f":"IF(入力シート!C88=\"\",\"\",入力シート!C88)","v":""},{"$f":"IF(入力シート!D88=\"\",\"\",DBCS(入力シート!D88))","v":""},{"$f":"IF(入力シート!E88=\"\",\"\",DBCS(入力シート!E88))","v":""},{"$f":"ASC(IF(入力シート!F88=\"\",\"\",UPPER(入力シート!F88)))","v":""},{"$f":"IF(入力シート!G88=\"\",\"\",PROPER(入力シート!G88))","v":""},{"$f":"IF(入力シート!H88=\"\",\"\",入力シート!H88)","v":""},{"$f":"IF(入力シート!I88=\"\",\"\",TEXT(入力シート!I88,\"yyyy/mm/dd\"))","v":""},{"$f":"IF(入力シート!J88=\"\",\"\",入力シート!J88)","v":""},{"$f":"IF(入力シート!K88=\"\",\"\",入力シート!K88)","v":""},{"$f":"IF(入力シート!L88=\"\",\"\",入力シート!L88)","v":""},{"$f":"IF(入力シート!M88=\"\",\"\",入力シート!M88)","v":""},{"$f":"IF(入力シート!N88=\"\",\"\",入力シート!N88)","v":""},{"$f":"IF(入力シート!O88=\"\",\"\",入力シート!O88)","v":""},null,{"$f":"IF(入力シート!P88=\"\",\"\",入力シート!P88)","v":""},{"$f":"IF(入力シート!Q88=\"\",\"\",入力シート!Q88)","v":""},{"$f":"IF(入力シート!R88=\"\",\"\",入力シート!R88)","v":""},{"$f":"IF(入力シート!S88=\"\",\"\",入力シート!S88)","v":""},{"$f":"IF(入力シート!T88=\"\",\"\",入力シート!T88)","v":""},{"$f":"IF(入力シート!U88=\"\",\"\",入力シート!U88)","v":""},{"$f":"IF(入力シート!V88=\"\",\"\",入力シート!V88)","v":""},{"$f":"IF(入力シート!W88=\"\",\"\",入力シート!W88)","v":""},{"$f":"IF(入力シート!X88=\"\",\"\",入力シート!X88)","v":""},{"$f":"IF(入力シート!Y88=\"\",\"\",入力シート!Y88)","v":""},{"$f":"IF(入力シート!Z88=\"\",\"\",入力シート!Z88)","v":""},null,null,{"$f":"IF(入力シート!H88=\"\",\"\",\"〇\")","v":""},{"$f":"IF(入力シート!AA88=\"\",\"\",入力シート!AA88)","v":""},{"$f":"IF(入力シート!AB88=\"\",\"\",入力シート!AB88)","v":""},{"$f":"IF(入力シート!AC88=\"\",\"\",入力シート!AC88)","v":""},{"$f":"IF(入力シート!AD88=\"\",\"\",入力シート!AD88)","v":""}]
[{"$f":"IF(入力シート!B89=\"\",\"\",入力シート!B89)","v":""},{"$f":"IF(入力シート!C89=\"\",\"\",入力シート!C89)","v":""},{"$f":"IF(入力シート!D89=\"\",\"\",DBCS(入力シート!D89))","v":""},{"$f":"IF(入力シート!E89=\"\",\"\",DBCS(入力シート!E89))","v":""},{"$f":"ASC(IF(入力シート!F89=\"\",\"\",UPPER(入力シート!F89)))","v":""},{"$f":"IF(入力シート!G89=\"\",\"\",PROPER(入力シート!G89))","v":""},{"$f":"IF(入力シート!H89=\"\",\"\",入力シート!H89)","v":""},{"$f":"IF(入力シート!I89=\"\",\"\",TEXT(入力シート!I89,\"yyyy/mm/dd\"))","v":""},{"$f":"IF(入力シート!J89=\"\",\"\",入力シート!J89)","v":""},{"$f":"IF(入力シート!K89=\"\",\"\",入力シート!K89)","v":""},{"$f":"IF(入力シート!L89=\"\",\"\",入力シート!L89)","v":""},{"$f":"IF(入力シート!M89=\"\",\"\",入力シート!M89)","v":""},{"$f":"IF(入力シート!N89=\"\",\"\",入力シート!N89)","v":""},{"$f":"IF(入力シート!O89=\"\",\"\",入力シート!O89)","v":""},null,{"$f":"IF(入力シート!P89=\"\",\"\",入力シート!P89)","v":""},{"$f":"IF(入力シート!Q89=\"\",\"\",入力シート!Q89)","v":""},{"$f":"IF(入力シート!R89=\"\",\"\",入力シート!R89)","v":""},{"$f":"IF(入力シート!S89=\"\",\"\",入力シート!S89)","v":""},{"$f":"IF(入力シート!T89=\"\",\"\",入力シート!T89)","v":""},{"$f":"IF(入力シート!U89=\"\",\"\",入力シート!U89)","v":""},{"$f":"IF(入力シート!V89=\"\",\"\",入力シート!V89)","v":""},{"$f":"IF(入力シート!W89=\"\",\"\",入力シート!W89)","v":""},{"$f":"IF(入力シート!X89=\"\",\"\",入力シート!X89)","v":""},{"$f":"IF(入力シート!Y89=\"\",\"\",入力シート!Y89)","v":""},{"$f":"IF(入力シート!Z89=\"\",\"\",入力シート!Z89)","v":""},null,null,{"$f":"IF(入力シート!H89=\"\",\"\",\"〇\")","v":""},{"$f":"IF(入力シート!AA89=\"\",\"\",入力シート!AA89)","v":""},{"$f":"IF(入力シート!AB89=\"\",\"\",入力シート!AB89)","v":""},{"$f":"IF(入力シート!AC89=\"\",\"\",入力シート!AC89)","v":""},{"$f":"IF(入力シート!AD89=\"\",\"\",入力シート!AD89)","v":""}]
[{"$f":"IF(入力シート!B90=\"\",\"\",入力シート!B90)","v":""},{"$f":"IF(入力シート!C90=\"\",\"\",入力シート!C90)","v":""},{"$f":"IF(入力シート!D90=\"\",\"\",DBCS(入力シート!D90))","v":""},{"$f":"IF(入力シート!E90=\"\",\"\",DBCS(入力シート!E90))","v":""},{"$f":"ASC(IF(入力シート!F90=\"\",\"\",UPPER(入力シート!F90)))","v":""},{"$f":"IF(入力シート!G90=\"\",\"\",PROPER(入力シート!G90))","v":""},{"$f":"IF(入力シート!H90=\"\",\"\",入力シート!H90)","v":""},{"$f":"IF(入力シート!I90=\"\",\"\",TEXT(入力シート!I90,\"yyyy/mm/dd\"))","v":""},{"$f":"IF(入力シート!J90=\"\",\"\",入力シート!J90)","v":""},{"$f":"IF(入力シート!K90=\"\",\"\",入力シート!K90)","v":""},{"$f":"IF(入力シート!L90=\"\",\"\",入力シート!L90)","v":""},{"$f":"IF(入力シート!M90=\"\",\"\",入力シート!M90)","v":""},{"$f":"IF(入力シート!N90=\"\",\"\",入力シート!N90)","v":""},{"$f":"IF(入力シート!O90=\"\",\"\",入力シート!O90)","v":""},null,{"$f":"IF(入力シート!P90=\"\",\"\",入力シート!P90)","v":""},{"$f":"IF(入力シート!Q90=\"\",\"\",入力シート!Q90)","v":""},{"$f":"IF(入力シート!R90=\"\",\"\",入力シート!R90)","v":""},{"$f":"IF(入力シート!S90=\"\",\"\",入力シート!S90)","v":""},{"$f":"IF(入力シート!T90=\"\",\"\",入力シート!T90)","v":""},{"$f":"IF(入力シート!U90=\"\",\"\",入力シート!U90)","v":""},{"$f":"IF(入力シート!V90=\"\",\"\",入力シート!V90)","v":""},{"$f":"IF(入力シート!W90=\"\",\"\",入力シート!W90)","v":""},{"$f":"IF(入力シート!X90=\"\",\"\",入力シート!X90)","v":""},{"$f":"IF(入力シート!Y90=\"\",\"\",入力シート!Y90)","v":""},{"$f":"IF(入力シート!Z90=\"\",\"\",入力シート!Z90)","v":""},null,null,{"$f":"IF(入力シート!H90=\"\",\"\",\"〇\")","v":""},{"$f":"IF(入力シート!AA90=\"\",\"\",入力シート!AA90)","v":""},{"$f":"IF(入力シート!AB90=\"\",\"\",入力シート!AB90)","v":""},{"$f":"IF(入力シート!AC90=\"\",\"\",入力シート!AC90)","v":""},{"$f":"IF(入力シート!AD90=\"\",\"\",入力シート!AD90)","v":""}]
[{"$f":"IF(入力シート!B91=\"\",\"\",入力シート!B91)","v":""},{"$f":"IF(入力シート!C91=\"\",\"\",入力シート!C91)","v":""},{"$f":"IF(入力シート!D91=\"\",\"\",DBCS(入力シート!D91))","v":""},{"$f":"IF(入力シート!E91=\"\",\"\",DBCS(入力シート!E91))","v":""},{"$f":"ASC(IF(入力シート!F91=\"\",\"\",UPPER(入力シート!F91)))","v":""},{"$f":"IF(入力シート!G91=\"\",\"\",PROPER(入力シート!G91))","v":""},{"$f":"IF(入力シート!H91=\"\",\"\",入力シート!H91)","v":""},{"$f":"IF(入力シート!I91=\"\",\"\",TEXT(入力シート!I91,\"yyyy/mm/dd\"))","v":""},{"$f":"IF(入力シート!J91=\"\",\"\",入力シート!J91)","v":""},{"$f":"IF(入力シート!K91=\"\",\"\",入力シート!K91)","v":""},{"$f":"IF(入力シート!L91=\"\",\"\",入力シート!L91)","v":""},{"$f":"IF(入力シート!M91=\"\",\"\",入力シート!M91)","v":""},{"$f":"IF(入力シート!N91=\"\",\"\",入力シート!N91)","v":""},{"$f":"IF(入力シート!O91=\"\",\"\",入力シート!O91)","v":""},null,{"$f":"IF(入力シート!P91=\"\",\"\",入力シート!P91)","v":""},{"$f":"IF(入力シート!Q91=\"\",\"\",入力シート!Q91)","v":""},{"$f":"IF(入力シート!R91=\"\",\"\",入力シート!R91)","v":""},{"$f":"IF(入力シート!S91=\"\",\"\",入力シート!S91)","v":""},{"$f":"IF(入力シート!T91=\"\",\"\",入力シート!T91)","v":""},{"$f":"IF(入力シート!U91=\"\",\"\",入力シート!U91)","v":""},{"$f":"IF(入力シート!V91=\"\",\"\",入力シート!V91)","v":""},{"$f":"IF(入力シート!W91=\"\",\"\",入力シート!W91)","v":""},{"$f":"IF(入力シート!X91=\"\",\"\",入力シート!X91)","v":""},{"$f":"IF(入力シート!Y91=\"\",\"\",入力シート!Y91)","v":""},{"$f":"IF(入力シート!Z91=\"\",\"\",入力シート!Z91)","v":""},null,null,{"$f":"IF(入力シート!H91=\"\",\"\",\"〇\")","v":""},{"$f":"IF(入力シート!AA91=\"\",\"\",入力シート!AA91)","v":""},{"$f":"IF(入力シート!AB91=\"\",\"\",入力シート!AB91)","v":""},{"$f":"IF(入力シート!AC91=\"\",\"\",入力シート!AC91)","v":""},{"$f":"IF(入力シート!AD91=\"\",\"\",入力シート!AD91)","v":""}]
[{"$f":"IF(入力シート!B92=\"\",\"\",入力シート!B92)","v":""},{"$f":"IF(入力シート!C92=\"\",\"\",入力シート!C92)","v":""},{"$f":"IF(入力シート!D92=\"\",\"\",DBCS(入力シート!D92))","v":""},{"$f":"IF(入力シート!E92=\"\",\"\",DBCS(入力シート!E92))","v":""},{"$f":"ASC(IF(入力シート!F92=\"\",\"\",UPPER(入力シート!F92)))","v":""},{"$f":"IF(入力シート!G92=\"\",\"\",PROPER(入力シート!G92))","v":""},{"$f":"IF(入力シート!H92=\"\",\"\",入力シート!H92)","v":""},{"$f":"IF(入力シート!I92=\"\",\"\",TEXT(入力シート!I92,\"yyyy/mm/dd\"))","v":""},{"$f":"IF(入力シート!J92=\"\",\"\",入力シート!J92)","v":""},{"$f":"IF(入力シート!K92=\"\",\"\",入力シート!K92)","v":""},{"$f":"IF(入力シート!L92=\"\",\"\",入力シート!L92)","v":""},{"$f":"IF(入力シート!M92=\"\",\"\",入力シート!M92)","v":""},{"$f":"IF(入力シート!N92=\"\",\"\",入力シート!N92)","v":""},{"$f":"IF(入力シート!O92=\"\",\"\",入力シート!O92)","v":""},null,{"$f":"IF(入力シート!P92=\"\",\"\",入力シート!P92)","v":""},{"$f":"IF(入力シート!Q92=\"\",\"\",入力シート!Q92)","v":""},{"$f":"IF(入力シート!R92=\"\",\"\",入力シート!R92)","v":""},{"$f":"IF(入力シート!S92=\"\",\"\",入力シート!S92)","v":""},{"$f":"IF(入力シート!T92=\"\",\"\",入力シート!T92)","v":""},{"$f":"IF(入力シート!U92=\"\",\"\",入力シート!U92)","v":""},{"$f":"IF(入力シート!V92=\"\",\"\",入力シート!V92)","v":""},{"$f":"IF(入力シート!W92=\"\",\"\",入力シート!W92)","v":""},{"$f":"IF(入力シート!X92=\"\",\"\",入力シート!X92)","v":""},{"$f":"IF(入力シート!Y92=\"\",\"\",入力シート!Y92)","v":""},{"$f":"IF(入力シート!Z92=\"\",\"\",入力シート!Z92)","v":""},null,null,{"$f":"IF(入力シート!H92=\"\",\"\",\"〇\")","v":""},{"$f":"IF(入力シート!AA92=\"\",\"\",入力シート!AA92)","v":""},{"$f":"IF(入力シート!AB92=\"\",\"\",入力シート!AB92)","v":""},{"$f":"IF(入力シート!AC92=\"\",\"\",入力シート!AC92)","v":""},{"$f":"IF(入力シート!AD92=\"\",\"\",入力シート!AD92)","v":""}]
[{"$f":"IF(入力シート!B93=\"\",\"\",入力シート!B93)","v":""},{"$f":"IF(入力シート!C93=\"\",\"\",入力シート!C93)","v":""},{"$f":"IF(入力シート!D93=\"\",\"\",DBCS(入力シート!D93))","v":""},{"$f":"IF(入力シート!E93=\"\",\"\",DBCS(入力シート!E93))","v":""},{"$f":"ASC(IF(入力シート!F93=\"\",\"\",UPPER(入力シート!F93)))","v":""},{"$f":"IF(入力シート!G93=\"\",\"\",PROPER(入力シート!G93))","v":""},{"$f":"IF(入力シート!H93=\"\",\"\",入力シート!H93)","v":""},{"$f":"IF(入力シート!I93=\"\",\"\",TEXT(入力シート!I93,\"yyyy/mm/dd\"))","v":""},{"$f":"IF(入力シート!J93=\"\",\"\",入力シート!J93)","v":""},{"$f":"IF(入力シート!K93=\"\",\"\",入力シート!K93)","v":""},{"$f":"IF(入力シート!L93=\"\",\"\",入力シート!L93)","v":""},{"$f":"IF(入力シート!M93=\"\",\"\",入力シート!M93)","v":""},{"$f":"IF(入力シート!N93=\"\",\"\",入力シート!N93)","v":""},{"$f":"IF(入力シート!O93=\"\",\"\",入力シート!O93)","v":""},null,{"$f":"IF(入力シート!P93=\"\",\"\",入力シート!P93)","v":""},{"$f":"IF(入力シート!Q93=\"\",\"\",入力シート!Q93)","v":""},{"$f":"IF(入力シート!R93=\"\",\"\",入力シート!R93)","v":""},{"$f":"IF(入力シート!S93=\"\",\"\",入力シート!S93)","v":""},{"$f":"IF(入力シート!T93=\"\",\"\",入力シート!T93)","v":""},{"$f":"IF(入力シート!U93=\"\",\"\",入力シート!U93)","v":""},{"$f":"IF(入力シート!V93=\"\",\"\",入力シート!V93)","v":""},{"$f":"IF(入力シート!W93=\"\",\"\",入力シート!W93)","v":""},{"$f":"IF(入力シート!X93=\"\",\"\",入力シート!X93)","v":""},{"$f":"IF(入力シート!Y93=\"\",\"\",入力シート!Y93)","v":""},{"$f":"IF(入力シート!Z93=\"\",\"\",入力シート!Z93)","v":""},null,null,{"$f":"IF(入力シート!H93=\"\",\"\",\"〇\")","v":""},{"$f":"IF(入力シート!AA93=\"\",\"\",入力シート!AA93)","v":""},{"$f":"IF(入力シート!AB93=\"\",\"\",入力シート!AB93)","v":""},{"$f":"IF(入力シート!AC93=\"\",\"\",入力シート!AC93)","v":""},{"$f":"IF(入力シート!AD93=\"\",\"\",入力シート!AD93)","v":""}]
[{"$f":"IF(入力シート!B94=\"\",\"\",入力シート!B94)","v":""},{"$f":"IF(入力シート!C94=\"\",\"\",入力シート!C94)","v":""},{"$f":"IF(入力シート!D94=\"\",\"\",DBCS(入力シート!D94))","v":""},{"$f":"IF(入力シート!E94=\"\",\"\",DBCS(入力シート!E94))","v":""},{"$f":"ASC(IF(入力シート!F94=\"\",\"\",UPPER(入力シート!F94)))","v":""},{"$f":"IF(入力シート!G94=\"\",\"\",PROPER(入力シート!G94))","v":""},{"$f":"IF(入力シート!H94=\"\",\"\",入力シート!H94)","v":""},{"$f":"IF(入力シート!I94=\"\",\"\",TEXT(入力シート!I94,\"yyyy/mm/dd\"))","v":""},{"$f":"IF(入力シート!J94=\"\",\"\",入力シート!J94)","v":""},{"$f":"IF(入力シート!K94=\"\",\"\",入力シート!K94)","v":""},{"$f":"IF(入力シート!L94=\"\",\"\",入力シート!L94)","v":""},{"$f":"IF(入力シート!M94=\"\",\"\",入力シート!M94)","v":""},{"$f":"IF(入力シート!N94=\"\",\"\",入力シート!N94)","v":""},{"$f":"IF(入力シート!O94=\"\",\"\",入力シート!O94)","v":""},null,{"$f":"IF(入力シート!P94=\"\",\"\",入力シート!P94)","v":""},{"$f":"IF(入力シート!Q94=\"\",\"\",入力シート!Q94)","v":""},{"$f":"IF(入力シート!R94=\"\",\"\",入力シート!R94)","v":""},{"$f":"IF(入力シート!S94=\"\",\"\",入力シート!S94)","v":""},{"$f":"IF(入力シート!T94=\"\",\"\",入力シート!T94)","v":""},{"$f":"IF(入力シート!U94=\"\",\"\",入力シート!U94)","v":""},{"$f":"IF(入力シート!V94=\"\",\"\",入力シート!V94)","v":""},{"$f":"IF(入力シート!W94=\"\",\"\",入力シート!W94)","v":""},{"$f":"IF(入力シート!X94=\"\",\"\",入力シート!X94)","v":""},{"$f":"IF(入力シート!Y94=\"\",\"\",入力シート!Y94)","v":""},{"$f":"IF(入力シート!Z94=\"\",\"\",入力シート!Z94)","v":""},null,null,{"$f":"IF(入力シート!H94=\"\",\"\",\"〇\")","v":""},{"$f":"IF(入力シート!AA94=\"\",\"\",入力シート!AA94)","v":""},{"$f":"IF(入力シート!AB94=\"\",\"\",入力シート!AB94)","v":""},{"$f":"IF(入力シート!AC94=\"\",\"\",入力シート!AC94)","v":""},{"$f":"IF(入力シート!AD94=\"\",\"\",入力シート!AD94)","v":""}]
[{"$f":"IF(入力シート!B95=\"\",\"\",入力シート!B95)","v":""},{"$f":"IF(入力シート!C95=\"\",\"\",入力シート!C95)","v":""},{"$f":"IF(入力シート!D95=\"\",\"\",DBCS(入力シート!D95))","v":""},{"$f":"IF(入力シート!E95=\"\",\"\",DBCS(入力シート!E95))","v":""},{"$f":"ASC(IF(入力シート!F95=\"\",\"\",UPPER(入力シート!F95)))","v":""},{"$f":"IF(入力シート!G95=\"\",\"\",PROPER(入力シート!G95))","v":""},{"$f":"IF(入力シート!H95=\"\",\"\",入力シート!H95)","v":""},{"$f":"IF(入力シート!I95=\"\",\"\",TEXT(入力シート!I95,\"yyyy/mm/dd\"))","v":""},{"$f":"IF(入力シート!J95=\"\",\"\",入力シート!J95)","v":""},{"$f":"IF(入力シート!K95=\"\",\"\",入力シート!K95)","v":""},{"$f":"IF(入力シート!L95=\"\",\"\",入力シート!L95)","v":""},{"$f":"IF(入力シート!M95=\"\",\"\",入力シート!M95)","v":""},{"$f":"IF(入力シート!N95=\"\",\"\",入力シート!N95)","v":""},{"$f":"IF(入力シート!O95=\"\",\"\",入力シート!O95)","v":""},null,{"$f":"IF(入力シート!P95=\"\",\"\",入力シート!P95)","v":""},{"$f":"IF(入力シート!Q95=\"\",\"\",入力シート!Q95)","v":""},{"$f":"IF(入力シート!R95=\"\",\"\",入力シート!R95)","v":""},{"$f":"IF(入力シート!S95=\"\",\"\",入力シート!S95)","v":""},{"$f":"IF(入力シート!T95=\"\",\"\",入力シート!T95)","v":""},{"$f":"IF(入力シート!U95=\"\",\"\",入力シート!U95)","v":""},{"$f":"IF(入力シート!V95=\"\",\"\",入力シート!V95)","v":""},{"$f":"IF(入力シート!W95=\"\",\"\",入力シート!W95)","v":""},{"$f":"IF(入力シート!X95=\"\",\"\",入力シート!X95)","v":""},{"$f":"IF(入力シート!Y95=\"\",\"\",入力シート!Y95)","v":""},{"$f":"IF(入力シート!Z95=\"\",\"\",入力シート!Z95)","v":""},null,null,{"$f":"IF(入力シート!H95=\"\",\"\",\"〇\")","v":""},{"$f":"IF(入力シート!AA95=\"\",\"\",入力シート!AA95)","v":""},{"$f":"IF(入力シート!AB95=\"\",\"\",入力シート!AB95)","v":""},{"$f":"IF(入力シート!AC95=\"\",\"\",入力シート!AC95)","v":""},{"$f":"IF(入力シート!AD95=\"\",\"\",入力シート!AD95)","v":""}]
[{"$f":"IF(入力シート!B96=\"\",\"\",入力シート!B96)","v":""},{"$f":"IF(入力シート!C96=\"\",\"\",入力シート!C96)","v":""},{"$f":"IF(入力シート!D96=\"\",\"\",DBCS(入力シート!D96))","v":""},{"$f":"IF(入力シート!E96=\"\",\"\",DBCS(入力シート!E96))","v":""},{"$f":"ASC(IF(入力シート!F96=\"\",\"\",UPPER(入力シート!F96)))","v":""},{"$f":"IF(入力シート!G96=\"\",\"\",PROPER(入力シート!G96))","v":""},{"$f":"IF(入力シート!H96=\"\",\"\",入力シート!H96)","v":""},{"$f":"IF(入力シート!I96=\"\",\"\",TEXT(入力シート!I96,\"yyyy/mm/dd\"))","v":""},{"$f":"IF(入力シート!J96=\"\",\"\",入力シート!J96)","v":""},{"$f":"IF(入力シート!K96=\"\",\"\",入力シート!K96)","v":""},{"$f":"IF(入力シート!L96=\"\",\"\",入力シート!L96)","v":""},{"$f":"IF(入力シート!M96=\"\",\"\",入力シート!M96)","v":""},{"$f":"IF(入力シート!N96=\"\",\"\",入力シート!N96)","v":""},{"$f":"IF(入力シート!O96=\"\",\"\",入力シート!O96)","v":""},null,{"$f":"IF(入力シート!P96=\"\",\"\",入力シート!P96)","v":""},{"$f":"IF(入力シート!Q96=\"\",\"\",入力シート!Q96)","v":""},{"$f":"IF(入力シート!R96=\"\",\"\",入力シート!R96)","v":""},{"$f":"IF(入力シート!S96=\"\",\"\",入力シート!S96)","v":""},{"$f":"IF(入力シート!T96=\"\",\"\",入力シート!T96)","v":""},{"$f":"IF(入力シート!U96=\"\",\"\",入力シート!U96)","v":""},{"$f":"IF(入力シート!V96=\"\",\"\",入力シート!V96)","v":""},{"$f":"IF(入力シート!W96=\"\",\"\",入力シート!W96)","v":""},{"$f":"IF(入力シート!X96=\"\",\"\",入力シート!X96)","v":""},{"$f":"IF(入力シート!Y96=\"\",\"\",入力シート!Y96)","v":""},{"$f":"IF(入力シート!Z96=\"\",\"\",入力シート!Z96)","v":""},null,null,{"$f":"IF(入力シート!H96=\"\",\"\",\"〇\")","v":""},{"$f":"IF(入力シート!AA96=\"\",\"\",入力シート!AA96)","v":""},{"$f":"IF(入力シート!AB96=\"\",\"\",入力シート!AB96)","v":""},{"$f":"IF(入力シート!AC96=\"\",\"\",入力シート!AC96)","v":""},{"$f":"IF(入力シート!AD96=\"\",\"\",入力シート!AD96)","v":""}]
[{"$f":"IF(入力シート!B97=\"\",\"\",入力シート!B97)","v":""},{"$f":"IF(入力シート!C97=\"\",\"\",入力シート!C97)","v":""},{"$f":"IF(入力シート!D97=\"\",\"\",DBCS(入力シート!D97))","v":""},{"$f":"IF(入力シート!E97=\"\",\"\",DBCS(入力シート!E97))","v":""},{"$f":"ASC(IF(入力シート!F97=\"\",\"\",UPPER(入力シート!F97)))","v":""},{"$f":"IF(入力シート!G97=\"\",\"\",PROPER(入力シート!G97))","v":""},{"$f":"IF(入力シート!H97=\"\",\"\",入力シート!H97)","v":""},{"$f":"IF(入力シート!I97=\"\",\"\",TEXT(入力シート!I97,\"yyyy/mm/dd\"))","v":""},{"$f":"IF(入力シート!J97=\"\",\"\",入力シート!J97)","v":""},{"$f":"IF(入力シート!K97=\"\",\"\",入力シート!K97)","v":""},{"$f":"IF(入力シート!L97=\"\",\"\",入力シート!L97)","v":""},{"$f":"IF(入力シート!M97=\"\",\"\",入力シート!M97)","v":""},{"$f":"IF(入力シート!N97=\"\",\"\",入力シート!N97)","v":""},{"$f":"IF(入力シート!O97=\"\",\"\",入力シート!O97)","v":""},null,{"$f":"IF(入力シート!P97=\"\",\"\",入力シート!P97)","v":""},{"$f":"IF(入力シート!Q97=\"\",\"\",入力シート!Q97)","v":""},{"$f":"IF(入力シート!R97=\"\",\"\",入力シート!R97)","v":""},{"$f":"IF(入力シート!S97=\"\",\"\",入力シート!S97)","v":""},{"$f":"IF(入力シート!T97=\"\",\"\",入力シート!T97)","v":""},{"$f":"IF(入力シート!U97=\"\",\"\",入力シート!U97)","v":""},{"$f":"IF(入力シート!V97=\"\",\"\",入力シート!V97)","v":""},{"$f":"IF(入力シート!W97=\"\",\"\",入力シート!W97)","v":""},{"$f":"IF(入力シート!X97=\"\",\"\",入力シート!X97)","v":""},{"$f":"IF(入力シート!Y97=\"\",\"\",入力シート!Y97)","v":""},{"$f":"IF(入力シート!Z97=\"\",\"\",入力シート!Z97)","v":""},null,null,{"$f":"IF(入力シート!H97=\"\",\"\",\"〇\")","v":""},{"$f":"IF(入力シート!AA97=\"\",\"\",入力シート!AA97)","v":""},{"$f":"IF(入力シート!AB97=\"\",\"\",入力シート!AB97)","v":""},{"$f":"IF(入力シート!AC97=\"\",\"\",入力シート!AC97)","v":""},{"$f":"IF(入力シート!AD97=\"\",\"\",入力シート!AD97)","v":""}]
[{"$f":"IF(入力シート!B98=\"\",\"\",入力シート!B98)","v":""},{"$f":"IF(入力シート!C98=\"\",\"\",入力シート!C98)","v":""},{"$f":"IF(入力シート!D98=\"\",\"\",DBCS(入力シート!D98))","v":""},{"$f":"IF(入力シート!E98=\"\",\"\",DBCS(入力シート!E98))","v":""},{"$f":"ASC(IF(入力シート!F98=\"\",\"\",UPPER(入力シート!F98)))","v":""},{"$f":"IF(入力シート!G98=\"\",\"\",PROPER(入力シート!G98))","v":""},{"$f":"IF(入力シート!H98=\"\",\"\",入力シート!H98)","v":""},{"$f":"IF(入力シート!I98=\"\",\"\",TEXT(入力シート!I98,\"yyyy/mm/dd\"))","v":""},{"$f":"IF(入力シート!J98=\"\",\"\",入力シート!J98)","v":""},{"$f":"IF(入力シート!K98=\"\",\"\",入力シート!K98)","v":""},{"$f":"IF(入力シート!L98=\"\",\"\",入力シート!L98)","v":""},{"$f":"IF(入力シート!M98=\"\",\"\",入力シート!M98)","v":""},{"$f":"IF(入力シート!N98=\"\",\"\",入力シート!N98)","v":""},{"$f":"IF(入力シート!O98=\"\",\"\",入力シート!O98)","v":""},null,{"$f":"IF(入力シート!P98=\"\",\"\",入力シート!P98)","v":""},{"$f":"IF(入力シート!Q98=\"\",\"\",入力シート!Q98)","v":""},{"$f":"IF(入力シート!R98=\"\",\"\",入力シート!R98)","v":""},{"$f":"IF(入力シート!S98=\"\",\"\",入力シート!S98)","v":""},{"$f":"IF(入力シート!T98=\"\",\"\",入力シート!T98)","v":""},{"$f":"IF(入力シート!U98=\"\",\"\",入力シート!U98)","v":""},{"$f":"IF(入力シート!V98=\"\",\"\",入力シート!V98)","v":""},{"$f":"IF(入力シート!W98=\"\",\"\",入力シート!W98)","v":""},{"$f":"IF(入力シート!X98=\"\",\"\",入力シート!X98)","v":""},{"$f":"IF(入力シート!Y98=\"\",\"\",入力シート!Y98)","v":""},{"$f":"IF(入力シート!Z98=\"\",\"\",入力シート!Z98)","v":""},null,null,{"$f":"IF(入力シート!H98=\"\",\"\",\"〇\")","v":""},{"$f":"IF(入力シート!AA98=\"\",\"\",入力シート!AA98)","v":""},{"$f":"IF(入力シート!AB98=\"\",\"\",入力シート!AB98)","v":""},{"$f":"IF(入力シート!AC98=\"\",\"\",入力シート!AC98)","v":""},{"$f":"IF(入力シート!AD98=\"\",\"\",入力シート!AD98)","v":""}]
[{"$f":"IF(入力シート!B99=\"\",\"\",入力シート!B99)","v":""},{"$f":"IF(入力シート!C99=\"\",\"\",入力シート!C99)","v":""},{"$f":"IF(入力シート!D99=\"\",\"\",DBCS(入力シート!D99))","v":""},{"$f":"IF(入力シート!E99=\"\",\"\",DBCS(入力シート!E99))","v":""},{"$f":"ASC(IF(入力シート!F99=\"\",\"\",UPPER(入力シート!F99)))","v":""},{"$f":"IF(入力シート!G99=\"\",\"\",PROPER(入力シート!G99))","v":""},{"$f":"IF(入力シート!H99=\"\",\"\",入力シート!H99)","v":""},{"$f":"IF(入力シート!I99=\"\",\"\",TEXT(入力シート!I99,\"yyyy/mm/dd\"))","v":""},{"$f":"IF(入力シート!J99=\"\",\"\",入力シート!J99)","v":""},{"$f":"IF(入力シート!K99=\"\",\"\",入力シート!K99)","v":""},{"$f":"IF(入力シート!L99=\"\",\"\",入力シート!L99)","v":""},{"$f":"IF(入力シート!M99=\"\",\"\",入力シート!M99)","v":""},{"$f":"IF(入力シート!N99=\"\",\"\",入力シート!N99)","v":""},{"$f":"IF(入力シート!O99=\"\",\"\",入力シート!O99)","v":""},null,{"$f":"IF(入力シート!P99=\"\",\"\",入力シート!P99)","v":""},{"$f":"IF(入力シート!Q99=\"\",\"\",入力シート!Q99)","v":""},{"$f":"IF(入力シート!R99=\"\",\"\",入力シート!R99)","v":""},{"$f":"IF(入力シート!S99=\"\",\"\",入力シート!S99)","v":""},{"$f":"IF(入力シート!T99=\"\",\"\",入力シート!T99)","v":""},{"$f":"IF(入力シート!U99=\"\",\"\",入力シート!U99)","v":""},{"$f":"IF(入力シート!V99=\"\",\"\",入力シート!V99)","v":""},{"$f":"IF(入力シート!W99=\"\",\"\",入力シート!W99)","v":""},{"$f":"IF(入力シート!X99=\"\",\"\",入力シート!X99)","v":""},{"$f":"IF(入力シート!Y99=\"\",\"\",入力シート!Y99)","v":""},{"$f":"IF(入力シート!Z99=\"\",\"\",入力シート!Z99)","v":""},null,null,{"$f":"IF(入力シート!H99=\"\",\"\",\"〇\")","v":""},{"$f":"IF(入力シート!AA99=\"\",\"\",入力シート!AA99)","v":""},{"$f":"IF(入力シート!AB99=\"\",\"\",入力シート!AB99)","v":""},{"$f":"IF(入力シート!AC99=\"\",\"\",入力シート!AC99)","v":""},{"$f":"IF(入力シート!AD99=\"\",\"\",入力シート!AD99)","v":""}]
[{"$f":"IF(入力シート!B100=\"\",\"\",入力シート!B100)","v":""},{"$f":"IF(入力シート!C100=\"\",\"\",入力シート!C100)","v":""},{"$f":"IF(入力シート!D100=\"\",\"\",DBCS(入力シート!D100))","v":""},{"$f":"IF(入力シート!E100=\"\",\"\",DBCS(入力シート!E100))","v":""},{"$f":"ASC(IF(入力シート!F100=\"\",\"\",UPPER(入力シート!F100)))","v":""},{"$f":"IF(入力シート!G100=\"\",\"\",PROPER(入力シート!G100))","v":""},{"$f":"IF(入力シート!H100=\"\",\"\",入力シート!H100)","v":""},{"$f":"IF(入力シート!I100=\"\",\"\",TEXT(入力シート!I100,\"yyyy/mm/dd\"))","v":""},{"$f":"IF(入力シート!J100=\"\",\"\",入力シート!J100)","v":""},{"$f":"IF(入力シート!K100=\"\",\"\",入力シート!K100)","v":""},{"$f":"IF(入力シート!L100=\"\",\"\",入力シート!L100)","v":""},{"$f":"IF(入力シート!M100=\"\",\"\",入力シート!M100)","v":""},{"$f":"IF(入力シート!N100=\"\",\"\",入力シート!N100)","v":""},{"$f":"IF(入力シート!O100=\"\",\"\",入力シート!O100)","v":""},null,{"$f":"IF(入力シート!P100=\"\",\"\",入力シート!P100)","v":""},{"$f":"IF(入力シート!Q100=\"\",\"\",入力シート!Q100)","v":""},{"$f":"IF(入力シート!R100=\"\",\"\",入力シート!R100)","v":""},{"$f":"IF(入力シート!S100=\"\",\"\",入力シート!S100)","v":""},{"$f":"IF(入力シート!T100=\"\",\"\",入力シート!T100)","v":""},{"$f":"IF(入力シート!U100=\"\",\"\",入力シート!U100)","v":""},{"$f":"IF(入力シート!V100=\"\",\"\",入力シート!V100)","v":""},{"$f":"IF(入力シート!W100=\"\",\"\",入力シート!W100)","v":""},{"$f":"IF(入力シート!X100=\"\",\"\",入力シート!X100)","v":""},{"$f":"IF(入力シート!Y100=\"\",\"\",入力シート!Y100)","v":""},{"$f":"IF(入力シート!Z100=\"\",\"\",入力シート!Z100)","v":""},null,null,{"$f":"IF(入力シート!H100=\"\",\"\",\"〇\")","v":""},{"$f":"IF(入力シート!AA100=\"\",\"\",入力シート!AA100)","v":""},{"$f":"IF(入力シート!AB100=\"\",\"\",入力シート!AB100)","v":""},{"$f":"IF(入力シート!AC100=\"\",\"\",入力シート!AC100)","v":""},{"$f":"IF(入力シート!AD100=\"\",\"\",入力シート!AD100)","v":""}]
[{"$f":"IF(入力シート!B101=\"\",\"\",入力シート!B101)","v":""},{"$f":"IF(入力シート!C101=\"\",\"\",入力シート!C101)","v":""},{"$f":"IF(入力シート!D101=\"\",\"\",DBCS(入力シート!D101))","v":""},{"$f":"IF(入力シート!E101=\"\",\"\",DBCS(入力シート!E101))","v":""},{"$f":"ASC(IF(入力シート!F101=\"\",\"\",UPPER(入力シート!F101)))","v":""},{"$f":"IF(入力シート!G101=\"\",\"\",PROPER(入力シート!G101))","v":""},{"$f":"IF(入力シート!H101=\"\",\"\",入力シート!H101)","v":""},{"$f":"IF(入力シート!I101=\"\",\"\",TEXT(入力シート!I101,\"yyyy/mm/dd\"))","v":""},{"$f":"IF(入力シート!J101=\"\",\"\",入力シート!J101)","v":""},{"$f":"IF(入力シート!K101=\"\",\"\",入力シート!K101)","v":""},{"$f":"IF(入力シート!L101=\"\",\"\",入力シート!L101)","v":""},{"$f":"IF(入力シート!M101=\"\",\"\",入力シート!M101)","v":""},{"$f":"IF(入力シート!N101=\"\",\"\",入力シート!N101)","v":""},{"$f":"IF(入力シート!O101=\"\",\"\",入力シート!O101)","v":""},null,{"$f":"IF(入力シート!P101=\"\",\"\",入力シート!P101)","v":""},{"$f":"IF(入力シート!Q101=\"\",\"\",入力シート!Q101)","v":""},{"$f":"IF(入力シート!R101=\"\",\"\",入力シート!R101)","v":""},{"$f":"IF(入力シート!S101=\"\",\"\",入力シート!S101)","v":""},{"$f":"IF(入力シート!T101=\"\",\"\",入力シート!T101)","v":""},{"$f":"IF(入力シート!U101=\"\",\"\",入力シート!U101)","v":""},{"$f":"IF(入力シート!V101=\"\",\"\",入力シート!V101)","v":""},{"$f":"IF(入力シート!W101=\"\",\"\",入力シート!W101)","v":""},{"$f":"IF(入力シート!X101=\"\",\"\",入力シート!X101)","v":""},{"$f":"IF(入力シート!Y101=\"\",\"\",入力シート!Y101)","v":""},{"$f":"IF(入力シート!Z101=\"\",\"\",入力シート!Z101)","v":""},null,null,{"$f":"IF(入力シート!H101=\"\",\"\",\"〇\")","v":""},{"$f":"IF(入力シート!AA101=\"\",\"\",入力シート!AA101)","v":""},{"$f":"IF(入力シート!AB101=\"\",\"\",入力シート!AB101)","v":""},{"$f":"IF(入力シート!AC101=\"\",\"\",入力シート!AC101)","v":""},{"$f":"IF(入力シート!AD101=\"\",\"\",入力シート!AD101)","v":""}]
[{"$f":"IF(入力シート!B102=\"\",\"\",入力シート!B102)","v":""},{"$f":"IF(入力シート!C102=\"\",\"\",入力シート!C102)","v":""},{"$f":"IF(入力シート!D102=\"\",\"\",DBCS(入力シート!D102))","v":""},{"$f":"IF(入力シート!E102=\"\",\"\",DBCS(入力シート!E102))","v":""},{"$f":"ASC(IF(入力シート!F102=\"\",\"\",UPPER(入力シート!F102)))","v":""},{"$f":"IF(入力シート!G102=\"\",\"\",PROPER(入力シート!G102))","v":""},{"$f":"IF(入力シート!H102=\"\",\"\",入力シート!H102)","v":""},{"$f":"IF(入力シート!I102=\"\",\"\",TEXT(入力シート!I102,\"yyyy/mm/dd\"))","v":""},{"$f":"IF(入力シート!J102=\"\",\"\",入力シート!J102)","v":""},{"$f":"IF(入力シート!K102=\"\",\"\",入力シート!K102)","v":""},{"$f":"IF(入力シート!L102=\"\",\"\",入力シート!L102)","v":""},{"$f":"IF(入力シート!M102=\"\",\"\",入力シート!M102)","v":""},{"$f":"IF(入力シート!N102=\"\",\"\",入力シート!N102)","v":""},{"$f":"IF(入力シート!O102=\"\",\"\",入力シート!O102)","v":""},null,{"$f":"IF(入力シート!P102=\"\",\"\",入力シート!P102)","v":""},{"$f":"IF(入力シート!Q102=\"\",\"\",入力シート!Q102)","v":""},{"$f":"IF(入力シート!R102=\"\",\"\",入力シート!R102)","v":""},{"$f":"IF(入力シート!S102=\"\",\"\",入力シート!S102)","v":""},{"$f":"IF(入力シート!T102=\"\",\"\",入力シート!T102)","v":""},{"$f":"IF(入力シート!U102=\"\",\"\",入力シート!U102)","v":""},{"$f":"IF(入力シート!V102=\"\",\"\",入力シート!V102)","v":""},{"$f":"IF(入力シート!W102=\"\",\"\",入力シート!W102)","v":""},{"$f":"IF(入力シート!X102=\"\",\"\",入力シート!X102)","v":""},{"$f":"IF(入力シート!Y102=\"\",\"\",入力シート!Y102)","v":""},{"$f":"IF(入力シート!Z102=\"\",\"\",入力シート!Z102)","v":""},null,null,{"$f":"IF(入力シート!H102=\"\",\"\",\"〇\")","v":""},{"$f":"IF(入力シート!AA102=\"\",\"\",入力シート!AA102)","v":""},{"$f":"IF(入力シート!AB102=\"\",\"\",入力シート!AB102)","v":""},{"$f":"IF(入力シート!AC102=\"\",\"\",入力シート!AC102)","v":""},{"$f":"IF(入力シート!AD102=\"\",\"\",入力シート!AD102)","v":""}]
[{"$f":"IF(入力シート!B103=\"\",\"\",入力シート!B103)","v":""},{"$f":"IF(入力シート!C103=\"\",\"\",入力シート!C103)","v":""},{"$f":"IF(入力シート!D103=\"\",\"\",DBCS(入力シート!D103))","v":""},{"$f":"IF(入力シート!E103=\"\",\"\",DBCS(入力シート!E103))","v":""},{"$f":"ASC(IF(入力シート!F103=\"\",\"\",UPPER(入力シート!F103)))","v":""},{"$f":"IF(入力シート!G103=\"\",\"\",PROPER(入力シート!G103))","v":""},{"$f":"IF(入力シート!H103=\"\",\"\",入力シート!H103)","v":""},{"$f":"IF(入力シート!I103=\"\",\"\",TEXT(入力シート!I103,\"yyyy/mm/dd\"))","v":""},{"$f":"IF(入力シート!J103=\"\",\"\",入力シート!J103)","v":""},{"$f":"IF(入力シート!K103=\"\",\"\",入力シート!K103)","v":""},{"$f":"IF(入力シート!L103=\"\",\"\",入力シート!L103)","v":""},{"$f":"IF(入力シート!M103=\"\",\"\",入力シート!M103)","v":""},{"$f":"IF(入力シート!N103=\"\",\"\",入力シート!N103)","v":""},{"$f":"IF(入力シート!O103=\"\",\"\",入力シート!O103)","v":""},null,{"$f":"IF(入力シート!P103=\"\",\"\",入力シート!P103)","v":""},{"$f":"IF(入力シート!Q103=\"\",\"\",入力シート!Q103)","v":""},{"$f":"IF(入力シート!R103=\"\",\"\",入力シート!R103)","v":""},{"$f":"IF(入力シート!S103=\"\",\"\",入力シート!S103)","v":""},{"$f":"IF(入力シート!T103=\"\",\"\",入力シート!T103)","v":""},{"$f":"IF(入力シート!U103=\"\",\"\",入力シート!U103)","v":""},{"$f":"IF(入力シート!V103=\"\",\"\",入力シート!V103)","v":""},{"$f":"IF(入力シート!W103=\"\",\"\",入力シート!W103)","v":""},{"$f":"IF(入力シート!X103=\"\",\"\",入力シート!X103)","v":""},{"$f":"IF(入力シート!Y103=\"\",\"\",入力シート!Y103)","v":""},{"$f":"IF(入力シート!Z103=\"\",\"\",入力シート!Z103)","v":""},null,null,{"$f":"IF(入力シート!H103=\"\",\"\",\"〇\")","v":""},{"$f":"IF(入力シート!AA103=\"\",\"\",入力シート!AA103)","v":""},{"$f":"IF(入力シート!AB103=\"\",\"\",入力シート!AB103)","v":""},{"$f":"IF(入力シート!AC103=\"\",\"\",入力シート!AC103)","v":""},{"$f":"IF(入力シート!AD103=\"\",\"\",入力シート!AD103)","v":""}]
[{"$f":"IF(入力シート!B104=\"\",\"\",入力シート!B104)","v":""},{"$f":"IF(入力シート!C104=\"\",\"\",入力シート!C104)","v":""},{"$f":"IF(入力シート!D104=\"\",\"\",DBCS(入力シート!D104))","v":""},{"$f":"IF(入力シート!E104=\"\",\"\",DBCS(入力シート!E104))","v":""},{"$f":"ASC(IF(入力シート!F104=\"\",\"\",UPPER(入力シート!F104)))","v":""},{"$f":"IF(入力シート!G104=\"\",\"\",PROPER(入力シート!G104))","v":""},{"$f":"IF(入力シート!H104=\"\",\"\",入力シート!H104)","v":""},{"$f":"IF(入力シート!I104=\"\",\"\",TEXT(入力シート!I104,\"yyyy/mm/dd\"))","v":""},{"$f":"IF(入力シート!J104=\"\",\"\",入力シート!J104)","v":""},{"$f":"IF(入力シート!K104=\"\",\"\",入力シート!K104)","v":""},{"$f":"IF(入力シート!L104=\"\",\"\",入力シート!L104)","v":""},{"$f":"IF(入力シート!M104=\"\",\"\",入力シート!M104)","v":""},{"$f":"IF(入力シート!N104=\"\",\"\",入力シート!N104)","v":""},{"$f":"IF(入力シート!O104=\"\",\"\",入力シート!O104)","v":""},null,{"$f":"IF(入力シート!P104=\"\",\"\",入力シート!P104)","v":""},{"$f":"IF(入力シート!Q104=\"\",\"\",入力シート!Q104)","v":""},{"$f":"IF(入力シート!R104=\"\",\"\",入力シート!R104)","v":""},{"$f":"IF(入力シート!S104=\"\",\"\",入力シート!S104)","v":""},{"$f":"IF(入力シート!T104=\"\",\"\",入力シート!T104)","v":""},{"$f":"IF(入力シート!U104=\"\",\"\",入力シート!U104)","v":""},{"$f":"IF(入力シート!V104=\"\",\"\",入力シート!V104)","v":""},{"$f":"IF(入力シート!W104=\"\",\"\",入力シート!W104)","v":""},{"$f":"IF(入力シート!X104=\"\",\"\",入力シート!X104)","v":""},{"$f":"IF(入力シート!Y104=\"\",\"\",入力シート!Y104)","v":""},{"$f":"IF(入力シート!Z104=\"\",\"\",入力シート!Z104)","v":""},null,null,{"$f":"IF(入力シート!H104=\"\",\"\",\"〇\")","v":""},{"$f":"IF(入力シート!AA104=\"\",\"\",入力シート!AA104)","v":""},{"$f":"IF(入力シート!AB104=\"\",\"\",入力シート!AB104)","v":""},{"$f":"IF(入力シート!AC104=\"\",\"\",入力シート!AC104)","v":""},{"$f":"IF(入力シート!AD104=\"\",\"\",入力シート!AD104)","v":""}]
[{"$f":"IF(入力シート!B105=\"\",\"\",入力シート!B105)","v":""},{"$f":"IF(入力シート!C105=\"\",\"\",入力シート!C105)","v":""},{"$f":"IF(入力シート!D105=\"\",\"\",DBCS(入力シート!D105))","v":""},{"$f":"IF(入力シート!E105=\"\",\"\",DBCS(入力シート!E105))","v":""},{"$f":"ASC(IF(入力シート!F105=\"\",\"\",UPPER(入力シート!F105)))","v":""},{"$f":"IF(入力シート!G105=\"\",\"\",PROPER(入力シート!G105))","v":""},{"$f":"IF(入力シート!H105=\"\",\"\",入力シート!H105)","v":""},{"$f":"IF(入力シート!I105=\"\",\"\",TEXT(入力シート!I105,\"yyyy/mm/dd\"))","v":""},{"$f":"IF(入力シート!J105=\"\",\"\",入力シート!J105)","v":""},{"$f":"IF(入力シート!K105=\"\",\"\",入力シート!K105)","v":""},{"$f":"IF(入力シート!L105=\"\",\"\",入力シート!L105)","v":""},{"$f":"IF(入力シート!M105=\"\",\"\",入力シート!M105)","v":""},{"$f":"IF(入力シート!N105=\"\",\"\",入力シート!N105)","v":""},{"$f":"IF(入力シート!O105=\"\",\"\",入力シート!O105)","v":""},null,{"$f":"IF(入力シート!P105=\"\",\"\",入力シート!P105)","v":""},{"$f":"IF(入力シート!Q105=\"\",\"\",入力シート!Q105)","v":""},{"$f":"IF(入力シート!R105=\"\",\"\",入力シート!R105)","v":""},{"$f":"IF(入力シート!S105=\"\",\"\",入力シート!S105)","v":""},{"$f":"IF(入力シート!T105=\"\",\"\",入力シート!T105)","v":""},{"$f":"IF(入力シート!U105=\"\",\"\",入力シート!U105)","v":""},{"$f":"IF(入力シート!V105=\"\",\"\",入力シート!V105)","v":""},{"$f":"IF(入力シート!W105=\"\",\"\",入力シート!W105)","v":""},{"$f":"IF(入力シート!X105=\"\",\"\",入力シート!X105)","v":""},{"$f":"IF(入力シート!Y105=\"\",\"\",入力シート!Y105)","v":""},{"$f":"IF(入力シート!Z105=\"\",\"\",入力シート!Z105)","v":""},null,null,{"$f":"IF(入力シート!H105=\"\",\"\",\"〇\")","v":""},{"$f":"IF(入力シート!AA105=\"\",\"\",入力シート!AA105)","v":""},{"$f":"IF(入力シート!AB105=\"\",\"\",入力シート!AB105)","v":""},{"$f":"IF(入力シート!AC105=\"\",\"\",入力シート!AC105)","v":""},{"$f":"IF(入力シート!AD105=\"\",\"\",入力シート!AD105)","v":""}]
[{"$f":"IF(入力シート!B106=\"\",\"\",入力シート!B106)","v":""},{"$f":"IF(入力シート!C106=\"\",\"\",入力シート!C106)","v":""},{"$f":"IF(入力シート!D106=\"\",\"\",DBCS(入力シート!D106))","v":""},{"$f":"IF(入力シート!E106=\"\",\"\",DBCS(入力シート!E106))","v":""},{"$f":"ASC(IF(入力シート!F106=\"\",\"\",UPPER(入力シート!F106)))","v":""},{"$f":"IF(入力シート!G106=\"\",\"\",PROPER(入力シート!G106))","v":""},{"$f":"IF(入力シート!H106=\"\",\"\",入力シート!H106)","v":""},{"$f":"IF(入力シート!I106=\"\",\"\",TEXT(入力シート!I106,\"yyyy/mm/dd\"))","v":""},{"$f":"IF(入力シート!J106=\"\",\"\",入力シート!J106)","v":""},{"$f":"IF(入力シート!K106=\"\",\"\",入力シート!K106)","v":""},{"$f":"IF(入力シート!L106=\"\",\"\",入力シート!L106)","v":""},{"$f":"IF(入力シート!M106=\"\",\"\",入力シート!M106)","v":""},{"$f":"IF(入力シート!N106=\"\",\"\",入力シート!N106)","v":""},{"$f":"IF(入力シート!O106=\"\",\"\",入力シート!O106)","v":""},null,{"$f":"IF(入力シート!P106=\"\",\"\",入力シート!P106)","v":""},{"$f":"IF(入力シート!Q106=\"\",\"\",入力シート!Q106)","v":""},{"$f":"IF(入力シート!R106=\"\",\"\",入力シート!R106)","v":""},{"$f":"IF(入力シート!S106=\"\",\"\",入力シート!S106)","v":""},{"$f":"IF(入力シート!T106=\"\",\"\",入力シート!T106)","v":""},{"$f":"IF(入力シート!U106=\"\",\"\",入力シート!U106)","v":""},{"$f":"IF(入力シート!V106=\"\",\"\",入力シート!V106)","v":""},{"$f":"IF(入力シート!W106=\"\",\"\",入力シート!W106)","v":""},{"$f":"IF(入力シート!X106=\"\",\"\",入力シート!X106)","v":""},{"$f":"IF(入力シート!Y106=\"\",\"\",入力シート!Y106)","v":""},{"$f":"IF(入力シート!Z106=\"\",\"\",入力シート!Z106)","v":""},null,null,{"$f":"IF(入力シート!H106=\"\",\"\",\"〇\")","v":""},{"$f":"IF(入力シート!AA106=\"\",\"\",入力シート!AA106)","v":""},{"$f":"IF(入力シート!AB106=\"\",\"\",入力シート!AB106)","v":""},{"$f":"IF(入力シート!AC106=\"\",\"\",入力シート!AC106)","v":""},{"$f":"IF(入力シート!AD106=\"\",\"\",入力シート!AD106)","v":""}]
[{"$f":"IF(入力シート!B107=\"\",\"\",入力シート!B107)","v":""},{"$f":"IF(入力シート!C107=\"\",\"\",入力シート!C107)","v":""},{"$f":"IF(入力シート!D107=\"\",\"\",DBCS(入力シート!D107))","v":""},{"$f":"IF(入力シート!E107=\"\",\"\",DBCS(入力シート!E107))","v":""},{"$f":"ASC(IF(入力シート!F107=\"\",\"\",UPPER(入力シート!F107)))","v":""},{"$f":"IF(入力シート!G107=\"\",\"\",PROPER(入力シート!G107))","v":""},{"$f":"IF(入力シート!H107=\"\",\"\",入力シート!H107)","v":""},{"$f":"IF(入力シート!I107=\"\",\"\",TEXT(入力シート!I107,\"yyyy/mm/dd\"))","v":""},{"$f":"IF(入力シート!J107=\"\",\"\",入力シート!J107)","v":""},{"$f":"IF(入力シート!K107=\"\",\"\",入力シート!K107)","v":""},{"$f":"IF(入力シート!L107=\"\",\"\",入力シート!L107)","v":""},{"$f":"IF(入力シート!M107=\"\",\"\",入力シート!M107)","v":""},{"$f":"IF(入力シート!N107=\"\",\"\",入力シート!N107)","v":""},{"$f":"IF(入力シート!O107=\"\",\"\",入力シート!O107)","v":""},null,{"$f":"IF(入力シート!P107=\"\",\"\",入力シート!P107)","v":""},{"$f":"IF(入力シート!Q107=\"\",\"\",入力シート!Q107)","v":""},{"$f":"IF(入力シート!R107=\"\",\"\",入力シート!R107)","v":""},{"$f":"IF(入力シート!S107=\"\",\"\",入力シート!S107)","v":""},{"$f":"IF(入力シート!T107=\"\",\"\",入力シート!T107)","v":""},{"$f":"IF(入力シート!U107=\"\",\"\",入力シート!U107)","v":""},{"$f":"IF(入力シート!V107=\"\",\"\",入力シート!V107)","v":""},{"$f":"IF(入力シート!W107=\"\",\"\",入力シート!W107)","v":""},{"$f":"IF(入力シート!X107=\"\",\"\",入力シート!X107)","v":""},{"$f":"IF(入力シート!Y107=\"\",\"\",入力シート!Y107)","v":""},{"$f":"IF(入力シート!Z107=\"\",\"\",入力シート!Z107)","v":""},null,null,{"$f":"IF(入力シート!H107=\"\",\"\",\"〇\")","v":""},{"$f":"IF(入力シート!AA107=\"\",\"\",入力シート!AA107)","v":""},{"$f":"IF(入力シート!AB107=\"\",\"\",入力シート!AB107)","v":""},{"$f":"IF(入力シート!AC107=\"\",\"\",入力シート!AC107)","v":""},{"$f":"IF(入力シート!AD107=\"\",\"\",入力シート!AD107)","v":""}]
[{"$f":"IF(入力シート!B108=\"\",\"\",入力シート!B108)","v":""},{"$f":"IF(入力シート!C108=\"\",\"\",入力シート!C108)","v":""},{"$f":"IF(入力シート!D108=\"\",\"\",DBCS(入力シート!D108))","v":""},{"$f":"IF(入力シート!E108=\"\",\"\",DBCS(入力シート!E108))","v":""},{"$f":"ASC(IF(入力シート!F108=\"\",\"\",UPPER(入力シート!F108)))","v":""},{"$f":"IF(入力シート!G108=\"\",\"\",PROPER(入力シート!G108))","v":""},{"$f":"IF(入力シート!H108=\"\",\"\",入力シート!H108)","v":""},{"$f":"IF(入力シート!I108=\"\",\"\",TEXT(入力シート!I108,\"yyyy/mm/dd\"))","v":""},{"$f":"IF(入力シート!J108=\"\",\"\",入力シート!J108)","v":""},{"$f":"IF(入力シート!K108=\"\",\"\",入力シート!K108)","v":""},{"$f":"IF(入力シート!L108=\"\",\"\",入力シート!L108)","v":""},{"$f":"IF(入力シート!M108=\"\",\"\",入力シート!M108)","v":""},{"$f":"IF(入力シート!N108=\"\",\"\",入力シート!N108)","v":""},{"$f":"IF(入力シート!O108=\"\",\"\",入力シート!O108)","v":""},null,{"$f":"IF(入力シート!P108=\"\",\"\",入力シート!P108)","v":""},{"$f":"IF(入力シート!Q108=\"\",\"\",入力シート!Q108)","v":""},{"$f":"IF(入力シート!R108=\"\",\"\",入力シート!R108)","v":""},{"$f":"IF(入力シート!S108=\"\",\"\",入力シート!S108)","v":""},{"$f":"IF(入力シート!T108=\"\",\"\",入力シート!T108)","v":""},{"$f":"IF(入力シート!U108=\"\",\"\",入力シート!U108)","v":""},{"$f":"IF(入力シート!V108=\"\",\"\",入力シート!V108)","v":""},{"$f":"IF(入力シート!W108=\"\",\"\",入力シート!W108)","v":""},{"$f":"IF(入力シート!X108=\"\",\"\",入力シート!X108)","v":""},{"$f":"IF(入力シート!Y108=\"\",\"\",入力シート!Y108)","v":""},{"$f":"IF(入力シート!Z108=\"\",\"\",入力シート!Z108)","v":""},null,null,{"$f":"IF(入力シート!H108=\"\",\"\",\"〇\")","v":""},{"$f":"IF(入力シート!AA108=\"\",\"\",入力シート!AA108)","v":""},{"$f":"IF(入力シート!AB108=\"\",\"\",入力シート!AB108)","v":""},{"$f":"IF(入力シート!AC108=\"\",\"\",入力シート!AC108)","v":""},{"$f":"IF(入力シート!AD108=\"\",\"\",入力シート!AD108)","v":""}]
[{"$f":"IF(入力シート!B109=\"\",\"\",入力シート!B109)","v":""},{"$f":"IF(入力シート!C109=\"\",\"\",入力シート!C109)","v":""},{"$f":"IF(入力シート!D109=\"\",\"\",DBCS(入力シート!D109))","v":""},{"$f":"IF(入力シート!E109=\"\",\"\",DBCS(入力シート!E109))","v":""},{"$f":"ASC(IF(入力シート!F109=\"\",\"\",UPPER(入力シート!F109)))","v":""},{"$f":"IF(入力シート!G109=\"\",\"\",PROPER(入力シート!G109))","v":""},{"$f":"IF(入力シート!H109=\"\",\"\",入力シート!H109)","v":""},{"$f":"IF(入力シート!I109=\"\",\"\",TEXT(入力シート!I109,\"yyyy/mm/dd\"))","v":""},{"$f":"IF(入力シート!J109=\"\",\"\",入力シート!J109)","v":""},{"$f":"IF(入力シート!K109=\"\",\"\",入力シート!K109)","v":""},{"$f":"IF(入力シート!L109=\"\",\"\",入力シート!L109)","v":""},{"$f":"IF(入力シート!M109=\"\",\"\",入力シート!M109)","v":""},{"$f":"IF(入力シート!N109=\"\",\"\",入力シート!N109)","v":""},{"$f":"IF(入力シート!O109=\"\",\"\",入力シート!O109)","v":""},null,{"$f":"IF(入力シート!P109=\"\",\"\",入力シート!P109)","v":""},{"$f":"IF(入力シート!Q109=\"\",\"\",入力シート!Q109)","v":""},{"$f":"IF(入力シート!R109=\"\",\"\",入力シート!R109)","v":""},{"$f":"IF(入力シート!S109=\"\",\"\",入力シート!S109)","v":""},{"$f":"IF(入力シート!T109=\"\",\"\",入力シート!T109)","v":""},{"$f":"IF(入力シート!U109=\"\",\"\",入力シート!U109)","v":""},{"$f":"IF(入力シート!V109=\"\",\"\",入力シート!V109)","v":""},{"$f":"IF(入力シート!W109=\"\",\"\",入力シート!W109)","v":""},{"$f":"IF(入力シート!X109=\"\",\"\",入力シート!X109)","v":""},{"$f":"IF(入力シート!Y109=\"\",\"\",入力シート!Y109)","v":""},{"$f":"IF(入力シート!Z109=\"\",\"\",入力シート!Z109)","v":""},null,null,{"$f":"IF(入力シート!H109=\"\",\"\",\"〇\")","v":""},{"$f":"IF(入力シート!AA109=\"\",\"\",入力シート!AA109)","v":""},{"$f":"IF(入力シート!AB109=\"\",\"\",入力シート!AB109)","v":""},{"$f":"IF(入力シート!AC109=\"\",\"\",入力シート!AC109)","v":""},{"$f":"IF(入力シート!AD109=\"\",\"\",入力シート!AD109)","v":""}]
[{"$f":"IF(入力シート!B110=\"\",\"\",入力シート!B110)","v":""},{"$f":"IF(入力シート!C110=\"\",\"\",入力シート!C110)","v":""},{"$f":"IF(入力シート!D110=\"\",\"\",DBCS(入力シート!D110))","v":""},{"$f":"IF(入力シート!E110=\"\",\"\",DBCS(入力シート!E110))","v":""},{"$f":"ASC(IF(入力シート!F110=\"\",\"\",UPPER(入力シート!F110)))","v":""},{"$f":"IF(入力シート!G110=\"\",\"\",PROPER(入力シート!G110))","v":""},{"$f":"IF(入力シート!H110=\"\",\"\",入力シート!H110)","v":""},{"$f":"IF(入力シート!I110=\"\",\"\",TEXT(入力シート!I110,\"yyyy/mm/dd\"))","v":""},{"$f":"IF(入力シート!J110=\"\",\"\",入力シート!J110)","v":""},{"$f":"IF(入力シート!K110=\"\",\"\",入力シート!K110)","v":""},{"$f":"IF(入力シート!L110=\"\",\"\",入力シート!L110)","v":""},{"$f":"IF(入力シート!M110=\"\",\"\",入力シート!M110)","v":""},{"$f":"IF(入力シート!N110=\"\",\"\",入力シート!N110)","v":""},{"$f":"IF(入力シート!O110=\"\",\"\",入力シート!O110)","v":""},null,{"$f":"IF(入力シート!P110=\"\",\"\",入力シート!P110)","v":""},{"$f":"IF(入力シート!Q110=\"\",\"\",入力シート!Q110)","v":""},{"$f":"IF(入力シート!R110=\"\",\"\",入力シート!R110)","v":""},{"$f":"IF(入力シート!S110=\"\",\"\",入力シート!S110)","v":""},{"$f":"IF(入力シート!T110=\"\",\"\",入力シート!T110)","v":""},{"$f":"IF(入力シート!U110=\"\",\"\",入力シート!U110)","v":""},{"$f":"IF(入力シート!V110=\"\",\"\",入力シート!V110)","v":""},{"$f":"IF(入力シート!W110=\"\",\"\",入力シート!W110)","v":""},{"$f":"IF(入力シート!X110=\"\",\"\",入力シート!X110)","v":""},{"$f":"IF(入力シート!Y110=\"\",\"\",入力シート!Y110)","v":""},{"$f":"IF(入力シート!Z110=\"\",\"\",入力シート!Z110)","v":""},null,null,{"$f":"IF(入力シート!H110=\"\",\"\",\"〇\")","v":""},{"$f":"IF(入力シート!AA110=\"\",\"\",入力シート!AA110)","v":""},{"$f":"IF(入力シート!AB110=\"\",\"\",入力シート!AB110)","v":""},{"$f":"IF(入力シート!AC110=\"\",\"\",入力シート!AC110)","v":""},{"$f":"IF(入力シート!AD110=\"\",\"\",入力シート!AD110)","v":""}]
[{"$f":"IF(入力シート!B111=\"\",\"\",入力シート!B111)","v":""},{"$f":"IF(入力シート!C111=\"\",\"\",入力シート!C111)","v":""},{"$f":"IF(入力シート!D111=\"\",\"\",DBCS(入力シート!D111))","v":""},{"$f":"IF(入力シート!E111=\"\",\"\",DBCS(入力シート!E111))","v":""},{"$f":"ASC(IF(入力シート!F111=\"\",\"\",UPPER(入力シート!F111)))","v":""},{"$f":"IF(入力シート!G111=\"\",\"\",PROPER(入力シート!G111))","v":""},{"$f":"IF(入力シート!H111=\"\",\"\",入力シート!H111)","v":""},{"$f":"IF(入力シート!I111=\"\",\"\",TEXT(入力シート!I111,\"yyyy/mm/dd\"))","v":""},{"$f":"IF(入力シート!J111=\"\",\"\",入力シート!J111)","v":""},{"$f":"IF(入力シート!K111=\"\",\"\",入力シート!K111)","v":""},{"$f":"IF(入力シート!L111=\"\",\"\",入力シート!L111)","v":""},{"$f":"IF(入力シート!M111=\"\",\"\",入力シート!M111)","v":""},{"$f":"IF(入力シート!N111=\"\",\"\",入力シート!N111)","v":""},{"$f":"IF(入力シート!O111=\"\",\"\",入力シート!O111)","v":""},null,{"$f":"IF(入力シート!P111=\"\",\"\",入力シート!P111)","v":""},{"$f":"IF(入力シート!Q111=\"\",\"\",入力シート!Q111)","v":""},{"$f":"IF(入力シート!R111=\"\",\"\",入力シート!R111)","v":""},{"$f":"IF(入力シート!S111=\"\",\"\",入力シート!S111)","v":""},{"$f":"IF(入力シート!T111=\"\",\"\",入力シート!T111)","v":""},{"$f":"IF(入力シート!U111=\"\",\"\",入力シート!U111)","v":""},{"$f":"IF(入力シート!V111=\"\",\"\",入力シート!V111)","v":""},{"$f":"IF(入力シート!W111=\"\",\"\",入力シート!W111)","v":""},{"$f":"IF(入力シート!X111=\"\",\"\",入力シート!X111)","v":""},{"$f":"IF(入力シート!Y111=\"\",\"\",入力シート!Y111)","v":""},{"$f":"IF(入力シート!Z111=\"\",\"\",入力シート!Z111)","v":""},null,null,{"$f":"IF(入力シート!H111=\"\",\"\",\"〇\")","v":""},{"$f":"IF(入力シート!AA111=\"\",\"\",入力シート!AA111)","v":""},{"$f":"IF(入力シート!AB111=\"\",\"\",入力シート!AB111)","v":""},{"$f":"IF(入力シート!AC111=\"\",\"\",入力シート!AC111)","v":""},{"$f":"IF(入力シート!AD111=\"\",\"\",入力シート!AD111)","v":""}]
[{"$f":"IF(入力シート!B112=\"\",\"\",入力シート!B112)","v":""},{"$f":"IF(入力シート!C112=\"\",\"\",入力シート!C112)","v":""},{"$f":"IF(入力シート!D112=\"\",\"\",DBCS(入力シート!D112))","v":""},{"$f":"IF(入力シート!E112=\"\",\"\",DBCS(入力シート!E112))","v":""},{"$f":"ASC(IF(入力シート!F112=\"\",\"\",UPPER(入力シート!F112)))","v":""},{"$f":"IF(入力シート!G112=\"\",\"\",PROPER(入力シート!G112))","v":""},{"$f":"IF(入力シート!H112=\"\",\"\",入力シート!H112)","v":""},{"$f":"IF(入力シート!I112=\"\",\"\",TEXT(入力シート!I112,\"yyyy/mm/dd\"))","v":""},{"$f":"IF(入力シート!J112=\"\",\"\",入力シート!J112)","v":""},{"$f":"IF(入力シート!K112=\"\",\"\",入力シート!K112)","v":""},{"$f":"IF(入力シート!L112=\"\",\"\",入力シート!L112)","v":""},{"$f":"IF(入力シート!M112=\"\",\"\",入力シート!M112)","v":""},{"$f":"IF(入力シート!N112=\"\",\"\",入力シート!N112)","v":""},{"$f":"IF(入力シート!O112=\"\",\"\",入力シート!O112)","v":""},null,{"$f":"IF(入力シート!P112=\"\",\"\",入力シート!P112)","v":""},{"$f":"IF(入力シート!Q112=\"\",\"\",入力シート!Q112)","v":""},{"$f":"IF(入力シート!R112=\"\",\"\",入力シート!R112)","v":""},{"$f":"IF(入力シート!S112=\"\",\"\",入力シート!S112)","v":""},{"$f":"IF(入力シート!T112=\"\",\"\",入力シート!T112)","v":""},{"$f":"IF(入力シート!U112=\"\",\"\",入力シート!U112)","v":""},{"$f":"IF(入力シート!V112=\"\",\"\",入力シート!V112)","v":""},{"$f":"IF(入力シート!W112=\"\",\"\",入力シート!W112)","v":""},{"$f":"IF(入力シート!X112=\"\",\"\",入力シート!X112)","v":""},{"$f":"IF(入力シート!Y112=\"\",\"\",入力シート!Y112)","v":""},{"$f":"IF(入力シート!Z112=\"\",\"\",入力シート!Z112)","v":""},null,null,{"$f":"IF(入力シート!H112=\"\",\"\",\"〇\")","v":""},{"$f":"IF(入力シート!AA112=\"\",\"\",入力シート!AA112)","v":""},{"$f":"IF(入力シート!AB112=\"\",\"\",入力シート!AB112)","v":""},{"$f":"IF(入力シート!AC112=\"\",\"\",入力シート!AC112)","v":""},{"$f":"IF(入力シート!AD112=\"\",\"\",入力シート!AD112)","v":""}]
[{"$f":"IF(入力シート!B113=\"\",\"\",入力シート!B113)","v":""},{"$f":"IF(入力シート!C113=\"\",\"\",入力シート!C113)","v":""},{"$f":"IF(入力シート!D113=\"\",\"\",DBCS(入力シート!D113))","v":""},{"$f":"IF(入力シート!E113=\"\",\"\",DBCS(入力シート!E113))","v":""},{"$f":"ASC(IF(入力シート!F113=\"\",\"\",UPPER(入力シート!F113)))","v":""},{"$f":"IF(入力シート!G113=\"\",\"\",PROPER(入力シート!G113))","v":""},{"$f":"IF(入力シート!H113=\"\",\"\",入力シート!H113)","v":""},{"$f":"IF(入力シート!I113=\"\",\"\",TEXT(入力シート!I113,\"yyyy/mm/dd\"))","v":""},{"$f":"IF(入力シート!J113=\"\",\"\",入力シート!J113)","v":""},{"$f":"IF(入力シート!K113=\"\",\"\",入力シート!K113)","v":""},{"$f":"IF(入力シート!L113=\"\",\"\",入力シート!L113)","v":""},{"$f":"IF(入力シート!M113=\"\",\"\",入力シート!M113)","v":""},{"$f":"IF(入力シート!N113=\"\",\"\",入力シート!N113)","v":""},{"$f":"IF(入力シート!O113=\"\",\"\",入力シート!O113)","v":""},null,{"$f":"IF(入力シート!P113=\"\",\"\",入力シート!P113)","v":""},{"$f":"IF(入力シート!Q113=\"\",\"\",入力シート!Q113)","v":""},{"$f":"IF(入力シート!R113=\"\",\"\",入力シート!R113)","v":""},{"$f":"IF(入力シート!S113=\"\",\"\",入力シート!S113)","v":""},{"$f":"IF(入力シート!T113=\"\",\"\",入力シート!T113)","v":""},{"$f":"IF(入力シート!U113=\"\",\"\",入力シート!U113)","v":""},{"$f":"IF(入力シート!V113=\"\",\"\",入力シート!V113)","v":""},{"$f":"IF(入力シート!W113=\"\",\"\",入力シート!W113)","v":""},{"$f":"IF(入力シート!X113=\"\",\"\",入力シート!X113)","v":""},{"$f":"IF(入力シート!Y113=\"\",\"\",入力シート!Y113)","v":""},{"$f":"IF(入力シート!Z113=\"\",\"\",入力シート!Z113)","v":""},null,null,{"$f":"IF(入力シート!H113=\"\",\"\",\"〇\")","v":""},{"$f":"IF(入力シート!AA113=\"\",\"\",入力シート!AA113)","v":""},{"$f":"IF(入力シート!AB113=\"\",\"\",入力シート!AB113)","v":""},{"$f":"IF(入力シート!AC113=\"\",\"\",入力シート!AC113)","v":""},{"$f":"IF(入力シート!AD113=\"\",\"\",入力シート!AD113)","v":""}]
[{"$f":"IF(入力シート!B114=\"\",\"\",入力シート!B114)","v":""},{"$f":"IF(入力シート!C114=\"\",\"\",入力シート!C114)","v":""},{"$f":"IF(入力シート!D114=\"\",\"\",DBCS(入力シート!D114))","v":""},{"$f":"IF(入力シート!E114=\"\",\"\",DBCS(入力シート!E114))","v":""},{"$f":"ASC(IF(入力シート!F114=\"\",\"\",UPPER(入力シート!F114)))","v":""},{"$f":"IF(入力シート!G114=\"\",\"\",PROPER(入力シート!G114))","v":""},{"$f":"IF(入力シート!H114=\"\",\"\",入力シート!H114)","v":""},{"$f":"IF(入力シート!I114=\"\",\"\",TEXT(入力シート!I114,\"yyyy/mm/dd\"))","v":""},{"$f":"IF(入力シート!J114=\"\",\"\",入力シート!J114)","v":""},{"$f":"IF(入力シート!K114=\"\",\"\",入力シート!K114)","v":""},{"$f":"IF(入力シート!L114=\"\",\"\",入力シート!L114)","v":""},{"$f":"IF(入力シート!M114=\"\",\"\",入力シート!M114)","v":""},{"$f":"IF(入力シート!N114=\"\",\"\",入力シート!N114)","v":""},{"$f":"IF(入力シート!O114=\"\",\"\",入力シート!O114)","v":""},null,{"$f":"IF(入力シート!P114=\"\",\"\",入力シート!P114)","v":""},{"$f":"IF(入力シート!Q114=\"\",\"\",入力シート!Q114)","v":""},{"$f":"IF(入力シート!R114=\"\",\"\",入力シート!R114)","v":""},{"$f":"IF(入力シート!S114=\"\",\"\",入力シート!S114)","v":""},{"$f":"IF(入力シート!T114=\"\",\"\",入力シート!T114)","v":""},{"$f":"IF(入力シート!U114=\"\",\"\",入力シート!U114)","v":""},{"$f":"IF(入力シート!V114=\"\",\"\",入力シート!V114)","v":""},{"$f":"IF(入力シート!W114=\"\",\"\",入力シート!W114)","v":""},{"$f":"IF(入力シート!X114=\"\",\"\",入力シート!X114)","v":""},{"$f":"IF(入力シート!Y114=\"\",\"\",入力シート!Y114)","v":""},{"$f":"IF(入力シート!Z114=\"\",\"\",入力シート!Z114)","v":""},null,null,{"$f":"IF(入力シート!H114=\"\",\"\",\"〇\")","v":""},{"$f":"IF(入力シート!AA114=\"\",\"\",入力シート!AA114)","v":""},{"$f":"IF(入力シート!AB114=\"\",\"\",入力シート!AB114)","v":""},{"$f":"IF(入力シート!AC114=\"\",\"\",入力シート!AC114)","v":""},{"$f":"IF(入力シート!AD114=\"\",\"\",入力シート!AD114)","v":""}]
[{"$f":"IF(入力シート!B115=\"\",\"\",入力シート!B115)","v":""},{"$f":"IF(入力シート!C115=\"\",\"\",入力シート!C115)","v":""},{"$f":"IF(入力シート!D115=\"\",\"\",DBCS(入力シート!D115))","v":""},{"$f":"IF(入力シート!E115=\"\",\"\",DBCS(入力シート!E115))","v":""},{"$f":"ASC(IF(入力シート!F115=\"\",\"\",UPPER(入力シート!F115)))","v":""},{"$f":"IF(入力シート!G115=\"\",\"\",PROPER(入力シート!G115))","v":""},{"$f":"IF(入力シート!H115=\"\",\"\",入力シート!H115)","v":""},{"$f":"IF(入力シート!I115=\"\",\"\",TEXT(入力シート!I115,\"yyyy/mm/dd\"))","v":""},{"$f":"IF(入力シート!J115=\"\",\"\",入力シート!J115)","v":""},{"$f":"IF(入力シート!K115=\"\",\"\",入力シート!K115)","v":""},{"$f":"IF(入力シート!L115=\"\",\"\",入力シート!L115)","v":""},{"$f":"IF(入力シート!M115=\"\",\"\",入力シート!M115)","v":""},{"$f":"IF(入力シート!N115=\"\",\"\",入力シート!N115)","v":""},{"$f":"IF(入力シート!O115=\"\",\"\",入力シート!O115)","v":""},null,{"$f":"IF(入力シート!P115=\"\",\"\",入力シート!P115)","v":""},{"$f":"IF(入力シート!Q115=\"\",\"\",入力シート!Q115)","v":""},{"$f":"IF(入力シート!R115=\"\",\"\",入力シート!R115)","v":""},{"$f":"IF(入力シート!S115=\"\",\"\",入力シート!S115)","v":""},{"$f":"IF(入力シート!T115=\"\",\"\",入力シート!T115)","v":""},{"$f":"IF(入力シート!U115=\"\",\"\",入力シート!U115)","v":""},{"$f":"IF(入力シート!V115=\"\",\"\",入力シート!V115)","v":""},{"$f":"IF(入力シート!W115=\"\",\"\",入力シート!W115)","v":""},{"$f":"IF(入力シート!X115=\"\",\"\",入力シート!X115)","v":""},{"$f":"IF(入力シート!Y115=\"\",\"\",入力シート!Y115)","v":""},{"$f":"IF(入力シート!Z115=\"\",\"\",入力シート!Z115)","v":""},null,null,{"$f":"IF(入力シート!H115=\"\",\"\",\"〇\")","v":""},{"$f":"IF(入力シート!AA115=\"\",\"\",入力シート!AA115)","v":""},{"$f":"IF(入力シート!AB115=\"\",\"\",入力シート!AB115)","v":""},{"$f":"IF(入力シート!AC115=\"\",\"\",入力シート!AC115)","v":""},{"$f":"IF(入力シート!AD115=\"\",\"\",入力シート!AD115)","v":""}]
[{"$f":"IF(入力シート!B116=\"\",\"\",入力シート!B116)","v":""},{"$f":"IF(入力シート!C116=\"\",\"\",入力シート!C116)","v":""},{"$f":"IF(入力シート!D116=\"\",\"\",DBCS(入力シート!D116))","v":""},{"$f":"IF(入力シート!E116=\"\",\"\",DBCS(入力シート!E116))","v":""},{"$f":"ASC(IF(入力シート!F116=\"\",\"\",UPPER(入力シート!F116)))","v":""},{"$f":"IF(入力シート!G116=\"\",\"\",PROPER(入力シート!G116))","v":""},{"$f":"IF(入力シート!H116=\"\",\"\",入力シート!H116)","v":""},{"$f":"IF(入力シート!I116=\"\",\"\",TEXT(入力シート!I116,\"yyyy/mm/dd\"))","v":""},{"$f":"IF(入力シート!J116=\"\",\"\",入力シート!J116)","v":""},{"$f":"IF(入力シート!K116=\"\",\"\",入力シート!K116)","v":""},{"$f":"IF(入力シート!L116=\"\",\"\",入力シート!L116)","v":""},{"$f":"IF(入力シート!M116=\"\",\"\",入力シート!M116)","v":""},{"$f":"IF(入力シート!N116=\"\",\"\",入力シート!N116)","v":""},{"$f":"IF(入力シート!O116=\"\",\"\",入力シート!O116)","v":""},null,{"$f":"IF(入力シート!P116=\"\",\"\",入力シート!P116)","v":""},{"$f":"IF(入力シート!Q116=\"\",\"\",入力シート!Q116)","v":""},{"$f":"IF(入力シート!R116=\"\",\"\",入力シート!R116)","v":""},{"$f":"IF(入力シート!S116=\"\",\"\",入力シート!S116)","v":""},{"$f":"IF(入力シート!T116=\"\",\"\",入力シート!T116)","v":""},{"$f":"IF(入力シート!U116=\"\",\"\",入力シート!U116)","v":""},{"$f":"IF(入力シート!V116=\"\",\"\",入力シート!V116)","v":""},{"$f":"IF(入力シート!W116=\"\",\"\",入力シート!W116)","v":""},{"$f":"IF(入力シート!X116=\"\",\"\",入力シート!X116)","v":""},{"$f":"IF(入力シート!Y116=\"\",\"\",入力シート!Y116)","v":""},{"$f":"IF(入力シート!Z116=\"\",\"\",入力シート!Z116)","v":""},null,null,{"$f":"IF(入力シート!H116=\"\",\"\",\"〇\")","v":""},{"$f":"IF(入力シート!AA116=\"\",\"\",入力シート!AA116)","v":""},{"$f":"IF(入力シート!AB116=\"\",\"\",入力シート!AB116)","v":""},{"$f":"IF(入力シート!AC116=\"\",\"\",入力シート!AC116)","v":""},{"$f":"IF(入力シート!AD116=\"\",\"\",入力シート!AD116)","v":""}]
[{"$f":"IF(入力シート!B117=\"\",\"\",入力シート!B117)","v":""},{"$f":"IF(入力シート!C117=\"\",\"\",入力シート!C117)","v":""},{"$f":"IF(入力シート!D117=\"\",\"\",DBCS(入力シート!D117))","v":""},{"$f":"IF(入力シート!E117=\"\",\"\",DBCS(入力シート!E117))","v":""},{"$f":"ASC(IF(入力シート!F117=\"\",\"\",UPPER(入力シート!F117)))","v":""},{"$f":"IF(入力シート!G117=\"\",\"\",PROPER(入力シート!G117))","v":""},{"$f":"IF(入力シート!H117=\"\",\"\",入力シート!H117)","v":""},{"$f":"IF(入力シート!I117=\"\",\"\",TEXT(入力シート!I117,\"yyyy/mm/dd\"))","v":""},{"$f":"IF(入力シート!J117=\"\",\"\",入力シート!J117)","v":""},{"$f":"IF(入力シート!K117=\"\",\"\",入力シート!K117)","v":""},{"$f":"IF(入力シート!L117=\"\",\"\",入力シート!L117)","v":""},{"$f":"IF(入力シート!M117=\"\",\"\",入力シート!M117)","v":""},{"$f":"IF(入力シート!N117=\"\",\"\",入力シート!N117)","v":""},{"$f":"IF(入力シート!O117=\"\",\"\",入力シート!O117)","v":""},null,{"$f":"IF(入力シート!P117=\"\",\"\",入力シート!P117)","v":""},{"$f":"IF(入力シート!Q117=\"\",\"\",入力シート!Q117)","v":""},{"$f":"IF(入力シート!R117=\"\",\"\",入力シート!R117)","v":""},{"$f":"IF(入力シート!S117=\"\",\"\",入力シート!S117)","v":""},{"$f":"IF(入力シート!T117=\"\",\"\",入力シート!T117)","v":""},{"$f":"IF(入力シート!U117=\"\",\"\",入力シート!U117)","v":""},{"$f":"IF(入力シート!V117=\"\",\"\",入力シート!V117)","v":""},{"$f":"IF(入力シート!W117=\"\",\"\",入力シート!W117)","v":""},{"$f":"IF(入力シート!X117=\"\",\"\",入力シート!X117)","v":""},{"$f":"IF(入力シート!Y117=\"\",\"\",入力シート!Y117)","v":""},{"$f":"IF(入力シート!Z117=\"\",\"\",入力シート!Z117)","v":""},null,null,{"$f":"IF(入力シート!H117=\"\",\"\",\"〇\")","v":""},{"$f":"IF(入力シート!AA117=\"\",\"\",入力シート!AA117)","v":""},{"$f":"IF(入力シート!AB117=\"\",\"\",入力シート!AB117)","v":""},{"$f":"IF(入力シート!AC117=\"\",\"\",入力シート!AC117)","v":""},{"$f":"IF(入力シート!AD117=\"\",\"\",入力シート!AD117)","v":""}]
[{"$f":"IF(入力シート!B118=\"\",\"\",入力シート!B118)","v":""},{"$f":"IF(入力シート!C118=\"\",\"\",入力シート!C118)","v":""},{"$f":"IF(入力シート!D118=\"\",\"\",DBCS(入力シート!D118))","v":""},{"$f":"IF(入力シート!E118=\"\",\"\",DBCS(入力シート!E118))","v":""},{"$f":"ASC(IF(入力シート!F118=\"\",\"\",UPPER(入力シート!F118)))","v":""},{"$f":"IF(入力シート!G118=\"\",\"\",PROPER(入力シート!G118))","v":""},{"$f":"IF(入力シート!H118=\"\",\"\",入力シート!H118)","v":""},{"$f":"IF(入力シート!I118=\"\",\"\",TEXT(入力シート!I118,\"yyyy/mm/dd\"))","v":""},{"$f":"IF(入力シート!J118=\"\",\"\",入力シート!J118)","v":""},{"$f":"IF(入力シート!K118=\"\",\"\",入力シート!K118)","v":""},{"$f":"IF(入力シート!L118=\"\",\"\",入力シート!L118)","v":""},{"$f":"IF(入力シート!M118=\"\",\"\",入力シート!M118)","v":""},{"$f":"IF(入力シート!N118=\"\",\"\",入力シート!N118)","v":""},{"$f":"IF(入力シート!O118=\"\",\"\",入力シート!O118)","v":""},null,{"$f":"IF(入力シート!P118=\"\",\"\",入力シート!P118)","v":""},{"$f":"IF(入力シート!Q118=\"\",\"\",入力シート!Q118)","v":""},{"$f":"IF(入力シート!R118=\"\",\"\",入力シート!R118)","v":""},{"$f":"IF(入力シート!S118=\"\",\"\",入力シート!S118)","v":""},{"$f":"IF(入力シート!T118=\"\",\"\",入力シート!T118)","v":""},{"$f":"IF(入力シート!U118=\"\",\"\",入力シート!U118)","v":""},{"$f":"IF(入力シート!V118=\"\",\"\",入力シート!V118)","v":""},{"$f":"IF(入力シート!W118=\"\",\"\",入力シート!W118)","v":""},{"$f":"IF(入力シート!X118=\"\",\"\",入力シート!X118)","v":""},{"$f":"IF(入力シート!Y118=\"\",\"\",入力シート!Y118)","v":""},{"$f":"IF(入力シート!Z118=\"\",\"\",入力シート!Z118)","v":""},null,null,{"$f":"IF(入力シート!H118=\"\",\"\",\"〇\")","v":""},{"$f":"IF(入力シート!AA118=\"\",\"\",入力シート!AA118)","v":""},{"$f":"IF(入力シート!AB118=\"\",\"\",入力シート!AB118)","v":""},{"$f":"IF(入力シート!AC118=\"\",\"\",入力シート!AC118)","v":""},{"$f":"IF(入力シート!AD118=\"\",\"\",入力シート!AD118)","v":""}]
[{"$f":"IF(入力シート!B119=\"\",\"\",入力シート!B119)","v":""},{"$f":"IF(入力シート!C119=\"\",\"\",入力シート!C119)","v":""},{"$f":"IF(入力シート!D119=\"\",\"\",DBCS(入力シート!D119))","v":""},{"$f":"IF(入力シート!E119=\"\",\"\",DBCS(入力シート!E119))","v":""},{"$f":"ASC(IF(入力シート!F119=\"\",\"\",UPPER(入力シート!F119)))","v":""},{"$f":"IF(入力シート!G119=\"\",\"\",PROPER(入力シート!G119))","v":""},{"$f":"IF(入力シート!H119=\"\",\"\",入力シート!H119)","v":""},{"$f":"IF(入力シート!I119=\"\",\"\",TEXT(入力シート!I119,\"yyyy/mm/dd\"))","v":""},{"$f":"IF(入力シート!J119=\"\",\"\",入力シート!J119)","v":""},{"$f":"IF(入力シート!K119=\"\",\"\",入力シート!K119)","v":""},{"$f":"IF(入力シート!L119=\"\",\"\",入力シート!L119)","v":""},{"$f":"IF(入力シート!M119=\"\",\"\",入力シート!M119)","v":""},{"$f":"IF(入力シート!N119=\"\",\"\",入力シート!N119)","v":""},{"$f":"IF(入力シート!O119=\"\",\"\",入力シート!O119)","v":""},null,{"$f":"IF(入力シート!P119=\"\",\"\",入力シート!P119)","v":""},{"$f":"IF(入力シート!Q119=\"\",\"\",入力シート!Q119)","v":""},{"$f":"IF(入力シート!R119=\"\",\"\",入力シート!R119)","v":""},{"$f":"IF(入力シート!S119=\"\",\"\",入力シート!S119)","v":""},{"$f":"IF(入力シート!T119=\"\",\"\",入力シート!T119)","v":""},{"$f":"IF(入力シート!U119=\"\",\"\",入力シート!U119)","v":""},{"$f":"IF(入力シート!V119=\"\",\"\",入力シート!V119)","v":""},{"$f":"IF(入力シート!W119=\"\",\"\",入力シート!W119)","v":""},{"$f":"IF(入力シート!X119=\"\",\"\",入力シート!X119)","v":""},{"$f":"IF(入力シート!Y119=\"\",\"\",入力シート!Y119)","v":""},{"$f":"IF(入力シート!Z119=\"\",\"\",入力シート!Z119)","v":""},null,null,{"$f":"IF(入力シート!H119=\"\",\"\",\"〇\")","v":""},{"$f":"IF(入力シート!AA119=\"\",\"\",入力シート!AA119)","v":""},{"$f":"IF(入力シート!AB119=\"\",\"\",入力シート!AB119)","v":""},{"$f":"IF(入力シート!AC119=\"\",\"\",入力シート!AC119)","v":""},{"$f":"IF(入力シート!AD119=\"\",\"\",入力シート!AD119)","v":""}]
[{"$f":"IF(入力シート!B120=\"\",\"\",入力シート!B120)","v":""},{"$f":"IF(入力シート!C120=\"\",\"\",入力シート!C120)","v":""},{"$f":"IF(入力シート!D120=\"\",\"\",DBCS(入力シート!D120))","v":""},{"$f":"IF(入力シート!E120=\"\",\"\",DBCS(入力シート!E120))","v":""},{"$f":"ASC(IF(入力シート!F120=\"\",\"\",UPPER(入力シート!F120)))","v":""},{"$f":"IF(入力シート!G120=\"\",\"\",PROPER(入力シート!G120))","v":""},{"$f":"IF(入力シート!H120=\"\",\"\",入力シート!H120)","v":""},{"$f":"IF(入力シート!I120=\"\",\"\",TEXT(入力シート!I120,\"yyyy/mm/dd\"))","v":""},{"$f":"IF(入力シート!J120=\"\",\"\",入力シート!J120)","v":""},{"$f":"IF(入力シート!K120=\"\",\"\",入力シート!K120)","v":""},{"$f":"IF(入力シート!L120=\"\",\"\",入力シート!L120)","v":""},{"$f":"IF(入力シート!M120=\"\",\"\",入力シート!M120)","v":""},{"$f":"IF(入力シート!N120=\"\",\"\",入力シート!N120)","v":""},{"$f":"IF(入力シート!O120=\"\",\"\",入力シート!O120)","v":""},null,{"$f":"IF(入力シート!P120=\"\",\"\",入力シート!P120)","v":""},{"$f":"IF(入力シート!Q120=\"\",\"\",入力シート!Q120)","v":""},{"$f":"IF(入力シート!R120=\"\",\"\",入力シート!R120)","v":""},{"$f":"IF(入力シート!S120=\"\",\"\",入力シート!S120)","v":""},{"$f":"IF(入力シート!T120=\"\",\"\",入力シート!T120)","v":""},{"$f":"IF(入力シート!U120=\"\",\"\",入力シート!U120)","v":""},{"$f":"IF(入力シート!V120=\"\",\"\",入力シート!V120)","v":""},{"$f":"IF(入力シート!W120=\"\",\"\",入力シート!W120)","v":""},{"$f":"IF(入力シート!X120=\"\",\"\",入力シート!X120)","v":""},{"$f":"IF(入力シート!Y120=\"\",\"\",入力シート!Y120)","v":""},{"$f":"IF(入力シート!Z120=\"\",\"\",入力シート!Z120)","v":""},null,null,{"$f":"IF(入力シート!H120=\"\",\"\",\"〇\")","v":""},{"$f":"IF(入力シート!AA120=\"\",\"\",入力シート!AA120)","v":""},{"$f":"IF(入力シート!AB120=\"\",\"\",入力シート!AB120)","v":""},{"$f":"IF(入力シート!AC120=\"\",\"\",入力シート!AC120)","v":""},{"$f":"IF(入力シート!AD120=\"\",\"\",入力シート!AD120)","v":""}]
[{"$f":"IF(入力シート!B121=\"\",\"\",入力シート!B121)","v":""},{"$f":"IF(入力シート!C121=\"\",\"\",入力シート!C121)","v":""},{"$f":"IF(入力シート!D121=\"\",\"\",DBCS(入力シート!D121))","v":""},{"$f":"IF(入力シート!E121=\"\",\"\",DBCS(入力シート!E121))","v":""},{"$f":"ASC(IF(入力シート!F121=\"\",\"\",UPPER(入力シート!F121)))","v":""},{"$f":"IF(入力シート!G121=\"\",\"\",PROPER(入力シート!G121))","v":""},{"$f":"IF(入力シート!H121=\"\",\"\",入力シート!H121)","v":""},{"$f":"IF(入力シート!I121=\"\",\"\",TEXT(入力シート!I121,\"yyyy/mm/dd\"))","v":""},{"$f":"IF(入力シート!J121=\"\",\"\",入力シート!J121)","v":""},{"$f":"IF(入力シート!K121=\"\",\"\",入力シート!K121)","v":""},{"$f":"IF(入力シート!L121=\"\",\"\",入力シート!L121)","v":""},{"$f":"IF(入力シート!M121=\"\",\"\",入力シート!M121)","v":""},{"$f":"IF(入力シート!N121=\"\",\"\",入力シート!N121)","v":""},{"$f":"IF(入力シート!O121=\"\",\"\",入力シート!O121)","v":""},null,{"$f":"IF(入力シート!P121=\"\",\"\",入力シート!P121)","v":""},{"$f":"IF(入力シート!Q121=\"\",\"\",入力シート!Q121)","v":""},{"$f":"IF(入力シート!R121=\"\",\"\",入力シート!R121)","v":""},{"$f":"IF(入力シート!S121=\"\",\"\",入力シート!S121)","v":""},{"$f":"IF(入力シート!T121=\"\",\"\",入力シート!T121)","v":""},{"$f":"IF(入力シート!U121=\"\",\"\",入力シート!U121)","v":""},{"$f":"IF(入力シート!V121=\"\",\"\",入力シート!V121)","v":""},{"$f":"IF(入力シート!W121=\"\",\"\",入力シート!W121)","v":""},{"$f":"IF(入力シート!X121=\"\",\"\",入力シート!X121)","v":""},{"$f":"IF(入力シート!Y121=\"\",\"\",入力シート!Y121)","v":""},{"$f":"IF(入力シート!Z121=\"\",\"\",入力シート!Z121)","v":""},null,null,{"$f":"IF(入力シート!H121=\"\",\"\",\"〇\")","v":""},{"$f":"IF(入力シート!AA121=\"\",\"\",入力シート!AA121)","v":""},{"$f":"IF(入力シート!AB121=\"\",\"\",入力シート!AB121)","v":""},{"$f":"IF(入力シート!AC121=\"\",\"\",入力シート!AC121)","v":""},{"$f":"IF(入力シート!AD121=\"\",\"\",入力シート!AD121)","v":""}]
[{"$f":"IF(入力シート!B122=\"\",\"\",入力シート!B122)","v":""},{"$f":"IF(入力シート!C122=\"\",\"\",入力シート!C122)","v":""},{"$f":"IF(入力シート!D122=\"\",\"\",DBCS(入力シート!D122))","v":""},{"$f":"IF(入力シート!E122=\"\",\"\",DBCS(入力シート!E122))","v":""},{"$f":"ASC(IF(入力シート!F122=\"\",\"\",UPPER(入力シート!F122)))","v":""},{"$f":"IF(入力シート!G122=\"\",\"\",PROPER(入力シート!G122))","v":""},{"$f":"IF(入力シート!H122=\"\",\"\",入力シート!H122)","v":""},{"$f":"IF(入力シート!I122=\"\",\"\",TEXT(入力シート!I122,\"yyyy/mm/dd\"))","v":""},{"$f":"IF(入力シート!J122=\"\",\"\",入力シート!J122)","v":""},{"$f":"IF(入力シート!K122=\"\",\"\",入力シート!K122)","v":""},{"$f":"IF(入力シート!L122=\"\",\"\",入力シート!L122)","v":""},{"$f":"IF(入力シート!M122=\"\",\"\",入力シート!M122)","v":""},{"$f":"IF(入力シート!N122=\"\",\"\",入力シート!N122)","v":""},{"$f":"IF(入力シート!O122=\"\",\"\",入力シート!O122)","v":""},null,{"$f":"IF(入力シート!P122=\"\",\"\",入力シート!P122)","v":""},{"$f":"IF(入力シート!Q122=\"\",\"\",入力シート!Q122)","v":""},{"$f":"IF(入力シート!R122=\"\",\"\",入力シート!R122)","v":""},{"$f":"IF(入力シート!S122=\"\",\"\",入力シート!S122)","v":""},{"$f":"IF(入力シート!T122=\"\",\"\",入力シート!T122)","v":""},{"$f":"IF(入力シート!U122=\"\",\"\",入力シート!U122)","v":""},{"$f":"IF(入力シート!V122=\"\",\"\",入力シート!V122)","v":""},{"$f":"IF(入力シート!W122=\"\",\"\",入力シート!W122)","v":""},{"$f":"IF(入力シート!X122=\"\",\"\",入力シート!X122)","v":""},{"$f":"IF(入力シート!Y122=\"\",\"\",入力シート!Y122)","v":""},{"$f":"IF(入力シート!Z122=\"\",\"\",入力シート!Z122)","v":""},null,null,{"$f":"IF(入力シート!H122=\"\",\"\",\"〇\")","v":""},{"$f":"IF(入力シート!AA122=\"\",\"\",入力シート!AA122)","v":""},{"$f":"IF(入力シート!AB122=\"\",\"\",入力シート!AB122)","v":""},{"$f":"IF(入力シート!AC122=\"\",\"\",入力シート!AC122)","v":""},{"$f":"IF(入力シート!AD122=\"\",\"\",入力シート!AD122)","v":""}]
[{"$f":"IF(入力シート!B123=\"\",\"\",入力シート!B123)","v":""},{"$f":"IF(入力シート!C123=\"\",\"\",入力シート!C123)","v":""},{"$f":"IF(入力シート!D123=\"\",\"\",DBCS(入力シート!D123))","v":""},{"$f":"IF(入力シート!E123=\"\",\"\",DBCS(入力シート!E123))","v":""},{"$f":"ASC(IF(入力シート!F123=\"\",\"\",UPPER(入力シート!F123)))","v":""},{"$f":"IF(入力シート!G123=\"\",\"\",PROPER(入力シート!G123))","v":""},{"$f":"IF(入力シート!H123=\"\",\"\",入力シート!H123)","v":""},{"$f":"IF(入力シート!I123=\"\",\"\",TEXT(入力シート!I123,\"yyyy/mm/dd\"))","v":""},{"$f":"IF(入力シート!J123=\"\",\"\",入力シート!J123)","v":""},{"$f":"IF(入力シート!K123=\"\",\"\",入力シート!K123)","v":""},{"$f":"IF(入力シート!L123=\"\",\"\",入力シート!L123)","v":""},{"$f":"IF(入力シート!M123=\"\",\"\",入力シート!M123)","v":""},{"$f":"IF(入力シート!N123=\"\",\"\",入力シート!N123)","v":""},{"$f":"IF(入力シート!O123=\"\",\"\",入力シート!O123)","v":""},null,{"$f":"IF(入力シート!P123=\"\",\"\",入力シート!P123)","v":""},{"$f":"IF(入力シート!Q123=\"\",\"\",入力シート!Q123)","v":""},{"$f":"IF(入力シート!R123=\"\",\"\",入力シート!R123)","v":""},{"$f":"IF(入力シート!S123=\"\",\"\",入力シート!S123)","v":""},{"$f":"IF(入力シート!T123=\"\",\"\",入力シート!T123)","v":""},{"$f":"IF(入力シート!U123=\"\",\"\",入力シート!U123)","v":""},{"$f":"IF(入力シート!V123=\"\",\"\",入力シート!V123)","v":""},{"$f":"IF(入力シート!W123=\"\",\"\",入力シート!W123)","v":""},{"$f":"IF(入力シート!X123=\"\",\"\",入力シート!X123)","v":""},{"$f":"IF(入力シート!Y123=\"\",\"\",入力シート!Y123)","v":""},{"$f":"IF(入力シート!Z123=\"\",\"\",入力シート!Z123)","v":""},null,null,{"$f":"IF(入力シート!H123=\"\",\"\",\"〇\")","v":""},{"$f":"IF(入力シート!AA123=\"\",\"\",入力シート!AA123)","v":""},{"$f":"IF(入力シート!AB123=\"\",\"\",入力シート!AB123)","v":""},{"$f":"IF(入力シート!AC123=\"\",\"\",入力シート!AC123)","v":""},{"$f":"IF(入力シート!AD123=\"\",\"\",入力シート!AD123)","v":""}]
[{"$f":"IF(入力シート!B124=\"\",\"\",入力シート!B124)","v":""},{"$f":"IF(入力シート!C124=\"\",\"\",入力シート!C124)","v":""},{"$f":"IF(入力シート!D124=\"\",\"\",DBCS(入力シート!D124))","v":""},{"$f":"IF(入力シート!E124=\"\",\"\",DBCS(入力シート!E124))","v":""},{"$f":"ASC(IF(入力シート!F124=\"\",\"\",UPPER(入力シート!F124)))","v":""},{"$f":"IF(入力シート!G124=\"\",\"\",PROPER(入力シート!G124))","v":""},{"$f":"IF(入力シート!H124=\"\",\"\",入力シート!H124)","v":""},{"$f":"IF(入力シート!I124=\"\",\"\",TEXT(入力シート!I124,\"yyyy/mm/dd\"))","v":""},{"$f":"IF(入力シート!J124=\"\",\"\",入力シート!J124)","v":""},{"$f":"IF(入力シート!K124=\"\",\"\",入力シート!K124)","v":""},{"$f":"IF(入力シート!L124=\"\",\"\",入力シート!L124)","v":""},{"$f":"IF(入力シート!M124=\"\",\"\",入力シート!M124)","v":""},{"$f":"IF(入力シート!N124=\"\",\"\",入力シート!N124)","v":""},{"$f":"IF(入力シート!O124=\"\",\"\",入力シート!O124)","v":""},null,{"$f":"IF(入力シート!P124=\"\",\"\",入力シート!P124)","v":""},{"$f":"IF(入力シート!Q124=\"\",\"\",入力シート!Q124)","v":""},{"$f":"IF(入力シート!R124=\"\",\"\",入力シート!R124)","v":""},{"$f":"IF(入力シート!S124=\"\",\"\",入力シート!S124)","v":""},{"$f":"IF(入力シート!T124=\"\",\"\",入力シート!T124)","v":""},{"$f":"IF(入力シート!U124=\"\",\"\",入力シート!U124)","v":""},{"$f":"IF(入力シート!V124=\"\",\"\",入力シート!V124)","v":""},{"$f":"IF(入力シート!W124=\"\",\"\",入力シート!W124)","v":""},{"$f":"IF(入力シート!X124=\"\",\"\",入力シート!X124)","v":""},{"$f":"IF(入力シート!Y124=\"\",\"\",入力シート!Y124)","v":""},{"$f":"IF(入力シート!Z124=\"\",\"\",入力シート!Z124)","v":""},null,null,{"$f":"IF(入力シート!H124=\"\",\"\",\"〇\")","v":""},{"$f":"IF(入力シート!AA124=\"\",\"\",入力シート!AA124)","v":""},{"$f":"IF(入力シート!AB124=\"\",\"\",入力シート!AB124)","v":""},{"$f":"IF(入力シート!AC124=\"\",\"\",入力シート!AC124)","v":""},{"$f":"IF(入力シート!AD124=\"\",\"\",入力シート!AD124)","v":""}]
[{"$f":"IF(入力シート!B125=\"\",\"\",入力シート!B125)","v":""},{"$f":"IF(入力シート!C125=\"\",\"\",入力シート!C125)","v":""},{"$f":"IF(入力シート!D125=\"\",\"\",DBCS(入力シート!D125))","v":""},{"$f":"IF(入力シート!E125=\"\",\"\",DBCS(入力シート!E125))","v":""},{"$f":"ASC(IF(入力シート!F125=\"\",\"\",UPPER(入力シート!F125)))","v":""},{"$f":"IF(入力シート!G125=\"\",\"\",PROPER(入力シート!G125))","v":""},{"$f":"IF(入力シート!H125=\"\",\"\",入力シート!H125)","v":""},{"$f":"IF(入力シート!I125=\"\",\"\",TEXT(入力シート!I125,\"yyyy/mm/dd\"))","v":""},{"$f":"IF(入力シート!J125=\"\",\"\",入力シート!J125)","v":""},{"$f":"IF(入力シート!K125=\"\",\"\",入力シート!K125)","v":""},{"$f":"IF(入力シート!L125=\"\",\"\",入力シート!L125)","v":""},{"$f":"IF(入力シート!M125=\"\",\"\",入力シート!M125)","v":""},{"$f":"IF(入力シート!N125=\"\",\"\",入力シート!N125)","v":""},{"$f":"IF(入力シート!O125=\"\",\"\",入力シート!O125)","v":""},null,{"$f":"IF(入力シート!P125=\"\",\"\",入力シート!P125)","v":""},{"$f":"IF(入力シート!Q125=\"\",\"\",入力シート!Q125)","v":""},{"$f":"IF(入力シート!R125=\"\",\"\",入力シート!R125)","v":""},{"$f":"IF(入力シート!S125=\"\",\"\",入力シート!S125)","v":""},{"$f":"IF(入力シート!T125=\"\",\"\",入力シート!T125)","v":""},{"$f":"IF(入力シート!U125=\"\",\"\",入力シート!U125)","v":""},{"$f":"IF(入力シート!V125=\"\",\"\",入力シート!V125)","v":""},{"$f":"IF(入力シート!W125=\"\",\"\",入力シート!W125)","v":""},{"$f":"IF(入力シート!X125=\"\",\"\",入力シート!X125)","v":""},{"$f":"IF(入力シート!Y125=\"\",\"\",入力シート!Y125)","v":""},{"$f":"IF(入力シート!Z125=\"\",\"\",入力シート!Z125)","v":""},null,null,{"$f":"IF(入力シート!H125=\"\",\"\",\"〇\")","v":""},{"$f":"IF(入力シート!AA125=\"\",\"\",入力シート!AA125)","v":""},{"$f":"IF(入力シート!AB125=\"\",\"\",入力シート!AB125)","v":""},{"$f":"IF(入力シート!AC125=\"\",\"\",入力シート!AC125)","v":""},{"$f":"IF(入力シート!AD125=\"\",\"\",入力シート!AD125)","v":""}]
[{"$f":"IF(入力シート!B126=\"\",\"\",入力シート!B126)","v":""},{"$f":"IF(入力シート!C126=\"\",\"\",入力シート!C126)","v":""},{"$f":"IF(入力シート!D126=\"\",\"\",DBCS(入力シート!D126))","v":""},{"$f":"IF(入力シート!E126=\"\",\"\",DBCS(入力シート!E126))","v":""},{"$f":"ASC(IF(入力シート!F126=\"\",\"\",UPPER(入力シート!F126)))","v":""},{"$f":"IF(入力シート!G126=\"\",\"\",PROPER(入力シート!G126))","v":""},{"$f":"IF(入力シート!H126=\"\",\"\",入力シート!H126)","v":""},{"$f":"IF(入力シート!I126=\"\",\"\",TEXT(入力シート!I126,\"yyyy/mm/dd\"))","v":""},{"$f":"IF(入力シート!J126=\"\",\"\",入力シート!J126)","v":""},{"$f":"IF(入力シート!K126=\"\",\"\",入力シート!K126)","v":""},{"$f":"IF(入力シート!L126=\"\",\"\",入力シート!L126)","v":""},{"$f":"IF(入力シート!M126=\"\",\"\",入力シート!M126)","v":""},{"$f":"IF(入力シート!N126=\"\",\"\",入力シート!N126)","v":""},{"$f":"IF(入力シート!O126=\"\",\"\",入力シート!O126)","v":""},null,{"$f":"IF(入力シート!P126=\"\",\"\",入力シート!P126)","v":""},{"$f":"IF(入力シート!Q126=\"\",\"\",入力シート!Q126)","v":""},{"$f":"IF(入力シート!R126=\"\",\"\",入力シート!R126)","v":""},{"$f":"IF(入力シート!S126=\"\",\"\",入力シート!S126)","v":""},{"$f":"IF(入力シート!T126=\"\",\"\",入力シート!T126)","v":""},{"$f":"IF(入力シート!U126=\"\",\"\",入力シート!U126)","v":""},{"$f":"IF(入力シート!V126=\"\",\"\",入力シート!V126)","v":""},{"$f":"IF(入力シート!W126=\"\",\"\",入力シート!W126)","v":""},{"$f":"IF(入力シート!X126=\"\",\"\",入力シート!X126)","v":""},{"$f":"IF(入力シート!Y126=\"\",\"\",入力シート!Y126)","v":""},{"$f":"IF(入力シート!Z126=\"\",\"\",入力シート!Z126)","v":""},null,null,{"$f":"IF(入力シート!H126=\"\",\"\",\"〇\")","v":""},{"$f":"IF(入力シート!AA126=\"\",\"\",入力シート!AA126)","v":""},{"$f":"IF(入力シート!AB126=\"\",\"\",入力シート!AB126)","v":""},{"$f":"IF(入力シート!AC126=\"\",\"\",入力シート!AC126)","v":""},{"$f":"IF(入力シート!AD126=\"\",\"\",入力シート!AD126)","v":""}]
[{"$f":"IF(入力シート!B127=\"\",\"\",入力シート!B127)","v":""},{"$f":"IF(入力シート!C127=\"\",\"\",入力シート!C127)","v":""},{"$f":"IF(入力シート!D127=\"\",\"\",DBCS(入力シート!D127))","v":""},{"$f":"IF(入力シート!E127=\"\",\"\",DBCS(入力シート!E127))","v":""},{"$f":"ASC(IF(入力シート!F127=\"\",\"\",UPPER(入力シート!F127)))","v":""},{"$f":"IF(入力シート!G127=\"\",\"\",PROPER(入力シート!G127))","v":""},{"$f":"IF(入力シート!H127=\"\",\"\",入力シート!H127)","v":""},{"$f":"IF(入力シート!I127=\"\",\"\",TEXT(入力シート!I127,\"yyyy/mm/dd\"))","v":""},{"$f":"IF(入力シート!J127=\"\",\"\",入力シート!J127)","v":""},{"$f":"IF(入力シート!K127=\"\",\"\",入力シート!K127)","v":""},{"$f":"IF(入力シート!L127=\"\",\"\",入力シート!L127)","v":""},{"$f":"IF(入力シート!M127=\"\",\"\",入力シート!M127)","v":""},{"$f":"IF(入力シート!N127=\"\",\"\",入力シート!N127)","v":""},{"$f":"IF(入力シート!O127=\"\",\"\",入力シート!O127)","v":""},null,{"$f":"IF(入力シート!P127=\"\",\"\",入力シート!P127)","v":""},{"$f":"IF(入力シート!Q127=\"\",\"\",入力シート!Q127)","v":""},{"$f":"IF(入力シート!R127=\"\",\"\",入力シート!R127)","v":""},{"$f":"IF(入力シート!S127=\"\",\"\",入力シート!S127)","v":""},{"$f":"IF(入力シート!T127=\"\",\"\",入力シート!T127)","v":""},{"$f":"IF(入力シート!U127=\"\",\"\",入力シート!U127)","v":""},{"$f":"IF(入力シート!V127=\"\",\"\",入力シート!V127)","v":""},{"$f":"IF(入力シート!W127=\"\",\"\",入力シート!W127)","v":""},{"$f":"IF(入力シート!X127=\"\",\"\",入力シート!X127)","v":""},{"$f":"IF(入力シート!Y127=\"\",\"\",入力シート!Y127)","v":""},{"$f":"IF(入力シート!Z127=\"\",\"\",入力シート!Z127)","v":""},null,null,{"$f":"IF(入力シート!H127=\"\",\"\",\"〇\")","v":""},{"$f":"IF(入力シート!AA127=\"\",\"\",入力シート!AA127)","v":""},{"$f":"IF(入力シート!AB127=\"\",\"\",入力シート!AB127)","v":""},{"$f":"IF(入力シート!AC127=\"\",\"\",入力シート!AC127)","v":""},{"$f":"IF(入力シート!AD127=\"\",\"\",入力シート!AD127)","v":""}]
[{"$f":"IF(入力シート!B128=\"\",\"\",入力シート!B128)","v":""},{"$f":"IF(入力シート!C128=\"\",\"\",入力シート!C128)","v":""},{"$f":"IF(入力シート!D128=\"\",\"\",DBCS(入力シート!D128))","v":""},{"$f":"IF(入力シート!E128=\"\",\"\",DBCS(入力シート!E128))","v":""},{"$f":"ASC(IF(入力シート!F128=\"\",\"\",UPPER(入力シート!F128)))","v":""},{"$f":"IF(入力シート!G128=\"\",\"\",PROPER(入力シート!G128))","v":""},{"$f":"IF(入力シート!H128=\"\",\"\",入力シート!H128)","v":""},{"$f":"IF(入力シート!I128=\"\",\"\",TEXT(入力シート!I128,\"yyyy/mm/dd\"))","v":""},{"$f":"IF(入力シート!J128=\"\",\"\",入力シート!J128)","v":""},{"$f":"IF(入力シート!K128=\"\",\"\",入力シート!K128)","v":""},{"$f":"IF(入力シート!L128=\"\",\"\",入力シート!L128)","v":""},{"$f":"IF(入力シート!M128=\"\",\"\",入力シート!M128)","v":""},{"$f":"IF(入力シート!N128=\"\",\"\",入力シート!N128)","v":""},{"$f":"IF(入力シート!O128=\"\",\"\",入力シート!O128)","v":""},null,{"$f":"IF(入力シート!P128=\"\",\"\",入力シート!P128)","v":""},{"$f":"IF(入力シート!Q128=\"\",\"\",入力シート!Q128)","v":""},{"$f":"IF(入力シート!R128=\"\",\"\",入力シート!R128)","v":""},{"$f":"IF(入力シート!S128=\"\",\"\",入力シート!S128)","v":""},{"$f":"IF(入力シート!T128=\"\",\"\",入力シート!T128)","v":""},{"$f":"IF(入力シート!U128=\"\",\"\",入力シート!U128)","v":""},{"$f":"IF(入力シート!V128=\"\",\"\",入力シート!V128)","v":""},{"$f":"IF(入力シート!W128=\"\",\"\",入力シート!W128)","v":""},{"$f":"IF(入力シート!X128=\"\",\"\",入力シート!X128)","v":""},{"$f":"IF(入力シート!Y128=\"\",\"\",入力シート!Y128)","v":""},{"$f":"IF(入力シート!Z128=\"\",\"\",入力シート!Z128)","v":""},null,null,{"$f":"IF(入力シート!H128=\"\",\"\",\"〇\")","v":""},{"$f":"IF(入力シート!AA128=\"\",\"\",入力シート!AA128)","v":""},{"$f":"IF(入力シート!AB128=\"\",\"\",入力シート!AB128)","v":""},{"$f":"IF(入力シート!AC128=\"\",\"\",入力シート!AC128)","v":""},{"$f":"IF(入力シート!AD128=\"\",\"\",入力シート!AD128)","v":""}]
[{"$f":"IF(入力シート!B129=\"\",\"\",入力シート!B129)","v":""},{"$f":"IF(入力シート!C129=\"\",\"\",入力シート!C129)","v":""},{"$f":"IF(入力シート!D129=\"\",\"\",DBCS(入力シート!D129))","v":""},{"$f":"IF(入力シート!E129=\"\",\"\",DBCS(入力シート!E129))","v":""},{"$f":"ASC(IF(入力シート!F129=\"\",\"\",UPPER(入力シート!F129)))","v":""},{"$f":"IF(入力シート!G129=\"\",\"\",PROPER(入力シート!G129))","v":""},{"$f":"IF(入力シート!H129=\"\",\"\",入力シート!H129)","v":""},{"$f":"IF(入力シート!I129=\"\",\"\",TEXT(入力シート!I129,\"yyyy/mm/dd\"))","v":""},{"$f":"IF(入力シート!J129=\"\",\"\",入力シート!J129)","v":""},{"$f":"IF(入力シート!K129=\"\",\"\",入力シート!K129)","v":""},{"$f":"IF(入力シート!L129=\"\",\"\",入力シート!L129)","v":""},{"$f":"IF(入力シート!M129=\"\",\"\",入力シート!M129)","v":""},{"$f":"IF(入力シート!N129=\"\",\"\",入力シート!N129)","v":""},{"$f":"IF(入力シート!O129=\"\",\"\",入力シート!O129)","v":""},null,{"$f":"IF(入力シート!P129=\"\",\"\",入力シート!P129)","v":""},{"$f":"IF(入力シート!Q129=\"\",\"\",入力シート!Q129)","v":""},{"$f":"IF(入力シート!R129=\"\",\"\",入力シート!R129)","v":""},{"$f":"IF(入力シート!S129=\"\",\"\",入力シート!S129)","v":""},{"$f":"IF(入力シート!T129=\"\",\"\",入力シート!T129)","v":""},{"$f":"IF(入力シート!U129=\"\",\"\",入力シート!U129)","v":""},{"$f":"IF(入力シート!V129=\"\",\"\",入力シート!V129)","v":""},{"$f":"IF(入力シート!W129=\"\",\"\",入力シート!W129)","v":""},{"$f":"IF(入力シート!X129=\"\",\"\",入力シート!X129)","v":""},{"$f":"IF(入力シート!Y129=\"\",\"\",入力シート!Y129)","v":""},{"$f":"IF(入力シート!Z129=\"\",\"\",入力シート!Z129)","v":""},null,null,{"$f":"IF(入力シート!H129=\"\",\"\",\"〇\")","v":""},{"$f":"IF(入力シート!AA129=\"\",\"\",入力シート!AA129)","v":""},{"$f":"IF(入力シート!AB129=\"\",\"\",入力シート!AB129)","v":""},{"$f":"IF(入力シート!AC129=\"\",\"\",入力シート!AC129)","v":""},{"$f":"IF(入力シート!AD129=\"\",\"\",入力シート!AD129)","v":""}]
[{"$f":"IF(入力シート!B130=\"\",\"\",入力シート!B130)","v":""},{"$f":"IF(入力シート!C130=\"\",\"\",入力シート!C130)","v":""},{"$f":"IF(入力シート!D130=\"\",\"\",DBCS(入力シート!D130))","v":""},{"$f":"IF(入力シート!E130=\"\",\"\",DBCS(入力シート!E130))","v":""},{"$f":"ASC(IF(入力シート!F130=\"\",\"\",UPPER(入力シート!F130)))","v":""},{"$f":"IF(入力シート!G130=\"\",\"\",PROPER(入力シート!G130))","v":""},{"$f":"IF(入力シート!H130=\"\",\"\",入力シート!H130)","v":""},{"$f":"IF(入力シート!I130=\"\",\"\",TEXT(入力シート!I130,\"yyyy/mm/dd\"))","v":""},{"$f":"IF(入力シート!J130=\"\",\"\",入力シート!J130)","v":""},{"$f":"IF(入力シート!K130=\"\",\"\",入力シート!K130)","v":""},{"$f":"IF(入力シート!L130=\"\",\"\",入力シート!L130)","v":""},{"$f":"IF(入力シート!M130=\"\",\"\",入力シート!M130)","v":""},{"$f":"IF(入力シート!N130=\"\",\"\",入力シート!N130)","v":""},{"$f":"IF(入力シート!O130=\"\",\"\",入力シート!O130)","v":""},null,{"$f":"IF(入力シート!P130=\"\",\"\",入力シート!P130)","v":""},{"$f":"IF(入力シート!Q130=\"\",\"\",入力シート!Q130)","v":""},{"$f":"IF(入力シート!R130=\"\",\"\",入力シート!R130)","v":""},{"$f":"IF(入力シート!S130=\"\",\"\",入力シート!S130)","v":""},{"$f":"IF(入力シート!T130=\"\",\"\",入力シート!T130)","v":""},{"$f":"IF(入力シート!U130=\"\",\"\",入力シート!U130)","v":""},{"$f":"IF(入力シート!V130=\"\",\"\",入力シート!V130)","v":""},{"$f":"IF(入力シート!W130=\"\",\"\",入力シート!W130)","v":""},{"$f":"IF(入力シート!X130=\"\",\"\",入力シート!X130)","v":""},{"$f":"IF(入力シート!Y130=\"\",\"\",入力シート!Y130)","v":""},{"$f":"IF(入力シート!Z130=\"\",\"\",入力シート!Z130)","v":""},null,null,{"$f":"IF(入力シート!H130=\"\",\"\",\"〇\")","v":""},{"$f":"IF(入力シート!AA130=\"\",\"\",入力シート!AA130)","v":""},{"$f":"IF(入力シート!AB130=\"\",\"\",入力シート!AB130)","v":""},{"$f":"IF(入力シート!AC130=\"\",\"\",入力シート!AC130)","v":""},{"$f":"IF(入力シート!AD130=\"\",\"\",入力シート!AD130)","v":""}]
[{"$f":"IF(入力シート!B131=\"\",\"\",入力シート!B131)","v":""},{"$f":"IF(入力シート!C131=\"\",\"\",入力シート!C131)","v":""},{"$f":"IF(入力シート!D131=\"\",\"\",DBCS(入力シート!D131))","v":""},{"$f":"IF(入力シート!E131=\"\",\"\",DBCS(入力シート!E131))","v":""},{"$f":"ASC(IF(入力シート!F131=\"\",\"\",UPPER(入力シート!F131)))","v":""},{"$f":"IF(入力シート!G131=\"\",\"\",PROPER(入力シート!G131))","v":""},{"$f":"IF(入力シート!H131=\"\",\"\",入力シート!H131)","v":""},{"$f":"IF(入力シート!I131=\"\",\"\",TEXT(入力シート!I131,\"yyyy/mm/dd\"))","v":""},{"$f":"IF(入力シート!J131=\"\",\"\",入力シート!J131)","v":""},{"$f":"IF(入力シート!K131=\"\",\"\",入力シート!K131)","v":""},{"$f":"IF(入力シート!L131=\"\",\"\",入力シート!L131)","v":""},{"$f":"IF(入力シート!M131=\"\",\"\",入力シート!M131)","v":""},{"$f":"IF(入力シート!N131=\"\",\"\",入力シート!N131)","v":""},{"$f":"IF(入力シート!O131=\"\",\"\",入力シート!O131)","v":""},null,{"$f":"IF(入力シート!P131=\"\",\"\",入力シート!P131)","v":""},{"$f":"IF(入力シート!Q131=\"\",\"\",入力シート!Q131)","v":""},{"$f":"IF(入力シート!R131=\"\",\"\",入力シート!R131)","v":""},{"$f":"IF(入力シート!S131=\"\",\"\",入力シート!S131)","v":""},{"$f":"IF(入力シート!T131=\"\",\"\",入力シート!T131)","v":""},{"$f":"IF(入力シート!U131=\"\",\"\",入力シート!U131)","v":""},{"$f":"IF(入力シート!V131=\"\",\"\",入力シート!V131)","v":""},{"$f":"IF(入力シート!W131=\"\",\"\",入力シート!W131)","v":""},{"$f":"IF(入力シート!X131=\"\",\"\",入力シート!X131)","v":""},{"$f":"IF(入力シート!Y131=\"\",\"\",入力シート!Y131)","v":""},{"$f":"IF(入力シート!Z131=\"\",\"\",入力シート!Z131)","v":""},null,null,{"$f":"IF(入力シート!H131=\"\",\"\",\"〇\")","v":""},{"$f":"IF(入力シート!AA131=\"\",\"\",入力シート!AA131)","v":""},{"$f":"IF(入力シート!AB131=\"\",\"\",入力シート!AB131)","v":""},{"$f":"IF(入力シート!AC131=\"\",\"\",入力シート!AC131)","v":""},{"$f":"IF(入力シート!AD131=\"\",\"\",入力シート!AD131)","v":""}]
[{"$f":"IF(入力シート!B132=\"\",\"\",入力シート!B132)","v":""},{"$f":"IF(入力シート!C132=\"\",\"\",入力シート!C132)","v":""},{"$f":"IF(入力シート!D132=\"\",\"\",DBCS(入力シート!D132))","v":""},{"$f":"IF(入力シート!E132=\"\",\"\",DBCS(入力シート!E132))","v":""},{"$f":"ASC(IF(入力シート!F132=\"\",\"\",UPPER(入力シート!F132)))","v":""},{"$f":"IF(入力シート!G132=\"\",\"\",PROPER(入力シート!G132))","v":""},{"$f":"IF(入力シート!H132=\"\",\"\",入力シート!H132)","v":""},{"$f":"IF(入力シート!I132=\"\",\"\",TEXT(入力シート!I132,\"yyyy/mm/dd\"))","v":""},{"$f":"IF(入力シート!J132=\"\",\"\",入力シート!J132)","v":""},{"$f":"IF(入力シート!K132=\"\",\"\",入力シート!K132)","v":""},{"$f":"IF(入力シート!L132=\"\",\"\",入力シート!L132)","v":""},{"$f":"IF(入力シート!M132=\"\",\"\",入力シート!M132)","v":""},{"$f":"IF(入力シート!N132=\"\",\"\",入力シート!N132)","v":""},{"$f":"IF(入力シート!O132=\"\",\"\",入力シート!O132)","v":""},null,{"$f":"IF(入力シート!P132=\"\",\"\",入力シート!P132)","v":""},{"$f":"IF(入力シート!Q132=\"\",\"\",入力シート!Q132)","v":""},{"$f":"IF(入力シート!R132=\"\",\"\",入力シート!R132)","v":""},{"$f":"IF(入力シート!S132=\"\",\"\",入力シート!S132)","v":""},{"$f":"IF(入力シート!T132=\"\",\"\",入力シート!T132)","v":""},{"$f":"IF(入力シート!U132=\"\",\"\",入力シート!U132)","v":""},{"$f":"IF(入力シート!V132=\"\",\"\",入力シート!V132)","v":""},{"$f":"IF(入力シート!W132=\"\",\"\",入力シート!W132)","v":""},{"$f":"IF(入力シート!X132=\"\",\"\",入力シート!X132)","v":""},{"$f":"IF(入力シート!Y132=\"\",\"\",入力シート!Y132)","v":""},{"$f":"IF(入力シート!Z132=\"\",\"\",入力シート!Z132)","v":""},null,null,{"$f":"IF(入力シート!H132=\"\",\"\",\"〇\")","v":""},{"$f":"IF(入力シート!AA132=\"\",\"\",入力シート!AA132)","v":""},{"$f":"IF(入力シート!AB132=\"\",\"\",入力シート!AB132)","v":""},{"$f":"IF(入力シート!AC132=\"\",\"\",入力シート!AC132)","v":""},{"$f":"IF(入力シート!AD132=\"\",\"\",入力シート!AD132)","v":""}]
[{"$f":"IF(入力シート!B133=\"\",\"\",入力シート!B133)","v":""},{"$f":"IF(入力シート!C133=\"\",\"\",入力シート!C133)","v":""},{"$f":"IF(入力シート!D133=\"\",\"\",DBCS(入力シート!D133))","v":""},{"$f":"IF(入力シート!E133=\"\",\"\",DBCS(入力シート!E133))","v":""},{"$f":"ASC(IF(入力シート!F133=\"\",\"\",UPPER(入力シート!F133)))","v":""},{"$f":"IF(入力シート!G133=\"\",\"\",PROPER(入力シート!G133))","v":""},{"$f":"IF(入力シート!H133=\"\",\"\",入力シート!H133)","v":""},{"$f":"IF(入力シート!I133=\"\",\"\",TEXT(入力シート!I133,\"yyyy/mm/dd\"))","v":""},{"$f":"IF(入力シート!J133=\"\",\"\",入力シート!J133)","v":""},{"$f":"IF(入力シート!K133=\"\",\"\",入力シート!K133)","v":""},{"$f":"IF(入力シート!L133=\"\",\"\",入力シート!L133)","v":""},{"$f":"IF(入力シート!M133=\"\",\"\",入力シート!M133)","v":""},{"$f":"IF(入力シート!N133=\"\",\"\",入力シート!N133)","v":""},{"$f":"IF(入力シート!O133=\"\",\"\",入力シート!O133)","v":""},null,{"$f":"IF(入力シート!P133=\"\",\"\",入力シート!P133)","v":""},{"$f":"IF(入力シート!Q133=\"\",\"\",入力シート!Q133)","v":""},{"$f":"IF(入力シート!R133=\"\",\"\",入力シート!R133)","v":""},{"$f":"IF(入力シート!S133=\"\",\"\",入力シート!S133)","v":""},{"$f":"IF(入力シート!T133=\"\",\"\",入力シート!T133)","v":""},{"$f":"IF(入力シート!U133=\"\",\"\",入力シート!U133)","v":""},{"$f":"IF(入力シート!V133=\"\",\"\",入力シート!V133)","v":""},{"$f":"IF(入力シート!W133=\"\",\"\",入力シート!W133)","v":""},{"$f":"IF(入力シート!X133=\"\",\"\",入力シート!X133)","v":""},{"$f":"IF(入力シート!Y133=\"\",\"\",入力シート!Y133)","v":""},{"$f":"IF(入力シート!Z133=\"\",\"\",入力シート!Z133)","v":""},null,null,{"$f":"IF(入力シート!H133=\"\",\"\",\"〇\")","v":""},{"$f":"IF(入力シート!AA133=\"\",\"\",入力シート!AA133)","v":""},{"$f":"IF(入力シート!AB133=\"\",\"\",入力シート!AB133)","v":""},{"$f":"IF(入力シート!AC133=\"\",\"\",入力シート!AC133)","v":""},{"$f":"IF(入力シート!AD133=\"\",\"\",入力シート!AD133)","v":""}]
[{"$f":"IF(入力シート!B134=\"\",\"\",入力シート!B134)","v":""},{"$f":"IF(入力シート!C134=\"\",\"\",入力シート!C134)","v":""},{"$f":"IF(入力シート!D134=\"\",\"\",DBCS(入力シート!D134))","v":""},{"$f":"IF(入力シート!E134=\"\",\"\",DBCS(入力シート!E134))","v":""},{"$f":"ASC(IF(入力シート!F134=\"\",\"\",UPPER(入力シート!F134)))","v":""},{"$f":"IF(入力シート!G134=\"\",\"\",PROPER(入力シート!G134))","v":""},{"$f":"IF(入力シート!H134=\"\",\"\",入力シート!H134)","v":""},{"$f":"IF(入力シート!I134=\"\",\"\",TEXT(入力シート!I134,\"yyyy/mm/dd\"))","v":""},{"$f":"IF(入力シート!J134=\"\",\"\",入力シート!J134)","v":""},{"$f":"IF(入力シート!K134=\"\",\"\",入力シート!K134)","v":""},{"$f":"IF(入力シート!L134=\"\",\"\",入力シート!L134)","v":""},{"$f":"IF(入力シート!M134=\"\",\"\",入力シート!M134)","v":""},{"$f":"IF(入力シート!N134=\"\",\"\",入力シート!N134)","v":""},{"$f":"IF(入力シート!O134=\"\",\"\",入力シート!O134)","v":""},null,{"$f":"IF(入力シート!P134=\"\",\"\",入力シート!P134)","v":""},{"$f":"IF(入力シート!Q134=\"\",\"\",入力シート!Q134)","v":""},{"$f":"IF(入力シート!R134=\"\",\"\",入力シート!R134)","v":""},{"$f":"IF(入力シート!S134=\"\",\"\",入力シート!S134)","v":""},{"$f":"IF(入力シート!T134=\"\",\"\",入力シート!T134)","v":""},{"$f":"IF(入力シート!U134=\"\",\"\",入力シート!U134)","v":""},{"$f":"IF(入力シート!V134=\"\",\"\",入力シート!V134)","v":""},{"$f":"IF(入力シート!W134=\"\",\"\",入力シート!W134)","v":""},{"$f":"IF(入力シート!X134=\"\",\"\",入力シート!X134)","v":""},{"$f":"IF(入力シート!Y134=\"\",\"\",入力シート!Y134)","v":""},{"$f":"IF(入力シート!Z134=\"\",\"\",入力シート!Z134)","v":""},null,null,{"$f":"IF(入力シート!H134=\"\",\"\",\"〇\")","v":""},{"$f":"IF(入力シート!AA134=\"\",\"\",入力シート!AA134)","v":""},{"$f":"IF(入力シート!AB134=\"\",\"\",入力シート!AB134)","v":""},{"$f":"IF(入力シート!AC134=\"\",\"\",入力シート!AC134)","v":""},{"$f":"IF(入力シート!AD134=\"\",\"\",入力シート!AD134)","v":""}]
[{"$f":"IF(入力シート!B135=\"\",\"\",入力シート!B135)","v":""},{"$f":"IF(入力シート!C135=\"\",\"\",入力シート!C135)","v":""},{"$f":"IF(入力シート!D135=\"\",\"\",DBCS(入力シート!D135))","v":""},{"$f":"IF(入力シート!E135=\"\",\"\",DBCS(入力シート!E135))","v":""},{"$f":"ASC(IF(入力シート!F135=\"\",\"\",UPPER(入力シート!F135)))","v":""},{"$f":"IF(入力シート!G135=\"\",\"\",PROPER(入力シート!G135))","v":""},{"$f":"IF(入力シート!H135=\"\",\"\",入力シート!H135)","v":""},{"$f":"IF(入力シート!I135=\"\",\"\",TEXT(入力シート!I135,\"yyyy/mm/dd\"))","v":""},{"$f":"IF(入力シート!J135=\"\",\"\",入力シート!J135)","v":""},{"$f":"IF(入力シート!K135=\"\",\"\",入力シート!K135)","v":""},{"$f":"IF(入力シート!L135=\"\",\"\",入力シート!L135)","v":""},{"$f":"IF(入力シート!M135=\"\",\"\",入力シート!M135)","v":""},{"$f":"IF(入力シート!N135=\"\",\"\",入力シート!N135)","v":""},{"$f":"IF(入力シート!O135=\"\",\"\",入力シート!O135)","v":""},null,{"$f":"IF(入力シート!P135=\"\",\"\",入力シート!P135)","v":""},{"$f":"IF(入力シート!Q135=\"\",\"\",入力シート!Q135)","v":""},{"$f":"IF(入力シート!R135=\"\",\"\",入力シート!R135)","v":""},{"$f":"IF(入力シート!S135=\"\",\"\",入力シート!S135)","v":""},{"$f":"IF(入力シート!T135=\"\",\"\",入力シート!T135)","v":""},{"$f":"IF(入力シート!U135=\"\",\"\",入力シート!U135)","v":""},{"$f":"IF(入力シート!V135=\"\",\"\",入力シート!V135)","v":""},{"$f":"IF(入力シート!W135=\"\",\"\",入力シート!W135)","v":""},{"$f":"IF(入力シート!X135=\"\",\"\",入力シート!X135)","v":""},{"$f":"IF(入力シート!Y135=\"\",\"\",入力シート!Y135)","v":""},{"$f":"IF(入力シート!Z135=\"\",\"\",入力シート!Z135)","v":""},null,null,{"$f":"IF(入力シート!H135=\"\",\"\",\"〇\")","v":""},{"$f":"IF(入力シート!AA135=\"\",\"\",入力シート!AA135)","v":""},{"$f":"IF(入力シート!AB135=\"\",\"\",入力シート!AB135)","v":""},{"$f":"IF(入力シート!AC135=\"\",\"\",入力シート!AC135)","v":""},{"$f":"IF(入力シート!AD135=\"\",\"\",入力シート!AD135)","v":""}]
[{"$f":"IF(入力シート!B136=\"\",\"\",入力シート!B136)","v":""},{"$f":"IF(入力シート!C136=\"\",\"\",入力シート!C136)","v":""},{"$f":"IF(入力シート!D136=\"\",\"\",DBCS(入力シート!D136))","v":""},{"$f":"IF(入力シート!E136=\"\",\"\",DBCS(入力シート!E136))","v":""},{"$f":"ASC(IF(入力シート!F136=\"\",\"\",UPPER(入力シート!F136)))","v":""},{"$f":"IF(入力シート!G136=\"\",\"\",PROPER(入力シート!G136))","v":""},{"$f":"IF(入力シート!H136=\"\",\"\",入力シート!H136)","v":""},{"$f":"IF(入力シート!I136=\"\",\"\",TEXT(入力シート!I136,\"yyyy/mm/dd\"))","v":""},{"$f":"IF(入力シート!J136=\"\",\"\",入力シート!J136)","v":""},{"$f":"IF(入力シート!K136=\"\",\"\",入力シート!K136)","v":""},{"$f":"IF(入力シート!L136=\"\",\"\",入力シート!L136)","v":""},{"$f":"IF(入力シート!M136=\"\",\"\",入力シート!M136)","v":""},{"$f":"IF(入力シート!N136=\"\",\"\",入力シート!N136)","v":""},{"$f":"IF(入力シート!O136=\"\",\"\",入力シート!O136)","v":""},null,{"$f":"IF(入力シート!P136=\"\",\"\",入力シート!P136)","v":""},{"$f":"IF(入力シート!Q136=\"\",\"\",入力シート!Q136)","v":""},{"$f":"IF(入力シート!R136=\"\",\"\",入力シート!R136)","v":""},{"$f":"IF(入力シート!S136=\"\",\"\",入力シート!S136)","v":""},{"$f":"IF(入力シート!T136=\"\",\"\",入力シート!T136)","v":""},{"$f":"IF(入力シート!U136=\"\",\"\",入力シート!U136)","v":""},{"$f":"IF(入力シート!V136=\"\",\"\",入力シート!V136)","v":""},{"$f":"IF(入力シート!W136=\"\",\"\",入力シート!W136)","v":""},{"$f":"IF(入力シート!X136=\"\",\"\",入力シート!X136)","v":""},{"$f":"IF(入力シート!Y136=\"\",\"\",入力シート!Y136)","v":""},{"$f":"IF(入力シート!Z136=\"\",\"\",入力シート!Z136)","v":""},null,null,{"$f":"IF(入力シート!H136=\"\",\"\",\"〇\")","v":""},{"$f":"IF(入力シート!AA136=\"\",\"\",入力シート!AA136)","v":""},{"$f":"IF(入力シート!AB136=\"\",\"\",入力シート!AB136)","v":""},{"$f":"IF(入力シート!AC136=\"\",\"\",入力シート!AC136)","v":""},{"$f":"IF(入力シート!AD136=\"\",\"\",入力シート!AD136)","v":""}]
[{"$f":"IF(入力シート!B137=\"\",\"\",入力シート!B137)","v":""},{"$f":"IF(入力シート!C137=\"\",\"\",入力シート!C137)","v":""},{"$f":"IF(入力シート!D137=\"\",\"\",DBCS(入力シート!D137))","v":""},{"$f":"IF(入力シート!E137=\"\",\"\",DBCS(入力シート!E137))","v":""},{"$f":"ASC(IF(入力シート!F137=\"\",\"\",UPPER(入力シート!F137)))","v":""},{"$f":"IF(入力シート!G137=\"\",\"\",PROPER(入力シート!G137))","v":""},{"$f":"IF(入力シート!H137=\"\",\"\",入力シート!H137)","v":""},{"$f":"IF(入力シート!I137=\"\",\"\",TEXT(入力シート!I137,\"yyyy/mm/dd\"))","v":""},{"$f":"IF(入力シート!J137=\"\",\"\",入力シート!J137)","v":""},{"$f":"IF(入力シート!K137=\"\",\"\",入力シート!K137)","v":""},{"$f":"IF(入力シート!L137=\"\",\"\",入力シート!L137)","v":""},{"$f":"IF(入力シート!M137=\"\",\"\",入力シート!M137)","v":""},{"$f":"IF(入力シート!N137=\"\",\"\",入力シート!N137)","v":""},{"$f":"IF(入力シート!O137=\"\",\"\",入力シート!O137)","v":""},null,{"$f":"IF(入力シート!P137=\"\",\"\",入力シート!P137)","v":""},{"$f":"IF(入力シート!Q137=\"\",\"\",入力シート!Q137)","v":""},{"$f":"IF(入力シート!R137=\"\",\"\",入力シート!R137)","v":""},{"$f":"IF(入力シート!S137=\"\",\"\",入力シート!S137)","v":""},{"$f":"IF(入力シート!T137=\"\",\"\",入力シート!T137)","v":""},{"$f":"IF(入力シート!U137=\"\",\"\",入力シート!U137)","v":""},{"$f":"IF(入力シート!V137=\"\",\"\",入力シート!V137)","v":""},{"$f":"IF(入力シート!W137=\"\",\"\",入力シート!W137)","v":""},{"$f":"IF(入力シート!X137=\"\",\"\",入力シート!X137)","v":""},{"$f":"IF(入力シート!Y137=\"\",\"\",入力シート!Y137)","v":""},{"$f":"IF(入力シート!Z137=\"\",\"\",入力シート!Z137)","v":""},null,null,{"$f":"IF(入力シート!H137=\"\",\"\",\"〇\")","v":""},{"$f":"IF(入力シート!AA137=\"\",\"\",入力シート!AA137)","v":""},{"$f":"IF(入力シート!AB137=\"\",\"\",入力シート!AB137)","v":""},{"$f":"IF(入力シート!AC137=\"\",\"\",入力シート!AC137)","v":""},{"$f":"IF(入力シート!AD137=\"\",\"\",入力シート!AD137)","v":""}]
[{"$f":"IF(入力シート!B138=\"\",\"\",入力シート!B138)","v":""},{"$f":"IF(入力シート!C138=\"\",\"\",入力シート!C138)","v":""},{"$f":"IF(入力シート!D138=\"\",\"\",DBCS(入力シート!D138))","v":""},{"$f":"IF(入力シート!E138=\"\",\"\",DBCS(入力シート!E138))","v":""},{"$f":"ASC(IF(入力シート!F138=\"\",\"\",UPPER(入力シート!F138)))","v":""},{"$f":"IF(入力シート!G138=\"\",\"\",PROPER(入力シート!G138))","v":""},{"$f":"IF(入力シート!H138=\"\",\"\",入力シート!H138)","v":""},{"$f":"IF(入力シート!I138=\"\",\"\",TEXT(入力シート!I138,\"yyyy/mm/dd\"))","v":""},{"$f":"IF(入力シート!J138=\"\",\"\",入力シート!J138)","v":""},{"$f":"IF(入力シート!K138=\"\",\"\",入力シート!K138)","v":""},{"$f":"IF(入力シート!L138=\"\",\"\",入力シート!L138)","v":""},{"$f":"IF(入力シート!M138=\"\",\"\",入力シート!M138)","v":""},{"$f":"IF(入力シート!N138=\"\",\"\",入力シート!N138)","v":""},{"$f":"IF(入力シート!O138=\"\",\"\",入力シート!O138)","v":""},null,{"$f":"IF(入力シート!P138=\"\",\"\",入力シート!P138)","v":""},{"$f":"IF(入力シート!Q138=\"\",\"\",入力シート!Q138)","v":""},{"$f":"IF(入力シート!R138=\"\",\"\",入力シート!R138)","v":""},{"$f":"IF(入力シート!S138=\"\",\"\",入力シート!S138)","v":""},{"$f":"IF(入力シート!T138=\"\",\"\",入力シート!T138)","v":""},{"$f":"IF(入力シート!U138=\"\",\"\",入力シート!U138)","v":""},{"$f":"IF(入力シート!V138=\"\",\"\",入力シート!V138)","v":""},{"$f":"IF(入力シート!W138=\"\",\"\",入力シート!W138)","v":""},{"$f":"IF(入力シート!X138=\"\",\"\",入力シート!X138)","v":""},{"$f":"IF(入力シート!Y138=\"\",\"\",入力シート!Y138)","v":""},{"$f":"IF(入力シート!Z138=\"\",\"\",入力シート!Z138)","v":""},null,null,{"$f":"IF(入力シート!H138=\"\",\"\",\"〇\")","v":""},{"$f":"IF(入力シート!AA138=\"\",\"\",入力シート!AA138)","v":""},{"$f":"IF(入力シート!AB138=\"\",\"\",入力シート!AB138)","v":""},{"$f":"IF(入力シート!AC138=\"\",\"\",入力シート!AC138)","v":""},{"$f":"IF(入力シート!AD138=\"\",\"\",入力シート!AD138)","v":""}]
[{"$f":"IF(入力シート!B139=\"\",\"\",入力シート!B139)","v":""},{"$f":"IF(入力シート!C139=\"\",\"\",入力シート!C139)","v":""},{"$f":"IF(入力シート!D139=\"\",\"\",DBCS(入力シート!D139))","v":""},{"$f":"IF(入力シート!E139=\"\",\"\",DBCS(入力シート!E139))","v":""},{"$f":"ASC(IF(入力シート!F139=\"\",\"\",UPPER(入力シート!F139)))","v":""},{"$f":"IF(入力シート!G139=\"\",\"\",PROPER(入力シート!G139))","v":""},{"$f":"IF(入力シート!H139=\"\",\"\",入力シート!H139)","v":""},{"$f":"IF(入力シート!I139=\"\",\"\",TEXT(入力シート!I139,\"yyyy/mm/dd\"))","v":""},{"$f":"IF(入力シート!J139=\"\",\"\",入力シート!J139)","v":""},{"$f":"IF(入力シート!K139=\"\",\"\",入力シート!K139)","v":""},{"$f":"IF(入力シート!L139=\"\",\"\",入力シート!L139)","v":""},{"$f":"IF(入力シート!M139=\"\",\"\",入力シート!M139)","v":""},{"$f":"IF(入力シート!N139=\"\",\"\",入力シート!N139)","v":""},{"$f":"IF(入力シート!O139=\"\",\"\",入力シート!O139)","v":""},null,{"$f":"IF(入力シート!P139=\"\",\"\",入力シート!P139)","v":""},{"$f":"IF(入力シート!Q139=\"\",\"\",入力シート!Q139)","v":""},{"$f":"IF(入力シート!R139=\"\",\"\",入力シート!R139)","v":""},{"$f":"IF(入力シート!S139=\"\",\"\",入力シート!S139)","v":""},{"$f":"IF(入力シート!T139=\"\",\"\",入力シート!T139)","v":""},{"$f":"IF(入力シート!U139=\"\",\"\",入力シート!U139)","v":""},{"$f":"IF(入力シート!V139=\"\",\"\",入力シート!V139)","v":""},{"$f":"IF(入力シート!W139=\"\",\"\",入力シート!W139)","v":""},{"$f":"IF(入力シート!X139=\"\",\"\",入力シート!X139)","v":""},{"$f":"IF(入力シート!Y139=\"\",\"\",入力シート!Y139)","v":""},{"$f":"IF(入力シート!Z139=\"\",\"\",入力シート!Z139)","v":""},null,null,{"$f":"IF(入力シート!H139=\"\",\"\",\"〇\")","v":""},{"$f":"IF(入力シート!AA139=\"\",\"\",入力シート!AA139)","v":""},{"$f":"IF(入力シート!AB139=\"\",\"\",入力シート!AB139)","v":""},{"$f":"IF(入力シート!AC139=\"\",\"\",入力シート!AC139)","v":""},{"$f":"IF(入力シート!AD139=\"\",\"\",入力シート!AD139)","v":""}]
[{"$f":"IF(入力シート!B140=\"\",\"\",入力シート!B140)","v":""},{"$f":"IF(入力シート!C140=\"\",\"\",入力シート!C140)","v":""},{"$f":"IF(入力シート!D140=\"\",\"\",DBCS(入力シート!D140))","v":""},{"$f":"IF(入力シート!E140=\"\",\"\",DBCS(入力シート!E140))","v":""},{"$f":"ASC(IF(入力シート!F140=\"\",\"\",UPPER(入力シート!F140)))","v":""},{"$f":"IF(入力シート!G140=\"\",\"\",PROPER(入力シート!G140))","v":""},{"$f":"IF(入力シート!H140=\"\",\"\",入力シート!H140)","v":""},{"$f":"IF(入力シート!I140=\"\",\"\",TEXT(入力シート!I140,\"yyyy/mm/dd\"))","v":""},{"$f":"IF(入力シート!J140=\"\",\"\",入力シート!J140)","v":""},{"$f":"IF(入力シート!K140=\"\",\"\",入力シート!K140)","v":""},{"$f":"IF(入力シート!L140=\"\",\"\",入力シート!L140)","v":""},{"$f":"IF(入力シート!M140=\"\",\"\",入力シート!M140)","v":""},{"$f":"IF(入力シート!N140=\"\",\"\",入力シート!N140)","v":""},{"$f":"IF(入力シート!O140=\"\",\"\",入力シート!O140)","v":""},null,{"$f":"IF(入力シート!P140=\"\",\"\",入力シート!P140)","v":""},{"$f":"IF(入力シート!Q140=\"\",\"\",入力シート!Q140)","v":""},{"$f":"IF(入力シート!R140=\"\",\"\",入力シート!R140)","v":""},{"$f":"IF(入力シート!S140=\"\",\"\",入力シート!S140)","v":""},{"$f":"IF(入力シート!T140=\"\",\"\",入力シート!T140)","v":""},{"$f":"IF(入力シート!U140=\"\",\"\",入力シート!U140)","v":""},{"$f":"IF(入力シート!V140=\"\",\"\",入力シート!V140)","v":""},{"$f":"IF(入力シート!W140=\"\",\"\",入力シート!W140)","v":""},{"$f":"IF(入力シート!X140=\"\",\"\",入力シート!X140)","v":""},{"$f":"IF(入力シート!Y140=\"\",\"\",入力シート!Y140)","v":""},{"$f":"IF(入力シート!Z140=\"\",\"\",入力シート!Z140)","v":""},null,null,{"$f":"IF(入力シート!H140=\"\",\"\",\"〇\")","v":""},{"$f":"IF(入力シート!AA140=\"\",\"\",入力シート!AA140)","v":""},{"$f":"IF(入力シート!AB140=\"\",\"\",入力シート!AB140)","v":""},{"$f":"IF(入力シート!AC140=\"\",\"\",入力シート!AC140)","v":""},{"$f":"IF(入力シート!AD140=\"\",\"\",入力シート!AD140)","v":""}]
[{"$f":"IF(入力シート!B141=\"\",\"\",入力シート!B141)","v":""},{"$f":"IF(入力シート!C141=\"\",\"\",入力シート!C141)","v":""},{"$f":"IF(入力シート!D141=\"\",\"\",DBCS(入力シート!D141))","v":""},{"$f":"IF(入力シート!E141=\"\",\"\",DBCS(入力シート!E141))","v":""},{"$f":"ASC(IF(入力シート!F141=\"\",\"\",UPPER(入力シート!F141)))","v":""},{"$f":"IF(入力シート!G141=\"\",\"\",PROPER(入力シート!G141))","v":""},{"$f":"IF(入力シート!H141=\"\",\"\",入力シート!H141)","v":""},{"$f":"IF(入力シート!I141=\"\",\"\",TEXT(入力シート!I141,\"yyyy/mm/dd\"))","v":""},{"$f":"IF(入力シート!J141=\"\",\"\",入力シート!J141)","v":""},{"$f":"IF(入力シート!K141=\"\",\"\",入力シート!K141)","v":""},{"$f":"IF(入力シート!L141=\"\",\"\",入力シート!L141)","v":""},{"$f":"IF(入力シート!M141=\"\",\"\",入力シート!M141)","v":""},{"$f":"IF(入力シート!N141=\"\",\"\",入力シート!N141)","v":""},{"$f":"IF(入力シート!O141=\"\",\"\",入力シート!O141)","v":""},null,{"$f":"IF(入力シート!P141=\"\",\"\",入力シート!P141)","v":""},{"$f":"IF(入力シート!Q141=\"\",\"\",入力シート!Q141)","v":""},{"$f":"IF(入力シート!R141=\"\",\"\",入力シート!R141)","v":""},{"$f":"IF(入力シート!S141=\"\",\"\",入力シート!S141)","v":""},{"$f":"IF(入力シート!T141=\"\",\"\",入力シート!T141)","v":""},{"$f":"IF(入力シート!U141=\"\",\"\",入力シート!U141)","v":""},{"$f":"IF(入力シート!V141=\"\",\"\",入力シート!V141)","v":""},{"$f":"IF(入力シート!W141=\"\",\"\",入力シート!W141)","v":""},{"$f":"IF(入力シート!X141=\"\",\"\",入力シート!X141)","v":""},{"$f":"IF(入力シート!Y141=\"\",\"\",入力シート!Y141)","v":""},{"$f":"IF(入力シート!Z141=\"\",\"\",入力シート!Z141)","v":""},null,null,{"$f":"IF(入力シート!H141=\"\",\"\",\"〇\")","v":""},{"$f":"IF(入力シート!AA141=\"\",\"\",入力シート!AA141)","v":""},{"$f":"IF(入力シート!AB141=\"\",\"\",入力シート!AB141)","v":""},{"$f":"IF(入力シート!AC141=\"\",\"\",入力シート!AC141)","v":""},{"$f":"IF(入力シート!AD141=\"\",\"\",入力シート!AD141)","v":""}]
[{"$f":"IF(入力シート!B142=\"\",\"\",入力シート!B142)","v":""},{"$f":"IF(入力シート!C142=\"\",\"\",入力シート!C142)","v":""},{"$f":"IF(入力シート!D142=\"\",\"\",DBCS(入力シート!D142))","v":""},{"$f":"IF(入力シート!E142=\"\",\"\",DBCS(入力シート!E142))","v":""},{"$f":"ASC(IF(入力シート!F142=\"\",\"\",UPPER(入力シート!F142)))","v":""},{"$f":"IF(入力シート!G142=\"\",\"\",PROPER(入力シート!G142))","v":""},{"$f":"IF(入力シート!H142=\"\",\"\",入力シート!H142)","v":""},{"$f":"IF(入力シート!I142=\"\",\"\",TEXT(入力シート!I142,\"yyyy/mm/dd\"))","v":""},{"$f":"IF(入力シート!J142=\"\",\"\",入力シート!J142)","v":""},{"$f":"IF(入力シート!K142=\"\",\"\",入力シート!K142)","v":""},{"$f":"IF(入力シート!L142=\"\",\"\",入力シート!L142)","v":""},{"$f":"IF(入力シート!M142=\"\",\"\",入力シート!M142)","v":""},{"$f":"IF(入力シート!N142=\"\",\"\",入力シート!N142)","v":""},{"$f":"IF(入力シート!O142=\"\",\"\",入力シート!O142)","v":""},null,{"$f":"IF(入力シート!P142=\"\",\"\",入力シート!P142)","v":""},{"$f":"IF(入力シート!Q142=\"\",\"\",入力シート!Q142)","v":""},{"$f":"IF(入力シート!R142=\"\",\"\",入力シート!R142)","v":""},{"$f":"IF(入力シート!S142=\"\",\"\",入力シート!S142)","v":""},{"$f":"IF(入力シート!T142=\"\",\"\",入力シート!T142)","v":""},{"$f":"IF(入力シート!U142=\"\",\"\",入力シート!U142)","v":""},{"$f":"IF(入力シート!V142=\"\",\"\",入力シート!V142)","v":""},{"$f":"IF(入力シート!W142=\"\",\"\",入力シート!W142)","v":""},{"$f":"IF(入力シート!X142=\"\",\"\",入力シート!X142)","v":""},{"$f":"IF(入力シート!Y142=\"\",\"\",入力シート!Y142)","v":""},{"$f":"IF(入力シート!Z142=\"\",\"\",入力シート!Z142)","v":""},null,null,{"$f":"IF(入力シート!H142=\"\",\"\",\"〇\")","v":""},{"$f":"IF(入力シート!AA142=\"\",\"\",入力シート!AA142)","v":""},{"$f":"IF(入力シート!AB142=\"\",\"\",入力シート!AB142)","v":""},{"$f":"IF(入力シート!AC142=\"\",\"\",入力シート!AC142)","v":""},{"$f":"IF(入力シート!AD142=\"\",\"\",入力シート!AD142)","v":""}]
[{"$f":"IF(入力シート!B143=\"\",\"\",入力シート!B143)","v":""},{"$f":"IF(入力シート!C143=\"\",\"\",入力シート!C143)","v":""},{"$f":"IF(入力シート!D143=\"\",\"\",DBCS(入力シート!D143))","v":""},{"$f":"IF(入力シート!E143=\"\",\"\",DBCS(入力シート!E143))","v":""},{"$f":"ASC(IF(入力シート!F143=\"\",\"\",UPPER(入力シート!F143)))","v":""},{"$f":"IF(入力シート!G143=\"\",\"\",PROPER(入力シート!G143))","v":""},{"$f":"IF(入力シート!H143=\"\",\"\",入力シート!H143)","v":""},{"$f":"IF(入力シート!I143=\"\",\"\",TEXT(入力シート!I143,\"yyyy/mm/dd\"))","v":""},{"$f":"IF(入力シート!J143=\"\",\"\",入力シート!J143)","v":""},{"$f":"IF(入力シート!K143=\"\",\"\",入力シート!K143)","v":""},{"$f":"IF(入力シート!L143=\"\",\"\",入力シート!L143)","v":""},{"$f":"IF(入力シート!M143=\"\",\"\",入力シート!M143)","v":""},{"$f":"IF(入力シート!N143=\"\",\"\",入力シート!N143)","v":""},{"$f":"IF(入力シート!O143=\"\",\"\",入力シート!O143)","v":""},null,{"$f":"IF(入力シート!P143=\"\",\"\",入力シート!P143)","v":""},{"$f":"IF(入力シート!Q143=\"\",\"\",入力シート!Q143)","v":""},{"$f":"IF(入力シート!R143=\"\",\"\",入力シート!R143)","v":""},{"$f":"IF(入力シート!S143=\"\",\"\",入力シート!S143)","v":""},{"$f":"IF(入力シート!T143=\"\",\"\",入力シート!T143)","v":""},{"$f":"IF(入力シート!U143=\"\",\"\",入力シート!U143)","v":""},{"$f":"IF(入力シート!V143=\"\",\"\",入力シート!V143)","v":""},{"$f":"IF(入力シート!W143=\"\",\"\",入力シート!W143)","v":""},{"$f":"IF(入力シート!X143=\"\",\"\",入力シート!X143)","v":""},{"$f":"IF(入力シート!Y143=\"\",\"\",入力シート!Y143)","v":""},{"$f":"IF(入力シート!Z143=\"\",\"\",入力シート!Z143)","v":""},null,null,{"$f":"IF(入力シート!H143=\"\",\"\",\"〇\")","v":""},{"$f":"IF(入力シート!AA143=\"\",\"\",入力シート!AA143)","v":""},{"$f":"IF(入力シート!AB143=\"\",\"\",入力シート!AB143)","v":""},{"$f":"IF(入力シート!AC143=\"\",\"\",入力シート!AC143)","v":""},{"$f":"IF(入力シート!AD143=\"\",\"\",入力シート!AD143)","v":""}]
[{"$f":"IF(入力シート!B144=\"\",\"\",入力シート!B144)","v":""},{"$f":"IF(入力シート!C144=\"\",\"\",入力シート!C144)","v":""},{"$f":"IF(入力シート!D144=\"\",\"\",DBCS(入力シート!D144))","v":""},{"$f":"IF(入力シート!E144=\"\",\"\",DBCS(入力シート!E144))","v":""},{"$f":"ASC(IF(入力シート!F144=\"\",\"\",UPPER(入力シート!F144)))","v":""},{"$f":"IF(入力シート!G144=\"\",\"\",PROPER(入力シート!G144))","v":""},{"$f":"IF(入力シート!H144=\"\",\"\",入力シート!H144)","v":""},{"$f":"IF(入力シート!I144=\"\",\"\",TEXT(入力シート!I144,\"yyyy/mm/dd\"))","v":""},{"$f":"IF(入力シート!J144=\"\",\"\",入力シート!J144)","v":""},{"$f":"IF(入力シート!K144=\"\",\"\",入力シート!K144)","v":""},{"$f":"IF(入力シート!L144=\"\",\"\",入力シート!L144)","v":""},{"$f":"IF(入力シート!M144=\"\",\"\",入力シート!M144)","v":""},{"$f":"IF(入力シート!N144=\"\",\"\",入力シート!N144)","v":""},{"$f":"IF(入力シート!O144=\"\",\"\",入力シート!O144)","v":""},null,{"$f":"IF(入力シート!P144=\"\",\"\",入力シート!P144)","v":""},{"$f":"IF(入力シート!Q144=\"\",\"\",入力シート!Q144)","v":""},{"$f":"IF(入力シート!R144=\"\",\"\",入力シート!R144)","v":""},{"$f":"IF(入力シート!S144=\"\",\"\",入力シート!S144)","v":""},{"$f":"IF(入力シート!T144=\"\",\"\",入力シート!T144)","v":""},{"$f":"IF(入力シート!U144=\"\",\"\",入力シート!U144)","v":""},{"$f":"IF(入力シート!V144=\"\",\"\",入力シート!V144)","v":""},{"$f":"IF(入力シート!W144=\"\",\"\",入力シート!W144)","v":""},{"$f":"IF(入力シート!X144=\"\",\"\",入力シート!X144)","v":""},{"$f":"IF(入力シート!Y144=\"\",\"\",入力シート!Y144)","v":""},{"$f":"IF(入力シート!Z144=\"\",\"\",入力シート!Z144)","v":""},null,null,{"$f":"IF(入力シート!H144=\"\",\"\",\"〇\")","v":""},{"$f":"IF(入力シート!AA144=\"\",\"\",入力シート!AA144)","v":""},{"$f":"IF(入力シート!AB144=\"\",\"\",入力シート!AB144)","v":""},{"$f":"IF(入力シート!AC144=\"\",\"\",入力シート!AC144)","v":""},{"$f":"IF(入力シート!AD144=\"\",\"\",入力シート!AD144)","v":""}]
[{"$f":"IF(入力シート!B145=\"\",\"\",入力シート!B145)","v":""},{"$f":"IF(入力シート!C145=\"\",\"\",入力シート!C145)","v":""},{"$f":"IF(入力シート!D145=\"\",\"\",DBCS(入力シート!D145))","v":""},{"$f":"IF(入力シート!E145=\"\",\"\",DBCS(入力シート!E145))","v":""},{"$f":"ASC(IF(入力シート!F145=\"\",\"\",UPPER(入力シート!F145)))","v":""},{"$f":"IF(入力シート!G145=\"\",\"\",PROPER(入力シート!G145))","v":""},{"$f":"IF(入力シート!H145=\"\",\"\",入力シート!H145)","v":""},{"$f":"IF(入力シート!I145=\"\",\"\",TEXT(入力シート!I145,\"yyyy/mm/dd\"))","v":""},{"$f":"IF(入力シート!J145=\"\",\"\",入力シート!J145)","v":""},{"$f":"IF(入力シート!K145=\"\",\"\",入力シート!K145)","v":""},{"$f":"IF(入力シート!L145=\"\",\"\",入力シート!L145)","v":""},{"$f":"IF(入力シート!M145=\"\",\"\",入力シート!M145)","v":""},{"$f":"IF(入力シート!N145=\"\",\"\",入力シート!N145)","v":""},{"$f":"IF(入力シート!O145=\"\",\"\",入力シート!O145)","v":""},null,{"$f":"IF(入力シート!P145=\"\",\"\",入力シート!P145)","v":""},{"$f":"IF(入力シート!Q145=\"\",\"\",入力シート!Q145)","v":""},{"$f":"IF(入力シート!R145=\"\",\"\",入力シート!R145)","v":""},{"$f":"IF(入力シート!S145=\"\",\"\",入力シート!S145)","v":""},{"$f":"IF(入力シート!T145=\"\",\"\",入力シート!T145)","v":""},{"$f":"IF(入力シート!U145=\"\",\"\",入力シート!U145)","v":""},{"$f":"IF(入力シート!V145=\"\",\"\",入力シート!V145)","v":""},{"$f":"IF(入力シート!W145=\"\",\"\",入力シート!W145)","v":""},{"$f":"IF(入力シート!X145=\"\",\"\",入力シート!X145)","v":""},{"$f":"IF(入力シート!Y145=\"\",\"\",入力シート!Y145)","v":""},{"$f":"IF(入力シート!Z145=\"\",\"\",入力シート!Z145)","v":""},null,null,{"$f":"IF(入力シート!H145=\"\",\"\",\"〇\")","v":""},{"$f":"IF(入力シート!AA145=\"\",\"\",入力シート!AA145)","v":""},{"$f":"IF(入力シート!AB145=\"\",\"\",入力シート!AB145)","v":""},{"$f":"IF(入力シート!AC145=\"\",\"\",入力シート!AC145)","v":""},{"$f":"IF(入力シート!AD145=\"\",\"\",入力シート!AD145)","v":""}]
[{"$f":"IF(入力シート!B146=\"\",\"\",入力シート!B146)","v":""},{"$f":"IF(入力シート!C146=\"\",\"\",入力シート!C146)","v":""},{"$f":"IF(入力シート!D146=\"\",\"\",DBCS(入力シート!D146))","v":""},{"$f":"IF(入力シート!E146=\"\",\"\",DBCS(入力シート!E146))","v":""},{"$f":"ASC(IF(入力シート!F146=\"\",\"\",UPPER(入力シート!F146)))","v":""},{"$f":"IF(入力シート!G146=\"\",\"\",PROPER(入力シート!G146))","v":""},{"$f":"IF(入力シート!H146=\"\",\"\",入力シート!H146)","v":""},{"$f":"IF(入力シート!I146=\"\",\"\",TEXT(入力シート!I146,\"yyyy/mm/dd\"))","v":""},{"$f":"IF(入力シート!J146=\"\",\"\",入力シート!J146)","v":""},{"$f":"IF(入力シート!K146=\"\",\"\",入力シート!K146)","v":""},{"$f":"IF(入力シート!L146=\"\",\"\",入力シート!L146)","v":""},{"$f":"IF(入力シート!M146=\"\",\"\",入力シート!M146)","v":""},{"$f":"IF(入力シート!N146=\"\",\"\",入力シート!N146)","v":""},{"$f":"IF(入力シート!O146=\"\",\"\",入力シート!O146)","v":""},null,{"$f":"IF(入力シート!P146=\"\",\"\",入力シート!P146)","v":""},{"$f":"IF(入力シート!Q146=\"\",\"\",入力シート!Q146)","v":""},{"$f":"IF(入力シート!R146=\"\",\"\",入力シート!R146)","v":""},{"$f":"IF(入力シート!S146=\"\",\"\",入力シート!S146)","v":""},{"$f":"IF(入力シート!T146=\"\",\"\",入力シート!T146)","v":""},{"$f":"IF(入力シート!U146=\"\",\"\",入力シート!U146)","v":""},{"$f":"IF(入力シート!V146=\"\",\"\",入力シート!V146)","v":""},{"$f":"IF(入力シート!W146=\"\",\"\",入力シート!W146)","v":""},{"$f":"IF(入力シート!X146=\"\",\"\",入力シート!X146)","v":""},{"$f":"IF(入力シート!Y146=\"\",\"\",入力シート!Y146)","v":""},{"$f":"IF(入力シート!Z146=\"\",\"\",入力シート!Z146)","v":""},null,null,{"$f":"IF(入力シート!H146=\"\",\"\",\"〇\")","v":""},{"$f":"IF(入力シート!AA146=\"\",\"\",入力シート!AA146)","v":""},{"$f":"IF(入力シート!AB146=\"\",\"\",入力シート!AB146)","v":""},{"$f":"IF(入力シート!AC146=\"\",\"\",入力シート!AC146)","v":""},{"$f":"IF(入力シート!AD146=\"\",\"\",入力シート!AD146)","v":""}]
[{"$f":"IF(入力シート!B147=\"\",\"\",入力シート!B147)","v":""},{"$f":"IF(入力シート!C147=\"\",\"\",入力シート!C147)","v":""},{"$f":"IF(入力シート!D147=\"\",\"\",DBCS(入力シート!D147))","v":""},{"$f":"IF(入力シート!E147=\"\",\"\",DBCS(入力シート!E147))","v":""},{"$f":"ASC(IF(入力シート!F147=\"\",\"\",UPPER(入力シート!F147)))","v":""},{"$f":"IF(入力シート!G147=\"\",\"\",PROPER(入力シート!G147))","v":""},{"$f":"IF(入力シート!H147=\"\",\"\",入力シート!H147)","v":""},{"$f":"IF(入力シート!I147=\"\",\"\",TEXT(入力シート!I147,\"yyyy/mm/dd\"))","v":""},{"$f":"IF(入力シート!J147=\"\",\"\",入力シート!J147)","v":""},{"$f":"IF(入力シート!K147=\"\",\"\",入力シート!K147)","v":""},{"$f":"IF(入力シート!L147=\"\",\"\",入力シート!L147)","v":""},{"$f":"IF(入力シート!M147=\"\",\"\",入力シート!M147)","v":""},{"$f":"IF(入力シート!N147=\"\",\"\",入力シート!N147)","v":""},{"$f":"IF(入力シート!O147=\"\",\"\",入力シート!O147)","v":""},null,{"$f":"IF(入力シート!P147=\"\",\"\",入力シート!P147)","v":""},{"$f":"IF(入力シート!Q147=\"\",\"\",入力シート!Q147)","v":""},{"$f":"IF(入力シート!R147=\"\",\"\",入力シート!R147)","v":""},{"$f":"IF(入力シート!S147=\"\",\"\",入力シート!S147)","v":""},{"$f":"IF(入力シート!T147=\"\",\"\",入力シート!T147)","v":""},{"$f":"IF(入力シート!U147=\"\",\"\",入力シート!U147)","v":""},{"$f":"IF(入力シート!V147=\"\",\"\",入力シート!V147)","v":""},{"$f":"IF(入力シート!W147=\"\",\"\",入力シート!W147)","v":""},{"$f":"IF(入力シート!X147=\"\",\"\",入力シート!X147)","v":""},{"$f":"IF(入力シート!Y147=\"\",\"\",入力シート!Y147)","v":""},{"$f":"IF(入力シート!Z147=\"\",\"\",入力シート!Z147)","v":""},null,null,{"$f":"IF(入力シート!H147=\"\",\"\",\"〇\")","v":""},{"$f":"IF(入力シート!AA147=\"\",\"\",入力シート!AA147)","v":""},{"$f":"IF(入力シート!AB147=\"\",\"\",入力シート!AB147)","v":""},{"$f":"IF(入力シート!AC147=\"\",\"\",入力シート!AC147)","v":""},{"$f":"IF(入力シート!AD147=\"\",\"\",入力シート!AD147)","v":""}]
[{"$f":"IF(入力シート!B148=\"\",\"\",入力シート!B148)","v":""},{"$f":"IF(入力シート!C148=\"\",\"\",入力シート!C148)","v":""},{"$f":"IF(入力シート!D148=\"\",\"\",DBCS(入力シート!D148))","v":""},{"$f":"IF(入力シート!E148=\"\",\"\",DBCS(入力シート!E148))","v":""},{"$f":"ASC(IF(入力シート!F148=\"\",\"\",UPPER(入力シート!F148)))","v":""},{"$f":"IF(入力シート!G148=\"\",\"\",PROPER(入力シート!G148))","v":""},{"$f":"IF(入力シート!H148=\"\",\"\",入力シート!H148)","v":""},{"$f":"IF(入力シート!I148=\"\",\"\",TEXT(入力シート!I148,\"yyyy/mm/dd\"))","v":""},{"$f":"IF(入力シート!J148=\"\",\"\",入力シート!J148)","v":""},{"$f":"IF(入力シート!K148=\"\",\"\",入力シート!K148)","v":""},{"$f":"IF(入力シート!L148=\"\",\"\",入力シート!L148)","v":""},{"$f":"IF(入力シート!M148=\"\",\"\",入力シート!M148)","v":""},{"$f":"IF(入力シート!N148=\"\",\"\",入力シート!N148)","v":""},{"$f":"IF(入力シート!O148=\"\",\"\",入力シート!O148)","v":""},null,{"$f":"IF(入力シート!P148=\"\",\"\",入力シート!P148)","v":""},{"$f":"IF(入力シート!Q148=\"\",\"\",入力シート!Q148)","v":""},{"$f":"IF(入力シート!R148=\"\",\"\",入力シート!R148)","v":""},{"$f":"IF(入力シート!S148=\"\",\"\",入力シート!S148)","v":""},{"$f":"IF(入力シート!T148=\"\",\"\",入力シート!T148)","v":""},{"$f":"IF(入力シート!U148=\"\",\"\",入力シート!U148)","v":""},{"$f":"IF(入力シート!V148=\"\",\"\",入力シート!V148)","v":""},{"$f":"IF(入力シート!W148=\"\",\"\",入力シート!W148)","v":""},{"$f":"IF(入力シート!X148=\"\",\"\",入力シート!X148)","v":""},{"$f":"IF(入力シート!Y148=\"\",\"\",入力シート!Y148)","v":""},{"$f":"IF(入力シート!Z148=\"\",\"\",入力シート!Z148)","v":""},null,null,{"$f":"IF(入力シート!H148=\"\",\"\",\"〇\")","v":""},{"$f":"IF(入力シート!AA148=\"\",\"\",入力シート!AA148)","v":""},{"$f":"IF(入力シート!AB148=\"\",\"\",入力シート!AB148)","v":""},{"$f":"IF(入力シート!AC148=\"\",\"\",入力シート!AC148)","v":""},{"$f":"IF(入力シート!AD148=\"\",\"\",入力シート!AD148)","v":""}]
[{"$f":"IF(入力シート!B149=\"\",\"\",入力シート!B149)","v":""},{"$f":"IF(入力シート!C149=\"\",\"\",入力シート!C149)","v":""},{"$f":"IF(入力シート!D149=\"\",\"\",DBCS(入力シート!D149))","v":""},{"$f":"IF(入力シート!E149=\"\",\"\",DBCS(入力シート!E149))","v":""},{"$f":"ASC(IF(入力シート!F149=\"\",\"\",UPPER(入力シート!F149)))","v":""},{"$f":"IF(入力シート!G149=\"\",\"\",PROPER(入力シート!G149))","v":""},{"$f":"IF(入力シート!H149=\"\",\"\",入力シート!H149)","v":""},{"$f":"IF(入力シート!I149=\"\",\"\",TEXT(入力シート!I149,\"yyyy/mm/dd\"))","v":""},{"$f":"IF(入力シート!J149=\"\",\"\",入力シート!J149)","v":""},{"$f":"IF(入力シート!K149=\"\",\"\",入力シート!K149)","v":""},{"$f":"IF(入力シート!L149=\"\",\"\",入力シート!L149)","v":""},{"$f":"IF(入力シート!M149=\"\",\"\",入力シート!M149)","v":""},{"$f":"IF(入力シート!N149=\"\",\"\",入力シート!N149)","v":""},{"$f":"IF(入力シート!O149=\"\",\"\",入力シート!O149)","v":""},null,{"$f":"IF(入力シート!P149=\"\",\"\",入力シート!P149)","v":""},{"$f":"IF(入力シート!Q149=\"\",\"\",入力シート!Q149)","v":""},{"$f":"IF(入力シート!R149=\"\",\"\",入力シート!R149)","v":""},{"$f":"IF(入力シート!S149=\"\",\"\",入力シート!S149)","v":""},{"$f":"IF(入力シート!T149=\"\",\"\",入力シート!T149)","v":""},{"$f":"IF(入力シート!U149=\"\",\"\",入力シート!U149)","v":""},{"$f":"IF(入力シート!V149=\"\",\"\",入力シート!V149)","v":""},{"$f":"IF(入力シート!W149=\"\",\"\",入力シート!W149)","v":""},{"$f":"IF(入力シート!X149=\"\",\"\",入力シート!X149)","v":""},{"$f":"IF(入力シート!Y149=\"\",\"\",入力シート!Y149)","v":""},{"$f":"IF(入力シート!Z149=\"\",\"\",入力シート!Z149)","v":""},null,null,{"$f":"IF(入力シート!H149=\"\",\"\",\"〇\")","v":""},{"$f":"IF(入力シート!AA149=\"\",\"\",入力シート!AA149)","v":""},{"$f":"IF(入力シート!AB149=\"\",\"\",入力シート!AB149)","v":""},{"$f":"IF(入力シート!AC149=\"\",\"\",入力シート!AC149)","v":""},{"$f":"IF(入力シート!AD149=\"\",\"\",入力シート!AD149)","v":""}]
[{"$f":"IF(入力シート!B150=\"\",\"\",入力シート!B150)","v":""},{"$f":"IF(入力シート!C150=\"\",\"\",入力シート!C150)","v":""},{"$f":"IF(入力シート!D150=\"\",\"\",DBCS(入力シート!D150))","v":""},{"$f":"IF(入力シート!E150=\"\",\"\",DBCS(入力シート!E150))","v":""},{"$f":"ASC(IF(入力シート!F150=\"\",\"\",UPPER(入力シート!F150)))","v":""},{"$f":"IF(入力シート!G150=\"\",\"\",PROPER(入力シート!G150))","v":""},{"$f":"IF(入力シート!H150=\"\",\"\",入力シート!H150)","v":""},{"$f":"IF(入力シート!I150=\"\",\"\",TEXT(入力シート!I150,\"yyyy/mm/dd\"))","v":""},{"$f":"IF(入力シート!J150=\"\",\"\",入力シート!J150)","v":""},{"$f":"IF(入力シート!K150=\"\",\"\",入力シート!K150)","v":""},{"$f":"IF(入力シート!L150=\"\",\"\",入力シート!L150)","v":""},{"$f":"IF(入力シート!M150=\"\",\"\",入力シート!M150)","v":""},{"$f":"IF(入力シート!N150=\"\",\"\",入力シート!N150)","v":""},{"$f":"IF(入力シート!O150=\"\",\"\",入力シート!O150)","v":""},null,{"$f":"IF(入力シート!P150=\"\",\"\",入力シート!P150)","v":""},{"$f":"IF(入力シート!Q150=\"\",\"\",入力シート!Q150)","v":""},{"$f":"IF(入力シート!R150=\"\",\"\",入力シート!R150)","v":""},{"$f":"IF(入力シート!S150=\"\",\"\",入力シート!S150)","v":""},{"$f":"IF(入力シート!T150=\"\",\"\",入力シート!T150)","v":""},{"$f":"IF(入力シート!U150=\"\",\"\",入力シート!U150)","v":""},{"$f":"IF(入力シート!V150=\"\",\"\",入力シート!V150)","v":""},{"$f":"IF(入力シート!W150=\"\",\"\",入力シート!W150)","v":""},{"$f":"IF(入力シート!X150=\"\",\"\",入力シート!X150)","v":""},{"$f":"IF(入力シート!Y150=\"\",\"\",入力シート!Y150)","v":""},{"$f":"IF(入力シート!Z150=\"\",\"\",入力シート!Z150)","v":""},null,null,{"$f":"IF(入力シート!H150=\"\",\"\",\"〇\")","v":""},{"$f":"IF(入力シート!AA150=\"\",\"\",入力シート!AA150)","v":""},{"$f":"IF(入力シート!AB150=\"\",\"\",入力シート!AB150)","v":""},{"$f":"IF(入力シート!AC150=\"\",\"\",入力シート!AC150)","v":""},{"$f":"IF(入力シート!AD150=\"\",\"\",入力シート!AD150)","v":""}]
[{"$f":"IF(入力シート!B151=\"\",\"\",入力シート!B151)","v":""},{"$f":"IF(入力シート!C151=\"\",\"\",入力シート!C151)","v":""},{"$f":"IF(入力シート!D151=\"\",\"\",DBCS(入力シート!D151))","v":""},{"$f":"IF(入力シート!E151=\"\",\"\",DBCS(入力シート!E151))","v":""},{"$f":"ASC(IF(入力シート!F151=\"\",\"\",UPPER(入力シート!F151)))","v":""},{"$f":"IF(入力シート!G151=\"\",\"\",PROPER(入力シート!G151))","v":""},{"$f":"IF(入力シート!H151=\"\",\"\",入力シート!H151)","v":""},{"$f":"IF(入力シート!I151=\"\",\"\",TEXT(入力シート!I151,\"yyyy/mm/dd\"))","v":""},{"$f":"IF(入力シート!J151=\"\",\"\",入力シート!J151)","v":""},{"$f":"IF(入力シート!K151=\"\",\"\",入力シート!K151)","v":""},{"$f":"IF(入力シート!L151=\"\",\"\",入力シート!L151)","v":""},{"$f":"IF(入力シート!M151=\"\",\"\",入力シート!M151)","v":""},{"$f":"IF(入力シート!N151=\"\",\"\",入力シート!N151)","v":""},{"$f":"IF(入力シート!O151=\"\",\"\",入力シート!O151)","v":""},null,{"$f":"IF(入力シート!P151=\"\",\"\",入力シート!P151)","v":""},{"$f":"IF(入力シート!Q151=\"\",\"\",入力シート!Q151)","v":""},{"$f":"IF(入力シート!R151=\"\",\"\",入力シート!R151)","v":""},{"$f":"IF(入力シート!S151=\"\",\"\",入力シート!S151)","v":""},{"$f":"IF(入力シート!T151=\"\",\"\",入力シート!T151)","v":""},{"$f":"IF(入力シート!U151=\"\",\"\",入力シート!U151)","v":""},{"$f":"IF(入力シート!V151=\"\",\"\",入力シート!V151)","v":""},{"$f":"IF(入力シート!W151=\"\",\"\",入力シート!W151)","v":""},{"$f":"IF(入力シート!X151=\"\",\"\",入力シート!X151)","v":""},{"$f":"IF(入力シート!Y151=\"\",\"\",入力シート!Y151)","v":""},{"$f":"IF(入力シート!Z151=\"\",\"\",入力シート!Z151)","v":""},null,null,{"$f":"IF(入力シート!H151=\"\",\"\",\"〇\")","v":""},{"$f":"IF(入力シート!AA151=\"\",\"\",入力シート!AA151)","v":""},{"$f":"IF(入力シート!AB151=\"\",\"\",入力シート!AB151)","v":""},{"$f":"IF(入力シート!AC151=\"\",\"\",入力シート!AC151)","v":""},{"$f":"IF(入力シート!AD151=\"\",\"\",入力シート!AD151)","v":""}]
[{"$f":"IF(入力シート!B152=\"\",\"\",入力シート!B152)","v":""},{"$f":"IF(入力シート!C152=\"\",\"\",入力シート!C152)","v":""},{"$f":"IF(入力シート!D152=\"\",\"\",DBCS(入力シート!D152))","v":""},{"$f":"IF(入力シート!E152=\"\",\"\",DBCS(入力シート!E152))","v":""},{"$f":"ASC(IF(入力シート!F152=\"\",\"\",UPPER(入力シート!F152)))","v":""},{"$f":"IF(入力シート!G152=\"\",\"\",PROPER(入力シート!G152))","v":""},{"$f":"IF(入力シート!H152=\"\",\"\",入力シート!H152)","v":""},{"$f":"IF(入力シート!I152=\"\",\"\",TEXT(入力シート!I152,\"yyyy/mm/dd\"))","v":""},{"$f":"IF(入力シート!J152=\"\",\"\",入力シート!J152)","v":""},{"$f":"IF(入力シート!K152=\"\",\"\",入力シート!K152)","v":""},{"$f":"IF(入力シート!L152=\"\",\"\",入力シート!L152)","v":""},{"$f":"IF(入力シート!M152=\"\",\"\",入力シート!M152)","v":""},{"$f":"IF(入力シート!N152=\"\",\"\",入力シート!N152)","v":""},{"$f":"IF(入力シート!O152=\"\",\"\",入力シート!O152)","v":""},null,{"$f":"IF(入力シート!P152=\"\",\"\",入力シート!P152)","v":""},{"$f":"IF(入力シート!Q152=\"\",\"\",入力シート!Q152)","v":""},{"$f":"IF(入力シート!R152=\"\",\"\",入力シート!R152)","v":""},{"$f":"IF(入力シート!S152=\"\",\"\",入力シート!S152)","v":""},{"$f":"IF(入力シート!T152=\"\",\"\",入力シート!T152)","v":""},{"$f":"IF(入力シート!U152=\"\",\"\",入力シート!U152)","v":""},{"$f":"IF(入力シート!V152=\"\",\"\",入力シート!V152)","v":""},{"$f":"IF(入力シート!W152=\"\",\"\",入力シート!W152)","v":""},{"$f":"IF(入力シート!X152=\"\",\"\",入力シート!X152)","v":""},{"$f":"IF(入力シート!Y152=\"\",\"\",入力シート!Y152)","v":""},{"$f":"IF(入力シート!Z152=\"\",\"\",入力シート!Z152)","v":""},null,null,{"$f":"IF(入力シート!H152=\"\",\"\",\"〇\")","v":""},{"$f":"IF(入力シート!AA152=\"\",\"\",入力シート!AA152)","v":""},{"$f":"IF(入力シート!AB152=\"\",\"\",入力シート!AB152)","v":""},{"$f":"IF(入力シート!AC152=\"\",\"\",入力シート!AC152)","v":""},{"$f":"IF(入力シート!AD152=\"\",\"\",入力シート!AD152)","v":""}]
[{"$f":"IF(入力シート!B153=\"\",\"\",入力シート!B153)","v":""},{"$f":"IF(入力シート!C153=\"\",\"\",入力シート!C153)","v":""},{"$f":"IF(入力シート!D153=\"\",\"\",DBCS(入力シート!D153))","v":""},{"$f":"IF(入力シート!E153=\"\",\"\",DBCS(入力シート!E153))","v":""},{"$f":"ASC(IF(入力シート!F153=\"\",\"\",UPPER(入力シート!F153)))","v":""},{"$f":"IF(入力シート!G153=\"\",\"\",PROPER(入力シート!G153))","v":""},{"$f":"IF(入力シート!H153=\"\",\"\",入力シート!H153)","v":""},{"$f":"IF(入力シート!I153=\"\",\"\",TEXT(入力シート!I153,\"yyyy/mm/dd\"))","v":""},{"$f":"IF(入力シート!J153=\"\",\"\",入力シート!J153)","v":""},{"$f":"IF(入力シート!K153=\"\",\"\",入力シート!K153)","v":""},{"$f":"IF(入力シート!L153=\"\",\"\",入力シート!L153)","v":""},{"$f":"IF(入力シート!M153=\"\",\"\",入力シート!M153)","v":""},{"$f":"IF(入力シート!N153=\"\",\"\",入力シート!N153)","v":""},{"$f":"IF(入力シート!O153=\"\",\"\",入力シート!O153)","v":""},null,{"$f":"IF(入力シート!P153=\"\",\"\",入力シート!P153)","v":""},{"$f":"IF(入力シート!Q153=\"\",\"\",入力シート!Q153)","v":""},{"$f":"IF(入力シート!R153=\"\",\"\",入力シート!R153)","v":""},{"$f":"IF(入力シート!S153=\"\",\"\",入力シート!S153)","v":""},{"$f":"IF(入力シート!T153=\"\",\"\",入力シート!T153)","v":""},{"$f":"IF(入力シート!U153=\"\",\"\",入力シート!U153)","v":""},{"$f":"IF(入力シート!V153=\"\",\"\",入力シート!V153)","v":""},{"$f":"IF(入力シート!W153=\"\",\"\",入力シート!W153)","v":""},{"$f":"IF(入力シート!X153=\"\",\"\",入力シート!X153)","v":""},{"$f":"IF(入力シート!Y153=\"\",\"\",入力シート!Y153)","v":""},{"$f":"IF(入力シート!Z153=\"\",\"\",入力シート!Z153)","v":""},null,null,{"$f":"IF(入力シート!H153=\"\",\"\",\"〇\")","v":""},{"$f":"IF(入力シート!AA153=\"\",\"\",入力シート!AA153)","v":""},{"$f":"IF(入力シート!AB153=\"\",\"\",入力シート!AB153)","v":""},{"$f":"IF(入力シート!AC153=\"\",\"\",入力シート!AC153)","v":""},{"$f":"IF(入力シート!AD153=\"\",\"\",入力シート!AD153)","v":""}]
[{"$f":"IF(入力シート!B154=\"\",\"\",入力シート!B154)","v":""},{"$f":"IF(入力シート!C154=\"\",\"\",入力シート!C154)","v":""},{"$f":"IF(入力シート!D154=\"\",\"\",DBCS(入力シート!D154))","v":""},{"$f":"IF(入力シート!E154=\"\",\"\",DBCS(入力シート!E154))","v":""},{"$f":"ASC(IF(入力シート!F154=\"\",\"\",UPPER(入力シート!F154)))","v":""},{"$f":"IF(入力シート!G154=\"\",\"\",PROPER(入力シート!G154))","v":""},{"$f":"IF(入力シート!H154=\"\",\"\",入力シート!H154)","v":""},{"$f":"IF(入力シート!I154=\"\",\"\",TEXT(入力シート!I154,\"yyyy/mm/dd\"))","v":""},{"$f":"IF(入力シート!J154=\"\",\"\",入力シート!J154)","v":""},{"$f":"IF(入力シート!K154=\"\",\"\",入力シート!K154)","v":""},{"$f":"IF(入力シート!L154=\"\",\"\",入力シート!L154)","v":""},{"$f":"IF(入力シート!M154=\"\",\"\",入力シート!M154)","v":""},{"$f":"IF(入力シート!N154=\"\",\"\",入力シート!N154)","v":""},{"$f":"IF(入力シート!O154=\"\",\"\",入力シート!O154)","v":""},null,{"$f":"IF(入力シート!P154=\"\",\"\",入力シート!P154)","v":""},{"$f":"IF(入力シート!Q154=\"\",\"\",入力シート!Q154)","v":""},{"$f":"IF(入力シート!R154=\"\",\"\",入力シート!R154)","v":""},{"$f":"IF(入力シート!S154=\"\",\"\",入力シート!S154)","v":""},{"$f":"IF(入力シート!T154=\"\",\"\",入力シート!T154)","v":""},{"$f":"IF(入力シート!U154=\"\",\"\",入力シート!U154)","v":""},{"$f":"IF(入力シート!V154=\"\",\"\",入力シート!V154)","v":""},{"$f":"IF(入力シート!W154=\"\",\"\",入力シート!W154)","v":""},{"$f":"IF(入力シート!X154=\"\",\"\",入力シート!X154)","v":""},{"$f":"IF(入力シート!Y154=\"\",\"\",入力シート!Y154)","v":""},{"$f":"IF(入力シート!Z154=\"\",\"\",入力シート!Z154)","v":""},null,null,{"$f":"IF(入力シート!H154=\"\",\"\",\"〇\")","v":""},{"$f":"IF(入力シート!AA154=\"\",\"\",入力シート!AA154)","v":""},{"$f":"IF(入力シート!AB154=\"\",\"\",入力シート!AB154)","v":""},{"$f":"IF(入力シート!AC154=\"\",\"\",入力シート!AC154)","v":""},{"$f":"IF(入力シート!AD154=\"\",\"\",入力シート!AD154)","v":""}]
[{"$f":"IF(入力シート!B155=\"\",\"\",入力シート!B155)","v":""},{"$f":"IF(入力シート!C155=\"\",\"\",入力シート!C155)","v":""},{"$f":"IF(入力シート!D155=\"\",\"\",DBCS(入力シート!D155))","v":""},{"$f":"IF(入力シート!E155=\"\",\"\",DBCS(入力シート!E155))","v":""},{"$f":"ASC(IF(入力シート!F155=\"\",\"\",UPPER(入力シート!F155)))","v":""},{"$f":"IF(入力シート!G155=\"\",\"\",PROPER(入力シート!G155))","v":""},{"$f":"IF(入力シート!H155=\"\",\"\",入力シート!H155)","v":""},{"$f":"IF(入力シート!I155=\"\",\"\",TEXT(入力シート!I155,\"yyyy/mm/dd\"))","v":""},{"$f":"IF(入力シート!J155=\"\",\"\",入力シート!J155)","v":""},{"$f":"IF(入力シート!K155=\"\",\"\",入力シート!K155)","v":""},{"$f":"IF(入力シート!L155=\"\",\"\",入力シート!L155)","v":""},{"$f":"IF(入力シート!M155=\"\",\"\",入力シート!M155)","v":""},{"$f":"IF(入力シート!N155=\"\",\"\",入力シート!N155)","v":""},{"$f":"IF(入力シート!O155=\"\",\"\",入力シート!O155)","v":""},null,{"$f":"IF(入力シート!P155=\"\",\"\",入力シート!P155)","v":""},{"$f":"IF(入力シート!Q155=\"\",\"\",入力シート!Q155)","v":""},{"$f":"IF(入力シート!R155=\"\",\"\",入力シート!R155)","v":""},{"$f":"IF(入力シート!S155=\"\",\"\",入力シート!S155)","v":""},{"$f":"IF(入力シート!T155=\"\",\"\",入力シート!T155)","v":""},{"$f":"IF(入力シート!U155=\"\",\"\",入力シート!U155)","v":""},{"$f":"IF(入力シート!V155=\"\",\"\",入力シート!V155)","v":""},{"$f":"IF(入力シート!W155=\"\",\"\",入力シート!W155)","v":""},{"$f":"IF(入力シート!X155=\"\",\"\",入力シート!X155)","v":""},{"$f":"IF(入力シート!Y155=\"\",\"\",入力シート!Y155)","v":""},{"$f":"IF(入力シート!Z155=\"\",\"\",入力シート!Z155)","v":""},null,null,{"$f":"IF(入力シート!H155=\"\",\"\",\"〇\")","v":""},{"$f":"IF(入力シート!AA155=\"\",\"\",入力シート!AA155)","v":""},{"$f":"IF(入力シート!AB155=\"\",\"\",入力シート!AB155)","v":""},{"$f":"IF(入力シート!AC155=\"\",\"\",入力シート!AC155)","v":""},{"$f":"IF(入力シート!AD155=\"\",\"\",入力シート!AD155)","v":""}]
[{"$f":"IF(入力シート!B156=\"\",\"\",入力シート!B156)","v":""},{"$f":"IF(入力シート!C156=\"\",\"\",入力シート!C156)","v":""},{"$f":"IF(入力シート!D156=\"\",\"\",DBCS(入力シート!D156))","v":""},{"$f":"IF(入力シート!E156=\"\",\"\",DBCS(入力シート!E156))","v":""},{"$f":"ASC(IF(入力シート!F156=\"\",\"\",UPPER(入力シート!F156)))","v":""},{"$f":"IF(入力シート!G156=\"\",\"\",PROPER(入力シート!G156))","v":""},{"$f":"IF(入力シート!H156=\"\",\"\",入力シート!H156)","v":""},{"$f":"IF(入力シート!I156=\"\",\"\",TEXT(入力シート!I156,\"yyyy/mm/dd\"))","v":""},{"$f":"IF(入力シート!J156=\"\",\"\",入力シート!J156)","v":""},{"$f":"IF(入力シート!K156=\"\",\"\",入力シート!K156)","v":""},{"$f":"IF(入力シート!L156=\"\",\"\",入力シート!L156)","v":""},{"$f":"IF(入力シート!M156=\"\",\"\",入力シート!M156)","v":""},{"$f":"IF(入力シート!N156=\"\",\"\",入力シート!N156)","v":""},{"$f":"IF(入力シート!O156=\"\",\"\",入力シート!O156)","v":""},null,{"$f":"IF(入力シート!P156=\"\",\"\",入力シート!P156)","v":""},{"$f":"IF(入力シート!Q156=\"\",\"\",入力シート!Q156)","v":""},{"$f":"IF(入力シート!R156=\"\",\"\",入力シート!R156)","v":""},{"$f":"IF(入力シート!S156=\"\",\"\",入力シート!S156)","v":""},{"$f":"IF(入力シート!T156=\"\",\"\",入力シート!T156)","v":""},{"$f":"IF(入力シート!U156=\"\",\"\",入力シート!U156)","v":""},{"$f":"IF(入力シート!V156=\"\",\"\",入力シート!V156)","v":""},{"$f":"IF(入力シート!W156=\"\",\"\",入力シート!W156)","v":""},{"$f":"IF(入力シート!X156=\"\",\"\",入力シート!X156)","v":""},{"$f":"IF(入力シート!Y156=\"\",\"\",入力シート!Y156)","v":""},{"$f":"IF(入力シート!Z156=\"\",\"\",入力シート!Z156)","v":""},null,null,{"$f":"IF(入力シート!H156=\"\",\"\",\"〇\")","v":""},{"$f":"IF(入力シート!AA156=\"\",\"\",入力シート!AA156)","v":""},{"$f":"IF(入力シート!AB156=\"\",\"\",入力シート!AB156)","v":""},{"$f":"IF(入力シート!AC156=\"\",\"\",入力シート!AC156)","v":""},{"$f":"IF(入力シート!AD156=\"\",\"\",入力シート!AD156)","v":""}]
[{"$f":"IF(入力シート!B157=\"\",\"\",入力シート!B157)","v":""},{"$f":"IF(入力シート!C157=\"\",\"\",入力シート!C157)","v":""},{"$f":"IF(入力シート!D157=\"\",\"\",DBCS(入力シート!D157))","v":""},{"$f":"IF(入力シート!E157=\"\",\"\",DBCS(入力シート!E157))","v":""},{"$f":"ASC(IF(入力シート!F157=\"\",\"\",UPPER(入力シート!F157)))","v":""},{"$f":"IF(入力シート!G157=\"\",\"\",PROPER(入力シート!G157))","v":""},{"$f":"IF(入力シート!H157=\"\",\"\",入力シート!H157)","v":""},{"$f":"IF(入力シート!I157=\"\",\"\",TEXT(入力シート!I157,\"yyyy/mm/dd\"))","v":""},{"$f":"IF(入力シート!J157=\"\",\"\",入力シート!J157)","v":""},{"$f":"IF(入力シート!K157=\"\",\"\",入力シート!K157)","v":""},{"$f":"IF(入力シート!L157=\"\",\"\",入力シート!L157)","v":""},{"$f":"IF(入力シート!M157=\"\",\"\",入力シート!M157)","v":""},{"$f":"IF(入力シート!N157=\"\",\"\",入力シート!N157)","v":""},{"$f":"IF(入力シート!O157=\"\",\"\",入力シート!O157)","v":""},null,{"$f":"IF(入力シート!P157=\"\",\"\",入力シート!P157)","v":""},{"$f":"IF(入力シート!Q157=\"\",\"\",入力シート!Q157)","v":""},{"$f":"IF(入力シート!R157=\"\",\"\",入力シート!R157)","v":""},{"$f":"IF(入力シート!S157=\"\",\"\",入力シート!S157)","v":""},{"$f":"IF(入力シート!T157=\"\",\"\",入力シート!T157)","v":""},{"$f":"IF(入力シート!U157=\"\",\"\",入力シート!U157)","v":""},{"$f":"IF(入力シート!V157=\"\",\"\",入力シート!V157)","v":""},{"$f":"IF(入力シート!W157=\"\",\"\",入力シート!W157)","v":""},{"$f":"IF(入力シート!X157=\"\",\"\",入力シート!X157)","v":""},{"$f":"IF(入力シート!Y157=\"\",\"\",入力シート!Y157)","v":""},{"$f":"IF(入力シート!Z157=\"\",\"\",入力シート!Z157)","v":""},null,null,{"$f":"IF(入力シート!H157=\"\",\"\",\"〇\")","v":""},{"$f":"IF(入力シート!AA157=\"\",\"\",入力シート!AA157)","v":""},{"$f":"IF(入力シート!AB157=\"\",\"\",入力シート!AB157)","v":""},{"$f":"IF(入力シート!AC157=\"\",\"\",入力シート!AC157)","v":""},{"$f":"IF(入力シート!AD157=\"\",\"\",入力シート!AD157)","v":""}]
[{"$f":"IF(入力シート!B158=\"\",\"\",入力シート!B158)","v":""},{"$f":"IF(入力シート!C158=\"\",\"\",入力シート!C158)","v":""},{"$f":"IF(入力シート!D158=\"\",\"\",DBCS(入力シート!D158))","v":""},{"$f":"IF(入力シート!E158=\"\",\"\",DBCS(入力シート!E158))","v":""},{"$f":"ASC(IF(入力シート!F158=\"\",\"\",UPPER(入力シート!F158)))","v":""},{"$f":"IF(入力シート!G158=\"\",\"\",PROPER(入力シート!G158))","v":""},{"$f":"IF(入力シート!H158=\"\",\"\",入力シート!H158)","v":""},{"$f":"IF(入力シート!I158=\"\",\"\",TEXT(入力シート!I158,\"yyyy/mm/dd\"))","v":""},{"$f":"IF(入力シート!J158=\"\",\"\",入力シート!J158)","v":""},{"$f":"IF(入力シート!K158=\"\",\"\",入力シート!K158)","v":""},{"$f":"IF(入力シート!L158=\"\",\"\",入力シート!L158)","v":""},{"$f":"IF(入力シート!M158=\"\",\"\",入力シート!M158)","v":""},{"$f":"IF(入力シート!N158=\"\",\"\",入力シート!N158)","v":""},{"$f":"IF(入力シート!O158=\"\",\"\",入力シート!O158)","v":""},null,{"$f":"IF(入力シート!P158=\"\",\"\",入力シート!P158)","v":""},{"$f":"IF(入力シート!Q158=\"\",\"\",入力シート!Q158)","v":""},{"$f":"IF(入力シート!R158=\"\",\"\",入力シート!R158)","v":""},{"$f":"IF(入力シート!S158=\"\",\"\",入力シート!S158)","v":""},{"$f":"IF(入力シート!T158=\"\",\"\",入力シート!T158)","v":""},{"$f":"IF(入力シート!U158=\"\",\"\",入力シート!U158)","v":""},{"$f":"IF(入力シート!V158=\"\",\"\",入力シート!V158)","v":""},{"$f":"IF(入力シート!W158=\"\",\"\",入力シート!W158)","v":""},{"$f":"IF(入力シート!X158=\"\",\"\",入力シート!X158)","v":""},{"$f":"IF(入力シート!Y158=\"\",\"\",入力シート!Y158)","v":""},{"$f":"IF(入力シート!Z158=\"\",\"\",入力シート!Z158)","v":""},null,null,{"$f":"IF(入力シート!H158=\"\",\"\",\"〇\")","v":""},{"$f":"IF(入力シート!AA158=\"\",\"\",入力シート!AA158)","v":""},{"$f":"IF(入力シート!AB158=\"\",\"\",入力シート!AB158)","v":""},{"$f":"IF(入力シート!AC158=\"\",\"\",入力シート!AC158)","v":""},{"$f":"IF(入力シート!AD158=\"\",\"\",入力シート!AD158)","v":""}]
[{"$f":"IF(入力シート!B159=\"\",\"\",入力シート!B159)","v":""},{"$f":"IF(入力シート!C159=\"\",\"\",入力シート!C159)","v":""},{"$f":"IF(入力シート!D159=\"\",\"\",DBCS(入力シート!D159))","v":""},{"$f":"IF(入力シート!E159=\"\",\"\",DBCS(入力シート!E159))","v":""},{"$f":"ASC(IF(入力シート!F159=\"\",\"\",UPPER(入力シート!F159)))","v":""},{"$f":"IF(入力シート!G159=\"\",\"\",PROPER(入力シート!G159))","v":""},{"$f":"IF(入力シート!H159=\"\",\"\",入力シート!H159)","v":""},{"$f":"IF(入力シート!I159=\"\",\"\",TEXT(入力シート!I159,\"yyyy/mm/dd\"))","v":""},{"$f":"IF(入力シート!J159=\"\",\"\",入力シート!J159)","v":""},{"$f":"IF(入力シート!K159=\"\",\"\",入力シート!K159)","v":""},{"$f":"IF(入力シート!L159=\"\",\"\",入力シート!L159)","v":""},{"$f":"IF(入力シート!M159=\"\",\"\",入力シート!M159)","v":""},{"$f":"IF(入力シート!N159=\"\",\"\",入力シート!N159)","v":""},{"$f":"IF(入力シート!O159=\"\",\"\",入力シート!O159)","v":""},null,{"$f":"IF(入力シート!P159=\"\",\"\",入力シート!P159)","v":""},{"$f":"IF(入力シート!Q159=\"\",\"\",入力シート!Q159)","v":""},{"$f":"IF(入力シート!R159=\"\",\"\",入力シート!R159)","v":""},{"$f":"IF(入力シート!S159=\"\",\"\",入力シート!S159)","v":""},{"$f":"IF(入力シート!T159=\"\",\"\",入力シート!T159)","v":""},{"$f":"IF(入力シート!U159=\"\",\"\",入力シート!U159)","v":""},{"$f":"IF(入力シート!V159=\"\",\"\",入力シート!V159)","v":""},{"$f":"IF(入力シート!W159=\"\",\"\",入力シート!W159)","v":""},{"$f":"IF(入力シート!X159=\"\",\"\",入力シート!X159)","v":""},{"$f":"IF(入力シート!Y159=\"\",\"\",入力シート!Y159)","v":""},{"$f":"IF(入力シート!Z159=\"\",\"\",入力シート!Z159)","v":""},null,null,{"$f":"IF(入力シート!H159=\"\",\"\",\"〇\")","v":""},{"$f":"IF(入力シート!AA159=\"\",\"\",入力シート!AA159)","v":""},{"$f":"IF(入力シート!AB159=\"\",\"\",入力シート!AB159)","v":""},{"$f":"IF(入力シート!AC159=\"\",\"\",入力シート!AC159)","v":""},{"$f":"IF(入力シート!AD159=\"\",\"\",入力シート!AD159)","v":""}]
[{"$f":"IF(入力シート!B160=\"\",\"\",入力シート!B160)","v":""},{"$f":"IF(入力シート!C160=\"\",\"\",入力シート!C160)","v":""},{"$f":"IF(入力シート!D160=\"\",\"\",DBCS(入力シート!D160))","v":""},{"$f":"IF(入力シート!E160=\"\",\"\",DBCS(入力シート!E160))","v":""},{"$f":"ASC(IF(入力シート!F160=\"\",\"\",UPPER(入力シート!F160)))","v":""},{"$f":"IF(入力シート!G160=\"\",\"\",PROPER(入力シート!G160))","v":""},{"$f":"IF(入力シート!H160=\"\",\"\",入力シート!H160)","v":""},{"$f":"IF(入力シート!I160=\"\",\"\",TEXT(入力シート!I160,\"yyyy/mm/dd\"))","v":""},{"$f":"IF(入力シート!J160=\"\",\"\",入力シート!J160)","v":""},{"$f":"IF(入力シート!K160=\"\",\"\",入力シート!K160)","v":""},{"$f":"IF(入力シート!L160=\"\",\"\",入力シート!L160)","v":""},{"$f":"IF(入力シート!M160=\"\",\"\",入力シート!M160)","v":""},{"$f":"IF(入力シート!N160=\"\",\"\",入力シート!N160)","v":""},{"$f":"IF(入力シート!O160=\"\",\"\",入力シート!O160)","v":""},null,{"$f":"IF(入力シート!P160=\"\",\"\",入力シート!P160)","v":""},{"$f":"IF(入力シート!Q160=\"\",\"\",入力シート!Q160)","v":""},{"$f":"IF(入力シート!R160=\"\",\"\",入力シート!R160)","v":""},{"$f":"IF(入力シート!S160=\"\",\"\",入力シート!S160)","v":""},{"$f":"IF(入力シート!T160=\"\",\"\",入力シート!T160)","v":""},{"$f":"IF(入力シート!U160=\"\",\"\",入力シート!U160)","v":""},{"$f":"IF(入力シート!V160=\"\",\"\",入力シート!V160)","v":""},{"$f":"IF(入力シート!W160=\"\",\"\",入力シート!W160)","v":""},{"$f":"IF(入力シート!X160=\"\",\"\",入力シート!X160)","v":""},{"$f":"IF(入力シート!Y160=\"\",\"\",入力シート!Y160)","v":""},{"$f":"IF(入力シート!Z160=\"\",\"\",入力シート!Z160)","v":""},null,null,{"$f":"IF(入力シート!H160=\"\",\"\",\"〇\")","v":""},{"$f":"IF(入力シート!AA160=\"\",\"\",入力シート!AA160)","v":""},{"$f":"IF(入力シート!AB160=\"\",\"\",入力シート!AB160)","v":""},{"$f":"IF(入力シート!AC160=\"\",\"\",入力シート!AC160)","v":""},{"$f":"IF(入力シート!AD160=\"\",\"\",入力シート!AD160)","v":""}]
[{"$f":"IF(入力シート!B161=\"\",\"\",入力シート!B161)","v":""},{"$f":"IF(入力シート!C161=\"\",\"\",入力シート!C161)","v":""},{"$f":"IF(入力シート!D161=\"\",\"\",DBCS(入力シート!D161))","v":""},{"$f":"IF(入力シート!E161=\"\",\"\",DBCS(入力シート!E161))","v":""},{"$f":"ASC(IF(入力シート!F161=\"\",\"\",UPPER(入力シート!F161)))","v":""},{"$f":"IF(入力シート!G161=\"\",\"\",PROPER(入力シート!G161))","v":""},{"$f":"IF(入力シート!H161=\"\",\"\",入力シート!H161)","v":""},{"$f":"IF(入力シート!I161=\"\",\"\",TEXT(入力シート!I161,\"yyyy/mm/dd\"))","v":""},{"$f":"IF(入力シート!J161=\"\",\"\",入力シート!J161)","v":""},{"$f":"IF(入力シート!K161=\"\",\"\",入力シート!K161)","v":""},{"$f":"IF(入力シート!L161=\"\",\"\",入力シート!L161)","v":""},{"$f":"IF(入力シート!M161=\"\",\"\",入力シート!M161)","v":""},{"$f":"IF(入力シート!N161=\"\",\"\",入力シート!N161)","v":""},{"$f":"IF(入力シート!O161=\"\",\"\",入力シート!O161)","v":""},null,{"$f":"IF(入力シート!P161=\"\",\"\",入力シート!P161)","v":""},{"$f":"IF(入力シート!Q161=\"\",\"\",入力シート!Q161)","v":""},{"$f":"IF(入力シート!R161=\"\",\"\",入力シート!R161)","v":""},{"$f":"IF(入力シート!S161=\"\",\"\",入力シート!S161)","v":""},{"$f":"IF(入力シート!T161=\"\",\"\",入力シート!T161)","v":""},{"$f":"IF(入力シート!U161=\"\",\"\",入力シート!U161)","v":""},{"$f":"IF(入力シート!V161=\"\",\"\",入力シート!V161)","v":""},{"$f":"IF(入力シート!W161=\"\",\"\",入力シート!W161)","v":""},{"$f":"IF(入力シート!X161=\"\",\"\",入力シート!X161)","v":""},{"$f":"IF(入力シート!Y161=\"\",\"\",入力シート!Y161)","v":""},{"$f":"IF(入力シート!Z161=\"\",\"\",入力シート!Z161)","v":""},null,null,{"$f":"IF(入力シート!H161=\"\",\"\",\"〇\")","v":""},{"$f":"IF(入力シート!AA161=\"\",\"\",入力シート!AA161)","v":""},{"$f":"IF(入力シート!AB161=\"\",\"\",入力シート!AB161)","v":""},{"$f":"IF(入力シート!AC161=\"\",\"\",入力シート!AC161)","v":""},{"$f":"IF(入力シート!AD161=\"\",\"\",入力シート!AD161)","v":""}]
[{"$f":"IF(入力シート!B162=\"\",\"\",入力シート!B162)","v":""},{"$f":"IF(入力シート!C162=\"\",\"\",入力シート!C162)","v":""},{"$f":"IF(入力シート!D162=\"\",\"\",DBCS(入力シート!D162))","v":""},{"$f":"IF(入力シート!E162=\"\",\"\",DBCS(入力シート!E162))","v":""},{"$f":"ASC(IF(入力シート!F162=\"\",\"\",UPPER(入力シート!F162)))","v":""},{"$f":"IF(入力シート!G162=\"\",\"\",PROPER(入力シート!G162))","v":""},{"$f":"IF(入力シート!H162=\"\",\"\",入力シート!H162)","v":""},{"$f":"IF(入力シート!I162=\"\",\"\",TEXT(入力シート!I162,\"yyyy/mm/dd\"))","v":""},{"$f":"IF(入力シート!J162=\"\",\"\",入力シート!J162)","v":""},{"$f":"IF(入力シート!K162=\"\",\"\",入力シート!K162)","v":""},{"$f":"IF(入力シート!L162=\"\",\"\",入力シート!L162)","v":""},{"$f":"IF(入力シート!M162=\"\",\"\",入力シート!M162)","v":""},{"$f":"IF(入力シート!N162=\"\",\"\",入力シート!N162)","v":""},{"$f":"IF(入力シート!O162=\"\",\"\",入力シート!O162)","v":""},null,{"$f":"IF(入力シート!P162=\"\",\"\",入力シート!P162)","v":""},{"$f":"IF(入力シート!Q162=\"\",\"\",入力シート!Q162)","v":""},{"$f":"IF(入力シート!R162=\"\",\"\",入力シート!R162)","v":""},{"$f":"IF(入力シート!S162=\"\",\"\",入力シート!S162)","v":""},{"$f":"IF(入力シート!T162=\"\",\"\",入力シート!T162)","v":""},{"$f":"IF(入力シート!U162=\"\",\"\",入力シート!U162)","v":""},{"$f":"IF(入力シート!V162=\"\",\"\",入力シート!V162)","v":""},{"$f":"IF(入力シート!W162=\"\",\"\",入力シート!W162)","v":""},{"$f":"IF(入力シート!X162=\"\",\"\",入力シート!X162)","v":""},{"$f":"IF(入力シート!Y162=\"\",\"\",入力シート!Y162)","v":""},{"$f":"IF(入力シート!Z162=\"\",\"\",入力シート!Z162)","v":""},null,null,{"$f":"IF(入力シート!H162=\"\",\"\",\"〇\")","v":""},{"$f":"IF(入力シート!AA162=\"\",\"\",入力シート!AA162)","v":""},{"$f":"IF(入力シート!AB162=\"\",\"\",入力シート!AB162)","v":""},{"$f":"IF(入力シート!AC162=\"\",\"\",入力シート!AC162)","v":""},{"$f":"IF(入力シート!AD162=\"\",\"\",入力シート!AD162)","v":""}]
[{"$f":"IF(入力シート!B163=\"\",\"\",入力シート!B163)","v":""},{"$f":"IF(入力シート!C163=\"\",\"\",入力シート!C163)","v":""},{"$f":"IF(入力シート!D163=\"\",\"\",DBCS(入力シート!D163))","v":""},{"$f":"IF(入力シート!E163=\"\",\"\",DBCS(入力シート!E163))","v":""},{"$f":"ASC(IF(入力シート!F163=\"\",\"\",UPPER(入力シート!F163)))","v":""},{"$f":"IF(入力シート!G163=\"\",\"\",PROPER(入力シート!G163))","v":""},{"$f":"IF(入力シート!H163=\"\",\"\",入力シート!H163)","v":""},{"$f":"IF(入力シート!I163=\"\",\"\",TEXT(入力シート!I163,\"yyyy/mm/dd\"))","v":""},{"$f":"IF(入力シート!J163=\"\",\"\",入力シート!J163)","v":""},{"$f":"IF(入力シート!K163=\"\",\"\",入力シート!K163)","v":""},{"$f":"IF(入力シート!L163=\"\",\"\",入力シート!L163)","v":""},{"$f":"IF(入力シート!M163=\"\",\"\",入力シート!M163)","v":""},{"$f":"IF(入力シート!N163=\"\",\"\",入力シート!N163)","v":""},{"$f":"IF(入力シート!O163=\"\",\"\",入力シート!O163)","v":""},null,{"$f":"IF(入力シート!P163=\"\",\"\",入力シート!P163)","v":""},{"$f":"IF(入力シート!Q163=\"\",\"\",入力シート!Q163)","v":""},{"$f":"IF(入力シート!R163=\"\",\"\",入力シート!R163)","v":""},{"$f":"IF(入力シート!S163=\"\",\"\",入力シート!S163)","v":""},{"$f":"IF(入力シート!T163=\"\",\"\",入力シート!T163)","v":""},{"$f":"IF(入力シート!U163=\"\",\"\",入力シート!U163)","v":""},{"$f":"IF(入力シート!V163=\"\",\"\",入力シート!V163)","v":""},{"$f":"IF(入力シート!W163=\"\",\"\",入力シート!W163)","v":""},{"$f":"IF(入力シート!X163=\"\",\"\",入力シート!X163)","v":""},{"$f":"IF(入力シート!Y163=\"\",\"\",入力シート!Y163)","v":""},{"$f":"IF(入力シート!Z163=\"\",\"\",入力シート!Z163)","v":""},null,null,{"$f":"IF(入力シート!H163=\"\",\"\",\"〇\")","v":""},{"$f":"IF(入力シート!AA163=\"\",\"\",入力シート!AA163)","v":""},{"$f":"IF(入力シート!AB163=\"\",\"\",入力シート!AB163)","v":""},{"$f":"IF(入力シート!AC163=\"\",\"\",入力シート!AC163)","v":""},{"$f":"IF(入力シート!AD163=\"\",\"\",入力シート!AD163)","v":""}]
[{"$f":"IF(入力シート!B164=\"\",\"\",入力シート!B164)","v":""},{"$f":"IF(入力シート!C164=\"\",\"\",入力シート!C164)","v":""},{"$f":"IF(入力シート!D164=\"\",\"\",DBCS(入力シート!D164))","v":""},{"$f":"IF(入力シート!E164=\"\",\"\",DBCS(入力シート!E164))","v":""},{"$f":"ASC(IF(入力シート!F164=\"\",\"\",UPPER(入力シート!F164)))","v":""},{"$f":"IF(入力シート!G164=\"\",\"\",PROPER(入力シート!G164))","v":""},{"$f":"IF(入力シート!H164=\"\",\"\",入力シート!H164)","v":""},{"$f":"IF(入力シート!I164=\"\",\"\",TEXT(入力シート!I164,\"yyyy/mm/dd\"))","v":""},{"$f":"IF(入力シート!J164=\"\",\"\",入力シート!J164)","v":""},{"$f":"IF(入力シート!K164=\"\",\"\",入力シート!K164)","v":""},{"$f":"IF(入力シート!L164=\"\",\"\",入力シート!L164)","v":""},{"$f":"IF(入力シート!M164=\"\",\"\",入力シート!M164)","v":""},{"$f":"IF(入力シート!N164=\"\",\"\",入力シート!N164)","v":""},{"$f":"IF(入力シート!O164=\"\",\"\",入力シート!O164)","v":""},null,{"$f":"IF(入力シート!P164=\"\",\"\",入力シート!P164)","v":""},{"$f":"IF(入力シート!Q164=\"\",\"\",入力シート!Q164)","v":""},{"$f":"IF(入力シート!R164=\"\",\"\",入力シート!R164)","v":""},{"$f":"IF(入力シート!S164=\"\",\"\",入力シート!S164)","v":""},{"$f":"IF(入力シート!T164=\"\",\"\",入力シート!T164)","v":""},{"$f":"IF(入力シート!U164=\"\",\"\",入力シート!U164)","v":""},{"$f":"IF(入力シート!V164=\"\",\"\",入力シート!V164)","v":""},{"$f":"IF(入力シート!W164=\"\",\"\",入力シート!W164)","v":""},{"$f":"IF(入力シート!X164=\"\",\"\",入力シート!X164)","v":""},{"$f":"IF(入力シート!Y164=\"\",\"\",入力シート!Y164)","v":""},{"$f":"IF(入力シート!Z164=\"\",\"\",入力シート!Z164)","v":""},null,null,{"$f":"IF(入力シート!H164=\"\",\"\",\"〇\")","v":""},{"$f":"IF(入力シート!AA164=\"\",\"\",入力シート!AA164)","v":""},{"$f":"IF(入力シート!AB164=\"\",\"\",入力シート!AB164)","v":""},{"$f":"IF(入力シート!AC164=\"\",\"\",入力シート!AC164)","v":""},{"$f":"IF(入力シート!AD164=\"\",\"\",入力シート!AD164)","v":""}]
[{"$f":"IF(入力シート!B165=\"\",\"\",入力シート!B165)","v":""},{"$f":"IF(入力シート!C165=\"\",\"\",入力シート!C165)","v":""},{"$f":"IF(入力シート!D165=\"\",\"\",DBCS(入力シート!D165))","v":""},{"$f":"IF(入力シート!E165=\"\",\"\",DBCS(入力シート!E165))","v":""},{"$f":"ASC(IF(入力シート!F165=\"\",\"\",UPPER(入力シート!F165)))","v":""},{"$f":"IF(入力シート!G165=\"\",\"\",PROPER(入力シート!G165))","v":""},{"$f":"IF(入力シート!H165=\"\",\"\",入力シート!H165)","v":""},{"$f":"IF(入力シート!I165=\"\",\"\",TEXT(入力シート!I165,\"yyyy/mm/dd\"))","v":""},{"$f":"IF(入力シート!J165=\"\",\"\",入力シート!J165)","v":""},{"$f":"IF(入力シート!K165=\"\",\"\",入力シート!K165)","v":""},{"$f":"IF(入力シート!L165=\"\",\"\",入力シート!L165)","v":""},{"$f":"IF(入力シート!M165=\"\",\"\",入力シート!M165)","v":""},{"$f":"IF(入力シート!N165=\"\",\"\",入力シート!N165)","v":""},{"$f":"IF(入力シート!O165=\"\",\"\",入力シート!O165)","v":""},null,{"$f":"IF(入力シート!P165=\"\",\"\",入力シート!P165)","v":""},{"$f":"IF(入力シート!Q165=\"\",\"\",入力シート!Q165)","v":""},{"$f":"IF(入力シート!R165=\"\",\"\",入力シート!R165)","v":""},{"$f":"IF(入力シート!S165=\"\",\"\",入力シート!S165)","v":""},{"$f":"IF(入力シート!T165=\"\",\"\",入力シート!T165)","v":""},{"$f":"IF(入力シート!U165=\"\",\"\",入力シート!U165)","v":""},{"$f":"IF(入力シート!V165=\"\",\"\",入力シート!V165)","v":""},{"$f":"IF(入力シート!W165=\"\",\"\",入力シート!W165)","v":""},{"$f":"IF(入力シート!X165=\"\",\"\",入力シート!X165)","v":""},{"$f":"IF(入力シート!Y165=\"\",\"\",入力シート!Y165)","v":""},{"$f":"IF(入力シート!Z165=\"\",\"\",入力シート!Z165)","v":""},null,null,{"$f":"IF(入力シート!H165=\"\",\"\",\"〇\")","v":""},{"$f":"IF(入力シート!AA165=\"\",\"\",入力シート!AA165)","v":""},{"$f":"IF(入力シート!AB165=\"\",\"\",入力シート!AB165)","v":""},{"$f":"IF(入力シート!AC165=\"\",\"\",入力シート!AC165)","v":""},{"$f":"IF(入力シート!AD165=\"\",\"\",入力シート!AD165)","v":""}]
[{"$f":"IF(入力シート!B166=\"\",\"\",入力シート!B166)","v":""},{"$f":"IF(入力シート!C166=\"\",\"\",入力シート!C166)","v":""},{"$f":"IF(入力シート!D166=\"\",\"\",DBCS(入力シート!D166))","v":""},{"$f":"IF(入力シート!E166=\"\",\"\",DBCS(入力シート!E166))","v":""},{"$f":"ASC(IF(入力シート!F166=\"\",\"\",UPPER(入力シート!F166)))","v":""},{"$f":"IF(入力シート!G166=\"\",\"\",PROPER(入力シート!G166))","v":""},{"$f":"IF(入力シート!H166=\"\",\"\",入力シート!H166)","v":""},{"$f":"IF(入力シート!I166=\"\",\"\",TEXT(入力シート!I166,\"yyyy/mm/dd\"))","v":""},{"$f":"IF(入力シート!J166=\"\",\"\",入力シート!J166)","v":""},{"$f":"IF(入力シート!K166=\"\",\"\",入力シート!K166)","v":""},{"$f":"IF(入力シート!L166=\"\",\"\",入力シート!L166)","v":""},{"$f":"IF(入力シート!M166=\"\",\"\",入力シート!M166)","v":""},{"$f":"IF(入力シート!N166=\"\",\"\",入力シート!N166)","v":""},{"$f":"IF(入力シート!O166=\"\",\"\",入力シート!O166)","v":""},null,{"$f":"IF(入力シート!P166=\"\",\"\",入力シート!P166)","v":""},{"$f":"IF(入力シート!Q166=\"\",\"\",入力シート!Q166)","v":""},{"$f":"IF(入力シート!R166=\"\",\"\",入力シート!R166)","v":""},{"$f":"IF(入力シート!S166=\"\",\"\",入力シート!S166)","v":""},{"$f":"IF(入力シート!T166=\"\",\"\",入力シート!T166)","v":""},{"$f":"IF(入力シート!U166=\"\",\"\",入力シート!U166)","v":""},{"$f":"IF(入力シート!V166=\"\",\"\",入力シート!V166)","v":""},{"$f":"IF(入力シート!W166=\"\",\"\",入力シート!W166)","v":""},{"$f":"IF(入力シート!X166=\"\",\"\",入力シート!X166)","v":""},{"$f":"IF(入力シート!Y166=\"\",\"\",入力シート!Y166)","v":""},{"$f":"IF(入力シート!Z166=\"\",\"\",入力シート!Z166)","v":""},null,null,{"$f":"IF(入力シート!H166=\"\",\"\",\"〇\")","v":""},{"$f":"IF(入力シート!AA166=\"\",\"\",入力シート!AA166)","v":""},{"$f":"IF(入力シート!AB166=\"\",\"\",入力シート!AB166)","v":""},{"$f":"IF(入力シート!AC166=\"\",\"\",入力シート!AC166)","v":""},{"$f":"IF(入力シート!AD166=\"\",\"\",入力シート!AD166)","v":""}]
[{"$f":"IF(入力シート!B167=\"\",\"\",入力シート!B167)","v":""},{"$f":"IF(入力シート!C167=\"\",\"\",入力シート!C167)","v":""},{"$f":"IF(入力シート!D167=\"\",\"\",DBCS(入力シート!D167))","v":""},{"$f":"IF(入力シート!E167=\"\",\"\",DBCS(入力シート!E167))","v":""},{"$f":"ASC(IF(入力シート!F167=\"\",\"\",UPPER(入力シート!F167)))","v":""},{"$f":"IF(入力シート!G167=\"\",\"\",PROPER(入力シート!G167))","v":""},{"$f":"IF(入力シート!H167=\"\",\"\",入力シート!H167)","v":""},{"$f":"IF(入力シート!I167=\"\",\"\",TEXT(入力シート!I167,\"yyyy/mm/dd\"))","v":""},{"$f":"IF(入力シート!J167=\"\",\"\",入力シート!J167)","v":""},{"$f":"IF(入力シート!K167=\"\",\"\",入力シート!K167)","v":""},{"$f":"IF(入力シート!L167=\"\",\"\",入力シート!L167)","v":""},{"$f":"IF(入力シート!M167=\"\",\"\",入力シート!M167)","v":""},{"$f":"IF(入力シート!N167=\"\",\"\",入力シート!N167)","v":""},{"$f":"IF(入力シート!O167=\"\",\"\",入力シート!O167)","v":""},null,{"$f":"IF(入力シート!P167=\"\",\"\",入力シート!P167)","v":""},{"$f":"IF(入力シート!Q167=\"\",\"\",入力シート!Q167)","v":""},{"$f":"IF(入力シート!R167=\"\",\"\",入力シート!R167)","v":""},{"$f":"IF(入力シート!S167=\"\",\"\",入力シート!S167)","v":""},{"$f":"IF(入力シート!T167=\"\",\"\",入力シート!T167)","v":""},{"$f":"IF(入力シート!U167=\"\",\"\",入力シート!U167)","v":""},{"$f":"IF(入力シート!V167=\"\",\"\",入力シート!V167)","v":""},{"$f":"IF(入力シート!W167=\"\",\"\",入力シート!W167)","v":""},{"$f":"IF(入力シート!X167=\"\",\"\",入力シート!X167)","v":""},{"$f":"IF(入力シート!Y167=\"\",\"\",入力シート!Y167)","v":""},{"$f":"IF(入力シート!Z167=\"\",\"\",入力シート!Z167)","v":""},null,null,{"$f":"IF(入力シート!H167=\"\",\"\",\"〇\")","v":""},{"$f":"IF(入力シート!AA167=\"\",\"\",入力シート!AA167)","v":""},{"$f":"IF(入力シート!AB167=\"\",\"\",入力シート!AB167)","v":""},{"$f":"IF(入力シート!AC167=\"\",\"\",入力シート!AC167)","v":""},{"$f":"IF(入力シート!AD167=\"\",\"\",入力シート!AD167)","v":""}]
[{"$f":"IF(入力シート!B168=\"\",\"\",入力シート!B168)","v":""},{"$f":"IF(入力シート!C168=\"\",\"\",入力シート!C168)","v":""},{"$f":"IF(入力シート!D168=\"\",\"\",DBCS(入力シート!D168))","v":""},{"$f":"IF(入力シート!E168=\"\",\"\",DBCS(入力シート!E168))","v":""},{"$f":"ASC(IF(入力シート!F168=\"\",\"\",UPPER(入力シート!F168)))","v":""},{"$f":"IF(入力シート!G168=\"\",\"\",PROPER(入力シート!G168))","v":""},{"$f":"IF(入力シート!H168=\"\",\"\",入力シート!H168)","v":""},{"$f":"IF(入力シート!I168=\"\",\"\",TEXT(入力シート!I168,\"yyyy/mm/dd\"))","v":""},{"$f":"IF(入力シート!J168=\"\",\"\",入力シート!J168)","v":""},{"$f":"IF(入力シート!K168=\"\",\"\",入力シート!K168)","v":""},{"$f":"IF(入力シート!L168=\"\",\"\",入力シート!L168)","v":""},{"$f":"IF(入力シート!M168=\"\",\"\",入力シート!M168)","v":""},{"$f":"IF(入力シート!N168=\"\",\"\",入力シート!N168)","v":""},{"$f":"IF(入力シート!O168=\"\",\"\",入力シート!O168)","v":""},null,{"$f":"IF(入力シート!P168=\"\",\"\",入力シート!P168)","v":""},{"$f":"IF(入力シート!Q168=\"\",\"\",入力シート!Q168)","v":""},{"$f":"IF(入力シート!R168=\"\",\"\",入力シート!R168)","v":""},{"$f":"IF(入力シート!S168=\"\",\"\",入力シート!S168)","v":""},{"$f":"IF(入力シート!T168=\"\",\"\",入力シート!T168)","v":""},{"$f":"IF(入力シート!U168=\"\",\"\",入力シート!U168)","v":""},{"$f":"IF(入力シート!V168=\"\",\"\",入力シート!V168)","v":""},{"$f":"IF(入力シート!W168=\"\",\"\",入力シート!W168)","v":""},{"$f":"IF(入力シート!X168=\"\",\"\",入力シート!X168)","v":""},{"$f":"IF(入力シート!Y168=\"\",\"\",入力シート!Y168)","v":""},{"$f":"IF(入力シート!Z168=\"\",\"\",入力シート!Z168)","v":""},null,null,{"$f":"IF(入力シート!H168=\"\",\"\",\"〇\")","v":""},{"$f":"IF(入力シート!AA168=\"\",\"\",入力シート!AA168)","v":""},{"$f":"IF(入力シート!AB168=\"\",\"\",入力シート!AB168)","v":""},{"$f":"IF(入力シート!AC168=\"\",\"\",入力シート!AC168)","v":""},{"$f":"IF(入力シート!AD168=\"\",\"\",入力シート!AD168)","v":""}]
[{"$f":"IF(入力シート!B169=\"\",\"\",入力シート!B169)","v":""},{"$f":"IF(入力シート!C169=\"\",\"\",入力シート!C169)","v":""},{"$f":"IF(入力シート!D169=\"\",\"\",DBCS(入力シート!D169))","v":""},{"$f":"IF(入力シート!E169=\"\",\"\",DBCS(入力シート!E169))","v":""},{"$f":"ASC(IF(入力シート!F169=\"\",\"\",UPPER(入力シート!F169)))","v":""},{"$f":"IF(入力シート!G169=\"\",\"\",PROPER(入力シート!G169))","v":""},{"$f":"IF(入力シート!H169=\"\",\"\",入力シート!H169)","v":""},{"$f":"IF(入力シート!I169=\"\",\"\",TEXT(入力シート!I169,\"yyyy/mm/dd\"))","v":""},{"$f":"IF(入力シート!J169=\"\",\"\",入力シート!J169)","v":""},{"$f":"IF(入力シート!K169=\"\",\"\",入力シート!K169)","v":""},{"$f":"IF(入力シート!L169=\"\",\"\",入力シート!L169)","v":""},{"$f":"IF(入力シート!M169=\"\",\"\",入力シート!M169)","v":""},{"$f":"IF(入力シート!N169=\"\",\"\",入力シート!N169)","v":""},{"$f":"IF(入力シート!O169=\"\",\"\",入力シート!O169)","v":""},null,{"$f":"IF(入力シート!P169=\"\",\"\",入力シート!P169)","v":""},{"$f":"IF(入力シート!Q169=\"\",\"\",入力シート!Q169)","v":""},{"$f":"IF(入力シート!R169=\"\",\"\",入力シート!R169)","v":""},{"$f":"IF(入力シート!S169=\"\",\"\",入力シート!S169)","v":""},{"$f":"IF(入力シート!T169=\"\",\"\",入力シート!T169)","v":""},{"$f":"IF(入力シート!U169=\"\",\"\",入力シート!U169)","v":""},{"$f":"IF(入力シート!V169=\"\",\"\",入力シート!V169)","v":""},{"$f":"IF(入力シート!W169=\"\",\"\",入力シート!W169)","v":""},{"$f":"IF(入力シート!X169=\"\",\"\",入力シート!X169)","v":""},{"$f":"IF(入力シート!Y169=\"\",\"\",入力シート!Y169)","v":""},{"$f":"IF(入力シート!Z169=\"\",\"\",入力シート!Z169)","v":""},null,null,{"$f":"IF(入力シート!H169=\"\",\"\",\"〇\")","v":""},{"$f":"IF(入力シート!AA169=\"\",\"\",入力シート!AA169)","v":""},{"$f":"IF(入力シート!AB169=\"\",\"\",入力シート!AB169)","v":""},{"$f":"IF(入力シート!AC169=\"\",\"\",入力シート!AC169)","v":""},{"$f":"IF(入力シート!AD169=\"\",\"\",入力シート!AD169)","v":""}]
[{"$f":"IF(入力シート!B170=\"\",\"\",入力シート!B170)","v":""},{"$f":"IF(入力シート!C170=\"\",\"\",入力シート!C170)","v":""},{"$f":"IF(入力シート!D170=\"\",\"\",DBCS(入力シート!D170))","v":""},{"$f":"IF(入力シート!E170=\"\",\"\",DBCS(入力シート!E170))","v":""},{"$f":"ASC(IF(入力シート!F170=\"\",\"\",UPPER(入力シート!F170)))","v":""},{"$f":"IF(入力シート!G170=\"\",\"\",PROPER(入力シート!G170))","v":""},{"$f":"IF(入力シート!H170=\"\",\"\",入力シート!H170)","v":""},{"$f":"IF(入力シート!I170=\"\",\"\",TEXT(入力シート!I170,\"yyyy/mm/dd\"))","v":""},{"$f":"IF(入力シート!J170=\"\",\"\",入力シート!J170)","v":""},{"$f":"IF(入力シート!K170=\"\",\"\",入力シート!K170)","v":""},{"$f":"IF(入力シート!L170=\"\",\"\",入力シート!L170)","v":""},{"$f":"IF(入力シート!M170=\"\",\"\",入力シート!M170)","v":""},{"$f":"IF(入力シート!N170=\"\",\"\",入力シート!N170)","v":""},{"$f":"IF(入力シート!O170=\"\",\"\",入力シート!O170)","v":""},null,{"$f":"IF(入力シート!P170=\"\",\"\",入力シート!P170)","v":""},{"$f":"IF(入力シート!Q170=\"\",\"\",入力シート!Q170)","v":""},{"$f":"IF(入力シート!R170=\"\",\"\",入力シート!R170)","v":""},{"$f":"IF(入力シート!S170=\"\",\"\",入力シート!S170)","v":""},{"$f":"IF(入力シート!T170=\"\",\"\",入力シート!T170)","v":""},{"$f":"IF(入力シート!U170=\"\",\"\",入力シート!U170)","v":""},{"$f":"IF(入力シート!V170=\"\",\"\",入力シート!V170)","v":""},{"$f":"IF(入力シート!W170=\"\",\"\",入力シート!W170)","v":""},{"$f":"IF(入力シート!X170=\"\",\"\",入力シート!X170)","v":""},{"$f":"IF(入力シート!Y170=\"\",\"\",入力シート!Y170)","v":""},{"$f":"IF(入力シート!Z170=\"\",\"\",入力シート!Z170)","v":""},null,null,{"$f":"IF(入力シート!H170=\"\",\"\",\"〇\")","v":""},{"$f":"IF(入力シート!AA170=\"\",\"\",入力シート!AA170)","v":""},{"$f":"IF(入力シート!AB170=\"\",\"\",入力シート!AB170)","v":""},{"$f":"IF(入力シート!AC170=\"\",\"\",入力シート!AC170)","v":""},{"$f":"IF(入力シート!AD170=\"\",\"\",入力シート!AD170)","v":""}]
[{"$f":"IF(入力シート!B171=\"\",\"\",入力シート!B171)","v":""},{"$f":"IF(入力シート!C171=\"\",\"\",入力シート!C171)","v":""},{"$f":"IF(入力シート!D171=\"\",\"\",DBCS(入力シート!D171))","v":""},{"$f":"IF(入力シート!E171=\"\",\"\",DBCS(入力シート!E171))","v":""},{"$f":"ASC(IF(入力シート!F171=\"\",\"\",UPPER(入力シート!F171)))","v":""},{"$f":"IF(入力シート!G171=\"\",\"\",PROPER(入力シート!G171))","v":""},{"$f":"IF(入力シート!H171=\"\",\"\",入力シート!H171)","v":""},{"$f":"IF(入力シート!I171=\"\",\"\",TEXT(入力シート!I171,\"yyyy/mm/dd\"))","v":""},{"$f":"IF(入力シート!J171=\"\",\"\",入力シート!J171)","v":""},{"$f":"IF(入力シート!K171=\"\",\"\",入力シート!K171)","v":""},{"$f":"IF(入力シート!L171=\"\",\"\",入力シート!L171)","v":""},{"$f":"IF(入力シート!M171=\"\",\"\",入力シート!M171)","v":""},{"$f":"IF(入力シート!N171=\"\",\"\",入力シート!N171)","v":""},{"$f":"IF(入力シート!O171=\"\",\"\",入力シート!O171)","v":""},null,{"$f":"IF(入力シート!P171=\"\",\"\",入力シート!P171)","v":""},{"$f":"IF(入力シート!Q171=\"\",\"\",入力シート!Q171)","v":""},{"$f":"IF(入力シート!R171=\"\",\"\",入力シート!R171)","v":""},{"$f":"IF(入力シート!S171=\"\",\"\",入力シート!S171)","v":""},{"$f":"IF(入力シート!T171=\"\",\"\",入力シート!T171)","v":""},{"$f":"IF(入力シート!U171=\"\",\"\",入力シート!U171)","v":""},{"$f":"IF(入力シート!V171=\"\",\"\",入力シート!V171)","v":""},{"$f":"IF(入力シート!W171=\"\",\"\",入力シート!W171)","v":""},{"$f":"IF(入力シート!X171=\"\",\"\",入力シート!X171)","v":""},{"$f":"IF(入力シート!Y171=\"\",\"\",入力シート!Y171)","v":""},{"$f":"IF(入力シート!Z171=\"\",\"\",入力シート!Z171)","v":""},null,null,{"$f":"IF(入力シート!H171=\"\",\"\",\"〇\")","v":""},{"$f":"IF(入力シート!AA171=\"\",\"\",入力シート!AA171)","v":""},{"$f":"IF(入力シート!AB171=\"\",\"\",入力シート!AB171)","v":""},{"$f":"IF(入力シート!AC171=\"\",\"\",入力シート!AC171)","v":""},{"$f":"IF(入力シート!AD171=\"\",\"\",入力シート!AD171)","v":""}]
[{"$f":"IF(入力シート!B172=\"\",\"\",入力シート!B172)","v":""},{"$f":"IF(入力シート!C172=\"\",\"\",入力シート!C172)","v":""},{"$f":"IF(入力シート!D172=\"\",\"\",DBCS(入力シート!D172))","v":""},{"$f":"IF(入力シート!E172=\"\",\"\",DBCS(入力シート!E172))","v":""},{"$f":"ASC(IF(入力シート!F172=\"\",\"\",UPPER(入力シート!F172)))","v":""},{"$f":"IF(入力シート!G172=\"\",\"\",PROPER(入力シート!G172))","v":""},{"$f":"IF(入力シート!H172=\"\",\"\",入力シート!H172)","v":""},{"$f":"IF(入力シート!I172=\"\",\"\",TEXT(入力シート!I172,\"yyyy/mm/dd\"))","v":""},{"$f":"IF(入力シート!J172=\"\",\"\",入力シート!J172)","v":""},{"$f":"IF(入力シート!K172=\"\",\"\",入力シート!K172)","v":""},{"$f":"IF(入力シート!L172=\"\",\"\",入力シート!L172)","v":""},{"$f":"IF(入力シート!M172=\"\",\"\",入力シート!M172)","v":""},{"$f":"IF(入力シート!N172=\"\",\"\",入力シート!N172)","v":""},{"$f":"IF(入力シート!O172=\"\",\"\",入力シート!O172)","v":""},null,{"$f":"IF(入力シート!P172=\"\",\"\",入力シート!P172)","v":""},{"$f":"IF(入力シート!Q172=\"\",\"\",入力シート!Q172)","v":""},{"$f":"IF(入力シート!R172=\"\",\"\",入力シート!R172)","v":""},{"$f":"IF(入力シート!S172=\"\",\"\",入力シート!S172)","v":""},{"$f":"IF(入力シート!T172=\"\",\"\",入力シート!T172)","v":""},{"$f":"IF(入力シート!U172=\"\",\"\",入力シート!U172)","v":""},{"$f":"IF(入力シート!V172=\"\",\"\",入力シート!V172)","v":""},{"$f":"IF(入力シート!W172=\"\",\"\",入力シート!W172)","v":""},{"$f":"IF(入力シート!X172=\"\",\"\",入力シート!X172)","v":""},{"$f":"IF(入力シート!Y172=\"\",\"\",入力シート!Y172)","v":""},{"$f":"IF(入力シート!Z172=\"\",\"\",入力シート!Z172)","v":""},null,null,{"$f":"IF(入力シート!H172=\"\",\"\",\"〇\")","v":""},{"$f":"IF(入力シート!AA172=\"\",\"\",入力シート!AA172)","v":""},{"$f":"IF(入力シート!AB172=\"\",\"\",入力シート!AB172)","v":""},{"$f":"IF(入力シート!AC172=\"\",\"\",入力シート!AC172)","v":""},{"$f":"IF(入力シート!AD172=\"\",\"\",入力シート!AD172)","v":""}]
[{"$f":"IF(入力シート!B173=\"\",\"\",入力シート!B173)","v":""},{"$f":"IF(入力シート!C173=\"\",\"\",入力シート!C173)","v":""},{"$f":"IF(入力シート!D173=\"\",\"\",DBCS(入力シート!D173))","v":""},{"$f":"IF(入力シート!E173=\"\",\"\",DBCS(入力シート!E173))","v":""},{"$f":"ASC(IF(入力シート!F173=\"\",\"\",UPPER(入力シート!F173)))","v":""},{"$f":"IF(入力シート!G173=\"\",\"\",PROPER(入力シート!G173))","v":""},{"$f":"IF(入力シート!H173=\"\",\"\",入力シート!H173)","v":""},{"$f":"IF(入力シート!I173=\"\",\"\",TEXT(入力シート!I173,\"yyyy/mm/dd\"))","v":""},{"$f":"IF(入力シート!J173=\"\",\"\",入力シート!J173)","v":""},{"$f":"IF(入力シート!K173=\"\",\"\",入力シート!K173)","v":""},{"$f":"IF(入力シート!L173=\"\",\"\",入力シート!L173)","v":""},{"$f":"IF(入力シート!M173=\"\",\"\",入力シート!M173)","v":""},{"$f":"IF(入力シート!N173=\"\",\"\",入力シート!N173)","v":""},{"$f":"IF(入力シート!O173=\"\",\"\",入力シート!O173)","v":""},null,{"$f":"IF(入力シート!P173=\"\",\"\",入力シート!P173)","v":""},{"$f":"IF(入力シート!Q173=\"\",\"\",入力シート!Q173)","v":""},{"$f":"IF(入力シート!R173=\"\",\"\",入力シート!R173)","v":""},{"$f":"IF(入力シート!S173=\"\",\"\",入力シート!S173)","v":""},{"$f":"IF(入力シート!T173=\"\",\"\",入力シート!T173)","v":""},{"$f":"IF(入力シート!U173=\"\",\"\",入力シート!U173)","v":""},{"$f":"IF(入力シート!V173=\"\",\"\",入力シート!V173)","v":""},{"$f":"IF(入力シート!W173=\"\",\"\",入力シート!W173)","v":""},{"$f":"IF(入力シート!X173=\"\",\"\",入力シート!X173)","v":""},{"$f":"IF(入力シート!Y173=\"\",\"\",入力シート!Y173)","v":""},{"$f":"IF(入力シート!Z173=\"\",\"\",入力シート!Z173)","v":""},null,null,{"$f":"IF(入力シート!H173=\"\",\"\",\"〇\")","v":""},{"$f":"IF(入力シート!AA173=\"\",\"\",入力シート!AA173)","v":""},{"$f":"IF(入力シート!AB173=\"\",\"\",入力シート!AB173)","v":""},{"$f":"IF(入力シート!AC173=\"\",\"\",入力シート!AC173)","v":""},{"$f":"IF(入力シート!AD173=\"\",\"\",入力シート!AD173)","v":""}]
[{"$f":"IF(入力シート!B174=\"\",\"\",入力シート!B174)","v":""},{"$f":"IF(入力シート!C174=\"\",\"\",入力シート!C174)","v":""},{"$f":"IF(入力シート!D174=\"\",\"\",DBCS(入力シート!D174))","v":""},{"$f":"IF(入力シート!E174=\"\",\"\",DBCS(入力シート!E174))","v":""},{"$f":"ASC(IF(入力シート!F174=\"\",\"\",UPPER(入力シート!F174)))","v":""},{"$f":"IF(入力シート!G174=\"\",\"\",PROPER(入力シート!G174))","v":""},{"$f":"IF(入力シート!H174=\"\",\"\",入力シート!H174)","v":""},{"$f":"IF(入力シート!I174=\"\",\"\",TEXT(入力シート!I174,\"yyyy/mm/dd\"))","v":""},{"$f":"IF(入力シート!J174=\"\",\"\",入力シート!J174)","v":""},{"$f":"IF(入力シート!K174=\"\",\"\",入力シート!K174)","v":""},{"$f":"IF(入力シート!L174=\"\",\"\",入力シート!L174)","v":""},{"$f":"IF(入力シート!M174=\"\",\"\",入力シート!M174)","v":""},{"$f":"IF(入力シート!N174=\"\",\"\",入力シート!N174)","v":""},{"$f":"IF(入力シート!O174=\"\",\"\",入力シート!O174)","v":""},null,{"$f":"IF(入力シート!P174=\"\",\"\",入力シート!P174)","v":""},{"$f":"IF(入力シート!Q174=\"\",\"\",入力シート!Q174)","v":""},{"$f":"IF(入力シート!R174=\"\",\"\",入力シート!R174)","v":""},{"$f":"IF(入力シート!S174=\"\",\"\",入力シート!S174)","v":""},{"$f":"IF(入力シート!T174=\"\",\"\",入力シート!T174)","v":""},{"$f":"IF(入力シート!U174=\"\",\"\",入力シート!U174)","v":""},{"$f":"IF(入力シート!V174=\"\",\"\",入力シート!V174)","v":""},{"$f":"IF(入力シート!W174=\"\",\"\",入力シート!W174)","v":""},{"$f":"IF(入力シート!X174=\"\",\"\",入力シート!X174)","v":""},{"$f":"IF(入力シート!Y174=\"\",\"\",入力シート!Y174)","v":""},{"$f":"IF(入力シート!Z174=\"\",\"\",入力シート!Z174)","v":""},null,null,{"$f":"IF(入力シート!H174=\"\",\"\",\"〇\")","v":""},{"$f":"IF(入力シート!AA174=\"\",\"\",入力シート!AA174)","v":""},{"$f":"IF(入力シート!AB174=\"\",\"\",入力シート!AB174)","v":""},{"$f":"IF(入力シート!AC174=\"\",\"\",入力シート!AC174)","v":""},{"$f":"IF(入力シート!AD174=\"\",\"\",入力シート!AD174)","v":""}]
[{"$f":"IF(入力シート!B175=\"\",\"\",入力シート!B175)","v":""},{"$f":"IF(入力シート!C175=\"\",\"\",入力シート!C175)","v":""},{"$f":"IF(入力シート!D175=\"\",\"\",DBCS(入力シート!D175))","v":""},{"$f":"IF(入力シート!E175=\"\",\"\",DBCS(入力シート!E175))","v":""},{"$f":"ASC(IF(入力シート!F175=\"\",\"\",UPPER(入力シート!F175)))","v":""},{"$f":"IF(入力シート!G175=\"\",\"\",PROPER(入力シート!G175))","v":""},{"$f":"IF(入力シート!H175=\"\",\"\",入力シート!H175)","v":""},{"$f":"IF(入力シート!I175=\"\",\"\",TEXT(入力シート!I175,\"yyyy/mm/dd\"))","v":""},{"$f":"IF(入力シート!J175=\"\",\"\",入力シート!J175)","v":""},{"$f":"IF(入力シート!K175=\"\",\"\",入力シート!K175)","v":""},{"$f":"IF(入力シート!L175=\"\",\"\",入力シート!L175)","v":""},{"$f":"IF(入力シート!M175=\"\",\"\",入力シート!M175)","v":""},{"$f":"IF(入力シート!N175=\"\",\"\",入力シート!N175)","v":""},{"$f":"IF(入力シート!O175=\"\",\"\",入力シート!O175)","v":""},null,{"$f":"IF(入力シート!P175=\"\",\"\",入力シート!P175)","v":""},{"$f":"IF(入力シート!Q175=\"\",\"\",入力シート!Q175)","v":""},{"$f":"IF(入力シート!R175=\"\",\"\",入力シート!R175)","v":""},{"$f":"IF(入力シート!S175=\"\",\"\",入力シート!S175)","v":""},{"$f":"IF(入力シート!T175=\"\",\"\",入力シート!T175)","v":""},{"$f":"IF(入力シート!U175=\"\",\"\",入力シート!U175)","v":""},{"$f":"IF(入力シート!V175=\"\",\"\",入力シート!V175)","v":""},{"$f":"IF(入力シート!W175=\"\",\"\",入力シート!W175)","v":""},{"$f":"IF(入力シート!X175=\"\",\"\",入力シート!X175)","v":""},{"$f":"IF(入力シート!Y175=\"\",\"\",入力シート!Y175)","v":""},{"$f":"IF(入力シート!Z175=\"\",\"\",入力シート!Z175)","v":""},null,null,{"$f":"IF(入力シート!H175=\"\",\"\",\"〇\")","v":""},{"$f":"IF(入力シート!AA175=\"\",\"\",入力シート!AA175)","v":""},{"$f":"IF(入力シート!AB175=\"\",\"\",入力シート!AB175)","v":""},{"$f":"IF(入力シート!AC175=\"\",\"\",入力シート!AC175)","v":""},{"$f":"IF(入力シート!AD175=\"\",\"\",入力シート!AD175)","v":""}]
[{"$f":"IF(入力シート!B176=\"\",\"\",入力シート!B176)","v":""},{"$f":"IF(入力シート!C176=\"\",\"\",入力シート!C176)","v":""},{"$f":"IF(入力シート!D176=\"\",\"\",DBCS(入力シート!D176))","v":""},{"$f":"IF(入力シート!E176=\"\",\"\",DBCS(入力シート!E176))","v":""},{"$f":"ASC(IF(入力シート!F176=\"\",\"\",UPPER(入力シート!F176)))","v":""},{"$f":"IF(入力シート!G176=\"\",\"\",PROPER(入力シート!G176))","v":""},{"$f":"IF(入力シート!H176=\"\",\"\",入力シート!H176)","v":""},{"$f":"IF(入力シート!I176=\"\",\"\",TEXT(入力シート!I176,\"yyyy/mm/dd\"))","v":""},{"$f":"IF(入力シート!J176=\"\",\"\",入力シート!J176)","v":""},{"$f":"IF(入力シート!K176=\"\",\"\",入力シート!K176)","v":""},{"$f":"IF(入力シート!L176=\"\",\"\",入力シート!L176)","v":""},{"$f":"IF(入力シート!M176=\"\",\"\",入力シート!M176)","v":""},{"$f":"IF(入力シート!N176=\"\",\"\",入力シート!N176)","v":""},{"$f":"IF(入力シート!O176=\"\",\"\",入力シート!O176)","v":""},null,{"$f":"IF(入力シート!P176=\"\",\"\",入力シート!P176)","v":""},{"$f":"IF(入力シート!Q176=\"\",\"\",入力シート!Q176)","v":""},{"$f":"IF(入力シート!R176=\"\",\"\",入力シート!R176)","v":""},{"$f":"IF(入力シート!S176=\"\",\"\",入力シート!S176)","v":""},{"$f":"IF(入力シート!T176=\"\",\"\",入力シート!T176)","v":""},{"$f":"IF(入力シート!U176=\"\",\"\",入力シート!U176)","v":""},{"$f":"IF(入力シート!V176=\"\",\"\",入力シート!V176)","v":""},{"$f":"IF(入力シート!W176=\"\",\"\",入力シート!W176)","v":""},{"$f":"IF(入力シート!X176=\"\",\"\",入力シート!X176)","v":""},{"$f":"IF(入力シート!Y176=\"\",\"\",入力シート!Y176)","v":""},{"$f":"IF(入力シート!Z176=\"\",\"\",入力シート!Z176)","v":""},null,null,{"$f":"IF(入力シート!H176=\"\",\"\",\"〇\")","v":""},{"$f":"IF(入力シート!AA176=\"\",\"\",入力シート!AA176)","v":""},{"$f":"IF(入力シート!AB176=\"\",\"\",入力シート!AB176)","v":""},{"$f":"IF(入力シート!AC176=\"\",\"\",入力シート!AC176)","v":""},{"$f":"IF(入力シート!AD176=\"\",\"\",入力シート!AD176)","v":""}]
[{"$f":"IF(入力シート!B177=\"\",\"\",入力シート!B177)","v":""},{"$f":"IF(入力シート!C177=\"\",\"\",入力シート!C177)","v":""},{"$f":"IF(入力シート!D177=\"\",\"\",DBCS(入力シート!D177))","v":""},{"$f":"IF(入力シート!E177=\"\",\"\",DBCS(入力シート!E177))","v":""},{"$f":"ASC(IF(入力シート!F177=\"\",\"\",UPPER(入力シート!F177)))","v":""},{"$f":"IF(入力シート!G177=\"\",\"\",PROPER(入力シート!G177))","v":""},{"$f":"IF(入力シート!H177=\"\",\"\",入力シート!H177)","v":""},{"$f":"IF(入力シート!I177=\"\",\"\",TEXT(入力シート!I177,\"yyyy/mm/dd\"))","v":""},{"$f":"IF(入力シート!J177=\"\",\"\",入力シート!J177)","v":""},{"$f":"IF(入力シート!K177=\"\",\"\",入力シート!K177)","v":""},{"$f":"IF(入力シート!L177=\"\",\"\",入力シート!L177)","v":""},{"$f":"IF(入力シート!M177=\"\",\"\",入力シート!M177)","v":""},{"$f":"IF(入力シート!N177=\"\",\"\",入力シート!N177)","v":""},{"$f":"IF(入力シート!O177=\"\",\"\",入力シート!O177)","v":""},null,{"$f":"IF(入力シート!P177=\"\",\"\",入力シート!P177)","v":""},{"$f":"IF(入力シート!Q177=\"\",\"\",入力シート!Q177)","v":""},{"$f":"IF(入力シート!R177=\"\",\"\",入力シート!R177)","v":""},{"$f":"IF(入力シート!S177=\"\",\"\",入力シート!S177)","v":""},{"$f":"IF(入力シート!T177=\"\",\"\",入力シート!T177)","v":""},{"$f":"IF(入力シート!U177=\"\",\"\",入力シート!U177)","v":""},{"$f":"IF(入力シート!V177=\"\",\"\",入力シート!V177)","v":""},{"$f":"IF(入力シート!W177=\"\",\"\",入力シート!W177)","v":""},{"$f":"IF(入力シート!X177=\"\",\"\",入力シート!X177)","v":""},{"$f":"IF(入力シート!Y177=\"\",\"\",入力シート!Y177)","v":""},{"$f":"IF(入力シート!Z177=\"\",\"\",入力シート!Z177)","v":""},null,null,{"$f":"IF(入力シート!H177=\"\",\"\",\"〇\")","v":""},{"$f":"IF(入力シート!AA177=\"\",\"\",入力シート!AA177)","v":""},{"$f":"IF(入力シート!AB177=\"\",\"\",入力シート!AB177)","v":""},{"$f":"IF(入力シート!AC177=\"\",\"\",入力シート!AC177)","v":""},{"$f":"IF(入力シート!AD177=\"\",\"\",入力シート!AD177)","v":""}]
[{"$f":"IF(入力シート!B178=\"\",\"\",入力シート!B178)","v":""},{"$f":"IF(入力シート!C178=\"\",\"\",入力シート!C178)","v":""},{"$f":"IF(入力シート!D178=\"\",\"\",DBCS(入力シート!D178))","v":""},{"$f":"IF(入力シート!E178=\"\",\"\",DBCS(入力シート!E178))","v":""},{"$f":"ASC(IF(入力シート!F178=\"\",\"\",UPPER(入力シート!F178)))","v":""},{"$f":"IF(入力シート!G178=\"\",\"\",PROPER(入力シート!G178))","v":""},{"$f":"IF(入力シート!H178=\"\",\"\",入力シート!H178)","v":""},{"$f":"IF(入力シート!I178=\"\",\"\",TEXT(入力シート!I178,\"yyyy/mm/dd\"))","v":""},{"$f":"IF(入力シート!J178=\"\",\"\",入力シート!J178)","v":""},{"$f":"IF(入力シート!K178=\"\",\"\",入力シート!K178)","v":""},{"$f":"IF(入力シート!L178=\"\",\"\",入力シート!L178)","v":""},{"$f":"IF(入力シート!M178=\"\",\"\",入力シート!M178)","v":""},{"$f":"IF(入力シート!N178=\"\",\"\",入力シート!N178)","v":""},{"$f":"IF(入力シート!O178=\"\",\"\",入力シート!O178)","v":""},null,{"$f":"IF(入力シート!P178=\"\",\"\",入力シート!P178)","v":""},{"$f":"IF(入力シート!Q178=\"\",\"\",入力シート!Q178)","v":""},{"$f":"IF(入力シート!R178=\"\",\"\",入力シート!R178)","v":""},{"$f":"IF(入力シート!S178=\"\",\"\",入力シート!S178)","v":""},{"$f":"IF(入力シート!T178=\"\",\"\",入力シート!T178)","v":""},{"$f":"IF(入力シート!U178=\"\",\"\",入力シート!U178)","v":""},{"$f":"IF(入力シート!V178=\"\",\"\",入力シート!V178)","v":""},{"$f":"IF(入力シート!W178=\"\",\"\",入力シート!W178)","v":""},{"$f":"IF(入力シート!X178=\"\",\"\",入力シート!X178)","v":""},{"$f":"IF(入力シート!Y178=\"\",\"\",入力シート!Y178)","v":""},{"$f":"IF(入力シート!Z178=\"\",\"\",入力シート!Z178)","v":""},null,null,{"$f":"IF(入力シート!H178=\"\",\"\",\"〇\")","v":""},{"$f":"IF(入力シート!AA178=\"\",\"\",入力シート!AA178)","v":""},{"$f":"IF(入力シート!AB178=\"\",\"\",入力シート!AB178)","v":""},{"$f":"IF(入力シート!AC178=\"\",\"\",入力シート!AC178)","v":""},{"$f":"IF(入力シート!AD178=\"\",\"\",入力シート!AD178)","v":""}]
[{"$f":"IF(入力シート!B179=\"\",\"\",入力シート!B179)","v":""},{"$f":"IF(入力シート!C179=\"\",\"\",入力シート!C179)","v":""},{"$f":"IF(入力シート!D179=\"\",\"\",DBCS(入力シート!D179))","v":""},{"$f":"IF(入力シート!E179=\"\",\"\",DBCS(入力シート!E179))","v":""},{"$f":"ASC(IF(入力シート!F179=\"\",\"\",UPPER(入力シート!F179)))","v":""},{"$f":"IF(入力シート!G179=\"\",\"\",PROPER(入力シート!G179))","v":""},{"$f":"IF(入力シート!H179=\"\",\"\",入力シート!H179)","v":""},{"$f":"IF(入力シート!I179=\"\",\"\",TEXT(入力シート!I179,\"yyyy/mm/dd\"))","v":""},{"$f":"IF(入力シート!J179=\"\",\"\",入力シート!J179)","v":""},{"$f":"IF(入力シート!K179=\"\",\"\",入力シート!K179)","v":""},{"$f":"IF(入力シート!L179=\"\",\"\",入力シート!L179)","v":""},{"$f":"IF(入力シート!M179=\"\",\"\",入力シート!M179)","v":""},{"$f":"IF(入力シート!N179=\"\",\"\",入力シート!N179)","v":""},{"$f":"IF(入力シート!O179=\"\",\"\",入力シート!O179)","v":""},null,{"$f":"IF(入力シート!P179=\"\",\"\",入力シート!P179)","v":""},{"$f":"IF(入力シート!Q179=\"\",\"\",入力シート!Q179)","v":""},{"$f":"IF(入力シート!R179=\"\",\"\",入力シート!R179)","v":""},{"$f":"IF(入力シート!S179=\"\",\"\",入力シート!S179)","v":""},{"$f":"IF(入力シート!T179=\"\",\"\",入力シート!T179)","v":""},{"$f":"IF(入力シート!U179=\"\",\"\",入力シート!U179)","v":""},{"$f":"IF(入力シート!V179=\"\",\"\",入力シート!V179)","v":""},{"$f":"IF(入力シート!W179=\"\",\"\",入力シート!W179)","v":""},{"$f":"IF(入力シート!X179=\"\",\"\",入力シート!X179)","v":""},{"$f":"IF(入力シート!Y179=\"\",\"\",入力シート!Y179)","v":""},{"$f":"IF(入力シート!Z179=\"\",\"\",入力シート!Z179)","v":""},null,null,{"$f":"IF(入力シート!H179=\"\",\"\",\"〇\")","v":""},{"$f":"IF(入力シート!AA179=\"\",\"\",入力シート!AA179)","v":""},{"$f":"IF(入力シート!AB179=\"\",\"\",入力シート!AB179)","v":""},{"$f":"IF(入力シート!AC179=\"\",\"\",入力シート!AC179)","v":""},{"$f":"IF(入力シート!AD179=\"\",\"\",入力シート!AD179)","v":""}]
[{"$f":"IF(入力シート!B180=\"\",\"\",入力シート!B180)","v":""},{"$f":"IF(入力シート!C180=\"\",\"\",入力シート!C180)","v":""},{"$f":"IF(入力シート!D180=\"\",\"\",DBCS(入力シート!D180))","v":""},{"$f":"IF(入力シート!E180=\"\",\"\",DBCS(入力シート!E180))","v":""},{"$f":"ASC(IF(入力シート!F180=\"\",\"\",UPPER(入力シート!F180)))","v":""},{"$f":"IF(入力シート!G180=\"\",\"\",PROPER(入力シート!G180))","v":""},{"$f":"IF(入力シート!H180=\"\",\"\",入力シート!H180)","v":""},{"$f":"IF(入力シート!I180=\"\",\"\",TEXT(入力シート!I180,\"yyyy/mm/dd\"))","v":""},{"$f":"IF(入力シート!J180=\"\",\"\",入力シート!J180)","v":""},{"$f":"IF(入力シート!K180=\"\",\"\",入力シート!K180)","v":""},{"$f":"IF(入力シート!L180=\"\",\"\",入力シート!L180)","v":""},{"$f":"IF(入力シート!M180=\"\",\"\",入力シート!M180)","v":""},{"$f":"IF(入力シート!N180=\"\",\"\",入力シート!N180)","v":""},{"$f":"IF(入力シート!O180=\"\",\"\",入力シート!O180)","v":""},null,{"$f":"IF(入力シート!P180=\"\",\"\",入力シート!P180)","v":""},{"$f":"IF(入力シート!Q180=\"\",\"\",入力シート!Q180)","v":""},{"$f":"IF(入力シート!R180=\"\",\"\",入力シート!R180)","v":""},{"$f":"IF(入力シート!S180=\"\",\"\",入力シート!S180)","v":""},{"$f":"IF(入力シート!T180=\"\",\"\",入力シート!T180)","v":""},{"$f":"IF(入力シート!U180=\"\",\"\",入力シート!U180)","v":""},{"$f":"IF(入力シート!V180=\"\",\"\",入力シート!V180)","v":""},{"$f":"IF(入力シート!W180=\"\",\"\",入力シート!W180)","v":""},{"$f":"IF(入力シート!X180=\"\",\"\",入力シート!X180)","v":""},{"$f":"IF(入力シート!Y180=\"\",\"\",入力シート!Y180)","v":""},{"$f":"IF(入力シート!Z180=\"\",\"\",入力シート!Z180)","v":""},null,null,{"$f":"IF(入力シート!H180=\"\",\"\",\"〇\")","v":""},{"$f":"IF(入力シート!AA180=\"\",\"\",入力シート!AA180)","v":""},{"$f":"IF(入力シート!AB180=\"\",\"\",入力シート!AB180)","v":""},{"$f":"IF(入力シート!AC180=\"\",\"\",入力シート!AC180)","v":""},{"$f":"IF(入力シート!AD180=\"\",\"\",入力シート!AD180)","v":""}]
[{"$f":"IF(入力シート!B181=\"\",\"\",入力シート!B181)","v":""},{"$f":"IF(入力シート!C181=\"\",\"\",入力シート!C181)","v":""},{"$f":"IF(入力シート!D181=\"\",\"\",DBCS(入力シート!D181))","v":""},{"$f":"IF(入力シート!E181=\"\",\"\",DBCS(入力シート!E181))","v":""},{"$f":"ASC(IF(入力シート!F181=\"\",\"\",UPPER(入力シート!F181)))","v":""},{"$f":"IF(入力シート!G181=\"\",\"\",PROPER(入力シート!G181))","v":""},{"$f":"IF(入力シート!H181=\"\",\"\",入力シート!H181)","v":""},{"$f":"IF(入力シート!I181=\"\",\"\",TEXT(入力シート!I181,\"yyyy/mm/dd\"))","v":""},{"$f":"IF(入力シート!J181=\"\",\"\",入力シート!J181)","v":""},{"$f":"IF(入力シート!K181=\"\",\"\",入力シート!K181)","v":""},{"$f":"IF(入力シート!L181=\"\",\"\",入力シート!L181)","v":""},{"$f":"IF(入力シート!M181=\"\",\"\",入力シート!M181)","v":""},{"$f":"IF(入力シート!N181=\"\",\"\",入力シート!N181)","v":""},{"$f":"IF(入力シート!O181=\"\",\"\",入力シート!O181)","v":""},null,{"$f":"IF(入力シート!P181=\"\",\"\",入力シート!P181)","v":""},{"$f":"IF(入力シート!Q181=\"\",\"\",入力シート!Q181)","v":""},{"$f":"IF(入力シート!R181=\"\",\"\",入力シート!R181)","v":""},{"$f":"IF(入力シート!S181=\"\",\"\",入力シート!S181)","v":""},{"$f":"IF(入力シート!T181=\"\",\"\",入力シート!T181)","v":""},{"$f":"IF(入力シート!U181=\"\",\"\",入力シート!U181)","v":""},{"$f":"IF(入力シート!V181=\"\",\"\",入力シート!V181)","v":""},{"$f":"IF(入力シート!W181=\"\",\"\",入力シート!W181)","v":""},{"$f":"IF(入力シート!X181=\"\",\"\",入力シート!X181)","v":""},{"$f":"IF(入力シート!Y181=\"\",\"\",入力シート!Y181)","v":""},{"$f":"IF(入力シート!Z181=\"\",\"\",入力シート!Z181)","v":""},null,null,{"$f":"IF(入力シート!H181=\"\",\"\",\"〇\")","v":""},{"$f":"IF(入力シート!AA181=\"\",\"\",入力シート!AA181)","v":""},{"$f":"IF(入力シート!AB181=\"\",\"\",入力シート!AB181)","v":""},{"$f":"IF(入力シート!AC181=\"\",\"\",入力シート!AC181)","v":""},{"$f":"IF(入力シート!AD181=\"\",\"\",入力シート!AD181)","v":""}]
[{"$f":"IF(入力シート!B182=\"\",\"\",入力シート!B182)","v":""},{"$f":"IF(入力シート!C182=\"\",\"\",入力シート!C182)","v":""},{"$f":"IF(入力シート!D182=\"\",\"\",DBCS(入力シート!D182))","v":""},{"$f":"IF(入力シート!E182=\"\",\"\",DBCS(入力シート!E182))","v":""},{"$f":"ASC(IF(入力シート!F182=\"\",\"\",UPPER(入力シート!F182)))","v":""},{"$f":"IF(入力シート!G182=\"\",\"\",PROPER(入力シート!G182))","v":""},{"$f":"IF(入力シート!H182=\"\",\"\",入力シート!H182)","v":""},{"$f":"IF(入力シート!I182=\"\",\"\",TEXT(入力シート!I182,\"yyyy/mm/dd\"))","v":""},{"$f":"IF(入力シート!J182=\"\",\"\",入力シート!J182)","v":""},{"$f":"IF(入力シート!K182=\"\",\"\",入力シート!K182)","v":""},{"$f":"IF(入力シート!L182=\"\",\"\",入力シート!L182)","v":""},{"$f":"IF(入力シート!M182=\"\",\"\",入力シート!M182)","v":""},{"$f":"IF(入力シート!N182=\"\",\"\",入力シート!N182)","v":""},{"$f":"IF(入力シート!O182=\"\",\"\",入力シート!O182)","v":""},null,{"$f":"IF(入力シート!P182=\"\",\"\",入力シート!P182)","v":""},{"$f":"IF(入力シート!Q182=\"\",\"\",入力シート!Q182)","v":""},{"$f":"IF(入力シート!R182=\"\",\"\",入力シート!R182)","v":""},{"$f":"IF(入力シート!S182=\"\",\"\",入力シート!S182)","v":""},{"$f":"IF(入力シート!T182=\"\",\"\",入力シート!T182)","v":""},{"$f":"IF(入力シート!U182=\"\",\"\",入力シート!U182)","v":""},{"$f":"IF(入力シート!V182=\"\",\"\",入力シート!V182)","v":""},{"$f":"IF(入力シート!W182=\"\",\"\",入力シート!W182)","v":""},{"$f":"IF(入力シート!X182=\"\",\"\",入力シート!X182)","v":""},{"$f":"IF(入力シート!Y182=\"\",\"\",入力シート!Y182)","v":""},{"$f":"IF(入力シート!Z182=\"\",\"\",入力シート!Z182)","v":""},null,null,{"$f":"IF(入力シート!H182=\"\",\"\",\"〇\")","v":""},{"$f":"IF(入力シート!AA182=\"\",\"\",入力シート!AA182)","v":""},{"$f":"IF(入力シート!AB182=\"\",\"\",入力シート!AB182)","v":""},{"$f":"IF(入力シート!AC182=\"\",\"\",入力シート!AC182)","v":""},{"$f":"IF(入力シート!AD182=\"\",\"\",入力シート!AD182)","v":""}]
[{"$f":"IF(入力シート!B183=\"\",\"\",入力シート!B183)","v":""},{"$f":"IF(入力シート!C183=\"\",\"\",入力シート!C183)","v":""},{"$f":"IF(入力シート!D183=\"\",\"\",DBCS(入力シート!D183))","v":""},{"$f":"IF(入力シート!E183=\"\",\"\",DBCS(入力シート!E183))","v":""},{"$f":"ASC(IF(入力シート!F183=\"\",\"\",UPPER(入力シート!F183)))","v":""},{"$f":"IF(入力シート!G183=\"\",\"\",PROPER(入力シート!G183))","v":""},{"$f":"IF(入力シート!H183=\"\",\"\",入力シート!H183)","v":""},{"$f":"IF(入力シート!I183=\"\",\"\",TEXT(入力シート!I183,\"yyyy/mm/dd\"))","v":""},{"$f":"IF(入力シート!J183=\"\",\"\",入力シート!J183)","v":""},{"$f":"IF(入力シート!K183=\"\",\"\",入力シート!K183)","v":""},{"$f":"IF(入力シート!L183=\"\",\"\",入力シート!L183)","v":""},{"$f":"IF(入力シート!M183=\"\",\"\",入力シート!M183)","v":""},{"$f":"IF(入力シート!N183=\"\",\"\",入力シート!N183)","v":""},{"$f":"IF(入力シート!O183=\"\",\"\",入力シート!O183)","v":""},null,{"$f":"IF(入力シート!P183=\"\",\"\",入力シート!P183)","v":""},{"$f":"IF(入力シート!Q183=\"\",\"\",入力シート!Q183)","v":""},{"$f":"IF(入力シート!R183=\"\",\"\",入力シート!R183)","v":""},{"$f":"IF(入力シート!S183=\"\",\"\",入力シート!S183)","v":""},{"$f":"IF(入力シート!T183=\"\",\"\",入力シート!T183)","v":""},{"$f":"IF(入力シート!U183=\"\",\"\",入力シート!U183)","v":""},{"$f":"IF(入力シート!V183=\"\",\"\",入力シート!V183)","v":""},{"$f":"IF(入力シート!W183=\"\",\"\",入力シート!W183)","v":""},{"$f":"IF(入力シート!X183=\"\",\"\",入力シート!X183)","v":""},{"$f":"IF(入力シート!Y183=\"\",\"\",入力シート!Y183)","v":""},{"$f":"IF(入力シート!Z183=\"\",\"\",入力シート!Z183)","v":""},null,null,{"$f":"IF(入力シート!H183=\"\",\"\",\"〇\")","v":""},{"$f":"IF(入力シート!AA183=\"\",\"\",入力シート!AA183)","v":""},{"$f":"IF(入力シート!AB183=\"\",\"\",入力シート!AB183)","v":""},{"$f":"IF(入力シート!AC183=\"\",\"\",入力シート!AC183)","v":""},{"$f":"IF(入力シート!AD183=\"\",\"\",入力シート!AD183)","v":""}]
[{"$f":"IF(入力シート!B184=\"\",\"\",入力シート!B184)","v":""},{"$f":"IF(入力シート!C184=\"\",\"\",入力シート!C184)","v":""},{"$f":"IF(入力シート!D184=\"\",\"\",DBCS(入力シート!D184))","v":""},{"$f":"IF(入力シート!E184=\"\",\"\",DBCS(入力シート!E184))","v":""},{"$f":"ASC(IF(入力シート!F184=\"\",\"\",UPPER(入力シート!F184)))","v":""},{"$f":"IF(入力シート!G184=\"\",\"\",PROPER(入力シート!G184))","v":""},{"$f":"IF(入力シート!H184=\"\",\"\",入力シート!H184)","v":""},{"$f":"IF(入力シート!I184=\"\",\"\",TEXT(入力シート!I184,\"yyyy/mm/dd\"))","v":""},{"$f":"IF(入力シート!J184=\"\",\"\",入力シート!J184)","v":""},{"$f":"IF(入力シート!K184=\"\",\"\",入力シート!K184)","v":""},{"$f":"IF(入力シート!L184=\"\",\"\",入力シート!L184)","v":""},{"$f":"IF(入力シート!M184=\"\",\"\",入力シート!M184)","v":""},{"$f":"IF(入力シート!N184=\"\",\"\",入力シート!N184)","v":""},{"$f":"IF(入力シート!O184=\"\",\"\",入力シート!O184)","v":""},null,{"$f":"IF(入力シート!P184=\"\",\"\",入力シート!P184)","v":""},{"$f":"IF(入力シート!Q184=\"\",\"\",入力シート!Q184)","v":""},{"$f":"IF(入力シート!R184=\"\",\"\",入力シート!R184)","v":""},{"$f":"IF(入力シート!S184=\"\",\"\",入力シート!S184)","v":""},{"$f":"IF(入力シート!T184=\"\",\"\",入力シート!T184)","v":""},{"$f":"IF(入力シート!U184=\"\",\"\",入力シート!U184)","v":""},{"$f":"IF(入力シート!V184=\"\",\"\",入力シート!V184)","v":""},{"$f":"IF(入力シート!W184=\"\",\"\",入力シート!W184)","v":""},{"$f":"IF(入力シート!X184=\"\",\"\",入力シート!X184)","v":""},{"$f":"IF(入力シート!Y184=\"\",\"\",入力シート!Y184)","v":""},{"$f":"IF(入力シート!Z184=\"\",\"\",入力シート!Z184)","v":""},null,null,{"$f":"IF(入力シート!H184=\"\",\"\",\"〇\")","v":""},{"$f":"IF(入力シート!AA184=\"\",\"\",入力シート!AA184)","v":""},{"$f":"IF(入力シート!AB184=\"\",\"\",入力シート!AB184)","v":""},{"$f":"IF(入力シート!AC184=\"\",\"\",入力シート!AC184)","v":""},{"$f":"IF(入力シート!AD184=\"\",\"\",入力シート!AD184)","v":""}]
[{"$f":"IF(入力シート!B185=\"\",\"\",入力シート!B185)","v":""},{"$f":"IF(入力シート!C185=\"\",\"\",入力シート!C185)","v":""},{"$f":"IF(入力シート!D185=\"\",\"\",DBCS(入力シート!D185))","v":""},{"$f":"IF(入力シート!E185=\"\",\"\",DBCS(入力シート!E185))","v":""},{"$f":"ASC(IF(入力シート!F185=\"\",\"\",UPPER(入力シート!F185)))","v":""},{"$f":"IF(入力シート!G185=\"\",\"\",PROPER(入力シート!G185))","v":""},{"$f":"IF(入力シート!H185=\"\",\"\",入力シート!H185)","v":""},{"$f":"IF(入力シート!I185=\"\",\"\",TEXT(入力シート!I185,\"yyyy/mm/dd\"))","v":""},{"$f":"IF(入力シート!J185=\"\",\"\",入力シート!J185)","v":""},{"$f":"IF(入力シート!K185=\"\",\"\",入力シート!K185)","v":""},{"$f":"IF(入力シート!L185=\"\",\"\",入力シート!L185)","v":""},{"$f":"IF(入力シート!M185=\"\",\"\",入力シート!M185)","v":""},{"$f":"IF(入力シート!N185=\"\",\"\",入力シート!N185)","v":""},{"$f":"IF(入力シート!O185=\"\",\"\",入力シート!O185)","v":""},null,{"$f":"IF(入力シート!P185=\"\",\"\",入力シート!P185)","v":""},{"$f":"IF(入力シート!Q185=\"\",\"\",入力シート!Q185)","v":""},{"$f":"IF(入力シート!R185=\"\",\"\",入力シート!R185)","v":""},{"$f":"IF(入力シート!S185=\"\",\"\",入力シート!S185)","v":""},{"$f":"IF(入力シート!T185=\"\",\"\",入力シート!T185)","v":""},{"$f":"IF(入力シート!U185=\"\",\"\",入力シート!U185)","v":""},{"$f":"IF(入力シート!V185=\"\",\"\",入力シート!V185)","v":""},{"$f":"IF(入力シート!W185=\"\",\"\",入力シート!W185)","v":""},{"$f":"IF(入力シート!X185=\"\",\"\",入力シート!X185)","v":""},{"$f":"IF(入力シート!Y185=\"\",\"\",入力シート!Y185)","v":""},{"$f":"IF(入力シート!Z185=\"\",\"\",入力シート!Z185)","v":""},null,null,{"$f":"IF(入力シート!H185=\"\",\"\",\"〇\")","v":""},{"$f":"IF(入力シート!AA185=\"\",\"\",入力シート!AA185)","v":""},{"$f":"IF(入力シート!AB185=\"\",\"\",入力シート!AB185)","v":""},{"$f":"IF(入力シート!AC185=\"\",\"\",入力シート!AC185)","v":""},{"$f":"IF(入力シート!AD185=\"\",\"\",入力シート!AD185)","v":""}]
[{"$f":"IF(入力シート!B186=\"\",\"\",入力シート!B186)","v":""},{"$f":"IF(入力シート!C186=\"\",\"\",入力シート!C186)","v":""},{"$f":"IF(入力シート!D186=\"\",\"\",DBCS(入力シート!D186))","v":""},{"$f":"IF(入力シート!E186=\"\",\"\",DBCS(入力シート!E186))","v":""},{"$f":"ASC(IF(入力シート!F186=\"\",\"\",UPPER(入力シート!F186)))","v":""},{"$f":"IF(入力シート!G186=\"\",\"\",PROPER(入力シート!G186))","v":""},{"$f":"IF(入力シート!H186=\"\",\"\",入力シート!H186)","v":""},{"$f":"IF(入力シート!I186=\"\",\"\",TEXT(入力シート!I186,\"yyyy/mm/dd\"))","v":""},{"$f":"IF(入力シート!J186=\"\",\"\",入力シート!J186)","v":""},{"$f":"IF(入力シート!K186=\"\",\"\",入力シート!K186)","v":""},{"$f":"IF(入力シート!L186=\"\",\"\",入力シート!L186)","v":""},{"$f":"IF(入力シート!M186=\"\",\"\",入力シート!M186)","v":""},{"$f":"IF(入力シート!N186=\"\",\"\",入力シート!N186)","v":""},{"$f":"IF(入力シート!O186=\"\",\"\",入力シート!O186)","v":""},null,{"$f":"IF(入力シート!P186=\"\",\"\",入力シート!P186)","v":""},{"$f":"IF(入力シート!Q186=\"\",\"\",入力シート!Q186)","v":""},{"$f":"IF(入力シート!R186=\"\",\"\",入力シート!R186)","v":""},{"$f":"IF(入力シート!S186=\"\",\"\",入力シート!S186)","v":""},{"$f":"IF(入力シート!T186=\"\",\"\",入力シート!T186)","v":""},{"$f":"IF(入力シート!U186=\"\",\"\",入力シート!U186)","v":""},{"$f":"IF(入力シート!V186=\"\",\"\",入力シート!V186)","v":""},{"$f":"IF(入力シート!W186=\"\",\"\",入力シート!W186)","v":""},{"$f":"IF(入力シート!X186=\"\",\"\",入力シート!X186)","v":""},{"$f":"IF(入力シート!Y186=\"\",\"\",入力シート!Y186)","v":""},{"$f":"IF(入力シート!Z186=\"\",\"\",入力シート!Z186)","v":""},null,null,{"$f":"IF(入力シート!H186=\"\",\"\",\"〇\")","v":""},{"$f":"IF(入力シート!AA186=\"\",\"\",入力シート!AA186)","v":""},{"$f":"IF(入力シート!AB186=\"\",\"\",入力シート!AB186)","v":""},{"$f":"IF(入力シート!AC186=\"\",\"\",入力シート!AC186)","v":""},{"$f":"IF(入力シート!AD186=\"\",\"\",入力シート!AD186)","v":""}]
[{"$f":"IF(入力シート!B187=\"\",\"\",入力シート!B187)","v":""},{"$f":"IF(入力シート!C187=\"\",\"\",入力シート!C187)","v":""},{"$f":"IF(入力シート!D187=\"\",\"\",DBCS(入力シート!D187))","v":""},{"$f":"IF(入力シート!E187=\"\",\"\",DBCS(入力シート!E187))","v":""},{"$f":"ASC(IF(入力シート!F187=\"\",\"\",UPPER(入力シート!F187)))","v":""},{"$f":"IF(入力シート!G187=\"\",\"\",PROPER(入力シート!G187))","v":""},{"$f":"IF(入力シート!H187=\"\",\"\",入力シート!H187)","v":""},{"$f":"IF(入力シート!I187=\"\",\"\",TEXT(入力シート!I187,\"yyyy/mm/dd\"))","v":""},{"$f":"IF(入力シート!J187=\"\",\"\",入力シート!J187)","v":""},{"$f":"IF(入力シート!K187=\"\",\"\",入力シート!K187)","v":""},{"$f":"IF(入力シート!L187=\"\",\"\",入力シート!L187)","v":""},{"$f":"IF(入力シート!M187=\"\",\"\",入力シート!M187)","v":""},{"$f":"IF(入力シート!N187=\"\",\"\",入力シート!N187)","v":""},{"$f":"IF(入力シート!O187=\"\",\"\",入力シート!O187)","v":""},null,{"$f":"IF(入力シート!P187=\"\",\"\",入力シート!P187)","v":""},{"$f":"IF(入力シート!Q187=\"\",\"\",入力シート!Q187)","v":""},{"$f":"IF(入力シート!R187=\"\",\"\",入力シート!R187)","v":""},{"$f":"IF(入力シート!S187=\"\",\"\",入力シート!S187)","v":""},{"$f":"IF(入力シート!T187=\"\",\"\",入力シート!T187)","v":""},{"$f":"IF(入力シート!U187=\"\",\"\",入力シート!U187)","v":""},{"$f":"IF(入力シート!V187=\"\",\"\",入力シート!V187)","v":""},{"$f":"IF(入力シート!W187=\"\",\"\",入力シート!W187)","v":""},{"$f":"IF(入力シート!X187=\"\",\"\",入力シート!X187)","v":""},{"$f":"IF(入力シート!Y187=\"\",\"\",入力シート!Y187)","v":""},{"$f":"IF(入力シート!Z187=\"\",\"\",入力シート!Z187)","v":""},null,null,{"$f":"IF(入力シート!H187=\"\",\"\",\"〇\")","v":""},{"$f":"IF(入力シート!AA187=\"\",\"\",入力シート!AA187)","v":""},{"$f":"IF(入力シート!AB187=\"\",\"\",入力シート!AB187)","v":""},{"$f":"IF(入力シート!AC187=\"\",\"\",入力シート!AC187)","v":""},{"$f":"IF(入力シート!AD187=\"\",\"\",入力シート!AD187)","v":""}]
[{"$f":"IF(入力シート!B188=\"\",\"\",入力シート!B188)","v":""},{"$f":"IF(入力シート!C188=\"\",\"\",入力シート!C188)","v":""},{"$f":"IF(入力シート!D188=\"\",\"\",DBCS(入力シート!D188))","v":""},{"$f":"IF(入力シート!E188=\"\",\"\",DBCS(入力シート!E188))","v":""},{"$f":"ASC(IF(入力シート!F188=\"\",\"\",UPPER(入力シート!F188)))","v":""},{"$f":"IF(入力シート!G188=\"\",\"\",PROPER(入力シート!G188))","v":""},{"$f":"IF(入力シート!H188=\"\",\"\",入力シート!H188)","v":""},{"$f":"IF(入力シート!I188=\"\",\"\",TEXT(入力シート!I188,\"yyyy/mm/dd\"))","v":""},{"$f":"IF(入力シート!J188=\"\",\"\",入力シート!J188)","v":""},{"$f":"IF(入力シート!K188=\"\",\"\",入力シート!K188)","v":""},{"$f":"IF(入力シート!L188=\"\",\"\",入力シート!L188)","v":""},{"$f":"IF(入力シート!M188=\"\",\"\",入力シート!M188)","v":""},{"$f":"IF(入力シート!N188=\"\",\"\",入力シート!N188)","v":""},{"$f":"IF(入力シート!O188=\"\",\"\",入力シート!O188)","v":""},null,{"$f":"IF(入力シート!P188=\"\",\"\",入力シート!P188)","v":""},{"$f":"IF(入力シート!Q188=\"\",\"\",入力シート!Q188)","v":""},{"$f":"IF(入力シート!R188=\"\",\"\",入力シート!R188)","v":""},{"$f":"IF(入力シート!S188=\"\",\"\",入力シート!S188)","v":""},{"$f":"IF(入力シート!T188=\"\",\"\",入力シート!T188)","v":""},{"$f":"IF(入力シート!U188=\"\",\"\",入力シート!U188)","v":""},{"$f":"IF(入力シート!V188=\"\",\"\",入力シート!V188)","v":""},{"$f":"IF(入力シート!W188=\"\",\"\",入力シート!W188)","v":""},{"$f":"IF(入力シート!X188=\"\",\"\",入力シート!X188)","v":""},{"$f":"IF(入力シート!Y188=\"\",\"\",入力シート!Y188)","v":""},{"$f":"IF(入力シート!Z188=\"\",\"\",入力シート!Z188)","v":""},null,null,{"$f":"IF(入力シート!H188=\"\",\"\",\"〇\")","v":""},{"$f":"IF(入力シート!AA188=\"\",\"\",入力シート!AA188)","v":""},{"$f":"IF(入力シート!AB188=\"\",\"\",入力シート!AB188)","v":""},{"$f":"IF(入力シート!AC188=\"\",\"\",入力シート!AC188)","v":""},{"$f":"IF(入力シート!AD188=\"\",\"\",入力シート!AD188)","v":""}]
[{"$f":"IF(入力シート!B189=\"\",\"\",入力シート!B189)","v":""},{"$f":"IF(入力シート!C189=\"\",\"\",入力シート!C189)","v":""},{"$f":"IF(入力シート!D189=\"\",\"\",DBCS(入力シート!D189))","v":""},{"$f":"IF(入力シート!E189=\"\",\"\",DBCS(入力シート!E189))","v":""},{"$f":"ASC(IF(入力シート!F189=\"\",\"\",UPPER(入力シート!F189)))","v":""},{"$f":"IF(入力シート!G189=\"\",\"\",PROPER(入力シート!G189))","v":""},{"$f":"IF(入力シート!H189=\"\",\"\",入力シート!H189)","v":""},{"$f":"IF(入力シート!I189=\"\",\"\",TEXT(入力シート!I189,\"yyyy/mm/dd\"))","v":""},{"$f":"IF(入力シート!J189=\"\",\"\",入力シート!J189)","v":""},{"$f":"IF(入力シート!K189=\"\",\"\",入力シート!K189)","v":""},{"$f":"IF(入力シート!L189=\"\",\"\",入力シート!L189)","v":""},{"$f":"IF(入力シート!M189=\"\",\"\",入力シート!M189)","v":""},{"$f":"IF(入力シート!N189=\"\",\"\",入力シート!N189)","v":""},{"$f":"IF(入力シート!O189=\"\",\"\",入力シート!O189)","v":""},null,{"$f":"IF(入力シート!P189=\"\",\"\",入力シート!P189)","v":""},{"$f":"IF(入力シート!Q189=\"\",\"\",入力シート!Q189)","v":""},{"$f":"IF(入力シート!R189=\"\",\"\",入力シート!R189)","v":""},{"$f":"IF(入力シート!S189=\"\",\"\",入力シート!S189)","v":""},{"$f":"IF(入力シート!T189=\"\",\"\",入力シート!T189)","v":""},{"$f":"IF(入力シート!U189=\"\",\"\",入力シート!U189)","v":""},{"$f":"IF(入力シート!V189=\"\",\"\",入力シート!V189)","v":""},{"$f":"IF(入力シート!W189=\"\",\"\",入力シート!W189)","v":""},{"$f":"IF(入力シート!X189=\"\",\"\",入力シート!X189)","v":""},{"$f":"IF(入力シート!Y189=\"\",\"\",入力シート!Y189)","v":""},{"$f":"IF(入力シート!Z189=\"\",\"\",入力シート!Z189)","v":""},null,null,{"$f":"IF(入力シート!H189=\"\",\"\",\"〇\")","v":""},{"$f":"IF(入力シート!AA189=\"\",\"\",入力シート!AA189)","v":""},{"$f":"IF(入力シート!AB189=\"\",\"\",入力シート!AB189)","v":""},{"$f":"IF(入力シート!AC189=\"\",\"\",入力シート!AC189)","v":""},{"$f":"IF(入力シート!AD189=\"\",\"\",入力シート!AD189)","v":""}]
[{"$f":"IF(入力シート!B190=\"\",\"\",入力シート!B190)","v":""},{"$f":"IF(入力シート!C190=\"\",\"\",入力シート!C190)","v":""},{"$f":"IF(入力シート!D190=\"\",\"\",DBCS(入力シート!D190))","v":""},{"$f":"IF(入力シート!E190=\"\",\"\",DBCS(入力シート!E190))","v":""},{"$f":"ASC(IF(入力シート!F190=\"\",\"\",UPPER(入力シート!F190)))","v":""},{"$f":"IF(入力シート!G190=\"\",\"\",PROPER(入力シート!G190))","v":""},{"$f":"IF(入力シート!H190=\"\",\"\",入力シート!H190)","v":""},{"$f":"IF(入力シート!I190=\"\",\"\",TEXT(入力シート!I190,\"yyyy/mm/dd\"))","v":""},{"$f":"IF(入力シート!J190=\"\",\"\",入力シート!J190)","v":""},{"$f":"IF(入力シート!K190=\"\",\"\",入力シート!K190)","v":""},{"$f":"IF(入力シート!L190=\"\",\"\",入力シート!L190)","v":""},{"$f":"IF(入力シート!M190=\"\",\"\",入力シート!M190)","v":""},{"$f":"IF(入力シート!N190=\"\",\"\",入力シート!N190)","v":""},{"$f":"IF(入力シート!O190=\"\",\"\",入力シート!O190)","v":""},null,{"$f":"IF(入力シート!P190=\"\",\"\",入力シート!P190)","v":""},{"$f":"IF(入力シート!Q190=\"\",\"\",入力シート!Q190)","v":""},{"$f":"IF(入力シート!R190=\"\",\"\",入力シート!R190)","v":""},{"$f":"IF(入力シート!S190=\"\",\"\",入力シート!S190)","v":""},{"$f":"IF(入力シート!T190=\"\",\"\",入力シート!T190)","v":""},{"$f":"IF(入力シート!U190=\"\",\"\",入力シート!U190)","v":""},{"$f":"IF(入力シート!V190=\"\",\"\",入力シート!V190)","v":""},{"$f":"IF(入力シート!W190=\"\",\"\",入力シート!W190)","v":""},{"$f":"IF(入力シート!X190=\"\",\"\",入力シート!X190)","v":""},{"$f":"IF(入力シート!Y190=\"\",\"\",入力シート!Y190)","v":""},{"$f":"IF(入力シート!Z190=\"\",\"\",入力シート!Z190)","v":""},null,null,{"$f":"IF(入力シート!H190=\"\",\"\",\"〇\")","v":""},{"$f":"IF(入力シート!AA190=\"\",\"\",入力シート!AA190)","v":""},{"$f":"IF(入力シート!AB190=\"\",\"\",入力シート!AB190)","v":""},{"$f":"IF(入力シート!AC190=\"\",\"\",入力シート!AC190)","v":""},{"$f":"IF(入力シート!AD190=\"\",\"\",入力シート!AD190)","v":""}]
[{"$f":"IF(入力シート!B191=\"\",\"\",入力シート!B191)","v":""},{"$f":"IF(入力シート!C191=\"\",\"\",入力シート!C191)","v":""},{"$f":"IF(入力シート!D191=\"\",\"\",DBCS(入力シート!D191))","v":""},{"$f":"IF(入力シート!E191=\"\",\"\",DBCS(入力シート!E191))","v":""},{"$f":"ASC(IF(入力シート!F191=\"\",\"\",UPPER(入力シート!F191)))","v":""},{"$f":"IF(入力シート!G191=\"\",\"\",PROPER(入力シート!G191))","v":""},{"$f":"IF(入力シート!H191=\"\",\"\",入力シート!H191)","v":""},{"$f":"IF(入力シート!I191=\"\",\"\",TEXT(入力シート!I191,\"yyyy/mm/dd\"))","v":""},{"$f":"IF(入力シート!J191=\"\",\"\",入力シート!J191)","v":""},{"$f":"IF(入力シート!K191=\"\",\"\",入力シート!K191)","v":""},{"$f":"IF(入力シート!L191=\"\",\"\",入力シート!L191)","v":""},{"$f":"IF(入力シート!M191=\"\",\"\",入力シート!M191)","v":""},{"$f":"IF(入力シート!N191=\"\",\"\",入力シート!N191)","v":""},{"$f":"IF(入力シート!O191=\"\",\"\",入力シート!O191)","v":""},null,{"$f":"IF(入力シート!P191=\"\",\"\",入力シート!P191)","v":""},{"$f":"IF(入力シート!Q191=\"\",\"\",入力シート!Q191)","v":""},{"$f":"IF(入力シート!R191=\"\",\"\",入力シート!R191)","v":""},{"$f":"IF(入力シート!S191=\"\",\"\",入力シート!S191)","v":""},{"$f":"IF(入力シート!T191=\"\",\"\",入力シート!T191)","v":""},{"$f":"IF(入力シート!U191=\"\",\"\",入力シート!U191)","v":""},{"$f":"IF(入力シート!V191=\"\",\"\",入力シート!V191)","v":""},{"$f":"IF(入力シート!W191=\"\",\"\",入力シート!W191)","v":""},{"$f":"IF(入力シート!X191=\"\",\"\",入力シート!X191)","v":""},{"$f":"IF(入力シート!Y191=\"\",\"\",入力シート!Y191)","v":""},{"$f":"IF(入力シート!Z191=\"\",\"\",入力シート!Z191)","v":""},null,null,{"$f":"IF(入力シート!H191=\"\",\"\",\"〇\")","v":""},{"$f":"IF(入力シート!AA191=\"\",\"\",入力シート!AA191)","v":""},{"$f":"IF(入力シート!AB191=\"\",\"\",入力シート!AB191)","v":""},{"$f":"IF(入力シート!AC191=\"\",\"\",入力シート!AC191)","v":""},{"$f":"IF(入力シート!AD191=\"\",\"\",入力シート!AD191)","v":""}]
[{"$f":"IF(入力シート!B192=\"\",\"\",入力シート!B192)","v":""},{"$f":"IF(入力シート!C192=\"\",\"\",入力シート!C192)","v":""},{"$f":"IF(入力シート!D192=\"\",\"\",DBCS(入力シート!D192))","v":""},{"$f":"IF(入力シート!E192=\"\",\"\",DBCS(入力シート!E192))","v":""},{"$f":"ASC(IF(入力シート!F192=\"\",\"\",UPPER(入力シート!F192)))","v":""},{"$f":"IF(入力シート!G192=\"\",\"\",PROPER(入力シート!G192))","v":""},{"$f":"IF(入力シート!H192=\"\",\"\",入力シート!H192)","v":""},{"$f":"IF(入力シート!I192=\"\",\"\",TEXT(入力シート!I192,\"yyyy/mm/dd\"))","v":""},{"$f":"IF(入力シート!J192=\"\",\"\",入力シート!J192)","v":""},{"$f":"IF(入力シート!K192=\"\",\"\",入力シート!K192)","v":""},{"$f":"IF(入力シート!L192=\"\",\"\",入力シート!L192)","v":""},{"$f":"IF(入力シート!M192=\"\",\"\",入力シート!M192)","v":""},{"$f":"IF(入力シート!N192=\"\",\"\",入力シート!N192)","v":""},{"$f":"IF(入力シート!O192=\"\",\"\",入力シート!O192)","v":""},null,{"$f":"IF(入力シート!P192=\"\",\"\",入力シート!P192)","v":""},{"$f":"IF(入力シート!Q192=\"\",\"\",入力シート!Q192)","v":""},{"$f":"IF(入力シート!R192=\"\",\"\",入力シート!R192)","v":""},{"$f":"IF(入力シート!S192=\"\",\"\",入力シート!S192)","v":""},{"$f":"IF(入力シート!T192=\"\",\"\",入力シート!T192)","v":""},{"$f":"IF(入力シート!U192=\"\",\"\",入力シート!U192)","v":""},{"$f":"IF(入力シート!V192=\"\",\"\",入力シート!V192)","v":""},{"$f":"IF(入力シート!W192=\"\",\"\",入力シート!W192)","v":""},{"$f":"IF(入力シート!X192=\"\",\"\",入力シート!X192)","v":""},{"$f":"IF(入力シート!Y192=\"\",\"\",入力シート!Y192)","v":""},{"$f":"IF(入力シート!Z192=\"\",\"\",入力シート!Z192)","v":""},null,null,{"$f":"IF(入力シート!H192=\"\",\"\",\"〇\")","v":""},{"$f":"IF(入力シート!AA192=\"\",\"\",入力シート!AA192)","v":""},{"$f":"IF(入力シート!AB192=\"\",\"\",入力シート!AB192)","v":""},{"$f":"IF(入力シート!AC192=\"\",\"\",入力シート!AC192)","v":""},{"$f":"IF(入力シート!AD192=\"\",\"\",入力シート!AD192)","v":""}]
[{"$f":"IF(入力シート!B193=\"\",\"\",入力シート!B193)","v":""},{"$f":"IF(入力シート!C193=\"\",\"\",入力シート!C193)","v":""},{"$f":"IF(入力シート!D193=\"\",\"\",DBCS(入力シート!D193))","v":""},{"$f":"IF(入力シート!E193=\"\",\"\",DBCS(入力シート!E193))","v":""},{"$f":"ASC(IF(入力シート!F193=\"\",\"\",UPPER(入力シート!F193)))","v":""},{"$f":"IF(入力シート!G193=\"\",\"\",PROPER(入力シート!G193))","v":""},{"$f":"IF(入力シート!H193=\"\",\"\",入力シート!H193)","v":""},{"$f":"IF(入力シート!I193=\"\",\"\",TEXT(入力シート!I193,\"yyyy/mm/dd\"))","v":""},{"$f":"IF(入力シート!J193=\"\",\"\",入力シート!J193)","v":""},{"$f":"IF(入力シート!K193=\"\",\"\",入力シート!K193)","v":""},{"$f":"IF(入力シート!L193=\"\",\"\",入力シート!L193)","v":""},{"$f":"IF(入力シート!M193=\"\",\"\",入力シート!M193)","v":""},{"$f":"IF(入力シート!N193=\"\",\"\",入力シート!N193)","v":""},{"$f":"IF(入力シート!O193=\"\",\"\",入力シート!O193)","v":""},null,{"$f":"IF(入力シート!P193=\"\",\"\",入力シート!P193)","v":""},{"$f":"IF(入力シート!Q193=\"\",\"\",入力シート!Q193)","v":""},{"$f":"IF(入力シート!R193=\"\",\"\",入力シート!R193)","v":""},{"$f":"IF(入力シート!S193=\"\",\"\",入力シート!S193)","v":""},{"$f":"IF(入力シート!T193=\"\",\"\",入力シート!T193)","v":""},{"$f":"IF(入力シート!U193=\"\",\"\",入力シート!U193)","v":""},{"$f":"IF(入力シート!V193=\"\",\"\",入力シート!V193)","v":""},{"$f":"IF(入力シート!W193=\"\",\"\",入力シート!W193)","v":""},{"$f":"IF(入力シート!X193=\"\",\"\",入力シート!X193)","v":""},{"$f":"IF(入力シート!Y193=\"\",\"\",入力シート!Y193)","v":""},{"$f":"IF(入力シート!Z193=\"\",\"\",入力シート!Z193)","v":""},null,null,{"$f":"IF(入力シート!H193=\"\",\"\",\"〇\")","v":""},{"$f":"IF(入力シート!AA193=\"\",\"\",入力シート!AA193)","v":""},{"$f":"IF(入力シート!AB193=\"\",\"\",入力シート!AB193)","v":""},{"$f":"IF(入力シート!AC193=\"\",\"\",入力シート!AC193)","v":""},{"$f":"IF(入力シート!AD193=\"\",\"\",入力シート!AD193)","v":""}]
[{"$f":"IF(入力シート!B194=\"\",\"\",入力シート!B194)","v":""},{"$f":"IF(入力シート!C194=\"\",\"\",入力シート!C194)","v":""},{"$f":"IF(入力シート!D194=\"\",\"\",DBCS(入力シート!D194))","v":""},{"$f":"IF(入力シート!E194=\"\",\"\",DBCS(入力シート!E194))","v":""},{"$f":"ASC(IF(入力シート!F194=\"\",\"\",UPPER(入力シート!F194)))","v":""},{"$f":"IF(入力シート!G194=\"\",\"\",PROPER(入力シート!G194))","v":""},{"$f":"IF(入力シート!H194=\"\",\"\",入力シート!H194)","v":""},{"$f":"IF(入力シート!I194=\"\",\"\",TEXT(入力シート!I194,\"yyyy/mm/dd\"))","v":""},{"$f":"IF(入力シート!J194=\"\",\"\",入力シート!J194)","v":""},{"$f":"IF(入力シート!K194=\"\",\"\",入力シート!K194)","v":""},{"$f":"IF(入力シート!L194=\"\",\"\",入力シート!L194)","v":""},{"$f":"IF(入力シート!M194=\"\",\"\",入力シート!M194)","v":""},{"$f":"IF(入力シート!N194=\"\",\"\",入力シート!N194)","v":""},{"$f":"IF(入力シート!O194=\"\",\"\",入力シート!O194)","v":""},null,{"$f":"IF(入力シート!P194=\"\",\"\",入力シート!P194)","v":""},{"$f":"IF(入力シート!Q194=\"\",\"\",入力シート!Q194)","v":""},{"$f":"IF(入力シート!R194=\"\",\"\",入力シート!R194)","v":""},{"$f":"IF(入力シート!S194=\"\",\"\",入力シート!S194)","v":""},{"$f":"IF(入力シート!T194=\"\",\"\",入力シート!T194)","v":""},{"$f":"IF(入力シート!U194=\"\",\"\",入力シート!U194)","v":""},{"$f":"IF(入力シート!V194=\"\",\"\",入力シート!V194)","v":""},{"$f":"IF(入力シート!W194=\"\",\"\",入力シート!W194)","v":""},{"$f":"IF(入力シート!X194=\"\",\"\",入力シート!X194)","v":""},{"$f":"IF(入力シート!Y194=\"\",\"\",入力シート!Y194)","v":""},{"$f":"IF(入力シート!Z194=\"\",\"\",入力シート!Z194)","v":""},null,null,{"$f":"IF(入力シート!H194=\"\",\"\",\"〇\")","v":""},{"$f":"IF(入力シート!AA194=\"\",\"\",入力シート!AA194)","v":""},{"$f":"IF(入力シート!AB194=\"\",\"\",入力シート!AB194)","v":""},{"$f":"IF(入力シート!AC194=\"\",\"\",入力シート!AC194)","v":""},{"$f":"IF(入力シート!AD194=\"\",\"\",入力シート!AD194)","v":""}]
[{"$f":"IF(入力シート!B195=\"\",\"\",入力シート!B195)","v":""},{"$f":"IF(入力シート!C195=\"\",\"\",入力シート!C195)","v":""},{"$f":"IF(入力シート!D195=\"\",\"\",DBCS(入力シート!D195))","v":""},{"$f":"IF(入力シート!E195=\"\",\"\",DBCS(入力シート!E195))","v":""},{"$f":"ASC(IF(入力シート!F195=\"\",\"\",UPPER(入力シート!F195)))","v":""},{"$f":"IF(入力シート!G195=\"\",\"\",PROPER(入力シート!G195))","v":""},{"$f":"IF(入力シート!H195=\"\",\"\",入力シート!H195)","v":""},{"$f":"IF(入力シート!I195=\"\",\"\",TEXT(入力シート!I195,\"yyyy/mm/dd\"))","v":""},{"$f":"IF(入力シート!J195=\"\",\"\",入力シート!J195)","v":""},{"$f":"IF(入力シート!K195=\"\",\"\",入力シート!K195)","v":""},{"$f":"IF(入力シート!L195=\"\",\"\",入力シート!L195)","v":""},{"$f":"IF(入力シート!M195=\"\",\"\",入力シート!M195)","v":""},{"$f":"IF(入力シート!N195=\"\",\"\",入力シート!N195)","v":""},{"$f":"IF(入力シート!O195=\"\",\"\",入力シート!O195)","v":""},null,{"$f":"IF(入力シート!P195=\"\",\"\",入力シート!P195)","v":""},{"$f":"IF(入力シート!Q195=\"\",\"\",入力シート!Q195)","v":""},{"$f":"IF(入力シート!R195=\"\",\"\",入力シート!R195)","v":""},{"$f":"IF(入力シート!S195=\"\",\"\",入力シート!S195)","v":""},{"$f":"IF(入力シート!T195=\"\",\"\",入力シート!T195)","v":""},{"$f":"IF(入力シート!U195=\"\",\"\",入力シート!U195)","v":""},{"$f":"IF(入力シート!V195=\"\",\"\",入力シート!V195)","v":""},{"$f":"IF(入力シート!W195=\"\",\"\",入力シート!W195)","v":""},{"$f":"IF(入力シート!X195=\"\",\"\",入力シート!X195)","v":""},{"$f":"IF(入力シート!Y195=\"\",\"\",入力シート!Y195)","v":""},{"$f":"IF(入力シート!Z195=\"\",\"\",入力シート!Z195)","v":""},null,null,{"$f":"IF(入力シート!H195=\"\",\"\",\"〇\")","v":""},{"$f":"IF(入力シート!AA195=\"\",\"\",入力シート!AA195)","v":""},{"$f":"IF(入力シート!AB195=\"\",\"\",入力シート!AB195)","v":""},{"$f":"IF(入力シート!AC195=\"\",\"\",入力シート!AC195)","v":""},{"$f":"IF(入力シート!AD195=\"\",\"\",入力シート!AD195)","v":""}]
[{"$f":"IF(入力シート!B196=\"\",\"\",入力シート!B196)","v":""},{"$f":"IF(入力シート!C196=\"\",\"\",入力シート!C196)","v":""},{"$f":"IF(入力シート!D196=\"\",\"\",DBCS(入力シート!D196))","v":""},{"$f":"IF(入力シート!E196=\"\",\"\",DBCS(入力シート!E196))","v":""},{"$f":"ASC(IF(入力シート!F196=\"\",\"\",UPPER(入力シート!F196)))","v":""},{"$f":"IF(入力シート!G196=\"\",\"\",PROPER(入力シート!G196))","v":""},{"$f":"IF(入力シート!H196=\"\",\"\",入力シート!H196)","v":""},{"$f":"IF(入力シート!I196=\"\",\"\",TEXT(入力シート!I196,\"yyyy/mm/dd\"))","v":""},{"$f":"IF(入力シート!J196=\"\",\"\",入力シート!J196)","v":""},{"$f":"IF(入力シート!K196=\"\",\"\",入力シート!K196)","v":""},{"$f":"IF(入力シート!L196=\"\",\"\",入力シート!L196)","v":""},{"$f":"IF(入力シート!M196=\"\",\"\",入力シート!M196)","v":""},{"$f":"IF(入力シート!N196=\"\",\"\",入力シート!N196)","v":""},{"$f":"IF(入力シート!O196=\"\",\"\",入力シート!O196)","v":""},null,{"$f":"IF(入力シート!P196=\"\",\"\",入力シート!P196)","v":""},{"$f":"IF(入力シート!Q196=\"\",\"\",入力シート!Q196)","v":""},{"$f":"IF(入力シート!R196=\"\",\"\",入力シート!R196)","v":""},{"$f":"IF(入力シート!S196=\"\",\"\",入力シート!S196)","v":""},{"$f":"IF(入力シート!T196=\"\",\"\",入力シート!T196)","v":""},{"$f":"IF(入力シート!U196=\"\",\"\",入力シート!U196)","v":""},{"$f":"IF(入力シート!V196=\"\",\"\",入力シート!V196)","v":""},{"$f":"IF(入力シート!W196=\"\",\"\",入力シート!W196)","v":""},{"$f":"IF(入力シート!X196=\"\",\"\",入力シート!X196)","v":""},{"$f":"IF(入力シート!Y196=\"\",\"\",入力シート!Y196)","v":""},{"$f":"IF(入力シート!Z196=\"\",\"\",入力シート!Z196)","v":""},null,null,{"$f":"IF(入力シート!H196=\"\",\"\",\"〇\")","v":""},{"$f":"IF(入力シート!AA196=\"\",\"\",入力シート!AA196)","v":""},{"$f":"IF(入力シート!AB196=\"\",\"\",入力シート!AB196)","v":""},{"$f":"IF(入力シート!AC196=\"\",\"\",入力シート!AC196)","v":""},{"$f":"IF(入力シート!AD196=\"\",\"\",入力シート!AD196)","v":""}]
[{"$f":"IF(入力シート!B197=\"\",\"\",入力シート!B197)","v":""},{"$f":"IF(入力シート!C197=\"\",\"\",入力シート!C197)","v":""},{"$f":"IF(入力シート!D197=\"\",\"\",DBCS(入力シート!D197))","v":""},{"$f":"IF(入力シート!E197=\"\",\"\",DBCS(入力シート!E197))","v":""},{"$f":"ASC(IF(入力シート!F197=\"\",\"\",UPPER(入力シート!F197)))","v":""},{"$f":"IF(入力シート!G197=\"\",\"\",PROPER(入力シート!G197))","v":""},{"$f":"IF(入力シート!H197=\"\",\"\",入力シート!H197)","v":""},{"$f":"IF(入力シート!I197=\"\",\"\",TEXT(入力シート!I197,\"yyyy/mm/dd\"))","v":""},{"$f":"IF(入力シート!J197=\"\",\"\",入力シート!J197)","v":""},{"$f":"IF(入力シート!K197=\"\",\"\",入力シート!K197)","v":""},{"$f":"IF(入力シート!L197=\"\",\"\",入力シート!L197)","v":""},{"$f":"IF(入力シート!M197=\"\",\"\",入力シート!M197)","v":""},{"$f":"IF(入力シート!N197=\"\",\"\",入力シート!N197)","v":""},{"$f":"IF(入力シート!O197=\"\",\"\",入力シート!O197)","v":""},null,{"$f":"IF(入力シート!P197=\"\",\"\",入力シート!P197)","v":""},{"$f":"IF(入力シート!Q197=\"\",\"\",入力シート!Q197)","v":""},{"$f":"IF(入力シート!R197=\"\",\"\",入力シート!R197)","v":""},{"$f":"IF(入力シート!S197=\"\",\"\",入力シート!S197)","v":""},{"$f":"IF(入力シート!T197=\"\",\"\",入力シート!T197)","v":""},{"$f":"IF(入力シート!U197=\"\",\"\",入力シート!U197)","v":""},{"$f":"IF(入力シート!V197=\"\",\"\",入力シート!V197)","v":""},{"$f":"IF(入力シート!W197=\"\",\"\",入力シート!W197)","v":""},{"$f":"IF(入力シート!X197=\"\",\"\",入力シート!X197)","v":""},{"$f":"IF(入力シート!Y197=\"\",\"\",入力シート!Y197)","v":""},{"$f":"IF(入力シート!Z197=\"\",\"\",入力シート!Z197)","v":""},null,null,{"$f":"IF(入力シート!H197=\"\",\"\",\"〇\")","v":""},{"$f":"IF(入力シート!AA197=\"\",\"\",入力シート!AA197)","v":""},{"$f":"IF(入力シート!AB197=\"\",\"\",入力シート!AB197)","v":""},{"$f":"IF(入力シート!AC197=\"\",\"\",入力シート!AC197)","v":""},{"$f":"IF(入力シート!AD197=\"\",\"\",入力シート!AD197)","v":""}]
[{"$f":"IF(入力シート!B198=\"\",\"\",入力シート!B198)","v":""},{"$f":"IF(入力シート!C198=\"\",\"\",入力シート!C198)","v":""},{"$f":"IF(入力シート!D198=\"\",\"\",DBCS(入力シート!D198))","v":""},{"$f":"IF(入力シート!E198=\"\",\"\",DBCS(入力シート!E198))","v":""},{"$f":"ASC(IF(入力シート!F198=\"\",\"\",UPPER(入力シート!F198)))","v":""},{"$f":"IF(入力シート!G198=\"\",\"\",PROPER(入力シート!G198))","v":""},{"$f":"IF(入力シート!H198=\"\",\"\",入力シート!H198)","v":""},{"$f":"IF(入力シート!I198=\"\",\"\",TEXT(入力シート!I198,\"yyyy/mm/dd\"))","v":""},{"$f":"IF(入力シート!J198=\"\",\"\",入力シート!J198)","v":""},{"$f":"IF(入力シート!K198=\"\",\"\",入力シート!K198)","v":""},{"$f":"IF(入力シート!L198=\"\",\"\",入力シート!L198)","v":""},{"$f":"IF(入力シート!M198=\"\",\"\",入力シート!M198)","v":""},{"$f":"IF(入力シート!N198=\"\",\"\",入力シート!N198)","v":""},{"$f":"IF(入力シート!O198=\"\",\"\",入力シート!O198)","v":""},null,{"$f":"IF(入力シート!P198=\"\",\"\",入力シート!P198)","v":""},{"$f":"IF(入力シート!Q198=\"\",\"\",入力シート!Q198)","v":""},{"$f":"IF(入力シート!R198=\"\",\"\",入力シート!R198)","v":""},{"$f":"IF(入力シート!S198=\"\",\"\",入力シート!S198)","v":""},{"$f":"IF(入力シート!T198=\"\",\"\",入力シート!T198)","v":""},{"$f":"IF(入力シート!U198=\"\",\"\",入力シート!U198)","v":""},{"$f":"IF(入力シート!V198=\"\",\"\",入力シート!V198)","v":""},{"$f":"IF(入力シート!W198=\"\",\"\",入力シート!W198)","v":""},{"$f":"IF(入力シート!X198=\"\",\"\",入力シート!X198)","v":""},{"$f":"IF(入力シート!Y198=\"\",\"\",入力シート!Y198)","v":""},{"$f":"IF(入力シート!Z198=\"\",\"\",入力シート!Z198)","v":""},null,null,{"$f":"IF(入力シート!H198=\"\",\"\",\"〇\")","v":""},{"$f":"IF(入力シート!AA198=\"\",\"\",入力シート!AA198)","v":""},{"$f":"IF(入力シート!AB198=\"\",\"\",入力シート!AB198)","v":""},{"$f":"IF(入力シート!AC198=\"\",\"\",入力シート!AC198)","v":""},{"$f":"IF(入力シート!AD198=\"\",\"\",入力シート!AD198)","v":""}]
[{"$f":"IF(入力シート!B199=\"\",\"\",入力シート!B199)","v":""},{"$f":"IF(入力シート!C199=\"\",\"\",入力シート!C199)","v":""},{"$f":"IF(入力シート!D199=\"\",\"\",DBCS(入力シート!D199))","v":""},{"$f":"IF(入力シート!E199=\"\",\"\",DBCS(入力シート!E199))","v":""},{"$f":"ASC(IF(入力シート!F199=\"\",\"\",UPPER(入力シート!F199)))","v":""},{"$f":"IF(入力シート!G199=\"\",\"\",PROPER(入力シート!G199))","v":""},{"$f":"IF(入力シート!H199=\"\",\"\",入力シート!H199)","v":""},{"$f":"IF(入力シート!I199=\"\",\"\",TEXT(入力シート!I199,\"yyyy/mm/dd\"))","v":""},{"$f":"IF(入力シート!J199=\"\",\"\",入力シート!J199)","v":""},{"$f":"IF(入力シート!K199=\"\",\"\",入力シート!K199)","v":""},{"$f":"IF(入力シート!L199=\"\",\"\",入力シート!L199)","v":""},{"$f":"IF(入力シート!M199=\"\",\"\",入力シート!M199)","v":""},{"$f":"IF(入力シート!N199=\"\",\"\",入力シート!N199)","v":""},{"$f":"IF(入力シート!O199=\"\",\"\",入力シート!O199)","v":""},null,{"$f":"IF(入力シート!P199=\"\",\"\",入力シート!P199)","v":""},{"$f":"IF(入力シート!Q199=\"\",\"\",入力シート!Q199)","v":""},{"$f":"IF(入力シート!R199=\"\",\"\",入力シート!R199)","v":""},{"$f":"IF(入力シート!S199=\"\",\"\",入力シート!S199)","v":""},{"$f":"IF(入力シート!T199=\"\",\"\",入力シート!T199)","v":""},{"$f":"IF(入力シート!U199=\"\",\"\",入力シート!U199)","v":""},{"$f":"IF(入力シート!V199=\"\",\"\",入力シート!V199)","v":""},{"$f":"IF(入力シート!W199=\"\",\"\",入力シート!W199)","v":""},{"$f":"IF(入力シート!X199=\"\",\"\",入力シート!X199)","v":""},{"$f":"IF(入力シート!Y199=\"\",\"\",入力シート!Y199)","v":""},{"$f":"IF(入力シート!Z199=\"\",\"\",入力シート!Z199)","v":""},null,null,{"$f":"IF(入力シート!H199=\"\",\"\",\"〇\")","v":""},{"$f":"IF(入力シート!AA199=\"\",\"\",入力シート!AA199)","v":""},{"$f":"IF(入力シート!AB199=\"\",\"\",入力シート!AB199)","v":""},{"$f":"IF(入力シート!AC199=\"\",\"\",入力シート!AC199)","v":""},{"$f":"IF(入力シート!AD199=\"\",\"\",入力シート!AD199)","v":""}]
[{"$f":"IF(入力シート!B200=\"\",\"\",入力シート!B200)","v":""},{"$f":"IF(入力シート!C200=\"\",\"\",入力シート!C200)","v":""},{"$f":"IF(入力シート!D200=\"\",\"\",DBCS(入力シート!D200))","v":""},{"$f":"IF(入力シート!E200=\"\",\"\",DBCS(入力シート!E200))","v":""},{"$f":"ASC(IF(入力シート!F200=\"\",\"\",UPPER(入力シート!F200)))","v":""},{"$f":"IF(入力シート!G200=\"\",\"\",PROPER(入力シート!G200))","v":""},{"$f":"IF(入力シート!H200=\"\",\"\",入力シート!H200)","v":""},{"$f":"IF(入力シート!I200=\"\",\"\",TEXT(入力シート!I200,\"yyyy/mm/dd\"))","v":""},{"$f":"IF(入力シート!J200=\"\",\"\",入力シート!J200)","v":""},{"$f":"IF(入力シート!K200=\"\",\"\",入力シート!K200)","v":""},{"$f":"IF(入力シート!L200=\"\",\"\",入力シート!L200)","v":""},{"$f":"IF(入力シート!M200=\"\",\"\",入力シート!M200)","v":""},{"$f":"IF(入力シート!N200=\"\",\"\",入力シート!N200)","v":""},{"$f":"IF(入力シート!O200=\"\",\"\",入力シート!O200)","v":""},null,{"$f":"IF(入力シート!P200=\"\",\"\",入力シート!P200)","v":""},{"$f":"IF(入力シート!Q200=\"\",\"\",入力シート!Q200)","v":""},{"$f":"IF(入力シート!R200=\"\",\"\",入力シート!R200)","v":""},{"$f":"IF(入力シート!S200=\"\",\"\",入力シート!S200)","v":""},{"$f":"IF(入力シート!T200=\"\",\"\",入力シート!T200)","v":""},{"$f":"IF(入力シート!U200=\"\",\"\",入力シート!U200)","v":""},{"$f":"IF(入力シート!V200=\"\",\"\",入力シート!V200)","v":""},{"$f":"IF(入力シート!W200=\"\",\"\",入力シート!W200)","v":""},{"$f":"IF(入力シート!X200=\"\",\"\",入力シート!X200)","v":""},{"$f":"IF(入力シート!Y200=\"\",\"\",入力シート!Y200)","v":""},{"$f":"IF(入力シート!Z200=\"\",\"\",入力シート!Z200)","v":""},null,null,{"$f":"IF(入力シート!H200=\"\",\"\",\"〇\")","v":""},{"$f":"IF(入力シート!AA200=\"\",\"\",入力シート!AA200)","v":""},{"$f":"IF(入力シート!AB200=\"\",\"\",入力シート!AB200)","v":""},{"$f":"IF(入力シート!AC200=\"\",\"\",入力シート!AC200)","v":""},{"$f":"IF(入力シート!AD200=\"\",\"\",入力シート!AD200)","v":""}]
[{"$f":"IF(入力シート!B201=\"\",\"\",入力シート!B201)","v":""},{"$f":"IF(入力シート!C201=\"\",\"\",入力シート!C201)","v":""},{"$f":"IF(入力シート!D201=\"\",\"\",DBCS(入力シート!D201))","v":""},{"$f":"IF(入力シート!E201=\"\",\"\",DBCS(入力シート!E201))","v":""},{"$f":"ASC(IF(入力シート!F201=\"\",\"\",UPPER(入力シート!F201)))","v":""},{"$f":"IF(入力シート!G201=\"\",\"\",PROPER(入力シート!G201))","v":""},{"$f":"IF(入力シート!H201=\"\",\"\",入力シート!H201)","v":""},{"$f":"IF(入力シート!I201=\"\",\"\",TEXT(入力シート!I201,\"yyyy/mm/dd\"))","v":""},{"$f":"IF(入力シート!J201=\"\",\"\",入力シート!J201)","v":""},{"$f":"IF(入力シート!K201=\"\",\"\",入力シート!K201)","v":""},{"$f":"IF(入力シート!L201=\"\",\"\",入力シート!L201)","v":""},{"$f":"IF(入力シート!M201=\"\",\"\",入力シート!M201)","v":""},{"$f":"IF(入力シート!N201=\"\",\"\",入力シート!N201)","v":""},{"$f":"IF(入力シート!O201=\"\",\"\",入力シート!O201)","v":""},null,{"$f":"IF(入力シート!P201=\"\",\"\",入力シート!P201)","v":""},{"$f":"IF(入力シート!Q201=\"\",\"\",入力シート!Q201)","v":""},{"$f":"IF(入力シート!R201=\"\",\"\",入力シート!R201)","v":""},{"$f":"IF(入力シート!S201=\"\",\"\",入力シート!S201)","v":""},{"$f":"IF(入力シート!T201=\"\",\"\",入力シート!T201)","v":""},{"$f":"IF(入力シート!U201=\"\",\"\",入力シート!U201)","v":""},{"$f":"IF(入力シート!V201=\"\",\"\",入力シート!V201)","v":""},{"$f":"IF(入力シート!W201=\"\",\"\",入力シート!W201)","v":""},{"$f":"IF(入力シート!X201=\"\",\"\",入力シート!X201)","v":""},{"$f":"IF(入力シート!Y201=\"\",\"\",入力シート!Y201)","v":""},{"$f":"IF(入力シート!Z201=\"\",\"\",入力シート!Z201)","v":""},null,null,{"$f":"IF(入力シート!H201=\"\",\"\",\"〇\")","v":""},{"$f":"IF(入力シート!AA201=\"\",\"\",入力シート!AA201)","v":""},{"$f":"IF(入力シート!AB201=\"\",\"\",入力シート!AB201)","v":""},{"$f":"IF(入力シート!AC201=\"\",\"\",入力シート!AC201)","v":""},{"$f":"IF(入力シート!AD201=\"\",\"\",入力シート!AD201)","v":""}]
[{"$f":"IF(入力シート!B202=\"\",\"\",入力シート!B202)","v":""},{"$f":"IF(入力シート!C202=\"\",\"\",入力シート!C202)","v":""},{"$f":"IF(入力シート!D202=\"\",\"\",DBCS(入力シート!D202))","v":""},{"$f":"IF(入力シート!E202=\"\",\"\",DBCS(入力シート!E202))","v":""},{"$f":"ASC(IF(入力シート!F202=\"\",\"\",UPPER(入力シート!F202)))","v":""},{"$f":"IF(入力シート!G202=\"\",\"\",PROPER(入力シート!G202))","v":""},{"$f":"IF(入力シート!H202=\"\",\"\",入力シート!H202)","v":""},{"$f":"IF(入力シート!I202=\"\",\"\",TEXT(入力シート!I202,\"yyyy/mm/dd\"))","v":""},{"$f":"IF(入力シート!J202=\"\",\"\",入力シート!J202)","v":""},{"$f":"IF(入力シート!K202=\"\",\"\",入力シート!K202)","v":""},{"$f":"IF(入力シート!L202=\"\",\"\",入力シート!L202)","v":""},{"$f":"IF(入力シート!M202=\"\",\"\",入力シート!M202)","v":""},{"$f":"IF(入力シート!N202=\"\",\"\",入力シート!N202)","v":""},{"$f":"IF(入力シート!O202=\"\",\"\",入力シート!O202)","v":""},null,{"$f":"IF(入力シート!P202=\"\",\"\",入力シート!P202)","v":""},{"$f":"IF(入力シート!Q202=\"\",\"\",入力シート!Q202)","v":""},{"$f":"IF(入力シート!R202=\"\",\"\",入力シート!R202)","v":""},{"$f":"IF(入力シート!S202=\"\",\"\",入力シート!S202)","v":""},{"$f":"IF(入力シート!T202=\"\",\"\",入力シート!T202)","v":""},{"$f":"IF(入力シート!U202=\"\",\"\",入力シート!U202)","v":""},{"$f":"IF(入力シート!V202=\"\",\"\",入力シート!V202)","v":""},{"$f":"IF(入力シート!W202=\"\",\"\",入力シート!W202)","v":""},{"$f":"IF(入力シート!X202=\"\",\"\",入力シート!X202)","v":""},{"$f":"IF(入力シート!Y202=\"\",\"\",入力シート!Y202)","v":""},{"$f":"IF(入力シート!Z202=\"\",\"\",入力シート!Z202)","v":""},null,null,{"$f":"IF(入力シート!H202=\"\",\"\",\"〇\")","v":""},{"$f":"IF(入力シート!AA202=\"\",\"\",入力シート!AA202)","v":""},{"$f":"IF(入力シート!AB202=\"\",\"\",入力シート!AB202)","v":""},{"$f":"IF(入力シート!AC202=\"\",\"\",入力シート!AC202)","v":""},{"$f":"IF(入力シート!AD202=\"\",\"\",入力シート!AD202)","v":""}]
[{"$f":"IF(入力シート!B203=\"\",\"\",入力シート!B203)","v":""},{"$f":"IF(入力シート!C203=\"\",\"\",入力シート!C203)","v":""},{"$f":"IF(入力シート!D203=\"\",\"\",DBCS(入力シート!D203))","v":""},{"$f":"IF(入力シート!E203=\"\",\"\",DBCS(入力シート!E203))","v":""},{"$f":"ASC(IF(入力シート!F203=\"\",\"\",UPPER(入力シート!F203)))","v":""},{"$f":"IF(入力シート!G203=\"\",\"\",PROPER(入力シート!G203))","v":""},{"$f":"IF(入力シート!H203=\"\",\"\",入力シート!H203)","v":""},{"$f":"IF(入力シート!I203=\"\",\"\",TEXT(入力シート!I203,\"yyyy/mm/dd\"))","v":""},{"$f":"IF(入力シート!J203=\"\",\"\",入力シート!J203)","v":""},{"$f":"IF(入力シート!K203=\"\",\"\",入力シート!K203)","v":""},{"$f":"IF(入力シート!L203=\"\",\"\",入力シート!L203)","v":""},{"$f":"IF(入力シート!M203=\"\",\"\",入力シート!M203)","v":""},{"$f":"IF(入力シート!N203=\"\",\"\",入力シート!N203)","v":""},{"$f":"IF(入力シート!O203=\"\",\"\",入力シート!O203)","v":""},null,{"$f":"IF(入力シート!P203=\"\",\"\",入力シート!P203)","v":""},{"$f":"IF(入力シート!Q203=\"\",\"\",入力シート!Q203)","v":""},{"$f":"IF(入力シート!R203=\"\",\"\",入力シート!R203)","v":""},{"$f":"IF(入力シート!S203=\"\",\"\",入力シート!S203)","v":""},{"$f":"IF(入力シート!T203=\"\",\"\",入力シート!T203)","v":""},{"$f":"IF(入力シート!U203=\"\",\"\",入力シート!U203)","v":""},{"$f":"IF(入力シート!V203=\"\",\"\",入力シート!V203)","v":""},{"$f":"IF(入力シート!W203=\"\",\"\",入力シート!W203)","v":""},{"$f":"IF(入力シート!X203=\"\",\"\",入力シート!X203)","v":""},{"$f":"IF(入力シート!Y203=\"\",\"\",入力シート!Y203)","v":""},{"$f":"IF(入力シート!Z203=\"\",\"\",入力シート!Z203)","v":""},null,null,{"$f":"IF(入力シート!H203=\"\",\"\",\"〇\")","v":""},{"$f":"IF(入力シート!AA203=\"\",\"\",入力シート!AA203)","v":""},{"$f":"IF(入力シート!AB203=\"\",\"\",入力シート!AB203)","v":""},{"$f":"IF(入力シート!AC203=\"\",\"\",入力シート!AC203)","v":""},{"$f":"IF(入力シート!AD203=\"\",\"\",入力シート!AD203)","v":""}]
[{"$f":"IF(入力シート!B204=\"\",\"\",入力シート!B204)","v":""},{"$f":"IF(入力シート!C204=\"\",\"\",入力シート!C204)","v":""},{"$f":"IF(入力シート!D204=\"\",\"\",DBCS(入力シート!D204))","v":""},{"$f":"IF(入力シート!E204=\"\",\"\",DBCS(入力シート!E204))","v":""},{"$f":"ASC(IF(入力シート!F204=\"\",\"\",UPPER(入力シート!F204)))","v":""},{"$f":"IF(入力シート!G204=\"\",\"\",PROPER(入力シート!G204))","v":""},{"$f":"IF(入力シート!H204=\"\",\"\",入力シート!H204)","v":""},{"$f":"IF(入力シート!I204=\"\",\"\",TEXT(入力シート!I204,\"yyyy/mm/dd\"))","v":""},{"$f":"IF(入力シート!J204=\"\",\"\",入力シート!J204)","v":""},{"$f":"IF(入力シート!K204=\"\",\"\",入力シート!K204)","v":""},{"$f":"IF(入力シート!L204=\"\",\"\",入力シート!L204)","v":""},{"$f":"IF(入力シート!M204=\"\",\"\",入力シート!M204)","v":""},{"$f":"IF(入力シート!N204=\"\",\"\",入力シート!N204)","v":""},{"$f":"IF(入力シート!O204=\"\",\"\",入力シート!O204)","v":""},null,{"$f":"IF(入力シート!P204=\"\",\"\",入力シート!P204)","v":""},{"$f":"IF(入力シート!Q204=\"\",\"\",入力シート!Q204)","v":""},{"$f":"IF(入力シート!R204=\"\",\"\",入力シート!R204)","v":""},{"$f":"IF(入力シート!S204=\"\",\"\",入力シート!S204)","v":""},{"$f":"IF(入力シート!T204=\"\",\"\",入力シート!T204)","v":""},{"$f":"IF(入力シート!U204=\"\",\"\",入力シート!U204)","v":""},{"$f":"IF(入力シート!V204=\"\",\"\",入力シート!V204)","v":""},{"$f":"IF(入力シート!W204=\"\",\"\",入力シート!W204)","v":""},{"$f":"IF(入力シート!X204=\"\",\"\",入力シート!X204)","v":""},{"$f":"IF(入力シート!Y204=\"\",\"\",入力シート!Y204)","v":""},{"$f":"IF(入力シート!Z204=\"\",\"\",入力シート!Z204)","v":""},null,null,{"$f":"IF(入力シート!H204=\"\",\"\",\"〇\")","v":""},{"$f":"IF(入力シート!AA204=\"\",\"\",入力シート!AA204)","v":""},{"$f":"IF(入力シート!AB204=\"\",\"\",入力シート!AB204)","v":""},{"$f":"IF(入力シート!AC204=\"\",\"\",入力シート!AC204)","v":""},{"$f":"IF(入力シート!AD204=\"\",\"\",入力シート!AD204)","v":""}]
[{"$f":"IF(入力シート!B205=\"\",\"\",入力シート!B205)","v":""},{"$f":"IF(入力シート!C205=\"\",\"\",入力シート!C205)","v":""},{"$f":"IF(入力シート!D205=\"\",\"\",DBCS(入力シート!D205))","v":""},{"$f":"IF(入力シート!E205=\"\",\"\",DBCS(入力シート!E205))","v":""},{"$f":"ASC(IF(入力シート!F205=\"\",\"\",UPPER(入力シート!F205)))","v":""},{"$f":"IF(入力シート!G205=\"\",\"\",PROPER(入力シート!G205))","v":""},{"$f":"IF(入力シート!H205=\"\",\"\",入力シート!H205)","v":""},{"$f":"IF(入力シート!I205=\"\",\"\",TEXT(入力シート!I205,\"yyyy/mm/dd\"))","v":""},{"$f":"IF(入力シート!J205=\"\",\"\",入力シート!J205)","v":""},{"$f":"IF(入力シート!K205=\"\",\"\",入力シート!K205)","v":""},{"$f":"IF(入力シート!L205=\"\",\"\",入力シート!L205)","v":""},{"$f":"IF(入力シート!M205=\"\",\"\",入力シート!M205)","v":""},{"$f":"IF(入力シート!N205=\"\",\"\",入力シート!N205)","v":""},{"$f":"IF(入力シート!O205=\"\",\"\",入力シート!O205)","v":""},null,{"$f":"IF(入力シート!P205=\"\",\"\",入力シート!P205)","v":""},{"$f":"IF(入力シート!Q205=\"\",\"\",入力シート!Q205)","v":""},{"$f":"IF(入力シート!R205=\"\",\"\",入力シート!R205)","v":""},{"$f":"IF(入力シート!S205=\"\",\"\",入力シート!S205)","v":""},{"$f":"IF(入力シート!T205=\"\",\"\",入力シート!T205)","v":""},{"$f":"IF(入力シート!U205=\"\",\"\",入力シート!U205)","v":""},{"$f":"IF(入力シート!V205=\"\",\"\",入力シート!V205)","v":""},{"$f":"IF(入力シート!W205=\"\",\"\",入力シート!W205)","v":""},{"$f":"IF(入力シート!X205=\"\",\"\",入力シート!X205)","v":""},{"$f":"IF(入力シート!Y205=\"\",\"\",入力シート!Y205)","v":""},{"$f":"IF(入力シート!Z205=\"\",\"\",入力シート!Z205)","v":""},null,null,{"$f":"IF(入力シート!H205=\"\",\"\",\"〇\")","v":""},{"$f":"IF(入力シート!AA205=\"\",\"\",入力シート!AA205)","v":""},{"$f":"IF(入力シート!AB205=\"\",\"\",入力シート!AB205)","v":""},{"$f":"IF(入力シート!AC205=\"\",\"\",入力シート!AC205)","v":""},{"$f":"IF(入力シート!AD205=\"\",\"\",入力シート!AD205)","v":""}]
[{"$f":"IF(入力シート!#REF!=\"\",\"\",入力シート!#REF!)","v":{"$error":"#REF!"}},{"$f":"IF(入力シート!#REF!=\"\",\"\",入力シート!#REF!)","v":{"$error":"#REF!"}},{"$f":"IF(入力シート!#REF!=\"\",\"\",DBCS(入力シート!#REF!))","v":{"$error":"#REF!"}},{"$f":"IF(入力シート!#REF!=\"\",\"\",DBCS(入力シート!#REF!))","v":{"$error":"#REF!"}},{"$f":"ASC(IF(入力シート!#REF!=\"\",\"\",UPPER(入力シート!#REF!)))","v":{"$error":"#REF!"}},{"$f":"IF(入力シート!#REF!=\"\",\"\",PROPER(入力シート!#REF!))","v":{"$error":"#REF!"}},{"$f":"IF(入力シート!#REF!=\"\",\"\",入力シート!#REF!)","v":{"$error":"#REF!"}},{"$f":"IF(入力シート!#REF!=\"\",\"\",TEXT(入力シート!#REF!,\"yyyy/mm/dd\"))","v":{"$error":"#REF!"}},{"$f":"IF(入力シート!#REF!=\"\",\"\",入力シート!#REF!)","v":{"$error":"#REF!"}},{"$f":"IF(入力シート!#REF!=\"\",\"\",入力シート!#REF!)","v":{"$error":"#REF!"}},{"$f":"IF(入力シート!#REF!=\"\",\"\",入力シート!#REF!)","v":{"$error":"#REF!"}},{"$f":"IF(入力シート!#REF!=\"\",\"\",入力シート!#REF!)","v":{"$error":"#REF!"}},{"$f":"IF(入力シート!#REF!=\"\",\"\",入力シート!#REF!)","v":{"$error":"#REF!"}},{"$f":"IF(入力シート!#REF!=\"\",\"\",入力シート!#REF!)","v":{"$error":"#REF!"}},null,{"$f":"IF(入力シート!#REF!=\"\",\"\",入力シート!#REF!)","v":{"$error":"#REF!"}},{"$f":"IF(入力シート!#REF!=\"\",\"\",入力シート!#REF!)","v":{"$error":"#REF!"}},{"$f":"IF(入力シート!#REF!=\"\",\"\",入力シート!#REF!)","v":{"$error":"#REF!"}},{"$f":"IF(入力シート!#REF!=\"\",\"\",入力シート!#REF!)","v":{"$error":"#REF!"}},{"$f":"IF(入力シート!#REF!=\"\",\"\",入力シート!#REF!)","v":{"$error":"#REF!"}},{"$f":"IF(入力シート!#REF!=\"\",\"\",入力シート!#REF!)","v":{"$error":"#REF!"}},{"$f":"IF(入力シート!#REF!=\"\",\"\",入力シート!#REF!)","v":{"$error":"#REF!"}},{"$f":"IF(入力シート!#REF!=\"\",\"\",入力シート!#REF!)","v":{"$error":"#REF!"}},{"$f":"IF(入力シート!#REF!=\"\",\"\",入力シート!#REF!)","v":{"$error":"#REF!"}},{"$f":"IF(入力シート!#REF!=\"\",\"\",入力シート!#REF!)","v":{"$error":"#REF!"}},{"$f":"IF(入力シート!#REF!=\"\",\"\",入力シート!#REF!)","v":{"$error":"#REF!"}},null,null,{"$f":"IF(入力シート!H206=\"\",\"\",\"〇\")","v":""},{"$f":"IF(入力シート!#REF!=\"\",\"\",入力シート!#REF!)","v":{"$error":"#REF!"}},{"$f":"IF(入力シート!#REF!=\"\",\"\",入力シート!#REF!)","v":{"$error":"#REF!"}},{"$f":"IF(入力シート!#REF!=\"\",\"\",入力シート!#REF!)","v":{"$error":"#REF!"}},{"$f":"IF(入力シート!#REF!=\"\",\"\",入力シート!#REF!)","v":{"$error":"#REF!"}}]
[{"$f":"IF(入力シート!#REF!=\"\",\"\",入力シート!#REF!)","v":{"$error":"#REF!"}},{"$f":"IF(入力シート!#REF!=\"\",\"\",入力シート!#REF!)","v":{"$error":"#REF!"}},{"$f":"IF(入力シート!#REF!=\"\",\"\",DBCS(入力シート!#REF!))","v":{"$error":"#REF!"}},{"$f":"IF(入力シート!#REF!=\"\",\"\",DBCS(入力シート!#REF!))","v":{"$error":"#REF!"}},{"$f":"ASC(IF(入力シート!#REF!=\"\",\"\",UPPER(入力シート!#REF!)))","v":{"$error":"#REF!"}},{"$f":"IF(入力シート!#REF!=\"\",\"\",PROPER(入力シート!#REF!))","v":{"$error":"#REF!"}},{"$f":"IF(入力シート!#REF!=\"\",\"\",入力シート!#REF!)","v":{"$error":"#REF!"}},{"$f":"IF(入力シート!#REF!=\"\",\"\",TEXT(入力シート!#REF!,\"yyyy/mm/dd\"))","v":{"$error":"#REF!"}},{"$f":"IF(入力シート!#REF!=\"\",\"\",入力シート!#REF!)","v":{"$error":"#REF!"}},{"$f":"IF(入力シート!#REF!=\"\",\"\",入力シート!#REF!)","v":{"$error":"#REF!"}},{"$f":"IF(入力シート!#REF!=\"\",\"\",入力シート!#REF!)","v":{"$error":"#REF!"}},{"$f":"IF(入力シート!#REF!=\"\",\"\",入力シート!#REF!)","v":{"$error":"#REF!"}},{"$f":"IF(入力シート!#REF!=\"\",\"\",入力シート!#REF!)","v":{"$error":"#REF!"}},{"$f":"IF(入力シート!#REF!=\"\",\"\",入力シート!#REF!)","v":{"$error":"#REF!"}},null,{"$f":"IF(入力シート!#REF!=\"\",\"\",入力シート!#REF!)","v":{"$error":"#REF!"}},{"$f":"IF(入力シート!#REF!=\"\",\"\",入力シート!#REF!)","v":{"$error":"#REF!"}},{"$f":"IF(入力シート!#REF!=\"\",\"\",入力シート!#REF!)","v":{"$error":"#REF!"}},{"$f":"IF(入力シート!#REF!=\"\",\"\",入力シート!#REF!)","v":{"$error":"#REF!"}},{"$f":"IF(入力シート!#REF!=\"\",\"\",入力シート!#REF!)","v":{"$error":"#REF!"}},{"$f":"IF(入力シート!#REF!=\"\",\"\",入力シート!#REF!)","v":{"$error":"#REF!"}},{"$f":"IF(入力シート!#REF!=\"\",\"\",入力シート!#REF!)","v":{"$error":"#REF!"}},{"$f":"IF(入力シート!#REF!=\"\",\"\",入力シート!#REF!)","v":{"$error":"#REF!"}},{"$f":"IF(入力シート!#REF!=\"\",\"\",入力シート!#REF!)","v":{"$error":"#REF!"}},{"$f":"IF(入力シート!#REF!=\"\",\"\",入力シート!#REF!)","v":{"$error":"#REF!"}},{"$f":"IF(入力シート!#REF!=\"\",\"\",入力シート!#REF!)","v":{"$error":"#REF!"}},null,null,{"$f":"IF(入力シート!H207=\"\",\"\",\"〇\")","v":""},{"$f":"IF(入力シート!#REF!=\"\",\"\",入力シート!#REF!)","v":{"$error":"#REF!"}},{"$f":"IF(入力シート!#REF!=\"\",\"\",入力シート!#REF!)","v":{"$error":"#REF!"}},{"$f":"IF(入力シート!#REF!=\"\",\"\",入力シート!#REF!)","v":{"$error":"#REF!"}},{"$f":"IF(入力シート!#REF!=\"\",\"\",入力シート!#REF!)","v":{"$error":"#REF!"}}]
[{"$f":"IF(入力シート!#REF!=\"\",\"\",入力シート!#REF!)","v":{"$error":"#REF!"}},{"$f":"IF(入力シート!#REF!=\"\",\"\",入力シート!#REF!)","v":{"$error":"#REF!"}},{"$f":"IF(入力シート!#REF!=\"\",\"\",DBCS(入力シート!#REF!))","v":{"$error":"#REF!"}},{"$f":"IF(入力シート!#REF!=\"\",\"\",DBCS(入力シート!#REF!))","v":{"$error":"#REF!"}},{"$f":"ASC(IF(入力シート!#REF!=\"\",\"\",UPPER(入力シート!#REF!)))","v":{"$error":"#REF!"}},{"$f":"IF(入力シート!#REF!=\"\",\"\",PROPER(入力シート!#REF!))","v":{"$error":"#REF!"}},{"$f":"IF(入力シート!#REF!=\"\",\"\",入力シート!#REF!)","v":{"$error":"#REF!"}},{"$f":"IF(入力シート!#REF!=\"\",\"\",TEXT(入力シート!#REF!,\"yyyy/mm/dd\"))","v":{"$error":"#REF!"}},{"$f":"IF(入力シート!#REF!=\"\",\"\",入力シート!#REF!)","v":{"$error":"#REF!"}},{"$f":"IF(入力シート!#REF!=\"\",\"\",入力シート!#REF!)","v":{"$error":"#REF!"}},{"$f":"IF(入力シート!#REF!=\"\",\"\",入力シート!#REF!)","v":{"$error":"#REF!"}},{"$f":"IF(入力シート!#REF!=\"\",\"\",入力シート!#REF!)","v":{"$error":"#REF!"}},{"$f":"IF(入力シート!#REF!=\"\",\"\",入力シート!#REF!)","v":{"$error":"#REF!"}},{"$f":"IF(入力シート!#REF!=\"\",\"\",入力シート!#REF!)","v":{"$error":"#REF!"}},null,{"$f":"IF(入力シート!#REF!=\"\",\"\",入力シート!#REF!)","v":{"$error":"#REF!"}},{"$f":"IF(入力シート!#REF!=\"\",\"\",入力シート!#REF!)","v":{"$error":"#REF!"}},{"$f":"IF(入力シート!#REF!=\"\",\"\",入力シート!#REF!)","v":{"$error":"#REF!"}},{"$f":"IF(入力シート!#REF!=\"\",\"\",入力シート!#REF!)","v":{"$error":"#REF!"}},{"$f":"IF(入力シート!#REF!=\"\",\"\",入力シート!#REF!)","v":{"$error":"#REF!"}},{"$f":"IF(入力シート!#REF!=\"\",\"\",入力シート!#REF!)","v":{"$error":"#REF!"}},{"$f":"IF(入力シート!#REF!=\"\",\"\",入力シート!#REF!)","v":{"$error":"#REF!"}},{"$f":"IF(入力シート!#REF!=\"\",\"\",入力シート!#REF!)","v":{"$error":"#REF!"}},{"$f":"IF(入力シート!#REF!=\"\",\"\",入力シート!#REF!)","v":{"$error":"#REF!"}},{"$f":"IF(入力シート!#REF!=\"\",\"\",入力シート!#REF!)","v":{"$error":"#REF!"}},{"$f":"IF(入力シート!#REF!=\"\",\"\",入力シート!#REF!)","v":{"$error":"#REF!"}},null,null,{"$f":"IF(入力シート!H208=\"\",\"\",\"〇\")","v":""},{"$f":"IF(入力シート!#REF!=\"\",\"\",入力シート!#REF!)","v":{"$error":"#REF!"}},{"$f":"IF(入力シート!#REF!=\"\",\"\",入力シート!#REF!)","v":{"$error":"#REF!"}},{"$f":"IF(入力シート!#REF!=\"\",\"\",入力シート!#REF!)","v":{"$error":"#REF!"}},{"$f":"IF(入力シート!#REF!=\"\",\"\",入力シート!#REF!)","v":{"$error":"#REF!"}}]
[{"$f":"IF(入力シート!#REF!=\"\",\"\",入力シート!#REF!)","v":{"$error":"#REF!"}},{"$f":"IF(入力シート!#REF!=\"\",\"\",入力シート!#REF!)","v":{"$error":"#REF!"}},{"$f":"IF(入力シート!#REF!=\"\",\"\",DBCS(入力シート!#REF!))","v":{"$error":"#REF!"}},{"$f":"IF(入力シート!#REF!=\"\",\"\",DBCS(入力シート!#REF!))","v":{"$error":"#REF!"}},{"$f":"ASC(IF(入力シート!#REF!=\"\",\"\",UPPER(入力シート!#REF!)))","v":{"$error":"#REF!"}},{"$f":"IF(入力シート!#REF!=\"\",\"\",PROPER(入力シート!#REF!))","v":{"$error":"#REF!"}},{"$f":"IF(入力シート!#REF!=\"\",\"\",入力シート!#REF!)","v":{"$error":"#REF!"}},{"$f":"IF(入力シート!#REF!=\"\",\"\",TEXT(入力シート!#REF!,\"yyyy/mm/dd\"))","v":{"$error":"#REF!"}},{"$f":"IF(入力シート!#REF!=\"\",\"\",入力シート!#REF!)","v":{"$error":"#REF!"}},{"$f":"IF(入力シート!#REF!=\"\",\"\",入力シート!#REF!)","v":{"$error":"#REF!"}},{"$f":"IF(入力シート!#REF!=\"\",\"\",入力シート!#REF!)","v":{"$error":"#REF!"}},{"$f":"IF(入力シート!#REF!=\"\",\"\",入力シート!#REF!)","v":{"$error":"#REF!"}},{"$f":"IF(入力シート!#REF!=\"\",\"\",入力シート!#REF!)","v":{"$error":"#REF!"}},{"$f":"IF(入力シート!#REF!=\"\",\"\",入力シート!#REF!)","v":{"$error":"#REF!"}},null,{"$f":"IF(入力シート!#REF!=\"\",\"\",入力シート!#REF!)","v":{"$error":"#REF!"}},{"$f":"IF(入力シート!#REF!=\"\",\"\",入力シート!#REF!)","v":{"$error":"#REF!"}},{"$f":"IF(入力シート!#REF!=\"\",\"\",入力シート!#REF!)","v":{"$error":"#REF!"}},{"$f":"IF(入力シート!#REF!=\"\",\"\",入力シート!#REF!)","v":{"$error":"#REF!"}},{"$f":"IF(入力シート!#REF!=\"\",\"\",入力シート!#REF!)","v":{"$error":"#REF!"}},{"$f":"IF(入力シート!#REF!=\"\",\"\",入力シート!#REF!)","v":{"$error":"#REF!"}},{"$f":"IF(入力シート!#REF!=\"\",\"\",入力シート!#REF!)","v":{"$error":"#REF!"}},{"$f":"IF(入力シート!#REF!=\"\",\"\",入力シート!#REF!)","v":{"$error":"#REF!"}},{"$f":"IF(入力シート!#REF!=\"\",\"\",入力シート!#REF!)","v":{"$error":"#REF!"}},{"$f":"IF(入力シート!#REF!=\"\",\"\",入力シート!#REF!)","v":{"$error":"#REF!"}},{"$f":"IF(入力シート!#REF!=\"\",\"\",入力シート!#REF!)","v":{"$error":"#REF!"}},null,null,{"$f":"IF(入力シート!H209=\"\",\"\",\"〇\")","v":""},{"$f":"IF(入力シート!#REF!=\"\",\"\",入力シート!#REF!)","v":{"$error":"#REF!"}},{"$f":"IF(入力シート!#REF!=\"\",\"\",入力シート!#REF!)","v":{"$error":"#REF!"}},{"$f":"IF(入力シート!#REF!=\"\",\"\",入力シート!#REF!)","v":{"$error":"#REF!"}},{"$f":"IF(入力シート!#REF!=\"\",\"\",入力シート!#REF!)","v":{"$error":"#REF!"}}]
[{"$f":"IF(入力シート!#REF!=\"\",\"\",入力シート!#REF!)","v":{"$error":"#REF!"}},{"$f":"IF(入力シート!#REF!=\"\",\"\",入力シート!#REF!)","v":{"$error":"#REF!"}},{"$f":"IF(入力シート!#REF!=\"\",\"\",DBCS(入力シート!#REF!))","v":{"$error":"#REF!"}},{"$f":"IF(入力シート!#REF!=\"\",\"\",DBCS(入力シート!#REF!))","v":{"$error":"#REF!"}},{"$f":"ASC(IF(入力シート!#REF!=\"\",\"\",UPPER(入力シート!#REF!)))","v":{"$error":"#REF!"}},{"$f":"IF(入力シート!#REF!=\"\",\"\",PROPER(入力シート!#REF!))","v":{"$error":"#REF!"}},{"$f":"IF(入力シート!#REF!=\"\",\"\",入力シート!#REF!)","v":{"$error":"#REF!"}},{"$f":"IF(入力シート!#REF!=\"\",\"\",TEXT(入力シート!#REF!,\"yyyy/mm/dd\"))","v":{"$error":"#REF!"}},{"$f":"IF(入力シート!#REF!=\"\",\"\",入力シート!#REF!)","v":{"$error":"#REF!"}},{"$f":"IF(入力シート!#REF!=\"\",\"\",入力シート!#REF!)","v":{"$error":"#REF!"}},{"$f":"IF(入力シート!#REF!=\"\",\"\",入力シート!#REF!)","v":{"$error":"#REF!"}},{"$f":"IF(入力シート!#REF!=\"\",\"\",入力シート!#REF!)","v":{"$error":"#REF!"}},{"$f":"IF(入力シート!#REF!=\"\",\"\",入力シート!#REF!)","v":{"$error":"#REF!"}},{"$f":"IF(入力シート!#REF!=\"\",\"\",入力シート!#REF!)","v":{"$error":"#REF!"}},null,{"$f":"IF(入力シート!#REF!=\"\",\"\",入力シート!#REF!)","v":{"$error":"#REF!"}},{"$f":"IF(入力シート!#REF!=\"\",\"\",入力シート!#REF!)","v":{"$error":"#REF!"}},{"$f":"IF(入力シート!#REF!=\"\",\"\",入力シート!#REF!)","v":{"$error":"#REF!"}},{"$f":"IF(入力シート!#REF!=\"\",\"\",入力シート!#REF!)","v":{"$error":"#REF!"}},{"$f":"IF(入力シート!#REF!=\"\",\"\",入力シート!#REF!)","v":{"$error":"#REF!"}},{"$f":"IF(入力シート!#REF!=\"\",\"\",入力シート!#REF!)","v":{"$error":"#REF!"}},{"$f":"IF(入力シート!#REF!=\"\",\"\",入力シート!#REF!)","v":{"$error":"#REF!"}},{"$f":"IF(入力シート!#REF!=\"\",\"\",入力シート!#REF!)","v":{"$error":"#REF!"}},{"$f":"IF(入力シート!#REF!=\"\",\"\",入力シート!#REF!)","v":{"$error":"#REF!"}},{"$f":"IF(入力シート!#REF!=\"\",\"\",入力シート!#REF!)","v":{"$error":"#REF!"}},{"$f":"IF(入力シート!#REF!=\"\",\"\",入力シート!#REF!)","v":{"$error":"#REF!"}},null,null,{"$f":"IF(入力シート!H210=\"\",\"\",\"〇\")","v":""},{"$f":"IF(入力シート!#REF!=\"\",\"\",入力シート!#REF!)","v":{"$error":"#REF!"}},{"$f":"IF(入力シート!#REF!=\"\",\"\",入力シート!#REF!)","v":{"$error":"#REF!"}},{"$f":"IF(入力シート!#REF!=\"\",\"\",入力シート!#REF!)","v":{"$error":"#REF!"}},{"$f":"IF(入力シート!#REF!=\"\",\"\",入力シート!#REF!)","v":{"$error":"#REF!"}}]
[{"$f":"IF(入力シート!#REF!=\"\",\"\",入力シート!#REF!)","v":{"$error":"#REF!"}},{"$f":"IF(入力シート!#REF!=\"\",\"\",入力シート!#REF!)","v":{"$error":"#REF!"}},{"$f":"IF(入力シート!#REF!=\"\",\"\",DBCS(入力シート!#REF!))","v":{"$error":"#REF!"}},{"$f":"IF(入力シート!#REF!=\"\",\"\",DBCS(入力シート!#REF!))","v":{"$error":"#REF!"}},{"$f":"ASC(IF(入力シート!#REF!=\"\",\"\",UPPER(入力シート!#REF!)))","v":{"$error":"#REF!"}},{"$f":"IF(入力シート!#REF!=\"\",\"\",PROPER(入力シート!#REF!))","v":{"$error":"#REF!"}},{"$f":"IF(入力シート!#REF!=\"\",\"\",入力シート!#REF!)","v":{"$error":"#REF!"}},{"$f":"IF(入力シート!#REF!=\"\",\"\",TEXT(入力シート!#REF!,\"yyyy/mm/dd\"))","v":{"$error":"#REF!"}},{"$f":"IF(入力シート!#REF!=\"\",\"\",入力シート!#REF!)","v":{"$error":"#REF!"}},{"$f":"IF(入力シート!#REF!=\"\",\"\",入力シート!#REF!)","v":{"$error":"#REF!"}},{"$f":"IF(入力シート!#REF!=\"\",\"\",入力シート!#REF!)","v":{"$error":"#REF!"}},{"$f":"IF(入力シート!#REF!=\"\",\"\",入力シート!#REF!)","v":{"$error":"#REF!"}},{"$f":"IF(入力シート!#REF!=\"\",\"\",入力シート!#REF!)","v":{"$error":"#REF!"}},{"$f":"IF(入力シート!#REF!=\"\",\"\",入力シート!#REF!)","v":{"$error":"#REF!"}},null,{"$f":"IF(入力シート!#REF!=\"\",\"\",入力シート!#REF!)","v":{"$error":"#REF!"}},{"$f":"IF(入力シート!#REF!=\"\",\"\",入力シート!#REF!)","v":{"$error":"#REF!"}},{"$f":"IF(入力シート!#REF!=\"\",\"\",入力シート!#REF!)","v":{"$error":"#REF!"}},{"$f":"IF(入力シート!#REF!=\"\",\"\",入力シート!#REF!)","v":{"$error":"#REF!"}},{"$f":"IF(入力シート!#REF!=\"\",\"\",入力シート!#REF!)","v":{"$error":"#REF!"}},{"$f":"IF(入力シート!#REF!=\"\",\"\",入力シート!#REF!)","v":{"$error":"#REF!"}},{"$f":"IF(入力シート!#REF!=\"\",\"\",入力シート!#REF!)","v":{"$error":"#REF!"}},{"$f":"IF(入力シート!#REF!=\"\",\"\",入力シート!#REF!)","v":{"$error":"#REF!"}},{"$f":"IF(入力シート!#REF!=\"\",\"\",入力シート!#REF!)","v":{"$error":"#REF!"}},{"$f":"IF(入力シート!#REF!=\"\",\"\",入力シート!#REF!)","v":{"$error":"#REF!"}},{"$f":"IF(入力シート!#REF!=\"\",\"\",入力シート!#REF!)","v":{"$error":"#REF!"}},null,null,{"$f":"IF(入力シート!H211=\"\",\"\",\"〇\")","v":""},{"$f":"IF(入力シート!#REF!=\"\",\"\",入力シート!#REF!)","v":{"$error":"#REF!"}},{"$f":"IF(入力シート!#REF!=\"\",\"\",入力シート!#REF!)","v":{"$error":"#REF!"}},{"$f":"IF(入力シート!#REF!=\"\",\"\",入力シート!#REF!)","v":{"$error":"#REF!"}},{"$f":"IF(入力シート!#REF!=\"\",\"\",入力シート!#REF!)","v":{"$error":"#REF!"}}]
[{"$f":"IF(入力シート!#REF!=\"\",\"\",入力シート!#REF!)","v":{"$error":"#REF!"}},{"$f":"IF(入力シート!#REF!=\"\",\"\",入力シート!#REF!)","v":{"$error":"#REF!"}},{"$f":"IF(入力シート!#REF!=\"\",\"\",DBCS(入力シート!#REF!))","v":{"$error":"#REF!"}},{"$f":"IF(入力シート!#REF!=\"\",\"\",DBCS(入力シート!#REF!))","v":{"$error":"#REF!"}},{"$f":"ASC(IF(入力シート!#REF!=\"\",\"\",UPPER(入力シート!#REF!)))","v":{"$error":"#REF!"}},{"$f":"IF(入力シート!#REF!=\"\",\"\",PROPER(入力シート!#REF!))","v":{"$error":"#REF!"}},{"$f":"IF(入力シート!#REF!=\"\",\"\",入力シート!#REF!)","v":{"$error":"#REF!"}},{"$f":"IF(入力シート!#REF!=\"\",\"\",TEXT(入力シート!#REF!,\"yyyy/mm/dd\"))","v":{"$error":"#REF!"}},{"$f":"IF(入力シート!#REF!=\"\",\"\",入力シート!#REF!)","v":{"$error":"#REF!"}},{"$f":"IF(入力シート!#REF!=\"\",\"\",入力シート!#REF!)","v":{"$error":"#REF!"}},{"$f":"IF(入力シート!#REF!=\"\",\"\",入力シート!#REF!)","v":{"$error":"#REF!"}},{"$f":"IF(入力シート!#REF!=\"\",\"\",入力シート!#REF!)","v":{"$error":"#REF!"}},{"$f":"IF(入力シート!#REF!=\"\",\"\",入力シート!#REF!)","v":{"$error":"#REF!"}},{"$f":"IF(入力シート!#REF!=\"\",\"\",入力シート!#REF!)","v":{"$error":"#REF!"}},null,{"$f":"IF(入力シート!#REF!=\"\",\"\",入力シート!#REF!)","v":{"$error":"#REF!"}},{"$f":"IF(入力シート!#REF!=\"\",\"\",入力シート!#REF!)","v":{"$error":"#REF!"}},{"$f":"IF(入力シート!#REF!=\"\",\"\",入力シート!#REF!)","v":{"$error":"#REF!"}},{"$f":"IF(入力シート!#REF!=\"\",\"\",入力シート!#REF!)","v":{"$error":"#REF!"}},{"$f":"IF(入力シート!#REF!=\"\",\"\",入力シート!#REF!)","v":{"$error":"#REF!"}},{"$f":"IF(入力シート!#REF!=\"\",\"\",入力シート!#REF!)","v":{"$error":"#REF!"}},{"$f":"IF(入力シート!#REF!=\"\",\"\",入力シート!#REF!)","v":{"$error":"#REF!"}},{"$f":"IF(入力シート!#REF!=\"\",\"\",入力シート!#REF!)","v":{"$error":"#REF!"}},{"$f":"IF(入力シート!#REF!=\"\",\"\",入力シート!#REF!)","v":{"$error":"#REF!"}},{"$f":"IF(入力シート!#REF!=\"\",\"\",入力シート!#REF!)","v":{"$error":"#REF!"}},{"$f":"IF(入力シート!#REF!=\"\",\"\",入力シート!#REF!)","v":{"$error":"#REF!"}},null,null,{"$f":"IF(入力シート!H212=\"\",\"\",\"〇\")","v":""},{"$f":"IF(入力シート!#REF!=\"\",\"\",入力シート!#REF!)","v":{"$error":"#REF!"}},{"$f":"IF(入力シート!#REF!=\"\",\"\",入力シート!#REF!)","v":{"$error":"#REF!"}},{"$f":"IF(入力シート!#REF!=\"\",\"\",入力シート!#REF!)","v":{"$error":"#REF!"}},{"$f":"IF(入力シート!#REF!=\"\",\"\",入力シート!#REF!)","v":{"$error":"#REF!"}}]
[{"$f":"IF(入力シート!#REF!=\"\",\"\",入力シート!#REF!)","v":{"$error":"#REF!"}},{"$f":"IF(入力シート!#REF!=\"\",\"\",入力シート!#REF!)","v":{"$error":"#REF!"}},{"$f":"IF(入力シート!#REF!=\"\",\"\",DBCS(入力シート!#REF!))","v":{"$error":"#REF!"}},{"$f":"IF(入力シート!#REF!=\"\",\"\",DBCS(入力シート!#REF!))","v":{"$error":"#REF!"}},{"$f":"ASC(IF(入力シート!#REF!=\"\",\"\",UPPER(入力シート!#REF!)))","v":{"$error":"#REF!"}},{"$f":"IF(入力シート!#REF!=\"\",\"\",PROPER(入力シート!#REF!))","v":{"$error":"#REF!"}},{"$f":"IF(入力シート!#REF!=\"\",\"\",入力シート!#REF!)","v":{"$error":"#REF!"}},{"$f":"IF(入力シート!#REF!=\"\",\"\",TEXT(入力シート!#REF!,\"yyyy/mm/dd\"))","v":{"$error":"#REF!"}},{"$f":"IF(入力シート!#REF!=\"\",\"\",入力シート!#REF!)","v":{"$error":"#REF!"}},{"$f":"IF(入力シート!#REF!=\"\",\"\",入力シート!#REF!)","v":{"$error":"#REF!"}},{"$f":"IF(入力シート!#REF!=\"\",\"\",入力シート!#REF!)","v":{"$error":"#REF!"}},{"$f":"IF(入力シート!#REF!=\"\",\"\",入力シート!#REF!)","v":{"$error":"#REF!"}},{"$f":"IF(入力シート!#REF!=\"\",\"\",入力シート!#REF!)","v":{"$error":"#REF!"}},{"$f":"IF(入力シート!#REF!=\"\",\"\",入力シート!#REF!)","v":{"$error":"#REF!"}},null,{"$f":"IF(入力シート!#REF!=\"\",\"\",入力シート!#REF!)","v":{"$error":"#REF!"}},{"$f":"IF(入力シート!#REF!=\"\",\"\",入力シート!#REF!)","v":{"$error":"#REF!"}},{"$f":"IF(入力シート!#REF!=\"\",\"\",入力シート!#REF!)","v":{"$error":"#REF!"}},{"$f":"IF(入力シート!#REF!=\"\",\"\",入力シート!#REF!)","v":{"$error":"#REF!"}},{"$f":"IF(入力シート!#REF!=\"\",\"\",入力シート!#REF!)","v":{"$error":"#REF!"}},{"$f":"IF(入力シート!#REF!=\"\",\"\",入力シート!#REF!)","v":{"$error":"#REF!"}},{"$f":"IF(入力シート!#REF!=\"\",\"\",入力シート!#REF!)","v":{"$error":"#REF!"}},{"$f":"IF(入力シート!#REF!=\"\",\"\",入力シート!#REF!)","v":{"$error":"#REF!"}},{"$f":"IF(入力シート!#REF!=\"\",\"\",入力シート!#REF!)","v":{"$error":"#REF!"}},{"$f":"IF(入力シート!#REF!=\"\",\"\",入力シート!#REF!)","v":{"$error":"#REF!"}},{"$f":"IF(入力シート!#REF!=\"\",\"\",入力シート!#REF!)","v":{"$error":"#REF!"}},null,null,{"$f":"IF(入力シート!H213=\"\",\"\",\"〇\")","v":""},{"$f":"IF(入力シート!#REF!=\"\",\"\",入力シート!#REF!)","v":{"$error":"#REF!"}},{"$f":"IF(入力シート!#REF!=\"\",\"\",入力シート!#REF!)","v":{"$error":"#REF!"}},{"$f":"IF(入力シート!#REF!=\"\",\"\",入力シート!#REF!)","v":{"$error":"#REF!"}},{"$f":"IF(入力シート!#REF!=\"\",\"\",入力シート!#REF!)","v":{"$error":"#REF!"}}]
[{"$f":"IF(入力シート!#REF!=\"\",\"\",入力シート!#REF!)","v":{"$error":"#REF!"}},{"$f":"IF(入力シート!#REF!=\"\",\"\",入力シート!#REF!)","v":{"$error":"#REF!"}},{"$f":"IF(入力シート!#REF!=\"\",\"\",DBCS(入力シート!#REF!))","v":{"$error":"#REF!"}},{"$f":"IF(入力シート!#REF!=\"\",\"\",DBCS(入力シート!#REF!))","v":{"$error":"#REF!"}},{"$f":"ASC(IF(入力シート!#REF!=\"\",\"\",UPPER(入力シート!#REF!)))","v":{"$error":"#REF!"}},{"$f":"IF(入力シート!#REF!=\"\",\"\",PROPER(入力シート!#REF!))","v":{"$error":"#REF!"}},{"$f":"IF(入力シート!#REF!=\"\",\"\",入力シート!#REF!)","v":{"$error":"#REF!"}},{"$f":"IF(入力シート!#REF!=\"\",\"\",TEXT(入力シート!#REF!,\"yyyy/mm/dd\"))","v":{"$error":"#REF!"}},{"$f":"IF(入力シート!#REF!=\"\",\"\",入力シート!#REF!)","v":{"$error":"#REF!"}},{"$f":"IF(入力シート!#REF!=\"\",\"\",入力シート!#REF!)","v":{"$error":"#REF!"}},{"$f":"IF(入力シート!#REF!=\"\",\"\",入力シート!#REF!)","v":{"$error":"#REF!"}},{"$f":"IF(入力シート!#REF!=\"\",\"\",入力シート!#REF!)","v":{"$error":"#REF!"}},{"$f":"IF(入力シート!#REF!=\"\",\"\",入力シート!#REF!)","v":{"$error":"#REF!"}},{"$f":"IF(入力シート!#REF!=\"\",\"\",入力シート!#REF!)","v":{"$error":"#REF!"}},null,{"$f":"IF(入力シート!#REF!=\"\",\"\",入力シート!#REF!)","v":{"$error":"#REF!"}},{"$f":"IF(入力シート!#REF!=\"\",\"\",入力シート!#REF!)","v":{"$error":"#REF!"}},{"$f":"IF(入力シート!#REF!=\"\",\"\",入力シート!#REF!)","v":{"$error":"#REF!"}},{"$f":"IF(入力シート!#REF!=\"\",\"\",入力シート!#REF!)","v":{"$error":"#REF!"}},{"$f":"IF(入力シート!#REF!=\"\",\"\",入力シート!#REF!)","v":{"$error":"#REF!"}},{"$f":"IF(入力シート!#REF!=\"\",\"\",入力シート!#REF!)","v":{"$error":"#REF!"}},{"$f":"IF(入力シート!#REF!=\"\",\"\",入力シート!#REF!)","v":{"$error":"#REF!"}},{"$f":"IF(入力シート!#REF!=\"\",\"\",入力シート!#REF!)","v":{"$error":"#REF!"}},{"$f":"IF(入力シート!#REF!=\"\",\"\",入力シート!#REF!)","v":{"$error":"#REF!"}},{"$f":"IF(入力シート!#REF!=\"\",\"\",入力シート!#REF!)","v":{"$error":"#REF!"}},{"$f":"IF(入力シート!#REF!=\"\",\"\",入力シート!#REF!)","v":{"$error":"#REF!"}},null,null,{"$f":"IF(入力シート!H214=\"\",\"\",\"〇\")","v":""},{"$f":"IF(入力シート!#REF!=\"\",\"\",入力シート!#REF!)","v":{"$error":"#REF!"}},{"$f":"IF(入力シート!#REF!=\"\",\"\",入力シート!#REF!)","v":{"$error":"#REF!"}},{"$f":"IF(入力シート!#REF!=\"\",\"\",入力シート!#REF!)","v":{"$error":"#REF!"}},{"$f":"IF(入力シート!#REF!=\"\",\"\",入力シート!#REF!)","v":{"$error":"#REF!"}}]
[{"$f":"IF(入力シート!#REF!=\"\",\"\",入力シート!#REF!)","v":{"$error":"#REF!"}},{"$f":"IF(入力シート!#REF!=\"\",\"\",入力シート!#REF!)","v":{"$error":"#REF!"}},{"$f":"IF(入力シート!#REF!=\"\",\"\",DBCS(入力シート!#REF!))","v":{"$error":"#REF!"}},{"$f":"IF(入力シート!#REF!=\"\",\"\",DBCS(入力シート!#REF!))","v":{"$error":"#REF!"}},{"$f":"ASC(IF(入力シート!#REF!=\"\",\"\",UPPER(入力シート!#REF!)))","v":{"$error":"#REF!"}},{"$f":"IF(入力シート!#REF!=\"\",\"\",PROPER(入力シート!#REF!))","v":{"$error":"#REF!"}},{"$f":"IF(入力シート!#REF!=\"\",\"\",入力シート!#REF!)","v":{"$error":"#REF!"}},{"$f":"IF(入力シート!#REF!=\"\",\"\",TEXT(入力シート!#REF!,\"yyyy/mm/dd\"))","v":{"$error":"#REF!"}},{"$f":"IF(入力シート!#REF!=\"\",\"\",入力シート!#REF!)","v":{"$error":"#REF!"}},{"$f":"IF(入力シート!#REF!=\"\",\"\",入力シート!#REF!)","v":{"$error":"#REF!"}},{"$f":"IF(入力シート!#REF!=\"\",\"\",入力シート!#REF!)","v":{"$error":"#REF!"}},{"$f":"IF(入力シート!#REF!=\"\",\"\",入力シート!#REF!)","v":{"$error":"#REF!"}},{"$f":"IF(入力シート!#REF!=\"\",\"\",入力シート!#REF!)","v":{"$error":"#REF!"}},{"$f":"IF(入力シート!#REF!=\"\",\"\",入力シート!#REF!)","v":{"$error":"#REF!"}},null,{"$f":"IF(入力シート!#REF!=\"\",\"\",入力シート!#REF!)","v":{"$error":"#REF!"}},{"$f":"IF(入力シート!#REF!=\"\",\"\",入力シート!#REF!)","v":{"$error":"#REF!"}},{"$f":"IF(入力シート!#REF!=\"\",\"\",入力シート!#REF!)","v":{"$error":"#REF!"}},{"$f":"IF(入力シート!#REF!=\"\",\"\",入力シート!#REF!)","v":{"$error":"#REF!"}},{"$f":"IF(入力シート!#REF!=\"\",\"\",入力シート!#REF!)","v":{"$error":"#REF!"}},{"$f":"IF(入力シート!#REF!=\"\",\"\",入力シート!#REF!)","v":{"$error":"#REF!"}},{"$f":"IF(入力シート!#REF!=\"\",\"\",入力シート!#REF!)","v":{"$error":"#REF!"}},{"$f":"IF(入力シート!#REF!=\"\",\"\",入力シート!#REF!)","v":{"$error":"#REF!"}},{"$f":"IF(入力シート!#REF!=\"\",\"\",入力シート!#REF!)","v":{"$error":"#REF!"}},{"$f":"IF(入力シート!#REF!=\"\",\"\",入力シート!#REF!)","v":{"$error":"#REF!"}},{"$f":"IF(入力シート!#REF!=\"\",\"\",入力シート!#REF!)","v":{"$error":"#REF!"}},null,null,{"$f":"IF(入力シート!H215=\"\",\"\",\"〇\")","v":""},{"$f":"IF(入力シート!#REF!=\"\",\"\",入力シート!#REF!)","v":{"$error":"#REF!"}},{"$f":"IF(入力シート!#REF!=\"\",\"\",入力シート!#REF!)","v":{"$error":"#REF!"}},{"$f":"IF(入力シート!#REF!=\"\",\"\",入力シート!#REF!)","v":{"$error":"#REF!"}},{"$f":"IF(入力シート!#REF!=\"\",\"\",入力シート!#REF!)","v":{"$error":"#REF!"}}]
[{"$f":"IF(入力シート!#REF!=\"\",\"\",入力シート!#REF!)","v":{"$error":"#REF!"}},{"$f":"IF(入力シート!#REF!=\"\",\"\",入力シート!#REF!)","v":{"$error":"#REF!"}},{"$f":"IF(入力シート!#REF!=\"\",\"\",DBCS(入力シート!#REF!))","v":{"$error":"#REF!"}},{"$f":"IF(入力シート!#REF!=\"\",\"\",DBCS(入力シート!#REF!))","v":{"$error":"#REF!"}},{"$f":"ASC(IF(入力シート!#REF!=\"\",\"\",UPPER(入力シート!#REF!)))","v":{"$error":"#REF!"}},{"$f":"IF(入力シート!#REF!=\"\",\"\",PROPER(入力シート!#REF!))","v":{"$error":"#REF!"}},{"$f":"IF(入力シート!#REF!=\"\",\"\",入力シート!#REF!)","v":{"$error":"#REF!"}},{"$f":"IF(入力シート!#REF!=\"\",\"\",TEXT(入力シート!#REF!,\"yyyy/mm/dd\"))","v":{"$error":"#REF!"}},{"$f":"IF(入力シート!#REF!=\"\",\"\",入力シート!#REF!)","v":{"$error":"#REF!"}},{"$f":"IF(入力シート!#REF!=\"\",\"\",入力シート!#REF!)","v":{"$error":"#REF!"}},{"$f":"IF(入力シート!#REF!=\"\",\"\",入力シート!#REF!)","v":{"$error":"#REF!"}},{"$f":"IF(入力シート!#REF!=\"\",\"\",入力シート!#REF!)","v":{"$error":"#REF!"}},{"$f":"IF(入力シート!#REF!=\"\",\"\",入力シート!#REF!)","v":{"$error":"#REF!"}},{"$f":"IF(入力シート!#REF!=\"\",\"\",入力シート!#REF!)","v":{"$error":"#REF!"}},null,{"$f":"IF(入力シート!#REF!=\"\",\"\",入力シート!#REF!)","v":{"$error":"#REF!"}},{"$f":"IF(入力シート!#REF!=\"\",\"\",入力シート!#REF!)","v":{"$error":"#REF!"}},{"$f":"IF(入力シート!#REF!=\"\",\"\",入力シート!#REF!)","v":{"$error":"#REF!"}},{"$f":"IF(入力シート!#REF!=\"\",\"\",入力シート!#REF!)","v":{"$error":"#REF!"}},{"$f":"IF(入力シート!#REF!=\"\",\"\",入力シート!#REF!)","v":{"$error":"#REF!"}},{"$f":"IF(入力シート!#REF!=\"\",\"\",入力シート!#REF!)","v":{"$error":"#REF!"}},{"$f":"IF(入力シート!#REF!=\"\",\"\",入力シート!#REF!)","v":{"$error":"#REF!"}},{"$f":"IF(入力シート!#REF!=\"\",\"\",入力シート!#REF!)","v":{"$error":"#REF!"}},{"$f":"IF(入力シート!#REF!=\"\",\"\",入力シート!#REF!)","v":{"$error":"#REF!"}},{"$f":"IF(入力シート!#REF!=\"\",\"\",入力シート!#REF!)","v":{"$error":"#REF!"}},{"$f":"IF(入力シート!#REF!=\"\",\"\",入力シート!#REF!)","v":{"$error":"#REF!"}},null,null,{"$f":"IF(入力シート!H216=\"\",\"\",\"〇\")","v":""},{"$f":"IF(入力シート!#REF!=\"\",\"\",入力シート!#REF!)","v":{"$error":"#REF!"}},{"$f":"IF(入力シート!#REF!=\"\",\"\",入力シート!#REF!)","v":{"$error":"#REF!"}},{"$f":"IF(入力シート!#REF!=\"\",\"\",入力シート!#REF!)","v":{"$error":"#REF!"}},{"$f":"IF(入力シート!#REF!=\"\",\"\",入力シート!#REF!)","v":{"$error":"#REF!"}}]
[{"$f":"IF(入力シート!#REF!=\"\",\"\",入力シート!#REF!)","v":{"$error":"#REF!"}},{"$f":"IF(入力シート!#REF!=\"\",\"\",入力シート!#REF!)","v":{"$error":"#REF!"}},{"$f":"IF(入力シート!#REF!=\"\",\"\",DBCS(入力シート!#REF!))","v":{"$error":"#REF!"}},{"$f":"IF(入力シート!#REF!=\"\",\"\",DBCS(入力シート!#REF!))","v":{"$error":"#REF!"}},{"$f":"ASC(IF(入力シート!#REF!=\"\",\"\",UPPER(入力シート!#REF!)))","v":{"$error":"#REF!"}},{"$f":"IF(入力シート!#REF!=\"\",\"\",PROPER(入力シート!#REF!))","v":{"$error":"#REF!"}},{"$f":"IF(入力シート!#REF!=\"\",\"\",入力シート!#REF!)","v":{"$error":"#REF!"}},{"$f":"IF(入力シート!#REF!=\"\",\"\",TEXT(入力シート!#REF!,\"yyyy/mm/dd\"))","v":{"$error":"#REF!"}},{"$f":"IF(入力シート!#REF!=\"\",\"\",入力シート!#REF!)","v":{"$error":"#REF!"}},{"$f":"IF(入力シート!#REF!=\"\",\"\",入力シート!#REF!)","v":{"$error":"#REF!"}},{"$f":"IF(入力シート!#REF!=\"\",\"\",入力シート!#REF!)","v":{"$error":"#REF!"}},{"$f":"IF(入力シート!#REF!=\"\",\"\",入力シート!#REF!)","v":{"$error":"#REF!"}},{"$f":"IF(入力シート!#REF!=\"\",\"\",入力シート!#REF!)","v":{"$error":"#REF!"}},{"$f":"IF(入力シート!#REF!=\"\",\"\",入力シート!#REF!)","v":{"$error":"#REF!"}},null,{"$f":"IF(入力シート!#REF!=\"\",\"\",入力シート!#REF!)","v":{"$error":"#REF!"}},{"$f":"IF(入力シート!#REF!=\"\",\"\",入力シート!#REF!)","v":{"$error":"#REF!"}},{"$f":"IF(入力シート!#REF!=\"\",\"\",入力シート!#REF!)","v":{"$error":"#REF!"}},{"$f":"IF(入力シート!#REF!=\"\",\"\",入力シート!#REF!)","v":{"$error":"#REF!"}},{"$f":"IF(入力シート!#REF!=\"\",\"\",入力シート!#REF!)","v":{"$error":"#REF!"}},{"$f":"IF(入力シート!#REF!=\"\",\"\",入力シート!#REF!)","v":{"$error":"#REF!"}},{"$f":"IF(入力シート!#REF!=\"\",\"\",入力シート!#REF!)","v":{"$error":"#REF!"}},{"$f":"IF(入力シート!#REF!=\"\",\"\",入力シート!#REF!)","v":{"$error":"#REF!"}},{"$f":"IF(入力シート!#REF!=\"\",\"\",入力シート!#REF!)","v":{"$error":"#REF!"}},{"$f":"IF(入力シート!#REF!=\"\",\"\",入力シート!#REF!)","v":{"$error":"#REF!"}},{"$f":"IF(入力シート!#REF!=\"\",\"\",入力シート!#REF!)","v":{"$error":"#REF!"}},null,null,{"$f":"IF(入力シート!H217=\"\",\"\",\"〇\")","v":""},{"$f":"IF(入力シート!#REF!=\"\",\"\",入力シート!#REF!)","v":{"$error":"#REF!"}},{"$f":"IF(入力シート!#REF!=\"\",\"\",入力シート!#REF!)","v":{"$error":"#REF!"}},{"$f":"IF(入力シート!#REF!=\"\",\"\",入力シート!#REF!)","v":{"$error":"#REF!"}},{"$f":"IF(入力シート!#REF!=\"\",\"\",入力シート!#REF!)","v":{"$error":"#REF!"}}]
[{"$f":"IF(入力シート!#REF!=\"\",\"\",入力シート!#REF!)","v":{"$error":"#REF!"}},{"$f":"IF(入力シート!#REF!=\"\",\"\",入力シート!#REF!)","v":{"$error":"#REF!"}},{"$f":"IF(入力シート!#REF!=\"\",\"\",DBCS(入力シート!#REF!))","v":{"$error":"#REF!"}},{"$f":"IF(入力シート!#REF!=\"\",\"\",DBCS(入力シート!#REF!))","v":{"$error":"#REF!"}},{"$f":"ASC(IF(入力シート!#REF!=\"\",\"\",UPPER(入力シート!#REF!)))","v":{"$error":"#REF!"}},{"$f":"IF(入力シート!#REF!=\"\",\"\",PROPER(入力シート!#REF!))","v":{"$error":"#REF!"}},{"$f":"IF(入力シート!#REF!=\"\",\"\",入力シート!#REF!)","v":{"$error":"#REF!"}},{"$f":"IF(入力シート!#REF!=\"\",\"\",TEXT(入力シート!#REF!,\"yyyy/mm/dd\"))","v":{"$error":"#REF!"}},{"$f":"IF(入力シート!#REF!=\"\",\"\",入力シート!#REF!)","v":{"$error":"#REF!"}},{"$f":"IF(入力シート!#REF!=\"\",\"\",入力シート!#REF!)","v":{"$error":"#REF!"}},{"$f":"IF(入力シート!#REF!=\"\",\"\",入力シート!#REF!)","v":{"$error":"#REF!"}},{"$f":"IF(入力シート!#REF!=\"\",\"\",入力シート!#REF!)","v":{"$error":"#REF!"}},{"$f":"IF(入力シート!#REF!=\"\",\"\",入力シート!#REF!)","v":{"$error":"#REF!"}},{"$f":"IF(入力シート!#REF!=\"\",\"\",入力シート!#REF!)","v":{"$error":"#REF!"}},null,{"$f":"IF(入力シート!#REF!=\"\",\"\",入力シート!#REF!)","v":{"$error":"#REF!"}},{"$f":"IF(入力シート!#REF!=\"\",\"\",入力シート!#REF!)","v":{"$error":"#REF!"}},{"$f":"IF(入力シート!#REF!=\"\",\"\",入力シート!#REF!)","v":{"$error":"#REF!"}},{"$f":"IF(入力シート!#REF!=\"\",\"\",入力シート!#REF!)","v":{"$error":"#REF!"}},{"$f":"IF(入力シート!#REF!=\"\",\"\",入力シート!#REF!)","v":{"$error":"#REF!"}},{"$f":"IF(入力シート!#REF!=\"\",\"\",入力シート!#REF!)","v":{"$error":"#REF!"}},{"$f":"IF(入力シート!#REF!=\"\",\"\",入力シート!#REF!)","v":{"$error":"#REF!"}},{"$f":"IF(入力シート!#REF!=\"\",\"\",入力シート!#REF!)","v":{"$error":"#REF!"}},{"$f":"IF(入力シート!#REF!=\"\",\"\",入力シート!#REF!)","v":{"$error":"#REF!"}},{"$f":"IF(入力シート!#REF!=\"\",\"\",入力シート!#REF!)","v":{"$error":"#REF!"}},{"$f":"IF(入力シート!#REF!=\"\",\"\",入力シート!#REF!)","v":{"$error":"#REF!"}},null,null,{"$f":"IF(入力シート!H218=\"\",\"\",\"〇\")","v":""},{"$f":"IF(入力シート!#REF!=\"\",\"\",入力シート!#REF!)","v":{"$error":"#REF!"}},{"$f":"IF(入力シート!#REF!=\"\",\"\",入力シート!#REF!)","v":{"$error":"#REF!"}},{"$f":"IF(入力シート!#REF!=\"\",\"\",入力シート!#REF!)","v":{"$error":"#REF!"}},{"$f":"IF(入力シート!#REF!=\"\",\"\",入力シート!#REF!)","v":{"$error":"#REF!"}}]
[{"$f":"IF(入力シート!#REF!=\"\",\"\",入力シート!#REF!)","v":{"$error":"#REF!"}},{"$f":"IF(入力シート!#REF!=\"\",\"\",入力シート!#REF!)","v":{"$error":"#REF!"}},{"$f":"IF(入力シート!#REF!=\"\",\"\",DBCS(入力シート!#REF!))","v":{"$error":"#REF!"}},{"$f":"IF(入力シート!#REF!=\"\",\"\",DBCS(入力シート!#REF!))","v":{"$error":"#REF!"}},{"$f":"ASC(IF(入力シート!#REF!=\"\",\"\",UPPER(入力シート!#REF!)))","v":{"$error":"#REF!"}},{"$f":"IF(入力シート!#REF!=\"\",\"\",PROPER(入力シート!#REF!))","v":{"$error":"#REF!"}},{"$f":"IF(入力シート!#REF!=\"\",\"\",入力シート!#REF!)","v":{"$error":"#REF!"}},{"$f":"IF(入力シート!#REF!=\"\",\"\",TEXT(入力シート!#REF!,\"yyyy/mm/dd\"))","v":{"$error":"#REF!"}},{"$f":"IF(入力シート!#REF!=\"\",\"\",入力シート!#REF!)","v":{"$error":"#REF!"}},{"$f":"IF(入力シート!#REF!=\"\",\"\",入力シート!#REF!)","v":{"$error":"#REF!"}},{"$f":"IF(入力シート!#REF!=\"\",\"\",入力シート!#REF!)","v":{"$error":"#REF!"}},{"$f":"IF(入力シート!#REF!=\"\",\"\",入力シート!#REF!)","v":{"$error":"#REF!"}},{"$f":"IF(入力シート!#REF!=\"\",\"\",入力シート!#REF!)","v":{"$error":"#REF!"}},{"$f":"IF(入力シート!#REF!=\"\",\"\",入力シート!#REF!)","v":{"$error":"#REF!"}},null,{"$f":"IF(入力シート!#REF!=\"\",\"\",入力シート!#REF!)","v":{"$error":"#REF!"}},{"$f":"IF(入力シート!#REF!=\"\",\"\",入力シート!#REF!)","v":{"$error":"#REF!"}},{"$f":"IF(入力シート!#REF!=\"\",\"\",入力シート!#REF!)","v":{"$error":"#REF!"}},{"$f":"IF(入力シート!#REF!=\"\",\"\",入力シート!#REF!)","v":{"$error":"#REF!"}},{"$f":"IF(入力シート!#REF!=\"\",\"\",入力シート!#REF!)","v":{"$error":"#REF!"}},{"$f":"IF(入力シート!#REF!=\"\",\"\",入力シート!#REF!)","v":{"$error":"#REF!"}},{"$f":"IF(入力シート!#REF!=\"\",\"\",入力シート!#REF!)","v":{"$error":"#REF!"}},{"$f":"IF(入力シート!#REF!=\"\",\"\",入力シート!#REF!)","v":{"$error":"#REF!"}},{"$f":"IF(入力シート!#REF!=\"\",\"\",入力シート!#REF!)","v":{"$error":"#REF!"}},{"$f":"IF(入力シート!#REF!=\"\",\"\",入力シート!#REF!)","v":{"$error":"#REF!"}},{"$f":"IF(入力シート!#REF!=\"\",\"\",入力シート!#REF!)","v":{"$error":"#REF!"}},null,null,{"$f":"IF(入力シート!H219=\"\",\"\",\"〇\")","v":""},{"$f":"IF(入力シート!#REF!=\"\",\"\",入力シート!#REF!)","v":{"$error":"#REF!"}},{"$f":"IF(入力シート!#REF!=\"\",\"\",入力シート!#REF!)","v":{"$error":"#REF!"}},{"$f":"IF(入力シート!#REF!=\"\",\"\",入力シート!#REF!)","v":{"$error":"#REF!"}},{"$f":"IF(入力シート!#REF!=\"\",\"\",入力シート!#REF!)","v":{"$error":"#REF!"}}]
[{"$f":"IF(入力シート!#REF!=\"\",\"\",入力シート!#REF!)","v":{"$error":"#REF!"}},{"$f":"IF(入力シート!#REF!=\"\",\"\",入力シート!#REF!)","v":{"$error":"#REF!"}},{"$f":"IF(入力シート!#REF!=\"\",\"\",DBCS(入力シート!#REF!))","v":{"$error":"#REF!"}},{"$f":"IF(入力シート!#REF!=\"\",\"\",DBCS(入力シート!#REF!))","v":{"$error":"#REF!"}},{"$f":"ASC(IF(入力シート!#REF!=\"\",\"\",UPPER(入力シート!#REF!)))","v":{"$error":"#REF!"}},{"$f":"IF(入力シート!#REF!=\"\",\"\",PROPER(入力シート!#REF!))","v":{"$error":"#REF!"}},{"$f":"IF(入力シート!#REF!=\"\",\"\",入力シート!#REF!)","v":{"$error":"#REF!"}},{"$f":"IF(入力シート!#REF!=\"\",\"\",TEXT(入力シート!#REF!,\"yyyy/mm/dd\"))","v":{"$error":"#REF!"}},{"$f":"IF(入力シート!#REF!=\"\",\"\",入力シート!#REF!)","v":{"$error":"#REF!"}},{"$f":"IF(入力シート!#REF!=\"\",\"\",入力シート!#REF!)","v":{"$error":"#REF!"}},{"$f":"IF(入力シート!#REF!=\"\",\"\",入力シート!#REF!)","v":{"$error":"#REF!"}},{"$f":"IF(入力シート!#REF!=\"\",\"\",入力シート!#REF!)","v":{"$error":"#REF!"}},{"$f":"IF(入力シート!#REF!=\"\",\"\",入力シート!#REF!)","v":{"$error":"#REF!"}},{"$f":"IF(入力シート!#REF!=\"\",\"\",入力シート!#REF!)","v":{"$error":"#REF!"}},null,{"$f":"IF(入力シート!#REF!=\"\",\"\",入力シート!#REF!)","v":{"$error":"#REF!"}},{"$f":"IF(入力シート!#REF!=\"\",\"\",入力シート!#REF!)","v":{"$error":"#REF!"}},{"$f":"IF(入力シート!#REF!=\"\",\"\",入力シート!#REF!)","v":{"$error":"#REF!"}},{"$f":"IF(入力シート!#REF!=\"\",\"\",入力シート!#REF!)","v":{"$error":"#REF!"}},{"$f":"IF(入力シート!#REF!=\"\",\"\",入力シート!#REF!)","v":{"$error":"#REF!"}},{"$f":"IF(入力シート!#REF!=\"\",\"\",入力シート!#REF!)","v":{"$error":"#REF!"}},{"$f":"IF(入力シート!#REF!=\"\",\"\",入力シート!#REF!)","v":{"$error":"#REF!"}},{"$f":"IF(入力シート!#REF!=\"\",\"\",入力シート!#REF!)","v":{"$error":"#REF!"}},{"$f":"IF(入力シート!#REF!=\"\",\"\",入力シート!#REF!)","v":{"$error":"#REF!"}},{"$f":"IF(入力シート!#REF!=\"\",\"\",入力シート!#REF!)","v":{"$error":"#REF!"}},{"$f":"IF(入力シート!#REF!=\"\",\"\",入力シート!#REF!)","v":{"$error":"#REF!"}},null,null,{"$f":"IF(入力シート!H220=\"\",\"\",\"〇\")","v":""},{"$f":"IF(入力シート!#REF!=\"\",\"\",入力シート!#REF!)","v":{"$error":"#REF!"}},{"$f":"IF(入力シート!#REF!=\"\",\"\",入力シート!#REF!)","v":{"$error":"#REF!"}},{"$f":"IF(入力シート!#REF!=\"\",\"\",入力シート!#REF!)","v":{"$error":"#REF!"}},{"$f":"IF(入力シート!#REF!=\"\",\"\",入力シート!#REF!)","v":{"$error":"#REF!"}}]
[{"$f":"IF(入力シート!#REF!=\"\",\"\",入力シート!#REF!)","v":{"$error":"#REF!"}},{"$f":"IF(入力シート!#REF!=\"\",\"\",入力シート!#REF!)","v":{"$error":"#REF!"}},{"$f":"IF(入力シート!#REF!=\"\",\"\",DBCS(入力シート!#REF!))","v":{"$error":"#REF!"}},{"$f":"IF(入力シート!#REF!=\"\",\"\",DBCS(入力シート!#REF!))","v":{"$error":"#REF!"}},{"$f":"ASC(IF(入力シート!#REF!=\"\",\"\",UPPER(入力シート!#REF!)))","v":{"$error":"#REF!"}},{"$f":"IF(入力シート!#REF!=\"\",\"\",PROPER(入力シート!#REF!))","v":{"$error":"#REF!"}},{"$f":"IF(入力シート!#REF!=\"\",\"\",入力シート!#REF!)","v":{"$error":"#REF!"}},{"$f":"IF(入力シート!#REF!=\"\",\"\",TEXT(入力シート!#REF!,\"yyyy/mm/dd\"))","v":{"$error":"#REF!"}},{"$f":"IF(入力シート!#REF!=\"\",\"\",入力シート!#REF!)","v":{"$error":"#REF!"}},{"$f":"IF(入力シート!#REF!=\"\",\"\",入力シート!#REF!)","v":{"$error":"#REF!"}},{"$f":"IF(入力シート!#REF!=\"\",\"\",入力シート!#REF!)","v":{"$error":"#REF!"}},{"$f":"IF(入力シート!#REF!=\"\",\"\",入力シート!#REF!)","v":{"$error":"#REF!"}},{"$f":"IF(入力シート!#REF!=\"\",\"\",入力シート!#REF!)","v":{"$error":"#REF!"}},{"$f":"IF(入力シート!#REF!=\"\",\"\",入力シート!#REF!)","v":{"$error":"#REF!"}},null,{"$f":"IF(入力シート!#REF!=\"\",\"\",入力シート!#REF!)","v":{"$error":"#REF!"}},{"$f":"IF(入力シート!#REF!=\"\",\"\",入力シート!#REF!)","v":{"$error":"#REF!"}},{"$f":"IF(入力シート!#REF!=\"\",\"\",入力シート!#REF!)","v":{"$error":"#REF!"}},{"$f":"IF(入力シート!#REF!=\"\",\"\",入力シート!#REF!)","v":{"$error":"#REF!"}},{"$f":"IF(入力シート!#REF!=\"\",\"\",入力シート!#REF!)","v":{"$error":"#REF!"}},{"$f":"IF(入力シート!#REF!=\"\",\"\",入力シート!#REF!)","v":{"$error":"#REF!"}},{"$f":"IF(入力シート!#REF!=\"\",\"\",入力シート!#REF!)","v":{"$error":"#REF!"}},{"$f":"IF(入力シート!#REF!=\"\",\"\",入力シート!#REF!)","v":{"$error":"#REF!"}},{"$f":"IF(入力シート!#REF!=\"\",\"\",入力シート!#REF!)","v":{"$error":"#REF!"}},{"$f":"IF(入力シート!#REF!=\"\",\"\",入力シート!#REF!)","v":{"$error":"#REF!"}},{"$f":"IF(入力シート!#REF!=\"\",\"\",入力シート!#REF!)","v":{"$error":"#REF!"}},null,null,{"$f":"IF(入力シート!H221=\"\",\"\",\"〇\")","v":""},{"$f":"IF(入力シート!#REF!=\"\",\"\",入力シート!#REF!)","v":{"$error":"#REF!"}},{"$f":"IF(入力シート!#REF!=\"\",\"\",入力シート!#REF!)","v":{"$error":"#REF!"}},{"$f":"IF(入力シート!#REF!=\"\",\"\",入力シート!#REF!)","v":{"$error":"#REF!"}},{"$f":"IF(入力シート!#REF!=\"\",\"\",入力シート!#REF!)","v":{"$error":"#REF!"}}]
[{"$f":"IF(入力シート!#REF!=\"\",\"\",入力シート!#REF!)","v":{"$error":"#REF!"}},{"$f":"IF(入力シート!#REF!=\"\",\"\",入力シート!#REF!)","v":{"$error":"#REF!"}},{"$f":"IF(入力シート!#REF!=\"\",\"\",DBCS(入力シート!#REF!))","v":{"$error":"#REF!"}},{"$f":"IF(入力シート!#REF!=\"\",\"\",DBCS(入力シート!#REF!))","v":{"$error":"#REF!"}},{"$f":"ASC(IF(入力シート!#REF!=\"\",\"\",UPPER(入力シート!#REF!)))","v":{"$error":"#REF!"}},{"$f":"IF(入力シート!#REF!=\"\",\"\",PROPER(入力シート!#REF!))","v":{"$error":"#REF!"}},{"$f":"IF(入力シート!#REF!=\"\",\"\",入力シート!#REF!)","v":{"$error":"#REF!"}},{"$f":"IF(入力シート!#REF!=\"\",\"\",TEXT(入力シート!#REF!,\"yyyy/mm/dd\"))","v":{"$error":"#REF!"}},{"$f":"IF(入力シート!#REF!=\"\",\"\",入力シート!#REF!)","v":{"$error":"#REF!"}},{"$f":"IF(入力シート!#REF!=\"\",\"\",入力シート!#REF!)","v":{"$error":"#REF!"}},{"$f":"IF(入力シート!#REF!=\"\",\"\",入力シート!#REF!)","v":{"$error":"#REF!"}},{"$f":"IF(入力シート!#REF!=\"\",\"\",入力シート!#REF!)","v":{"$error":"#REF!"}},{"$f":"IF(入力シート!#REF!=\"\",\"\",入力シート!#REF!)","v":{"$error":"#REF!"}},{"$f":"IF(入力シート!#REF!=\"\",\"\",入力シート!#REF!)","v":{"$error":"#REF!"}},null,{"$f":"IF(入力シート!#REF!=\"\",\"\",入力シート!#REF!)","v":{"$error":"#REF!"}},{"$f":"IF(入力シート!#REF!=\"\",\"\",入力シート!#REF!)","v":{"$error":"#REF!"}},{"$f":"IF(入力シート!#REF!=\"\",\"\",入力シート!#REF!)","v":{"$error":"#REF!"}},{"$f":"IF(入力シート!#REF!=\"\",\"\",入力シート!#REF!)","v":{"$error":"#REF!"}},{"$f":"IF(入力シート!#REF!=\"\",\"\",入力シート!#REF!)","v":{"$error":"#REF!"}},{"$f":"IF(入力シート!#REF!=\"\",\"\",入力シート!#REF!)","v":{"$error":"#REF!"}},{"$f":"IF(入力シート!#REF!=\"\",\"\",入力シート!#REF!)","v":{"$error":"#REF!"}},{"$f":"IF(入力シート!#REF!=\"\",\"\",入力シート!#REF!)","v":{"$error":"#REF!"}},{"$f":"IF(入力シート!#REF!=\"\",\"\",入力シート!#REF!)","v":{"$error":"#REF!"}},{"$f":"IF(入力シート!#REF!=\"\",\"\",入力シート!#REF!)","v":{"$error":"#REF!"}},{"$f":"IF(入力シート!#REF!=\"\",\"\",入力シート!#REF!)","v":{"$error":"#REF!"}},null,null,{"$f":"IF(入力シート!H222=\"\",\"\",\"〇\")","v":""},{"$f":"IF(入力シート!#REF!=\"\",\"\",入力シート!#REF!)","v":{"$error":"#REF!"}},{"$f":"IF(入力シート!#REF!=\"\",\"\",入力シート!#REF!)","v":{"$error":"#REF!"}},{"$f":"IF(入力シート!#REF!=\"\",\"\",入力シート!#REF!)","v":{"$error":"#REF!"}},{"$f":"IF(入力シート!#REF!=\"\",\"\",入力シート!#REF!)","v":{"$error":"#REF!"}}]
[{"$f":"IF(入力シート!#REF!=\"\",\"\",入力シート!#REF!)","v":{"$error":"#REF!"}},{"$f":"IF(入力シート!#REF!=\"\",\"\",入力シート!#REF!)","v":{"$error":"#REF!"}},{"$f":"IF(入力シート!#REF!=\"\",\"\",DBCS(入力シート!#REF!))","v":{"$error":"#REF!"}},{"$f":"IF(入力シート!#REF!=\"\",\"\",DBCS(入力シート!#REF!))","v":{"$error":"#REF!"}},{"$f":"ASC(IF(入力シート!#REF!=\"\",\"\",UPPER(入力シート!#REF!)))","v":{"$error":"#REF!"}},{"$f":"IF(入力シート!#REF!=\"\",\"\",PROPER(入力シート!#REF!))","v":{"$error":"#REF!"}},{"$f":"IF(入力シート!#REF!=\"\",\"\",入力シート!#REF!)","v":{"$error":"#REF!"}},{"$f":"IF(入力シート!#REF!=\"\",\"\",TEXT(入力シート!#REF!,\"yyyy/mm/dd\"))","v":{"$error":"#REF!"}},{"$f":"IF(入力シート!#REF!=\"\",\"\",入力シート!#REF!)","v":{"$error":"#REF!"}},{"$f":"IF(入力シート!#REF!=\"\",\"\",入力シート!#REF!)","v":{"$error":"#REF!"}},{"$f":"IF(入力シート!#REF!=\"\",\"\",入力シート!#REF!)","v":{"$error":"#REF!"}},{"$f":"IF(入力シート!#REF!=\"\",\"\",入力シート!#REF!)","v":{"$error":"#REF!"}},{"$f":"IF(入力シート!#REF!=\"\",\"\",入力シート!#REF!)","v":{"$error":"#REF!"}},{"$f":"IF(入力シート!#REF!=\"\",\"\",入力シート!#REF!)","v":{"$error":"#REF!"}},null,{"$f":"IF(入力シート!#REF!=\"\",\"\",入力シート!#REF!)","v":{"$error":"#REF!"}},{"$f":"IF(入力シート!#REF!=\"\",\"\",入力シート!#REF!)","v":{"$error":"#REF!"}},{"$f":"IF(入力シート!#REF!=\"\",\"\",入力シート!#REF!)","v":{"$error":"#REF!"}},{"$f":"IF(入力シート!#REF!=\"\",\"\",入力シート!#REF!)","v":{"$error":"#REF!"}},{"$f":"IF(入力シート!#REF!=\"\",\"\",入力シート!#REF!)","v":{"$error":"#REF!"}},{"$f":"IF(入力シート!#REF!=\"\",\"\",入力シート!#REF!)","v":{"$error":"#REF!"}},{"$f":"IF(入力シート!#REF!=\"\",\"\",入力シート!#REF!)","v":{"$error":"#REF!"}},{"$f":"IF(入力シート!#REF!=\"\",\"\",入力シート!#REF!)","v":{"$error":"#REF!"}},{"$f":"IF(入力シート!#REF!=\"\",\"\",入力シート!#REF!)","v":{"$error":"#REF!"}},{"$f":"IF(入力シート!#REF!=\"\",\"\",入力シート!#REF!)","v":{"$error":"#REF!"}},{"$f":"IF(入力シート!#REF!=\"\",\"\",入力シート!#REF!)","v":{"$error":"#REF!"}},null,null,{"$f":"IF(入力シート!H223=\"\",\"\",\"〇\")","v":""},{"$f":"IF(入力シート!#REF!=\"\",\"\",入力シート!#REF!)","v":{"$error":"#REF!"}},{"$f":"IF(入力シート!#REF!=\"\",\"\",入力シート!#REF!)","v":{"$error":"#REF!"}},{"$f":"IF(入力シート!#REF!=\"\",\"\",入力シート!#REF!)","v":{"$error":"#REF!"}},{"$f":"IF(入力シート!#REF!=\"\",\"\",入力シート!#REF!)","v":{"$error":"#REF!"}}]
[{"$f":"IF(入力シート!#REF!=\"\",\"\",入力シート!#REF!)","v":{"$error":"#REF!"}},{"$f":"IF(入力シート!#REF!=\"\",\"\",入力シート!#REF!)","v":{"$error":"#REF!"}},{"$f":"IF(入力シート!#REF!=\"\",\"\",DBCS(入力シート!#REF!))","v":{"$error":"#REF!"}},{"$f":"IF(入力シート!#REF!=\"\",\"\",DBCS(入力シート!#REF!))","v":{"$error":"#REF!"}},{"$f":"ASC(IF(入力シート!#REF!=\"\",\"\",UPPER(入力シート!#REF!)))","v":{"$error":"#REF!"}},{"$f":"IF(入力シート!#REF!=\"\",\"\",PROPER(入力シート!#REF!))","v":{"$error":"#REF!"}},{"$f":"IF(入力シート!#REF!=\"\",\"\",入力シート!#REF!)","v":{"$error":"#REF!"}},{"$f":"IF(入力シート!#REF!=\"\",\"\",TEXT(入力シート!#REF!,\"yyyy/mm/dd\"))","v":{"$error":"#REF!"}},{"$f":"IF(入力シート!#REF!=\"\",\"\",入力シート!#REF!)","v":{"$error":"#REF!"}},{"$f":"IF(入力シート!#REF!=\"\",\"\",入力シート!#REF!)","v":{"$error":"#REF!"}},{"$f":"IF(入力シート!#REF!=\"\",\"\",入力シート!#REF!)","v":{"$error":"#REF!"}},{"$f":"IF(入力シート!#REF!=\"\",\"\",入力シート!#REF!)","v":{"$error":"#REF!"}},{"$f":"IF(入力シート!#REF!=\"\",\"\",入力シート!#REF!)","v":{"$error":"#REF!"}},{"$f":"IF(入力シート!#REF!=\"\",\"\",入力シート!#REF!)","v":{"$error":"#REF!"}},null,{"$f":"IF(入力シート!#REF!=\"\",\"\",入力シート!#REF!)","v":{"$error":"#REF!"}},{"$f":"IF(入力シート!#REF!=\"\",\"\",入力シート!#REF!)","v":{"$error":"#REF!"}},{"$f":"IF(入力シート!#REF!=\"\",\"\",入力シート!#REF!)","v":{"$error":"#REF!"}},{"$f":"IF(入力シート!#REF!=\"\",\"\",入力シート!#REF!)","v":{"$error":"#REF!"}},{"$f":"IF(入力シート!#REF!=\"\",\"\",入力シート!#REF!)","v":{"$error":"#REF!"}},{"$f":"IF(入力シート!#REF!=\"\",\"\",入力シート!#REF!)","v":{"$error":"#REF!"}},{"$f":"IF(入力シート!#REF!=\"\",\"\",入力シート!#REF!)","v":{"$error":"#REF!"}},{"$f":"IF(入力シート!#REF!=\"\",\"\",入力シート!#REF!)","v":{"$error":"#REF!"}},{"$f":"IF(入力シート!#REF!=\"\",\"\",入力シート!#REF!)","v":{"$error":"#REF!"}},{"$f":"IF(入力シート!#REF!=\"\",\"\",入力シート!#REF!)","v":{"$error":"#REF!"}},{"$f":"IF(入力シート!#REF!=\"\",\"\",入力シート!#REF!)","v":{"$error":"#REF!"}},null,null,{"$f":"IF(入力シート!H224=\"\",\"\",\"〇\")","v":""},{"$f":"IF(入力シート!#REF!=\"\",\"\",入力シート!#REF!)","v":{"$error":"#REF!"}},{"$f":"IF(入力シート!#REF!=\"\",\"\",入力シート!#REF!)","v":{"$error":"#REF!"}},{"$f":"IF(入力シート!#REF!=\"\",\"\",入力シート!#REF!)","v":{"$error":"#REF!"}},{"$f":"IF(入力シート!#REF!=\"\",\"\",入力シート!#REF!)","v":{"$error":"#REF!"}}]
[{"$f":"IF(入力シート!#REF!=\"\",\"\",入力シート!#REF!)","v":{"$error":"#REF!"}},{"$f":"IF(入力シート!#REF!=\"\",\"\",入力シート!#REF!)","v":{"$error":"#REF!"}},{"$f":"IF(入力シート!#REF!=\"\",\"\",DBCS(入力シート!#REF!))","v":{"$error":"#REF!"}},{"$f":"IF(入力シート!#REF!=\"\",\"\",DBCS(入力シート!#REF!))","v":{"$error":"#REF!"}},{"$f":"ASC(IF(入力シート!#REF!=\"\",\"\",UPPER(入力シート!#REF!)))","v":{"$error":"#REF!"}},{"$f":"IF(入力シート!#REF!=\"\",\"\",PROPER(入力シート!#REF!))","v":{"$error":"#REF!"}},{"$f":"IF(入力シート!#REF!=\"\",\"\",入力シート!#REF!)","v":{"$error":"#REF!"}},{"$f":"IF(入力シート!#REF!=\"\",\"\",TEXT(入力シート!#REF!,\"yyyy/mm/dd\"))","v":{"$error":"#REF!"}},{"$f":"IF(入力シート!#REF!=\"\",\"\",入力シート!#REF!)","v":{"$error":"#REF!"}},{"$f":"IF(入力シート!#REF!=\"\",\"\",入力シート!#REF!)","v":{"$error":"#REF!"}},{"$f":"IF(入力シート!#REF!=\"\",\"\",入力シート!#REF!)","v":{"$error":"#REF!"}},{"$f":"IF(入力シート!#REF!=\"\",\"\",入力シート!#REF!)","v":{"$error":"#REF!"}},{"$f":"IF(入力シート!#REF!=\"\",\"\",入力シート!#REF!)","v":{"$error":"#REF!"}},{"$f":"IF(入力シート!#REF!=\"\",\"\",入力シート!#REF!)","v":{"$error":"#REF!"}},null,{"$f":"IF(入力シート!#REF!=\"\",\"\",入力シート!#REF!)","v":{"$error":"#REF!"}},{"$f":"IF(入力シート!#REF!=\"\",\"\",入力シート!#REF!)","v":{"$error":"#REF!"}},{"$f":"IF(入力シート!#REF!=\"\",\"\",入力シート!#REF!)","v":{"$error":"#REF!"}},{"$f":"IF(入力シート!#REF!=\"\",\"\",入力シート!#REF!)","v":{"$error":"#REF!"}},{"$f":"IF(入力シート!#REF!=\"\",\"\",入力シート!#REF!)","v":{"$error":"#REF!"}},{"$f":"IF(入力シート!#REF!=\"\",\"\",入力シート!#REF!)","v":{"$error":"#REF!"}},{"$f":"IF(入力シート!#REF!=\"\",\"\",入力シート!#REF!)","v":{"$error":"#REF!"}},{"$f":"IF(入力シート!#REF!=\"\",\"\",入力シート!#REF!)","v":{"$error":"#REF!"}},{"$f":"IF(入力シート!#REF!=\"\",\"\",入力シート!#REF!)","v":{"$error":"#REF!"}},{"$f":"IF(入力シート!#REF!=\"\",\"\",入力シート!#REF!)","v":{"$error":"#REF!"}},{"$f":"IF(入力シート!#REF!=\"\",\"\",入力シート!#REF!)","v":{"$error":"#REF!"}},null,null,{"$f":"IF(入力シート!H225=\"\",\"\",\"〇\")","v":""},{"$f":"IF(入力シート!#REF!=\"\",\"\",入力シート!#REF!)","v":{"$error":"#REF!"}},{"$f":"IF(入力シート!#REF!=\"\",\"\",入力シート!#REF!)","v":{"$error":"#REF!"}},{"$f":"IF(入力シート!#REF!=\"\",\"\",入力シート!#REF!)","v":{"$error":"#REF!"}},{"$f":"IF(入力シート!#REF!=\"\",\"\",入力シート!#REF!)","v":{"$error":"#REF!"}}]
[{"$f":"IF(入力シート!#REF!=\"\",\"\",入力シート!#REF!)","v":{"$error":"#REF!"}},{"$f":"IF(入力シート!#REF!=\"\",\"\",入力シート!#REF!)","v":{"$error":"#REF!"}},{"$f":"IF(入力シート!#REF!=\"\",\"\",DBCS(入力シート!#REF!))","v":{"$error":"#REF!"}},{"$f":"IF(入力シート!#REF!=\"\",\"\",DBCS(入力シート!#REF!))","v":{"$error":"#REF!"}},{"$f":"ASC(IF(入力シート!#REF!=\"\",\"\",UPPER(入力シート!#REF!)))","v":{"$error":"#REF!"}},{"$f":"IF(入力シート!#REF!=\"\",\"\",PROPER(入力シート!#REF!))","v":{"$error":"#REF!"}},{"$f":"IF(入力シート!#REF!=\"\",\"\",入力シート!#REF!)","v":{"$error":"#REF!"}},{"$f":"IF(入力シート!#REF!=\"\",\"\",TEXT(入力シート!#REF!,\"yyyy/mm/dd\"))","v":{"$error":"#REF!"}},{"$f":"IF(入力シート!#REF!=\"\",\"\",入力シート!#REF!)","v":{"$error":"#REF!"}},{"$f":"IF(入力シート!#REF!=\"\",\"\",入力シート!#REF!)","v":{"$error":"#REF!"}},{"$f":"IF(入力シート!#REF!=\"\",\"\",入力シート!#REF!)","v":{"$error":"#REF!"}},{"$f":"IF(入力シート!#REF!=\"\",\"\",入力シート!#REF!)","v":{"$error":"#REF!"}},{"$f":"IF(入力シート!#REF!=\"\",\"\",入力シート!#REF!)","v":{"$error":"#REF!"}},{"$f":"IF(入力シート!#REF!=\"\",\"\",入力シート!#REF!)","v":{"$error":"#REF!"}},null,{"$f":"IF(入力シート!#REF!=\"\",\"\",入力シート!#REF!)","v":{"$error":"#REF!"}},{"$f":"IF(入力シート!#REF!=\"\",\"\",入力シート!#REF!)","v":{"$error":"#REF!"}},{"$f":"IF(入力シート!#REF!=\"\",\"\",入力シート!#REF!)","v":{"$error":"#REF!"}},{"$f":"IF(入力シート!#REF!=\"\",\"\",入力シート!#REF!)","v":{"$error":"#REF!"}},{"$f":"IF(入力シート!#REF!=\"\",\"\",入力シート!#REF!)","v":{"$error":"#REF!"}},{"$f":"IF(入力シート!#REF!=\"\",\"\",入力シート!#REF!)","v":{"$error":"#REF!"}},{"$f":"IF(入力シート!#REF!=\"\",\"\",入力シート!#REF!)","v":{"$error":"#REF!"}},{"$f":"IF(入力シート!#REF!=\"\",\"\",入力シート!#REF!)","v":{"$error":"#REF!"}},{"$f":"IF(入力シート!#REF!=\"\",\"\",入力シート!#REF!)","v":{"$error":"#REF!"}},{"$f":"IF(入力シート!#REF!=\"\",\"\",入力シート!#REF!)","v":{"$error":"#REF!"}},{"$f":"IF(入力シート!#REF!=\"\",\"\",入力シート!#REF!)","v":{"$error":"#REF!"}},null,null,{"$f":"IF(入力シート!H226=\"\",\"\",\"〇\")","v":""},{"$f":"IF(入力シート!#REF!=\"\",\"\",入力シート!#REF!)","v":{"$error":"#REF!"}},{"$f":"IF(入力シート!#REF!=\"\",\"\",入力シート!#REF!)","v":{"$error":"#REF!"}},{"$f":"IF(入力シート!#REF!=\"\",\"\",入力シート!#REF!)","v":{"$error":"#REF!"}},{"$f":"IF(入力シート!#REF!=\"\",\"\",入力シート!#REF!)","v":{"$error":"#REF!"}}]
[{"$f":"IF(入力シート!#REF!=\"\",\"\",入力シート!#REF!)","v":{"$error":"#REF!"}},{"$f":"IF(入力シート!#REF!=\"\",\"\",入力シート!#REF!)","v":{"$error":"#REF!"}},{"$f":"IF(入力シート!#REF!=\"\",\"\",DBCS(入力シート!#REF!))","v":{"$error":"#REF!"}},{"$f":"IF(入力シート!#REF!=\"\",\"\",DBCS(入力シート!#REF!))","v":{"$error":"#REF!"}},{"$f":"ASC(IF(入力シート!#REF!=\"\",\"\",UPPER(入力シート!#REF!)))","v":{"$error":"#REF!"}},{"$f":"IF(入力シート!#REF!=\"\",\"\",PROPER(入力シート!#REF!))","v":{"$error":"#REF!"}},{"$f":"IF(入力シート!#REF!=\"\",\"\",入力シート!#REF!)","v":{"$error":"#REF!"}},{"$f":"IF(入力シート!#REF!=\"\",\"\",TEXT(入力シート!#REF!,\"yyyy/mm/dd\"))","v":{"$error":"#REF!"}},{"$f":"IF(入力シート!#REF!=\"\",\"\",入力シート!#REF!)","v":{"$error":"#REF!"}},{"$f":"IF(入力シート!#REF!=\"\",\"\",入力シート!#REF!)","v":{"$error":"#REF!"}},{"$f":"IF(入力シート!#REF!=\"\",\"\",入力シート!#REF!)","v":{"$error":"#REF!"}},{"$f":"IF(入力シート!#REF!=\"\",\"\",入力シート!#REF!)","v":{"$error":"#REF!"}},{"$f":"IF(入力シート!#REF!=\"\",\"\",入力シート!#REF!)","v":{"$error":"#REF!"}},{"$f":"IF(入力シート!#REF!=\"\",\"\",入力シート!#REF!)","v":{"$error":"#REF!"}},null,{"$f":"IF(入力シート!#REF!=\"\",\"\",入力シート!#REF!)","v":{"$error":"#REF!"}},{"$f":"IF(入力シート!#REF!=\"\",\"\",入力シート!#REF!)","v":{"$error":"#REF!"}},{"$f":"IF(入力シート!#REF!=\"\",\"\",入力シート!#REF!)","v":{"$error":"#REF!"}},{"$f":"IF(入力シート!#REF!=\"\",\"\",入力シート!#REF!)","v":{"$error":"#REF!"}},{"$f":"IF(入力シート!#REF!=\"\",\"\",入力シート!#REF!)","v":{"$error":"#REF!"}},{"$f":"IF(入力シート!#REF!=\"\",\"\",入力シート!#REF!)","v":{"$error":"#REF!"}},{"$f":"IF(入力シート!#REF!=\"\",\"\",入力シート!#REF!)","v":{"$error":"#REF!"}},{"$f":"IF(入力シート!#REF!=\"\",\"\",入力シート!#REF!)","v":{"$error":"#REF!"}},{"$f":"IF(入力シート!#REF!=\"\",\"\",入力シート!#REF!)","v":{"$error":"#REF!"}},{"$f":"IF(入力シート!#REF!=\"\",\"\",入力シート!#REF!)","v":{"$error":"#REF!"}},{"$f":"IF(入力シート!#REF!=\"\",\"\",入力シート!#REF!)","v":{"$error":"#REF!"}},null,null,{"$f":"IF(入力シート!H227=\"\",\"\",\"〇\")","v":""},{"$f":"IF(入力シート!#REF!=\"\",\"\",入力シート!#REF!)","v":{"$error":"#REF!"}},{"$f":"IF(入力シート!#REF!=\"\",\"\",入力シート!#REF!)","v":{"$error":"#REF!"}},{"$f":"IF(入力シート!#REF!=\"\",\"\",入力シート!#REF!)","v":{"$error":"#REF!"}},{"$f":"IF(入力シート!#REF!=\"\",\"\",入力シート!#REF!)","v":{"$error":"#REF!"}}]
[{"$f":"IF(入力シート!#REF!=\"\",\"\",入力シート!#REF!)","v":{"$error":"#REF!"}},{"$f":"IF(入力シート!#REF!=\"\",\"\",入力シート!#REF!)","v":{"$error":"#REF!"}},{"$f":"IF(入力シート!#REF!=\"\",\"\",DBCS(入力シート!#REF!))","v":{"$error":"#REF!"}},{"$f":"IF(入力シート!#REF!=\"\",\"\",DBCS(入力シート!#REF!))","v":{"$error":"#REF!"}},{"$f":"ASC(IF(入力シート!#REF!=\"\",\"\",UPPER(入力シート!#REF!)))","v":{"$error":"#REF!"}},{"$f":"IF(入力シート!#REF!=\"\",\"\",PROPER(入力シート!#REF!))","v":{"$error":"#REF!"}},{"$f":"IF(入力シート!#REF!=\"\",\"\",入力シート!#REF!)","v":{"$error":"#REF!"}},{"$f":"IF(入力シート!#REF!=\"\",\"\",TEXT(入力シート!#REF!,\"yyyy/mm/dd\"))","v":{"$error":"#REF!"}},{"$f":"IF(入力シート!#REF!=\"\",\"\",入力シート!#REF!)","v":{"$error":"#REF!"}},{"$f":"IF(入力シート!#REF!=\"\",\"\",入力シート!#REF!)","v":{"$error":"#REF!"}},{"$f":"IF(入力シート!#REF!=\"\",\"\",入力シート!#REF!)","v":{"$error":"#REF!"}},{"$f":"IF(入力シート!#REF!=\"\",\"\",入力シート!#REF!)","v":{"$error":"#REF!"}},{"$f":"IF(入力シート!#REF!=\"\",\"\",入力シート!#REF!)","v":{"$error":"#REF!"}},{"$f":"IF(入力シート!#REF!=\"\",\"\",入力シート!#REF!)","v":{"$error":"#REF!"}},null,{"$f":"IF(入力シート!#REF!=\"\",\"\",入力シート!#REF!)","v":{"$error":"#REF!"}},{"$f":"IF(入力シート!#REF!=\"\",\"\",入力シート!#REF!)","v":{"$error":"#REF!"}},{"$f":"IF(入力シート!#REF!=\"\",\"\",入力シート!#REF!)","v":{"$error":"#REF!"}},{"$f":"IF(入力シート!#REF!=\"\",\"\",入力シート!#REF!)","v":{"$error":"#REF!"}},{"$f":"IF(入力シート!#REF!=\"\",\"\",入力シート!#REF!)","v":{"$error":"#REF!"}},{"$f":"IF(入力シート!#REF!=\"\",\"\",入力シート!#REF!)","v":{"$error":"#REF!"}},{"$f":"IF(入力シート!#REF!=\"\",\"\",入力シート!#REF!)","v":{"$error":"#REF!"}},{"$f":"IF(入力シート!#REF!=\"\",\"\",入力シート!#REF!)","v":{"$error":"#REF!"}},{"$f":"IF(入力シート!#REF!=\"\",\"\",入力シート!#REF!)","v":{"$error":"#REF!"}},{"$f":"IF(入力シート!#REF!=\"\",\"\",入力シート!#REF!)","v":{"$error":"#REF!"}},{"$f":"IF(入力シート!#REF!=\"\",\"\",入力シート!#REF!)","v":{"$error":"#REF!"}},null,null,{"$f":"IF(入力シート!H228=\"\",\"\",\"〇\")","v":""},{"$f":"IF(入力シート!#REF!=\"\",\"\",入力シート!#REF!)","v":{"$error":"#REF!"}},{"$f":"IF(入力シート!#REF!=\"\",\"\",入力シート!#REF!)","v":{"$error":"#REF!"}},{"$f":"IF(入力シート!#REF!=\"\",\"\",入力シート!#REF!)","v":{"$error":"#REF!"}},{"$f":"IF(入力シート!#REF!=\"\",\"\",入力シート!#REF!)","v":{"$error":"#REF!"}}]
[{"$f":"IF(入力シート!#REF!=\"\",\"\",入力シート!#REF!)","v":{"$error":"#REF!"}},{"$f":"IF(入力シート!#REF!=\"\",\"\",入力シート!#REF!)","v":{"$error":"#REF!"}},{"$f":"IF(入力シート!#REF!=\"\",\"\",DBCS(入力シート!#REF!))","v":{"$error":"#REF!"}},{"$f":"IF(入力シート!#REF!=\"\",\"\",DBCS(入力シート!#REF!))","v":{"$error":"#REF!"}},{"$f":"ASC(IF(入力シート!#REF!=\"\",\"\",UPPER(入力シート!#REF!)))","v":{"$error":"#REF!"}},{"$f":"IF(入力シート!#REF!=\"\",\"\",PROPER(入力シート!#REF!))","v":{"$error":"#REF!"}},{"$f":"IF(入力シート!#REF!=\"\",\"\",入力シート!#REF!)","v":{"$error":"#REF!"}},{"$f":"IF(入力シート!#REF!=\"\",\"\",TEXT(入力シート!#REF!,\"yyyy/mm/dd\"))","v":{"$error":"#REF!"}},{"$f":"IF(入力シート!#REF!=\"\",\"\",入力シート!#REF!)","v":{"$error":"#REF!"}},{"$f":"IF(入力シート!#REF!=\"\",\"\",入力シート!#REF!)","v":{"$error":"#REF!"}},{"$f":"IF(入力シート!#REF!=\"\",\"\",入力シート!#REF!)","v":{"$error":"#REF!"}},{"$f":"IF(入力シート!#REF!=\"\",\"\",入力シート!#REF!)","v":{"$error":"#REF!"}},{"$f":"IF(入力シート!#REF!=\"\",\"\",入力シート!#REF!)","v":{"$error":"#REF!"}},{"$f":"IF(入力シート!#REF!=\"\",\"\",入力シート!#REF!)","v":{"$error":"#REF!"}},null,{"$f":"IF(入力シート!#REF!=\"\",\"\",入力シート!#REF!)","v":{"$error":"#REF!"}},{"$f":"IF(入力シート!#REF!=\"\",\"\",入力シート!#REF!)","v":{"$error":"#REF!"}},{"$f":"IF(入力シート!#REF!=\"\",\"\",入力シート!#REF!)","v":{"$error":"#REF!"}},{"$f":"IF(入力シート!#REF!=\"\",\"\",入力シート!#REF!)","v":{"$error":"#REF!"}},{"$f":"IF(入力シート!#REF!=\"\",\"\",入力シート!#REF!)","v":{"$error":"#REF!"}},{"$f":"IF(入力シート!#REF!=\"\",\"\",入力シート!#REF!)","v":{"$error":"#REF!"}},{"$f":"IF(入力シート!#REF!=\"\",\"\",入力シート!#REF!)","v":{"$error":"#REF!"}},{"$f":"IF(入力シート!#REF!=\"\",\"\",入力シート!#REF!)","v":{"$error":"#REF!"}},{"$f":"IF(入力シート!#REF!=\"\",\"\",入力シート!#REF!)","v":{"$error":"#REF!"}},{"$f":"IF(入力シート!#REF!=\"\",\"\",入力シート!#REF!)","v":{"$error":"#REF!"}},{"$f":"IF(入力シート!#REF!=\"\",\"\",入力シート!#REF!)","v":{"$error":"#REF!"}},null,null,{"$f":"IF(入力シート!H229=\"\",\"\",\"〇\")","v":""},{"$f":"IF(入力シート!#REF!=\"\",\"\",入力シート!#REF!)","v":{"$error":"#REF!"}},{"$f":"IF(入力シート!#REF!=\"\",\"\",入力シート!#REF!)","v":{"$error":"#REF!"}},{"$f":"IF(入力シート!#REF!=\"\",\"\",入力シート!#REF!)","v":{"$error":"#REF!"}},{"$f":"IF(入力シート!#REF!=\"\",\"\",入力シート!#REF!)","v":{"$error":"#REF!"}}]
[{"$f":"IF(入力シート!#REF!=\"\",\"\",入力シート!#REF!)","v":{"$error":"#REF!"}},{"$f":"IF(入力シート!#REF!=\"\",\"\",入力シート!#REF!)","v":{"$error":"#REF!"}},{"$f":"IF(入力シート!#REF!=\"\",\"\",DBCS(入力シート!#REF!))","v":{"$error":"#REF!"}},{"$f":"IF(入力シート!#REF!=\"\",\"\",DBCS(入力シート!#REF!))","v":{"$error":"#REF!"}},{"$f":"ASC(IF(入力シート!#REF!=\"\",\"\",UPPER(入力シート!#REF!)))","v":{"$error":"#REF!"}},{"$f":"IF(入力シート!#REF!=\"\",\"\",PROPER(入力シート!#REF!))","v":{"$error":"#REF!"}},{"$f":"IF(入力シート!#REF!=\"\",\"\",入力シート!#REF!)","v":{"$error":"#REF!"}},{"$f":"IF(入力シート!#REF!=\"\",\"\",TEXT(入力シート!#REF!,\"yyyy/mm/dd\"))","v":{"$error":"#REF!"}},{"$f":"IF(入力シート!#REF!=\"\",\"\",入力シート!#REF!)","v":{"$error":"#REF!"}},{"$f":"IF(入力シート!#REF!=\"\",\"\",入力シート!#REF!)","v":{"$error":"#REF!"}},{"$f":"IF(入力シート!#REF!=\"\",\"\",入力シート!#REF!)","v":{"$error":"#REF!"}},{"$f":"IF(入力シート!#REF!=\"\",\"\",入力シート!#REF!)","v":{"$error":"#REF!"}},{"$f":"IF(入力シート!#REF!=\"\",\"\",入力シート!#REF!)","v":{"$error":"#REF!"}},{"$f":"IF(入力シート!#REF!=\"\",\"\",入力シート!#REF!)","v":{"$error":"#REF!"}},null,{"$f":"IF(入力シート!#REF!=\"\",\"\",入力シート!#REF!)","v":{"$error":"#REF!"}},{"$f":"IF(入力シート!#REF!=\"\",\"\",入力シート!#REF!)","v":{"$error":"#REF!"}},{"$f":"IF(入力シート!#REF!=\"\",\"\",入力シート!#REF!)","v":{"$error":"#REF!"}},{"$f":"IF(入力シート!#REF!=\"\",\"\",入力シート!#REF!)","v":{"$error":"#REF!"}},{"$f":"IF(入力シート!#REF!=\"\",\"\",入力シート!#REF!)","v":{"$error":"#REF!"}},{"$f":"IF(入力シート!#REF!=\"\",\"\",入力シート!#REF!)","v":{"$error":"#REF!"}},{"$f":"IF(入力シート!#REF!=\"\",\"\",入力シート!#REF!)","v":{"$error":"#REF!"}},{"$f":"IF(入力シート!#REF!=\"\",\"\",入力シート!#REF!)","v":{"$error":"#REF!"}},{"$f":"IF(入力シート!#REF!=\"\",\"\",入力シート!#REF!)","v":{"$error":"#REF!"}},{"$f":"IF(入力シート!#REF!=\"\",\"\",入力シート!#REF!)","v":{"$error":"#REF!"}},{"$f":"IF(入力シート!#REF!=\"\",\"\",入力シート!#REF!)","v":{"$error":"#REF!"}},null,null,{"$f":"IF(入力シート!H230=\"\",\"\",\"〇\")","v":""},{"$f":"IF(入力シート!#REF!=\"\",\"\",入力シート!#REF!)","v":{"$error":"#REF!"}},{"$f":"IF(入力シート!#REF!=\"\",\"\",入力シート!#REF!)","v":{"$error":"#REF!"}},{"$f":"IF(入力シート!#REF!=\"\",\"\",入力シート!#REF!)","v":{"$error":"#REF!"}},{"$f":"IF(入力シート!#REF!=\"\",\"\",入力シート!#REF!)","v":{"$error":"#REF!"}}]
[{"$f":"IF(入力シート!#REF!=\"\",\"\",入力シート!#REF!)","v":{"$error":"#REF!"}},{"$f":"IF(入力シート!#REF!=\"\",\"\",入力シート!#REF!)","v":{"$error":"#REF!"}},{"$f":"IF(入力シート!#REF!=\"\",\"\",DBCS(入力シート!#REF!))","v":{"$error":"#REF!"}},{"$f":"IF(入力シート!#REF!=\"\",\"\",DBCS(入力シート!#REF!))","v":{"$error":"#REF!"}},{"$f":"ASC(IF(入力シート!#REF!=\"\",\"\",UPPER(入力シート!#REF!)))","v":{"$error":"#REF!"}},{"$f":"IF(入力シート!#REF!=\"\",\"\",PROPER(入力シート!#REF!))","v":{"$error":"#REF!"}},{"$f":"IF(入力シート!#REF!=\"\",\"\",入力シート!#REF!)","v":{"$error":"#REF!"}},{"$f":"IF(入力シート!#REF!=\"\",\"\",TEXT(入力シート!#REF!,\"yyyy/mm/dd\"))","v":{"$error":"#REF!"}},{"$f":"IF(入力シート!#REF!=\"\",\"\",入力シート!#REF!)","v":{"$error":"#REF!"}},{"$f":"IF(入力シート!#REF!=\"\",\"\",入力シート!#REF!)","v":{"$error":"#REF!"}},{"$f":"IF(入力シート!#REF!=\"\",\"\",入力シート!#REF!)","v":{"$error":"#REF!"}},{"$f":"IF(入力シート!#REF!=\"\",\"\",入力シート!#REF!)","v":{"$error":"#REF!"}},{"$f":"IF(入力シート!#REF!=\"\",\"\",入力シート!#REF!)","v":{"$error":"#REF!"}},{"$f":"IF(入力シート!#REF!=\"\",\"\",入力シート!#REF!)","v":{"$error":"#REF!"}},null,{"$f":"IF(入力シート!#REF!=\"\",\"\",入力シート!#REF!)","v":{"$error":"#REF!"}},{"$f":"IF(入力シート!#REF!=\"\",\"\",入力シート!#REF!)","v":{"$error":"#REF!"}},{"$f":"IF(入力シート!#REF!=\"\",\"\",入力シート!#REF!)","v":{"$error":"#REF!"}},{"$f":"IF(入力シート!#REF!=\"\",\"\",入力シート!#REF!)","v":{"$error":"#REF!"}},{"$f":"IF(入力シート!#REF!=\"\",\"\",入力シート!#REF!)","v":{"$error":"#REF!"}},{"$f":"IF(入力シート!#REF!=\"\",\"\",入力シート!#REF!)","v":{"$error":"#REF!"}},{"$f":"IF(入力シート!#REF!=\"\",\"\",入力シート!#REF!)","v":{"$error":"#REF!"}},{"$f":"IF(入力シート!#REF!=\"\",\"\",入力シート!#REF!)","v":{"$error":"#REF!"}},{"$f":"IF(入力シート!#REF!=\"\",\"\",入力シート!#REF!)","v":{"$error":"#REF!"}},{"$f":"IF(入力シート!#REF!=\"\",\"\",入力シート!#REF!)","v":{"$error":"#REF!"}},{"$f":"IF(入力シート!#REF!=\"\",\"\",入力シート!#REF!)","v":{"$error":"#REF!"}},null,null,{"$f":"IF(入力シート!H231=\"\",\"\",\"〇\")","v":""},{"$f":"IF(入力シート!#REF!=\"\",\"\",入力シート!#REF!)","v":{"$error":"#REF!"}},{"$f":"IF(入力シート!#REF!=\"\",\"\",入力シート!#REF!)","v":{"$error":"#REF!"}},{"$f":"IF(入力シート!#REF!=\"\",\"\",入力シート!#REF!)","v":{"$error":"#REF!"}},{"$f":"IF(入力シート!#REF!=\"\",\"\",入力シート!#REF!)","v":{"$error":"#REF!"}}]
[{"$f":"IF(入力シート!#REF!=\"\",\"\",入力シート!#REF!)","v":{"$error":"#REF!"}},{"$f":"IF(入力シート!#REF!=\"\",\"\",入力シート!#REF!)","v":{"$error":"#REF!"}},{"$f":"IF(入力シート!#REF!=\"\",\"\",DBCS(入力シート!#REF!))","v":{"$error":"#REF!"}},{"$f":"IF(入力シート!#REF!=\"\",\"\",DBCS(入力シート!#REF!))","v":{"$error":"#REF!"}},{"$f":"ASC(IF(入力シート!#REF!=\"\",\"\",UPPER(入力シート!#REF!)))","v":{"$error":"#REF!"}},{"$f":"IF(入力シート!#REF!=\"\",\"\",PROPER(入力シート!#REF!))","v":{"$error":"#REF!"}},{"$f":"IF(入力シート!#REF!=\"\",\"\",入力シート!#REF!)","v":{"$error":"#REF!"}},{"$f":"IF(入力シート!#REF!=\"\",\"\",TEXT(入力シート!#REF!,\"yyyy/mm/dd\"))","v":{"$error":"#REF!"}},{"$f":"IF(入力シート!#REF!=\"\",\"\",入力シート!#REF!)","v":{"$error":"#REF!"}},{"$f":"IF(入力シート!#REF!=\"\",\"\",入力シート!#REF!)","v":{"$error":"#REF!"}},{"$f":"IF(入力シート!#REF!=\"\",\"\",入力シート!#REF!)","v":{"$error":"#REF!"}},{"$f":"IF(入力シート!#REF!=\"\",\"\",入力シート!#REF!)","v":{"$error":"#REF!"}},{"$f":"IF(入力シート!#REF!=\"\",\"\",入力シート!#REF!)","v":{"$error":"#REF!"}},{"$f":"IF(入力シート!#REF!=\"\",\"\",入力シート!#REF!)","v":{"$error":"#REF!"}},null,{"$f":"IF(入力シート!#REF!=\"\",\"\",入力シート!#REF!)","v":{"$error":"#REF!"}},{"$f":"IF(入力シート!#REF!=\"\",\"\",入力シート!#REF!)","v":{"$error":"#REF!"}},{"$f":"IF(入力シート!#REF!=\"\",\"\",入力シート!#REF!)","v":{"$error":"#REF!"}},{"$f":"IF(入力シート!#REF!=\"\",\"\",入力シート!#REF!)","v":{"$error":"#REF!"}},{"$f":"IF(入力シート!#REF!=\"\",\"\",入力シート!#REF!)","v":{"$error":"#REF!"}},{"$f":"IF(入力シート!#REF!=\"\",\"\",入力シート!#REF!)","v":{"$error":"#REF!"}},{"$f":"IF(入力シート!#REF!=\"\",\"\",入力シート!#REF!)","v":{"$error":"#REF!"}},{"$f":"IF(入力シート!#REF!=\"\",\"\",入力シート!#REF!)","v":{"$error":"#REF!"}},{"$f":"IF(入力シート!#REF!=\"\",\"\",入力シート!#REF!)","v":{"$error":"#REF!"}},{"$f":"IF(入力シート!#REF!=\"\",\"\",入力シート!#REF!)","v":{"$error":"#REF!"}},{"$f":"IF(入力シート!#REF!=\"\",\"\",入力シート!#REF!)","v":{"$error":"#REF!"}},null,null,{"$f":"IF(入力シート!H232=\"\",\"\",\"〇\")","v":""},{"$f":"IF(入力シート!#REF!=\"\",\"\",入力シート!#REF!)","v":{"$error":"#REF!"}},{"$f":"IF(入力シート!#REF!=\"\",\"\",入力シート!#REF!)","v":{"$error":"#REF!"}},{"$f":"IF(入力シート!#REF!=\"\",\"\",入力シート!#REF!)","v":{"$error":"#REF!"}},{"$f":"IF(入力シート!#REF!=\"\",\"\",入力シート!#REF!)","v":{"$error":"#REF!"}}]
[{"$f":"IF(入力シート!#REF!=\"\",\"\",入力シート!#REF!)","v":{"$error":"#REF!"}},{"$f":"IF(入力シート!#REF!=\"\",\"\",入力シート!#REF!)","v":{"$error":"#REF!"}},{"$f":"IF(入力シート!#REF!=\"\",\"\",DBCS(入力シート!#REF!))","v":{"$error":"#REF!"}},{"$f":"IF(入力シート!#REF!=\"\",\"\",DBCS(入力シート!#REF!))","v":{"$error":"#REF!"}},{"$f":"ASC(IF(入力シート!#REF!=\"\",\"\",UPPER(入力シート!#REF!)))","v":{"$error":"#REF!"}},{"$f":"IF(入力シート!#REF!=\"\",\"\",PROPER(入力シート!#REF!))","v":{"$error":"#REF!"}},{"$f":"IF(入力シート!#REF!=\"\",\"\",入力シート!#REF!)","v":{"$error":"#REF!"}},{"$f":"IF(入力シート!#REF!=\"\",\"\",TEXT(入力シート!#REF!,\"yyyy/mm/dd\"))","v":{"$error":"#REF!"}},{"$f":"IF(入力シート!#REF!=\"\",\"\",入力シート!#REF!)","v":{"$error":"#REF!"}},{"$f":"IF(入力シート!#REF!=\"\",\"\",入力シート!#REF!)","v":{"$error":"#REF!"}},{"$f":"IF(入力シート!#REF!=\"\",\"\",入力シート!#REF!)","v":{"$error":"#REF!"}},{"$f":"IF(入力シート!#REF!=\"\",\"\",入力シート!#REF!)","v":{"$error":"#REF!"}},{"$f":"IF(入力シート!#REF!=\"\",\"\",入力シート!#REF!)","v":{"$error":"#REF!"}},{"$f":"IF(入力シート!#REF!=\"\",\"\",入力シート!#REF!)","v":{"$error":"#REF!"}},null,{"$f":"IF(入力シート!#REF!=\"\",\"\",入力シート!#REF!)","v":{"$error":"#REF!"}},{"$f":"IF(入力シート!#REF!=\"\",\"\",入力シート!#REF!)","v":{"$error":"#REF!"}},{"$f":"IF(入力シート!#REF!=\"\",\"\",入力シート!#REF!)","v":{"$error":"#REF!"}},{"$f":"IF(入力シート!#REF!=\"\",\"\",入力シート!#REF!)","v":{"$error":"#REF!"}},{"$f":"IF(入力シート!#REF!=\"\",\"\",入力シート!#REF!)","v":{"$error":"#REF!"}},{"$f":"IF(入力シート!#REF!=\"\",\"\",入力シート!#REF!)","v":{"$error":"#REF!"}},{"$f":"IF(入力シート!#REF!=\"\",\"\",入力シート!#REF!)","v":{"$error":"#REF!"}},{"$f":"IF(入力シート!#REF!=\"\",\"\",入力シート!#REF!)","v":{"$error":"#REF!"}},{"$f":"IF(入力シート!#REF!=\"\",\"\",入力シート!#REF!)","v":{"$error":"#REF!"}},{"$f":"IF(入力シート!#REF!=\"\",\"\",入力シート!#REF!)","v":{"$error":"#REF!"}},{"$f":"IF(入力シート!#REF!=\"\",\"\",入力シート!#REF!)","v":{"$error":"#REF!"}},null,null,{"$f":"IF(入力シート!H233=\"\",\"\",\"〇\")","v":""},{"$f":"IF(入力シート!#REF!=\"\",\"\",入力シート!#REF!)","v":{"$error":"#REF!"}},{"$f":"IF(入力シート!#REF!=\"\",\"\",入力シート!#REF!)","v":{"$error":"#REF!"}},{"$f":"IF(入力シート!#REF!=\"\",\"\",入力シート!#REF!)","v":{"$error":"#REF!"}},{"$f":"IF(入力シート!#REF!=\"\",\"\",入力シート!#REF!)","v":{"$error":"#REF!"}}]
[{"$f":"IF(入力シート!#REF!=\"\",\"\",入力シート!#REF!)","v":{"$error":"#REF!"}},{"$f":"IF(入力シート!#REF!=\"\",\"\",入力シート!#REF!)","v":{"$error":"#REF!"}},{"$f":"IF(入力シート!#REF!=\"\",\"\",DBCS(入力シート!#REF!))","v":{"$error":"#REF!"}},{"$f":"IF(入力シート!#REF!=\"\",\"\",DBCS(入力シート!#REF!))","v":{"$error":"#REF!"}},{"$f":"ASC(IF(入力シート!#REF!=\"\",\"\",UPPER(入力シート!#REF!)))","v":{"$error":"#REF!"}},{"$f":"IF(入力シート!#REF!=\"\",\"\",PROPER(入力シート!#REF!))","v":{"$error":"#REF!"}},{"$f":"IF(入力シート!#REF!=\"\",\"\",入力シート!#REF!)","v":{"$error":"#REF!"}},{"$f":"IF(入力シート!#REF!=\"\",\"\",TEXT(入力シート!#REF!,\"yyyy/mm/dd\"))","v":{"$error":"#REF!"}},{"$f":"IF(入力シート!#REF!=\"\",\"\",入力シート!#REF!)","v":{"$error":"#REF!"}},{"$f":"IF(入力シート!#REF!=\"\",\"\",入力シート!#REF!)","v":{"$error":"#REF!"}},{"$f":"IF(入力シート!#REF!=\"\",\"\",入力シート!#REF!)","v":{"$error":"#REF!"}},{"$f":"IF(入力シート!#REF!=\"\",\"\",入力シート!#REF!)","v":{"$error":"#REF!"}},{"$f":"IF(入力シート!#REF!=\"\",\"\",入力シート!#REF!)","v":{"$error":"#REF!"}},{"$f":"IF(入力シート!#REF!=\"\",\"\",入力シート!#REF!)","v":{"$error":"#REF!"}},null,{"$f":"IF(入力シート!#REF!=\"\",\"\",入力シート!#REF!)","v":{"$error":"#REF!"}},{"$f":"IF(入力シート!#REF!=\"\",\"\",入力シート!#REF!)","v":{"$error":"#REF!"}},{"$f":"IF(入力シート!#REF!=\"\",\"\",入力シート!#REF!)","v":{"$error":"#REF!"}},{"$f":"IF(入力シート!#REF!=\"\",\"\",入力シート!#REF!)","v":{"$error":"#REF!"}},{"$f":"IF(入力シート!#REF!=\"\",\"\",入力シート!#REF!)","v":{"$error":"#REF!"}},{"$f":"IF(入力シート!#REF!=\"\",\"\",入力シート!#REF!)","v":{"$error":"#REF!"}},{"$f":"IF(入力シート!#REF!=\"\",\"\",入力シート!#REF!)","v":{"$error":"#REF!"}},{"$f":"IF(入力シート!#REF!=\"\",\"\",入力シート!#REF!)","v":{"$error":"#REF!"}},{"$f":"IF(入力シート!#REF!=\"\",\"\",入力シート!#REF!)","v":{"$error":"#REF!"}},{"$f":"IF(入力シート!#REF!=\"\",\"\",入力シート!#REF!)","v":{"$error":"#REF!"}},{"$f":"IF(入力シート!#REF!=\"\",\"\",入力シート!#REF!)","v":{"$error":"#REF!"}},null,null,{"$f":"IF(入力シート!H234=\"\",\"\",\"〇\")","v":""},{"$f":"IF(入力シート!#REF!=\"\",\"\",入力シート!#REF!)","v":{"$error":"#REF!"}},{"$f":"IF(入力シート!#REF!=\"\",\"\",入力シート!#REF!)","v":{"$error":"#REF!"}},{"$f":"IF(入力シート!#REF!=\"\",\"\",入力シート!#REF!)","v":{"$error":"#REF!"}},{"$f":"IF(入力シート!#REF!=\"\",\"\",入力シート!#REF!)","v":{"$error":"#REF!"}}]
[{"$f":"IF(入力シート!#REF!=\"\",\"\",入力シート!#REF!)","v":{"$error":"#REF!"}},{"$f":"IF(入力シート!#REF!=\"\",\"\",入力シート!#REF!)","v":{"$error":"#REF!"}},{"$f":"IF(入力シート!#REF!=\"\",\"\",DBCS(入力シート!#REF!))","v":{"$error":"#REF!"}},{"$f":"IF(入力シート!#REF!=\"\",\"\",DBCS(入力シート!#REF!))","v":{"$error":"#REF!"}},{"$f":"ASC(IF(入力シート!#REF!=\"\",\"\",UPPER(入力シート!#REF!)))","v":{"$error":"#REF!"}},{"$f":"IF(入力シート!#REF!=\"\",\"\",PROPER(入力シート!#REF!))","v":{"$error":"#REF!"}},{"$f":"IF(入力シート!#REF!=\"\",\"\",入力シート!#REF!)","v":{"$error":"#REF!"}},{"$f":"IF(入力シート!#REF!=\"\",\"\",TEXT(入力シート!#REF!,\"yyyy/mm/dd\"))","v":{"$error":"#REF!"}},{"$f":"IF(入力シート!#REF!=\"\",\"\",入力シート!#REF!)","v":{"$error":"#REF!"}},{"$f":"IF(入力シート!#REF!=\"\",\"\",入力シート!#REF!)","v":{"$error":"#REF!"}},{"$f":"IF(入力シート!#REF!=\"\",\"\",入力シート!#REF!)","v":{"$error":"#REF!"}},{"$f":"IF(入力シート!#REF!=\"\",\"\",入力シート!#REF!)","v":{"$error":"#REF!"}},{"$f":"IF(入力シート!#REF!=\"\",\"\",入力シート!#REF!)","v":{"$error":"#REF!"}},{"$f":"IF(入力シート!#REF!=\"\",\"\",入力シート!#REF!)","v":{"$error":"#REF!"}},null,{"$f":"IF(入力シート!#REF!=\"\",\"\",入力シート!#REF!)","v":{"$error":"#REF!"}},{"$f":"IF(入力シート!#REF!=\"\",\"\",入力シート!#REF!)","v":{"$error":"#REF!"}},{"$f":"IF(入力シート!#REF!=\"\",\"\",入力シート!#REF!)","v":{"$error":"#REF!"}},{"$f":"IF(入力シート!#REF!=\"\",\"\",入力シート!#REF!)","v":{"$error":"#REF!"}},{"$f":"IF(入力シート!#REF!=\"\",\"\",入力シート!#REF!)","v":{"$error":"#REF!"}},{"$f":"IF(入力シート!#REF!=\"\",\"\",入力シート!#REF!)","v":{"$error":"#REF!"}},{"$f":"IF(入力シート!#REF!=\"\",\"\",入力シート!#REF!)","v":{"$error":"#REF!"}},{"$f":"IF(入力シート!#REF!=\"\",\"\",入力シート!#REF!)","v":{"$error":"#REF!"}},{"$f":"IF(入力シート!#REF!=\"\",\"\",入力シート!#REF!)","v":{"$error":"#REF!"}},{"$f":"IF(入力シート!#REF!=\"\",\"\",入力シート!#REF!)","v":{"$error":"#REF!"}},{"$f":"IF(入力シート!#REF!=\"\",\"\",入力シート!#REF!)","v":{"$error":"#REF!"}},null,null,{"$f":"IF(入力シート!H235=\"\",\"\",\"〇\")","v":""},{"$f":"IF(入力シート!#REF!=\"\",\"\",入力シート!#REF!)","v":{"$error":"#REF!"}},{"$f":"IF(入力シート!#REF!=\"\",\"\",入力シート!#REF!)","v":{"$error":"#REF!"}},{"$f":"IF(入力シート!#REF!=\"\",\"\",入力シート!#REF!)","v":{"$error":"#REF!"}},{"$f":"IF(入力シート!#REF!=\"\",\"\",入力シート!#REF!)","v":{"$error":"#REF!"}}]
[{"$f":"IF(入力シート!#REF!=\"\",\"\",入力シート!#REF!)","v":{"$error":"#REF!"}},{"$f":"IF(入力シート!#REF!=\"\",\"\",入力シート!#REF!)","v":{"$error":"#REF!"}},{"$f":"IF(入力シート!#REF!=\"\",\"\",DBCS(入力シート!#REF!))","v":{"$error":"#REF!"}},{"$f":"IF(入力シート!#REF!=\"\",\"\",DBCS(入力シート!#REF!))","v":{"$error":"#REF!"}},{"$f":"ASC(IF(入力シート!#REF!=\"\",\"\",UPPER(入力シート!#REF!)))","v":{"$error":"#REF!"}},{"$f":"IF(入力シート!#REF!=\"\",\"\",PROPER(入力シート!#REF!))","v":{"$error":"#REF!"}},{"$f":"IF(入力シート!#REF!=\"\",\"\",入力シート!#REF!)","v":{"$error":"#REF!"}},{"$f":"IF(入力シート!#REF!=\"\",\"\",TEXT(入力シート!#REF!,\"yyyy/mm/dd\"))","v":{"$error":"#REF!"}},{"$f":"IF(入力シート!#REF!=\"\",\"\",入力シート!#REF!)","v":{"$error":"#REF!"}},{"$f":"IF(入力シート!#REF!=\"\",\"\",入力シート!#REF!)","v":{"$error":"#REF!"}},{"$f":"IF(入力シート!#REF!=\"\",\"\",入力シート!#REF!)","v":{"$error":"#REF!"}},{"$f":"IF(入力シート!#REF!=\"\",\"\",入力シート!#REF!)","v":{"$error":"#REF!"}},{"$f":"IF(入力シート!#REF!=\"\",\"\",入力シート!#REF!)","v":{"$error":"#REF!"}},{"$f":"IF(入力シート!#REF!=\"\",\"\",入力シート!#REF!)","v":{"$error":"#REF!"}},null,{"$f":"IF(入力シート!#REF!=\"\",\"\",入力シート!#REF!)","v":{"$error":"#REF!"}},{"$f":"IF(入力シート!#REF!=\"\",\"\",入力シート!#REF!)","v":{"$error":"#REF!"}},{"$f":"IF(入力シート!#REF!=\"\",\"\",入力シート!#REF!)","v":{"$error":"#REF!"}},{"$f":"IF(入力シート!#REF!=\"\",\"\",入力シート!#REF!)","v":{"$error":"#REF!"}},{"$f":"IF(入力シート!#REF!=\"\",\"\",入力シート!#REF!)","v":{"$error":"#REF!"}},{"$f":"IF(入力シート!#REF!=\"\",\"\",入力シート!#REF!)","v":{"$error":"#REF!"}},{"$f":"IF(入力シート!#REF!=\"\",\"\",入力シート!#REF!)","v":{"$error":"#REF!"}},{"$f":"IF(入力シート!#REF!=\"\",\"\",入力シート!#REF!)","v":{"$error":"#REF!"}},{"$f":"IF(入力シート!#REF!=\"\",\"\",入力シート!#REF!)","v":{"$error":"#REF!"}},{"$f":"IF(入力シート!#REF!=\"\",\"\",入力シート!#REF!)","v":{"$error":"#REF!"}},{"$f":"IF(入力シート!#REF!=\"\",\"\",入力シート!#REF!)","v":{"$error":"#REF!"}},null,null,{"$f":"IF(入力シート!H236=\"\",\"\",\"〇\")","v":""},{"$f":"IF(入力シート!#REF!=\"\",\"\",入力シート!#REF!)","v":{"$error":"#REF!"}},{"$f":"IF(入力シート!#REF!=\"\",\"\",入力シート!#REF!)","v":{"$error":"#REF!"}},{"$f":"IF(入力シート!#REF!=\"\",\"\",入力シート!#REF!)","v":{"$error":"#REF!"}},{"$f":"IF(入力シート!#REF!=\"\",\"\",入力シート!#REF!)","v":{"$error":"#REF!"}}]
[{"$f":"IF(入力シート!#REF!=\"\",\"\",入力シート!#REF!)","v":{"$error":"#REF!"}},{"$f":"IF(入力シート!#REF!=\"\",\"\",入力シート!#REF!)","v":{"$error":"#REF!"}},{"$f":"IF(入力シート!#REF!=\"\",\"\",DBCS(入力シート!#REF!))","v":{"$error":"#REF!"}},{"$f":"IF(入力シート!#REF!=\"\",\"\",DBCS(入力シート!#REF!))","v":{"$error":"#REF!"}},{"$f":"ASC(IF(入力シート!#REF!=\"\",\"\",UPPER(入力シート!#REF!)))","v":{"$error":"#REF!"}},{"$f":"IF(入力シート!#REF!=\"\",\"\",PROPER(入力シート!#REF!))","v":{"$error":"#REF!"}},{"$f":"IF(入力シート!#REF!=\"\",\"\",入力シート!#REF!)","v":{"$error":"#REF!"}},{"$f":"IF(入力シート!#REF!=\"\",\"\",TEXT(入力シート!#REF!,\"yyyy/mm/dd\"))","v":{"$error":"#REF!"}},{"$f":"IF(入力シート!#REF!=\"\",\"\",入力シート!#REF!)","v":{"$error":"#REF!"}},{"$f":"IF(入力シート!#REF!=\"\",\"\",入力シート!#REF!)","v":{"$error":"#REF!"}},{"$f":"IF(入力シート!#REF!=\"\",\"\",入力シート!#REF!)","v":{"$error":"#REF!"}},{"$f":"IF(入力シート!#REF!=\"\",\"\",入力シート!#REF!)","v":{"$error":"#REF!"}},{"$f":"IF(入力シート!#REF!=\"\",\"\",入力シート!#REF!)","v":{"$error":"#REF!"}},{"$f":"IF(入力シート!#REF!=\"\",\"\",入力シート!#REF!)","v":{"$error":"#REF!"}},null,{"$f":"IF(入力シート!#REF!=\"\",\"\",入力シート!#REF!)","v":{"$error":"#REF!"}},{"$f":"IF(入力シート!#REF!=\"\",\"\",入力シート!#REF!)","v":{"$error":"#REF!"}},{"$f":"IF(入力シート!#REF!=\"\",\"\",入力シート!#REF!)","v":{"$error":"#REF!"}},{"$f":"IF(入力シート!#REF!=\"\",\"\",入力シート!#REF!)","v":{"$error":"#REF!"}},{"$f":"IF(入力シート!#REF!=\"\",\"\",入力シート!#REF!)","v":{"$error":"#REF!"}},{"$f":"IF(入力シート!#REF!=\"\",\"\",入力シート!#REF!)","v":{"$error":"#REF!"}},{"$f":"IF(入力シート!#REF!=\"\",\"\",入力シート!#REF!)","v":{"$error":"#REF!"}},{"$f":"IF(入力シート!#REF!=\"\",\"\",入力シート!#REF!)","v":{"$error":"#REF!"}},{"$f":"IF(入力シート!#REF!=\"\",\"\",入力シート!#REF!)","v":{"$error":"#REF!"}},{"$f":"IF(入力シート!#REF!=\"\",\"\",入力シート!#REF!)","v":{"$error":"#REF!"}},{"$f":"IF(入力シート!#REF!=\"\",\"\",入力シート!#REF!)","v":{"$error":"#REF!"}},null,null,{"$f":"IF(入力シート!H237=\"\",\"\",\"〇\")","v":""},{"$f":"IF(入力シート!#REF!=\"\",\"\",入力シート!#REF!)","v":{"$error":"#REF!"}},{"$f":"IF(入力シート!#REF!=\"\",\"\",入力シート!#REF!)","v":{"$error":"#REF!"}},{"$f":"IF(入力シート!#REF!=\"\",\"\",入力シート!#REF!)","v":{"$error":"#REF!"}},{"$f":"IF(入力シート!#REF!=\"\",\"\",入力シート!#REF!)","v":{"$error":"#REF!"}}]
[{"$f":"IF(入力シート!#REF!=\"\",\"\",入力シート!#REF!)","v":{"$error":"#REF!"}},{"$f":"IF(入力シート!#REF!=\"\",\"\",入力シート!#REF!)","v":{"$error":"#REF!"}},{"$f":"IF(入力シート!#REF!=\"\",\"\",DBCS(入力シート!#REF!))","v":{"$error":"#REF!"}},{"$f":"IF(入力シート!#REF!=\"\",\"\",DBCS(入力シート!#REF!))","v":{"$error":"#REF!"}},{"$f":"ASC(IF(入力シート!#REF!=\"\",\"\",UPPER(入力シート!#REF!)))","v":{"$error":"#REF!"}},{"$f":"IF(入力シート!#REF!=\"\",\"\",PROPER(入力シート!#REF!))","v":{"$error":"#REF!"}},{"$f":"IF(入力シート!#REF!=\"\",\"\",入力シート!#REF!)","v":{"$error":"#REF!"}},{"$f":"IF(入力シート!#REF!=\"\",\"\",TEXT(入力シート!#REF!,\"yyyy/mm/dd\"))","v":{"$error":"#REF!"}},{"$f":"IF(入力シート!#REF!=\"\",\"\",入力シート!#REF!)","v":{"$error":"#REF!"}},{"$f":"IF(入力シート!#REF!=\"\",\"\",入力シート!#REF!)","v":{"$error":"#REF!"}},{"$f":"IF(入力シート!#REF!=\"\",\"\",入力シート!#REF!)","v":{"$error":"#REF!"}},{"$f":"IF(入力シート!#REF!=\"\",\"\",入力シート!#REF!)","v":{"$error":"#REF!"}},{"$f":"IF(入力シート!#REF!=\"\",\"\",入力シート!#REF!)","v":{"$error":"#REF!"}},{"$f":"IF(入力シート!#REF!=\"\",\"\",入力シート!#REF!)","v":{"$error":"#REF!"}},null,{"$f":"IF(入力シート!#REF!=\"\",\"\",入力シート!#REF!)","v":{"$error":"#REF!"}},{"$f":"IF(入力シート!#REF!=\"\",\"\",入力シート!#REF!)","v":{"$error":"#REF!"}},{"$f":"IF(入力シート!#REF!=\"\",\"\",入力シート!#REF!)","v":{"$error":"#REF!"}},{"$f":"IF(入力シート!#REF!=\"\",\"\",入力シート!#REF!)","v":{"$error":"#REF!"}},{"$f":"IF(入力シート!#REF!=\"\",\"\",入力シート!#REF!)","v":{"$error":"#REF!"}},{"$f":"IF(入力シート!#REF!=\"\",\"\",入力シート!#REF!)","v":{"$error":"#REF!"}},{"$f":"IF(入力シート!#REF!=\"\",\"\",入力シート!#REF!)","v":{"$error":"#REF!"}},{"$f":"IF(入力シート!#REF!=\"\",\"\",入力シート!#REF!)","v":{"$error":"#REF!"}},{"$f":"IF(入力シート!#REF!=\"\",\"\",入力シート!#REF!)","v":{"$error":"#REF!"}},{"$f":"IF(入力シート!#REF!=\"\",\"\",入力シート!#REF!)","v":{"$error":"#REF!"}},{"$f":"IF(入力シート!#REF!=\"\",\"\",入力シート!#REF!)","v":{"$error":"#REF!"}},null,null,{"$f":"IF(入力シート!H238=\"\",\"\",\"〇\")","v":""},{"$f":"IF(入力シート!#REF!=\"\",\"\",入力シート!#REF!)","v":{"$error":"#REF!"}},{"$f":"IF(入力シート!#REF!=\"\",\"\",入力シート!#REF!)","v":{"$error":"#REF!"}},{"$f":"IF(入力シート!#REF!=\"\",\"\",入力シート!#REF!)","v":{"$error":"#REF!"}},{"$f":"IF(入力シート!#REF!=\"\",\"\",入力シート!#REF!)","v":{"$error":"#REF!"}}]
[{"$f":"IF(入力シート!#REF!=\"\",\"\",入力シート!#REF!)","v":{"$error":"#REF!"}},{"$f":"IF(入力シート!#REF!=\"\",\"\",入力シート!#REF!)","v":{"$error":"#REF!"}},{"$f":"IF(入力シート!#REF!=\"\",\"\",DBCS(入力シート!#REF!))","v":{"$error":"#REF!"}},{"$f":"IF(入力シート!#REF!=\"\",\"\",DBCS(入力シート!#REF!))","v":{"$error":"#REF!"}},{"$f":"ASC(IF(入力シート!#REF!=\"\",\"\",UPPER(入力シート!#REF!)))","v":{"$error":"#REF!"}},{"$f":"IF(入力シート!#REF!=\"\",\"\",PROPER(入力シート!#REF!))","v":{"$error":"#REF!"}},{"$f":"IF(入力シート!#REF!=\"\",\"\",入力シート!#REF!)","v":{"$error":"#REF!"}},{"$f":"IF(入力シート!#REF!=\"\",\"\",TEXT(入力シート!#REF!,\"yyyy/mm/dd\"))","v":{"$error":"#REF!"}},{"$f":"IF(入力シート!#REF!=\"\",\"\",入力シート!#REF!)","v":{"$error":"#REF!"}},{"$f":"IF(入力シート!#REF!=\"\",\"\",入力シート!#REF!)","v":{"$error":"#REF!"}},{"$f":"IF(入力シート!#REF!=\"\",\"\",入力シート!#REF!)","v":{"$error":"#REF!"}},{"$f":"IF(入力シート!#REF!=\"\",\"\",入力シート!#REF!)","v":{"$error":"#REF!"}},{"$f":"IF(入力シート!#REF!=\"\",\"\",入力シート!#REF!)","v":{"$error":"#REF!"}},{"$f":"IF(入力シート!#REF!=\"\",\"\",入力シート!#REF!)","v":{"$error":"#REF!"}},null,{"$f":"IF(入力シート!#REF!=\"\",\"\",入力シート!#REF!)","v":{"$error":"#REF!"}},{"$f":"IF(入力シート!#REF!=\"\",\"\",入力シート!#REF!)","v":{"$error":"#REF!"}},{"$f":"IF(入力シート!#REF!=\"\",\"\",入力シート!#REF!)","v":{"$error":"#REF!"}},{"$f":"IF(入力シート!#REF!=\"\",\"\",入力シート!#REF!)","v":{"$error":"#REF!"}},{"$f":"IF(入力シート!#REF!=\"\",\"\",入力シート!#REF!)","v":{"$error":"#REF!"}},{"$f":"IF(入力シート!#REF!=\"\",\"\",入力シート!#REF!)","v":{"$error":"#REF!"}},{"$f":"IF(入力シート!#REF!=\"\",\"\",入力シート!#REF!)","v":{"$error":"#REF!"}},{"$f":"IF(入力シート!#REF!=\"\",\"\",入力シート!#REF!)","v":{"$error":"#REF!"}},{"$f":"IF(入力シート!#REF!=\"\",\"\",入力シート!#REF!)","v":{"$error":"#REF!"}},{"$f":"IF(入力シート!#REF!=\"\",\"\",入力シート!#REF!)","v":{"$error":"#REF!"}},{"$f":"IF(入力シート!#REF!=\"\",\"\",入力シート!#REF!)","v":{"$error":"#REF!"}},null,null,{"$f":"IF(入力シート!H239=\"\",\"\",\"〇\")","v":""},{"$f":"IF(入力シート!#REF!=\"\",\"\",入力シート!#REF!)","v":{"$error":"#REF!"}},{"$f":"IF(入力シート!#REF!=\"\",\"\",入力シート!#REF!)","v":{"$error":"#REF!"}},{"$f":"IF(入力シート!#REF!=\"\",\"\",入力シート!#REF!)","v":{"$error":"#REF!"}},{"$f":"IF(入力シート!#REF!=\"\",\"\",入力シート!#REF!)","v":{"$error":"#REF!"}}]
[{"$f":"IF(入力シート!#REF!=\"\",\"\",入力シート!#REF!)","v":{"$error":"#REF!"}},{"$f":"IF(入力シート!#REF!=\"\",\"\",入力シート!#REF!)","v":{"$error":"#REF!"}},{"$f":"IF(入力シート!#REF!=\"\",\"\",DBCS(入力シート!#REF!))","v":{"$error":"#REF!"}},{"$f":"IF(入力シート!#REF!=\"\",\"\",DBCS(入力シート!#REF!))","v":{"$error":"#REF!"}},{"$f":"ASC(IF(入力シート!#REF!=\"\",\"\",UPPER(入力シート!#REF!)))","v":{"$error":"#REF!"}},{"$f":"IF(入力シート!#REF!=\"\",\"\",PROPER(入力シート!#REF!))","v":{"$error":"#REF!"}},{"$f":"IF(入力シート!#REF!=\"\",\"\",入力シート!#REF!)","v":{"$error":"#REF!"}},{"$f":"IF(入力シート!#REF!=\"\",\"\",TEXT(入力シート!#REF!,\"yyyy/mm/dd\"))","v":{"$error":"#REF!"}},{"$f":"IF(入力シート!#REF!=\"\",\"\",入力シート!#REF!)","v":{"$error":"#REF!"}},{"$f":"IF(入力シート!#REF!=\"\",\"\",入力シート!#REF!)","v":{"$error":"#REF!"}},{"$f":"IF(入力シート!#REF!=\"\",\"\",入力シート!#REF!)","v":{"$error":"#REF!"}},{"$f":"IF(入力シート!#REF!=\"\",\"\",入力シート!#REF!)","v":{"$error":"#REF!"}},{"$f":"IF(入力シート!#REF!=\"\",\"\",入力シート!#REF!)","v":{"$error":"#REF!"}},{"$f":"IF(入力シート!#REF!=\"\",\"\",入力シート!#REF!)","v":{"$error":"#REF!"}},null,{"$f":"IF(入力シート!#REF!=\"\",\"\",入力シート!#REF!)","v":{"$error":"#REF!"}},{"$f":"IF(入力シート!#REF!=\"\",\"\",入力シート!#REF!)","v":{"$error":"#REF!"}},{"$f":"IF(入力シート!#REF!=\"\",\"\",入力シート!#REF!)","v":{"$error":"#REF!"}},{"$f":"IF(入力シート!#REF!=\"\",\"\",入力シート!#REF!)","v":{"$error":"#REF!"}},{"$f":"IF(入力シート!#REF!=\"\",\"\",入力シート!#REF!)","v":{"$error":"#REF!"}},{"$f":"IF(入力シート!#REF!=\"\",\"\",入力シート!#REF!)","v":{"$error":"#REF!"}},{"$f":"IF(入力シート!#REF!=\"\",\"\",入力シート!#REF!)","v":{"$error":"#REF!"}},{"$f":"IF(入力シート!#REF!=\"\",\"\",入力シート!#REF!)","v":{"$error":"#REF!"}},{"$f":"IF(入力シート!#REF!=\"\",\"\",入力シート!#REF!)","v":{"$error":"#REF!"}},{"$f":"IF(入力シート!#REF!=\"\",\"\",入力シート!#REF!)","v":{"$error":"#REF!"}},{"$f":"IF(入力シート!#REF!=\"\",\"\",入力シート!#REF!)","v":{"$error":"#REF!"}},null,null,{"$f":"IF(入力シート!H240=\"\",\"\",\"〇\")","v":""},{"$f":"IF(入力シート!#REF!=\"\",\"\",入力シート!#REF!)","v":{"$error":"#REF!"}},{"$f":"IF(入力シート!#REF!=\"\",\"\",入力シート!#REF!)","v":{"$error":"#REF!"}},{"$f":"IF(入力シート!#REF!=\"\",\"\",入力シート!#REF!)","v":{"$error":"#REF!"}},{"$f":"IF(入力シート!#REF!=\"\",\"\",入力シート!#REF!)","v":{"$error":"#REF!"}}]
[{"$f":"IF(入力シート!#REF!=\"\",\"\",入力シート!#REF!)","v":{"$error":"#REF!"}},{"$f":"IF(入力シート!#REF!=\"\",\"\",入力シート!#REF!)","v":{"$error":"#REF!"}},{"$f":"IF(入力シート!#REF!=\"\",\"\",DBCS(入力シート!#REF!))","v":{"$error":"#REF!"}},{"$f":"IF(入力シート!#REF!=\"\",\"\",DBCS(入力シート!#REF!))","v":{"$error":"#REF!"}},{"$f":"ASC(IF(入力シート!#REF!=\"\",\"\",UPPER(入力シート!#REF!)))","v":{"$error":"#REF!"}},{"$f":"IF(入力シート!#REF!=\"\",\"\",PROPER(入力シート!#REF!))","v":{"$error":"#REF!"}},{"$f":"IF(入力シート!#REF!=\"\",\"\",入力シート!#REF!)","v":{"$error":"#REF!"}},{"$f":"IF(入力シート!#REF!=\"\",\"\",TEXT(入力シート!#REF!,\"yyyy/mm/dd\"))","v":{"$error":"#REF!"}},{"$f":"IF(入力シート!#REF!=\"\",\"\",入力シート!#REF!)","v":{"$error":"#REF!"}},{"$f":"IF(入力シート!#REF!=\"\",\"\",入力シート!#REF!)","v":{"$error":"#REF!"}},{"$f":"IF(入力シート!#REF!=\"\",\"\",入力シート!#REF!)","v":{"$error":"#REF!"}},{"$f":"IF(入力シート!#REF!=\"\",\"\",入力シート!#REF!)","v":{"$error":"#REF!"}},{"$f":"IF(入力シート!#REF!=\"\",\"\",入力シート!#REF!)","v":{"$error":"#REF!"}},{"$f":"IF(入力シート!#REF!=\"\",\"\",入力シート!#REF!)","v":{"$error":"#REF!"}},null,{"$f":"IF(入力シート!#REF!=\"\",\"\",入力シート!#REF!)","v":{"$error":"#REF!"}},{"$f":"IF(入力シート!#REF!=\"\",\"\",入力シート!#REF!)","v":{"$error":"#REF!"}},{"$f":"IF(入力シート!#REF!=\"\",\"\",入力シート!#REF!)","v":{"$error":"#REF!"}},{"$f":"IF(入力シート!#REF!=\"\",\"\",入力シート!#REF!)","v":{"$error":"#REF!"}},{"$f":"IF(入力シート!#REF!=\"\",\"\",入力シート!#REF!)","v":{"$error":"#REF!"}},{"$f":"IF(入力シート!#REF!=\"\",\"\",入力シート!#REF!)","v":{"$error":"#REF!"}},{"$f":"IF(入力シート!#REF!=\"\",\"\",入力シート!#REF!)","v":{"$error":"#REF!"}},{"$f":"IF(入力シート!#REF!=\"\",\"\",入力シート!#REF!)","v":{"$error":"#REF!"}},{"$f":"IF(入力シート!#REF!=\"\",\"\",入力シート!#REF!)","v":{"$error":"#REF!"}},{"$f":"IF(入力シート!#REF!=\"\",\"\",入力シート!#REF!)","v":{"$error":"#REF!"}},{"$f":"IF(入力シート!#REF!=\"\",\"\",入力シート!#REF!)","v":{"$error":"#REF!"}},null,null,{"$f":"IF(入力シート!H241=\"\",\"\",\"〇\")","v":""},{"$f":"IF(入力シート!#REF!=\"\",\"\",入力シート!#REF!)","v":{"$error":"#REF!"}},{"$f":"IF(入力シート!#REF!=\"\",\"\",入力シート!#REF!)","v":{"$error":"#REF!"}},{"$f":"IF(入力シート!#REF!=\"\",\"\",入力シート!#REF!)","v":{"$error":"#REF!"}},{"$f":"IF(入力シート!#REF!=\"\",\"\",入力シート!#REF!)","v":{"$error":"#REF!"}}]
[{"$f":"IF(入力シート!#REF!=\"\",\"\",入力シート!#REF!)","v":{"$error":"#REF!"}},{"$f":"IF(入力シート!#REF!=\"\",\"\",入力シート!#REF!)","v":{"$error":"#REF!"}},{"$f":"IF(入力シート!#REF!=\"\",\"\",DBCS(入力シート!#REF!))","v":{"$error":"#REF!"}},{"$f":"IF(入力シート!#REF!=\"\",\"\",DBCS(入力シート!#REF!))","v":{"$error":"#REF!"}},{"$f":"ASC(IF(入力シート!#REF!=\"\",\"\",UPPER(入力シート!#REF!)))","v":{"$error":"#REF!"}},{"$f":"IF(入力シート!#REF!=\"\",\"\",PROPER(入力シート!#REF!))","v":{"$error":"#REF!"}},{"$f":"IF(入力シート!#REF!=\"\",\"\",入力シート!#REF!)","v":{"$error":"#REF!"}},{"$f":"IF(入力シート!#REF!=\"\",\"\",TEXT(入力シート!#REF!,\"yyyy/mm/dd\"))","v":{"$error":"#REF!"}},{"$f":"IF(入力シート!#REF!=\"\",\"\",入力シート!#REF!)","v":{"$error":"#REF!"}},{"$f":"IF(入力シート!#REF!=\"\",\"\",入力シート!#REF!)","v":{"$error":"#REF!"}},{"$f":"IF(入力シート!#REF!=\"\",\"\",入力シート!#REF!)","v":{"$error":"#REF!"}},{"$f":"IF(入力シート!#REF!=\"\",\"\",入力シート!#REF!)","v":{"$error":"#REF!"}},{"$f":"IF(入力シート!#REF!=\"\",\"\",入力シート!#REF!)","v":{"$error":"#REF!"}},{"$f":"IF(入力シート!#REF!=\"\",\"\",入力シート!#REF!)","v":{"$error":"#REF!"}},null,{"$f":"IF(入力シート!#REF!=\"\",\"\",入力シート!#REF!)","v":{"$error":"#REF!"}},{"$f":"IF(入力シート!#REF!=\"\",\"\",入力シート!#REF!)","v":{"$error":"#REF!"}},{"$f":"IF(入力シート!#REF!=\"\",\"\",入力シート!#REF!)","v":{"$error":"#REF!"}},{"$f":"IF(入力シート!#REF!=\"\",\"\",入力シート!#REF!)","v":{"$error":"#REF!"}},{"$f":"IF(入力シート!#REF!=\"\",\"\",入力シート!#REF!)","v":{"$error":"#REF!"}},{"$f":"IF(入力シート!#REF!=\"\",\"\",入力シート!#REF!)","v":{"$error":"#REF!"}},{"$f":"IF(入力シート!#REF!=\"\",\"\",入力シート!#REF!)","v":{"$error":"#REF!"}},{"$f":"IF(入力シート!#REF!=\"\",\"\",入力シート!#REF!)","v":{"$error":"#REF!"}},{"$f":"IF(入力シート!#REF!=\"\",\"\",入力シート!#REF!)","v":{"$error":"#REF!"}},{"$f":"IF(入力シート!#REF!=\"\",\"\",入力シート!#REF!)","v":{"$error":"#REF!"}},{"$f":"IF(入力シート!#REF!=\"\",\"\",入力シート!#REF!)","v":{"$error":"#REF!"}},null,null,{"$f":"IF(入力シート!H242=\"\",\"\",\"〇\")","v":""},{"$f":"IF(入力シート!#REF!=\"\",\"\",入力シート!#REF!)","v":{"$error":"#REF!"}},{"$f":"IF(入力シート!#REF!=\"\",\"\",入力シート!#REF!)","v":{"$error":"#REF!"}},{"$f":"IF(入力シート!#REF!=\"\",\"\",入力シート!#REF!)","v":{"$error":"#REF!"}},{"$f":"IF(入力シート!#REF!=\"\",\"\",入力シート!#REF!)","v":{"$error":"#REF!"}}]
[{"$f":"IF(入力シート!#REF!=\"\",\"\",入力シート!#REF!)","v":{"$error":"#REF!"}},{"$f":"IF(入力シート!#REF!=\"\",\"\",入力シート!#REF!)","v":{"$error":"#REF!"}},{"$f":"IF(入力シート!#REF!=\"\",\"\",DBCS(入力シート!#REF!))","v":{"$error":"#REF!"}},{"$f":"IF(入力シート!#REF!=\"\",\"\",DBCS(入力シート!#REF!))","v":{"$error":"#REF!"}},{"$f":"ASC(IF(入力シート!#REF!=\"\",\"\",UPPER(入力シート!#REF!)))","v":{"$error":"#REF!"}},{"$f":"IF(入力シート!#REF!=\"\",\"\",PROPER(入力シート!#REF!))","v":{"$error":"#REF!"}},{"$f":"IF(入力シート!#REF!=\"\",\"\",入力シート!#REF!)","v":{"$error":"#REF!"}},{"$f":"IF(入力シート!#REF!=\"\",\"\",TEXT(入力シート!#REF!,\"yyyy/mm/dd\"))","v":{"$error":"#REF!"}},{"$f":"IF(入力シート!#REF!=\"\",\"\",入力シート!#REF!)","v":{"$error":"#REF!"}},{"$f":"IF(入力シート!#REF!=\"\",\"\",入力シート!#REF!)","v":{"$error":"#REF!"}},{"$f":"IF(入力シート!#REF!=\"\",\"\",入力シート!#REF!)","v":{"$error":"#REF!"}},{"$f":"IF(入力シート!#REF!=\"\",\"\",入力シート!#REF!)","v":{"$error":"#REF!"}},{"$f":"IF(入力シート!#REF!=\"\",\"\",入力シート!#REF!)","v":{"$error":"#REF!"}},{"$f":"IF(入力シート!#REF!=\"\",\"\",入力シート!#REF!)","v":{"$error":"#REF!"}},null,{"$f":"IF(入力シート!#REF!=\"\",\"\",入力シート!#REF!)","v":{"$error":"#REF!"}},{"$f":"IF(入力シート!#REF!=\"\",\"\",入力シート!#REF!)","v":{"$error":"#REF!"}},{"$f":"IF(入力シート!#REF!=\"\",\"\",入力シート!#REF!)","v":{"$error":"#REF!"}},{"$f":"IF(入力シート!#REF!=\"\",\"\",入力シート!#REF!)","v":{"$error":"#REF!"}},{"$f":"IF(入力シート!#REF!=\"\",\"\",入力シート!#REF!)","v":{"$error":"#REF!"}},{"$f":"IF(入力シート!#REF!=\"\",\"\",入力シート!#REF!)","v":{"$error":"#REF!"}},{"$f":"IF(入力シート!#REF!=\"\",\"\",入力シート!#REF!)","v":{"$error":"#REF!"}},{"$f":"IF(入力シート!#REF!=\"\",\"\",入力シート!#REF!)","v":{"$error":"#REF!"}},{"$f":"IF(入力シート!#REF!=\"\",\"\",入力シート!#REF!)","v":{"$error":"#REF!"}},{"$f":"IF(入力シート!#REF!=\"\",\"\",入力シート!#REF!)","v":{"$error":"#REF!"}},{"$f":"IF(入力シート!#REF!=\"\",\"\",入力シート!#REF!)","v":{"$error":"#REF!"}},null,null,{"$f":"IF(入力シート!H243=\"\",\"\",\"〇\")","v":""},{"$f":"IF(入力シート!#REF!=\"\",\"\",入力シート!#REF!)","v":{"$error":"#REF!"}},{"$f":"IF(入力シート!#REF!=\"\",\"\",入力シート!#REF!)","v":{"$error":"#REF!"}},{"$f":"IF(入力シート!#REF!=\"\",\"\",入力シート!#REF!)","v":{"$error":"#REF!"}},{"$f":"IF(入力シート!#REF!=\"\",\"\",入力シート!#REF!)","v":{"$error":"#REF!"}}]
[{"$f":"IF(入力シート!#REF!=\"\",\"\",入力シート!#REF!)","v":{"$error":"#REF!"}},{"$f":"IF(入力シート!#REF!=\"\",\"\",入力シート!#REF!)","v":{"$error":"#REF!"}},{"$f":"IF(入力シート!#REF!=\"\",\"\",DBCS(入力シート!#REF!))","v":{"$error":"#REF!"}},{"$f":"IF(入力シート!#REF!=\"\",\"\",DBCS(入力シート!#REF!))","v":{"$error":"#REF!"}},{"$f":"ASC(IF(入力シート!#REF!=\"\",\"\",UPPER(入力シート!#REF!)))","v":{"$error":"#REF!"}},{"$f":"IF(入力シート!#REF!=\"\",\"\",PROPER(入力シート!#REF!))","v":{"$error":"#REF!"}},{"$f":"IF(入力シート!#REF!=\"\",\"\",入力シート!#REF!)","v":{"$error":"#REF!"}},{"$f":"IF(入力シート!#REF!=\"\",\"\",TEXT(入力シート!#REF!,\"yyyy/mm/dd\"))","v":{"$error":"#REF!"}},{"$f":"IF(入力シート!#REF!=\"\",\"\",入力シート!#REF!)","v":{"$error":"#REF!"}},{"$f":"IF(入力シート!#REF!=\"\",\"\",入力シート!#REF!)","v":{"$error":"#REF!"}},{"$f":"IF(入力シート!#REF!=\"\",\"\",入力シート!#REF!)","v":{"$error":"#REF!"}},{"$f":"IF(入力シート!#REF!=\"\",\"\",入力シート!#REF!)","v":{"$error":"#REF!"}},{"$f":"IF(入力シート!#REF!=\"\",\"\",入力シート!#REF!)","v":{"$error":"#REF!"}},{"$f":"IF(入力シート!#REF!=\"\",\"\",入力シート!#REF!)","v":{"$error":"#REF!"}},null,{"$f":"IF(入力シート!#REF!=\"\",\"\",入力シート!#REF!)","v":{"$error":"#REF!"}},{"$f":"IF(入力シート!#REF!=\"\",\"\",入力シート!#REF!)","v":{"$error":"#REF!"}},{"$f":"IF(入力シート!#REF!=\"\",\"\",入力シート!#REF!)","v":{"$error":"#REF!"}},{"$f":"IF(入力シート!#REF!=\"\",\"\",入力シート!#REF!)","v":{"$error":"#REF!"}},{"$f":"IF(入力シート!#REF!=\"\",\"\",入力シート!#REF!)","v":{"$error":"#REF!"}},{"$f":"IF(入力シート!#REF!=\"\",\"\",入力シート!#REF!)","v":{"$error":"#REF!"}},{"$f":"IF(入力シート!#REF!=\"\",\"\",入力シート!#REF!)","v":{"$error":"#REF!"}},{"$f":"IF(入力シート!#REF!=\"\",\"\",入力シート!#REF!)","v":{"$error":"#REF!"}},{"$f":"IF(入力シート!#REF!=\"\",\"\",入力シート!#REF!)","v":{"$error":"#REF!"}},{"$f":"IF(入力シート!#REF!=\"\",\"\",入力シート!#REF!)","v":{"$error":"#REF!"}},{"$f":"IF(入力シート!#REF!=\"\",\"\",入力シート!#REF!)","v":{"$error":"#REF!"}},null,null,{"$f":"IF(入力シート!H244=\"\",\"\",\"〇\")","v":""},{"$f":"IF(入力シート!#REF!=\"\",\"\",入力シート!#REF!)","v":{"$error":"#REF!"}},{"$f":"IF(入力シート!#REF!=\"\",\"\",入力シート!#REF!)","v":{"$error":"#REF!"}},{"$f":"IF(入力シート!#REF!=\"\",\"\",入力シート!#REF!)","v":{"$error":"#REF!"}},{"$f":"IF(入力シート!#REF!=\"\",\"\",入力シート!#REF!)","v":{"$error":"#REF!"}}]
[{"$f":"IF(入力シート!#REF!=\"\",\"\",入力シート!#REF!)","v":{"$error":"#REF!"}},{"$f":"IF(入力シート!#REF!=\"\",\"\",入力シート!#REF!)","v":{"$error":"#REF!"}},{"$f":"IF(入力シート!#REF!=\"\",\"\",DBCS(入力シート!#REF!))","v":{"$error":"#REF!"}},{"$f":"IF(入力シート!#REF!=\"\",\"\",DBCS(入力シート!#REF!))","v":{"$error":"#REF!"}},{"$f":"ASC(IF(入力シート!#REF!=\"\",\"\",UPPER(入力シート!#REF!)))","v":{"$error":"#REF!"}},{"$f":"IF(入力シート!#REF!=\"\",\"\",PROPER(入力シート!#REF!))","v":{"$error":"#REF!"}},{"$f":"IF(入力シート!#REF!=\"\",\"\",入力シート!#REF!)","v":{"$error":"#REF!"}},{"$f":"IF(入力シート!#REF!=\"\",\"\",TEXT(入力シート!#REF!,\"yyyy/mm/dd\"))","v":{"$error":"#REF!"}},{"$f":"IF(入力シート!#REF!=\"\",\"\",入力シート!#REF!)","v":{"$error":"#REF!"}},{"$f":"IF(入力シート!#REF!=\"\",\"\",入力シート!#REF!)","v":{"$error":"#REF!"}},{"$f":"IF(入力シート!#REF!=\"\",\"\",入力シート!#REF!)","v":{"$error":"#REF!"}},{"$f":"IF(入力シート!#REF!=\"\",\"\",入力シート!#REF!)","v":{"$error":"#REF!"}},{"$f":"IF(入力シート!#REF!=\"\",\"\",入力シート!#REF!)","v":{"$error":"#REF!"}},{"$f":"IF(入力シート!#REF!=\"\",\"\",入力シート!#REF!)","v":{"$error":"#REF!"}},null,{"$f":"IF(入力シート!#REF!=\"\",\"\",入力シート!#REF!)","v":{"$error":"#REF!"}},{"$f":"IF(入力シート!#REF!=\"\",\"\",入力シート!#REF!)","v":{"$error":"#REF!"}},{"$f":"IF(入力シート!#REF!=\"\",\"\",入力シート!#REF!)","v":{"$error":"#REF!"}},{"$f":"IF(入力シート!#REF!=\"\",\"\",入力シート!#REF!)","v":{"$error":"#REF!"}},{"$f":"IF(入力シート!#REF!=\"\",\"\",入力シート!#REF!)","v":{"$error":"#REF!"}},{"$f":"IF(入力シート!#REF!=\"\",\"\",入力シート!#REF!)","v":{"$error":"#REF!"}},{"$f":"IF(入力シート!#REF!=\"\",\"\",入力シート!#REF!)","v":{"$error":"#REF!"}},{"$f":"IF(入力シート!#REF!=\"\",\"\",入力シート!#REF!)","v":{"$error":"#REF!"}},{"$f":"IF(入力シート!#REF!=\"\",\"\",入力シート!#REF!)","v":{"$error":"#REF!"}},{"$f":"IF(入力シート!#REF!=\"\",\"\",入力シート!#REF!)","v":{"$error":"#REF!"}},{"$f":"IF(入力シート!#REF!=\"\",\"\",入力シート!#REF!)","v":{"$error":"#REF!"}},null,null,{"$f":"IF(入力シート!H245=\"\",\"\",\"〇\")","v":""},{"$f":"IF(入力シート!#REF!=\"\",\"\",入力シート!#REF!)","v":{"$error":"#REF!"}},{"$f":"IF(入力シート!#REF!=\"\",\"\",入力シート!#REF!)","v":{"$error":"#REF!"}},{"$f":"IF(入力シート!#REF!=\"\",\"\",入力シート!#REF!)","v":{"$error":"#REF!"}},{"$f":"IF(入力シート!#REF!=\"\",\"\",入力シート!#REF!)","v":{"$error":"#REF!"}}]
[{"$f":"IF(入力シート!#REF!=\"\",\"\",入力シート!#REF!)","v":{"$error":"#REF!"}},{"$f":"IF(入力シート!#REF!=\"\",\"\",入力シート!#REF!)","v":{"$error":"#REF!"}},{"$f":"IF(入力シート!#REF!=\"\",\"\",DBCS(入力シート!#REF!))","v":{"$error":"#REF!"}},{"$f":"IF(入力シート!#REF!=\"\",\"\",DBCS(入力シート!#REF!))","v":{"$error":"#REF!"}},{"$f":"ASC(IF(入力シート!#REF!=\"\",\"\",UPPER(入力シート!#REF!)))","v":{"$error":"#REF!"}},{"$f":"IF(入力シート!#REF!=\"\",\"\",PROPER(入力シート!#REF!))","v":{"$error":"#REF!"}},{"$f":"IF(入力シート!#REF!=\"\",\"\",入力シート!#REF!)","v":{"$error":"#REF!"}},{"$f":"IF(入力シート!#REF!=\"\",\"\",TEXT(入力シート!#REF!,\"yyyy/mm/dd\"))","v":{"$error":"#REF!"}},{"$f":"IF(入力シート!#REF!=\"\",\"\",入力シート!#REF!)","v":{"$error":"#REF!"}},{"$f":"IF(入力シート!#REF!=\"\",\"\",入力シート!#REF!)","v":{"$error":"#REF!"}},{"$f":"IF(入力シート!#REF!=\"\",\"\",入力シート!#REF!)","v":{"$error":"#REF!"}},{"$f":"IF(入力シート!#REF!=\"\",\"\",入力シート!#REF!)","v":{"$error":"#REF!"}},{"$f":"IF(入力シート!#REF!=\"\",\"\",入力シート!#REF!)","v":{"$error":"#REF!"}},{"$f":"IF(入力シート!#REF!=\"\",\"\",入力シート!#REF!)","v":{"$error":"#REF!"}},null,{"$f":"IF(入力シート!#REF!=\"\",\"\",入力シート!#REF!)","v":{"$error":"#REF!"}},{"$f":"IF(入力シート!#REF!=\"\",\"\",入力シート!#REF!)","v":{"$error":"#REF!"}},{"$f":"IF(入力シート!#REF!=\"\",\"\",入力シート!#REF!)","v":{"$error":"#REF!"}},{"$f":"IF(入力シート!#REF!=\"\",\"\",入力シート!#REF!)","v":{"$error":"#REF!"}},{"$f":"IF(入力シート!#REF!=\"\",\"\",入力シート!#REF!)","v":{"$error":"#REF!"}},{"$f":"IF(入力シート!#REF!=\"\",\"\",入力シート!#REF!)","v":{"$error":"#REF!"}},{"$f":"IF(入力シート!#REF!=\"\",\"\",入力シート!#REF!)","v":{"$error":"#REF!"}},{"$f":"IF(入力シート!#REF!=\"\",\"\",入力シート!#REF!)","v":{"$error":"#REF!"}},{"$f":"IF(入力シート!#REF!=\"\",\"\",入力シート!#REF!)","v":{"$error":"#REF!"}},{"$f":"IF(入力シート!#REF!=\"\",\"\",入力シート!#REF!)","v":{"$error":"#REF!"}},{"$f":"IF(入力シート!#REF!=\"\",\"\",入力シート!#REF!)","v":{"$error":"#REF!"}},null,null,{"$f":"IF(入力シート!H246=\"\",\"\",\"〇\")","v":""},{"$f":"IF(入力シート!#REF!=\"\",\"\",入力シート!#REF!)","v":{"$error":"#REF!"}},{"$f":"IF(入力シート!#REF!=\"\",\"\",入力シート!#REF!)","v":{"$error":"#REF!"}},{"$f":"IF(入力シート!#REF!=\"\",\"\",入力シート!#REF!)","v":{"$error":"#REF!"}},{"$f":"IF(入力シート!#REF!=\"\",\"\",入力シート!#REF!)","v":{"$error":"#REF!"}}]
[{"$f":"IF(入力シート!#REF!=\"\",\"\",入力シート!#REF!)","v":{"$error":"#REF!"}},{"$f":"IF(入力シート!#REF!=\"\",\"\",入力シート!#REF!)","v":{"$error":"#REF!"}},{"$f":"IF(入力シート!#REF!=\"\",\"\",DBCS(入力シート!#REF!))","v":{"$error":"#REF!"}},{"$f":"IF(入力シート!#REF!=\"\",\"\",DBCS(入力シート!#REF!))","v":{"$error":"#REF!"}},{"$f":"ASC(IF(入力シート!#REF!=\"\",\"\",UPPER(入力シート!#REF!)))","v":{"$error":"#REF!"}},{"$f":"IF(入力シート!#REF!=\"\",\"\",PROPER(入力シート!#REF!))","v":{"$error":"#REF!"}},{"$f":"IF(入力シート!#REF!=\"\",\"\",入力シート!#REF!)","v":{"$error":"#REF!"}},{"$f":"IF(入力シート!#REF!=\"\",\"\",TEXT(入力シート!#REF!,\"yyyy/mm/dd\"))","v":{"$error":"#REF!"}},{"$f":"IF(入力シート!#REF!=\"\",\"\",入力シート!#REF!)","v":{"$error":"#REF!"}},{"$f":"IF(入力シート!#REF!=\"\",\"\",入力シート!#REF!)","v":{"$error":"#REF!"}},{"$f":"IF(入力シート!#REF!=\"\",\"\",入力シート!#REF!)","v":{"$error":"#REF!"}},{"$f":"IF(入力シート!#REF!=\"\",\"\",入力シート!#REF!)","v":{"$error":"#REF!"}},{"$f":"IF(入力シート!#REF!=\"\",\"\",入力シート!#REF!)","v":{"$error":"#REF!"}},{"$f":"IF(入力シート!#REF!=\"\",\"\",入力シート!#REF!)","v":{"$error":"#REF!"}},null,{"$f":"IF(入力シート!#REF!=\"\",\"\",入力シート!#REF!)","v":{"$error":"#REF!"}},{"$f":"IF(入力シート!#REF!=\"\",\"\",入力シート!#REF!)","v":{"$error":"#REF!"}},{"$f":"IF(入力シート!#REF!=\"\",\"\",入力シート!#REF!)","v":{"$error":"#REF!"}},{"$f":"IF(入力シート!#REF!=\"\",\"\",入力シート!#REF!)","v":{"$error":"#REF!"}},{"$f":"IF(入力シート!#REF!=\"\",\"\",入力シート!#REF!)","v":{"$error":"#REF!"}},{"$f":"IF(入力シート!#REF!=\"\",\"\",入力シート!#REF!)","v":{"$error":"#REF!"}},{"$f":"IF(入力シート!#REF!=\"\",\"\",入力シート!#REF!)","v":{"$error":"#REF!"}},{"$f":"IF(入力シート!#REF!=\"\",\"\",入力シート!#REF!)","v":{"$error":"#REF!"}},{"$f":"IF(入力シート!#REF!=\"\",\"\",入力シート!#REF!)","v":{"$error":"#REF!"}},{"$f":"IF(入力シート!#REF!=\"\",\"\",入力シート!#REF!)","v":{"$error":"#REF!"}},{"$f":"IF(入力シート!#REF!=\"\",\"\",入力シート!#REF!)","v":{"$error":"#REF!"}},null,null,{"$f":"IF(入力シート!H247=\"\",\"\",\"〇\")","v":""},{"$f":"IF(入力シート!#REF!=\"\",\"\",入力シート!#REF!)","v":{"$error":"#REF!"}},{"$f":"IF(入力シート!#REF!=\"\",\"\",入力シート!#REF!)","v":{"$error":"#REF!"}},{"$f":"IF(入力シート!#REF!=\"\",\"\",入力シート!#REF!)","v":{"$error":"#REF!"}},{"$f":"IF(入力シート!#REF!=\"\",\"\",入力シート!#REF!)","v":{"$error":"#REF!"}}]
[{"$f":"IF(入力シート!#REF!=\"\",\"\",入力シート!#REF!)","v":{"$error":"#REF!"}},{"$f":"IF(入力シート!#REF!=\"\",\"\",入力シート!#REF!)","v":{"$error":"#REF!"}},{"$f":"IF(入力シート!#REF!=\"\",\"\",DBCS(入力シート!#REF!))","v":{"$error":"#REF!"}},{"$f":"IF(入力シート!#REF!=\"\",\"\",DBCS(入力シート!#REF!))","v":{"$error":"#REF!"}},{"$f":"ASC(IF(入力シート!#REF!=\"\",\"\",UPPER(入力シート!#REF!)))","v":{"$error":"#REF!"}},{"$f":"IF(入力シート!#REF!=\"\",\"\",PROPER(入力シート!#REF!))","v":{"$error":"#REF!"}},{"$f":"IF(入力シート!#REF!=\"\",\"\",入力シート!#REF!)","v":{"$error":"#REF!"}},{"$f":"IF(入力シート!#REF!=\"\",\"\",TEXT(入力シート!#REF!,\"yyyy/mm/dd\"))","v":{"$error":"#REF!"}},{"$f":"IF(入力シート!#REF!=\"\",\"\",入力シート!#REF!)","v":{"$error":"#REF!"}},{"$f":"IF(入力シート!#REF!=\"\",\"\",入力シート!#REF!)","v":{"$error":"#REF!"}},{"$f":"IF(入力シート!#REF!=\"\",\"\",入力シート!#REF!)","v":{"$error":"#REF!"}},{"$f":"IF(入力シート!#REF!=\"\",\"\",入力シート!#REF!)","v":{"$error":"#REF!"}},{"$f":"IF(入力シート!#REF!=\"\",\"\",入力シート!#REF!)","v":{"$error":"#REF!"}},{"$f":"IF(入力シート!#REF!=\"\",\"\",入力シート!#REF!)","v":{"$error":"#REF!"}},null,{"$f":"IF(入力シート!#REF!=\"\",\"\",入力シート!#REF!)","v":{"$error":"#REF!"}},{"$f":"IF(入力シート!#REF!=\"\",\"\",入力シート!#REF!)","v":{"$error":"#REF!"}},{"$f":"IF(入力シート!#REF!=\"\",\"\",入力シート!#REF!)","v":{"$error":"#REF!"}},{"$f":"IF(入力シート!#REF!=\"\",\"\",入力シート!#REF!)","v":{"$error":"#REF!"}},{"$f":"IF(入力シート!#REF!=\"\",\"\",入力シート!#REF!)","v":{"$error":"#REF!"}},{"$f":"IF(入力シート!#REF!=\"\",\"\",入力シート!#REF!)","v":{"$error":"#REF!"}},{"$f":"IF(入力シート!#REF!=\"\",\"\",入力シート!#REF!)","v":{"$error":"#REF!"}},{"$f":"IF(入力シート!#REF!=\"\",\"\",入力シート!#REF!)","v":{"$error":"#REF!"}},{"$f":"IF(入力シート!#REF!=\"\",\"\",入力シート!#REF!)","v":{"$error":"#REF!"}},{"$f":"IF(入力シート!#REF!=\"\",\"\",入力シート!#REF!)","v":{"$error":"#REF!"}},{"$f":"IF(入力シート!#REF!=\"\",\"\",入力シート!#REF!)","v":{"$error":"#REF!"}},null,null,{"$f":"IF(入力シート!H248=\"\",\"\",\"〇\")","v":""},{"$f":"IF(入力シート!#REF!=\"\",\"\",入力シート!#REF!)","v":{"$error":"#REF!"}},{"$f":"IF(入力シート!#REF!=\"\",\"\",入力シート!#REF!)","v":{"$error":"#REF!"}},{"$f":"IF(入力シート!#REF!=\"\",\"\",入力シート!#REF!)","v":{"$error":"#REF!"}},{"$f":"IF(入力シート!#REF!=\"\",\"\",入力シート!#REF!)","v":{"$error":"#REF!"}}]
[{"$f":"IF(入力シート!#REF!=\"\",\"\",入力シート!#REF!)","v":{"$error":"#REF!"}},{"$f":"IF(入力シート!#REF!=\"\",\"\",入力シート!#REF!)","v":{"$error":"#REF!"}},{"$f":"IF(入力シート!#REF!=\"\",\"\",DBCS(入力シート!#REF!))","v":{"$error":"#REF!"}},{"$f":"IF(入力シート!#REF!=\"\",\"\",DBCS(入力シート!#REF!))","v":{"$error":"#REF!"}},{"$f":"ASC(IF(入力シート!#REF!=\"\",\"\",UPPER(入力シート!#REF!)))","v":{"$error":"#REF!"}},{"$f":"IF(入力シート!#REF!=\"\",\"\",PROPER(入力シート!#REF!))","v":{"$error":"#REF!"}},{"$f":"IF(入力シート!#REF!=\"\",\"\",入力シート!#REF!)","v":{"$error":"#REF!"}},{"$f":"IF(入力シート!#REF!=\"\",\"\",TEXT(入力シート!#REF!,\"yyyy/mm/dd\"))","v":{"$error":"#REF!"}},{"$f":"IF(入力シート!#REF!=\"\",\"\",入力シート!#REF!)","v":{"$error":"#REF!"}},{"$f":"IF(入力シート!#REF!=\"\",\"\",入力シート!#REF!)","v":{"$error":"#REF!"}},{"$f":"IF(入力シート!#REF!=\"\",\"\",入力シート!#REF!)","v":{"$error":"#REF!"}},{"$f":"IF(入力シート!#REF!=\"\",\"\",入力シート!#REF!)","v":{"$error":"#REF!"}},{"$f":"IF(入力シート!#REF!=\"\",\"\",入力シート!#REF!)","v":{"$error":"#REF!"}},{"$f":"IF(入力シート!#REF!=\"\",\"\",入力シート!#REF!)","v":{"$error":"#REF!"}},null,{"$f":"IF(入力シート!#REF!=\"\",\"\",入力シート!#REF!)","v":{"$error":"#REF!"}},{"$f":"IF(入力シート!#REF!=\"\",\"\",入力シート!#REF!)","v":{"$error":"#REF!"}},{"$f":"IF(入力シート!#REF!=\"\",\"\",入力シート!#REF!)","v":{"$error":"#REF!"}},{"$f":"IF(入力シート!#REF!=\"\",\"\",入力シート!#REF!)","v":{"$error":"#REF!"}},{"$f":"IF(入力シート!#REF!=\"\",\"\",入力シート!#REF!)","v":{"$error":"#REF!"}},{"$f":"IF(入力シート!#REF!=\"\",\"\",入力シート!#REF!)","v":{"$error":"#REF!"}},{"$f":"IF(入力シート!#REF!=\"\",\"\",入力シート!#REF!)","v":{"$error":"#REF!"}},{"$f":"IF(入力シート!#REF!=\"\",\"\",入力シート!#REF!)","v":{"$error":"#REF!"}},{"$f":"IF(入力シート!#REF!=\"\",\"\",入力シート!#REF!)","v":{"$error":"#REF!"}},{"$f":"IF(入力シート!#REF!=\"\",\"\",入力シート!#REF!)","v":{"$error":"#REF!"}},{"$f":"IF(入力シート!#REF!=\"\",\"\",入力シート!#REF!)","v":{"$error":"#REF!"}},null,null,{"$f":"IF(入力シート!H249=\"\",\"\",\"〇\")","v":""},{"$f":"IF(入力シート!#REF!=\"\",\"\",入力シート!#REF!)","v":{"$error":"#REF!"}},{"$f":"IF(入力シート!#REF!=\"\",\"\",入力シート!#REF!)","v":{"$error":"#REF!"}},{"$f":"IF(入力シート!#REF!=\"\",\"\",入力シート!#REF!)","v":{"$error":"#REF!"}},{"$f":"IF(入力シート!#REF!=\"\",\"\",入力シート!#REF!)","v":{"$error":"#REF!"}}]
[{"$f":"IF(入力シート!#REF!=\"\",\"\",入力シート!#REF!)","v":{"$error":"#REF!"}},{"$f":"IF(入力シート!#REF!=\"\",\"\",入力シート!#REF!)","v":{"$error":"#REF!"}},{"$f":"IF(入力シート!#REF!=\"\",\"\",DBCS(入力シート!#REF!))","v":{"$error":"#REF!"}},{"$f":"IF(入力シート!#REF!=\"\",\"\",DBCS(入力シート!#REF!))","v":{"$error":"#REF!"}},{"$f":"ASC(IF(入力シート!#REF!=\"\",\"\",UPPER(入力シート!#REF!)))","v":{"$error":"#REF!"}},{"$f":"IF(入力シート!#REF!=\"\",\"\",PROPER(入力シート!#REF!))","v":{"$error":"#REF!"}},{"$f":"IF(入力シート!#REF!=\"\",\"\",入力シート!#REF!)","v":{"$error":"#REF!"}},{"$f":"IF(入力シート!#REF!=\"\",\"\",TEXT(入力シート!#REF!,\"yyyy/mm/dd\"))","v":{"$error":"#REF!"}},{"$f":"IF(入力シート!#REF!=\"\",\"\",入力シート!#REF!)","v":{"$error":"#REF!"}},{"$f":"IF(入力シート!#REF!=\"\",\"\",入力シート!#REF!)","v":{"$error":"#REF!"}},{"$f":"IF(入力シート!#REF!=\"\",\"\",入力シート!#REF!)","v":{"$error":"#REF!"}},{"$f":"IF(入力シート!#REF!=\"\",\"\",入力シート!#REF!)","v":{"$error":"#REF!"}},{"$f":"IF(入力シート!#REF!=\"\",\"\",入力シート!#REF!)","v":{"$error":"#REF!"}},{"$f":"IF(入力シート!#REF!=\"\",\"\",入力シート!#REF!)","v":{"$error":"#REF!"}},null,{"$f":"IF(入力シート!#REF!=\"\",\"\",入力シート!#REF!)","v":{"$error":"#REF!"}},{"$f":"IF(入力シート!#REF!=\"\",\"\",入力シート!#REF!)","v":{"$error":"#REF!"}},{"$f":"IF(入力シート!#REF!=\"\",\"\",入力シート!#REF!)","v":{"$error":"#REF!"}},{"$f":"IF(入力シート!#REF!=\"\",\"\",入力シート!#REF!)","v":{"$error":"#REF!"}},{"$f":"IF(入力シート!#REF!=\"\",\"\",入力シート!#REF!)","v":{"$error":"#REF!"}},{"$f":"IF(入力シート!#REF!=\"\",\"\",入力シート!#REF!)","v":{"$error":"#REF!"}},{"$f":"IF(入力シート!#REF!=\"\",\"\",入力シート!#REF!)","v":{"$error":"#REF!"}},{"$f":"IF(入力シート!#REF!=\"\",\"\",入力シート!#REF!)","v":{"$error":"#REF!"}},{"$f":"IF(入力シート!#REF!=\"\",\"\",入力シート!#REF!)","v":{"$error":"#REF!"}},{"$f":"IF(入力シート!#REF!=\"\",\"\",入力シート!#REF!)","v":{"$error":"#REF!"}},{"$f":"IF(入力シート!#REF!=\"\",\"\",入力シート!#REF!)","v":{"$error":"#REF!"}},null,null,{"$f":"IF(入力シート!H250=\"\",\"\",\"〇\")","v":""},{"$f":"IF(入力シート!#REF!=\"\",\"\",入力シート!#REF!)","v":{"$error":"#REF!"}},{"$f":"IF(入力シート!#REF!=\"\",\"\",入力シート!#REF!)","v":{"$error":"#REF!"}},{"$f":"IF(入力シート!#REF!=\"\",\"\",入力シート!#REF!)","v":{"$error":"#REF!"}},{"$f":"IF(入力シート!#REF!=\"\",\"\",入力シート!#REF!)","v":{"$error":"#REF!"}}]
[{"$f":"IF(入力シート!#REF!=\"\",\"\",入力シート!#REF!)","v":{"$error":"#REF!"}},{"$f":"IF(入力シート!#REF!=\"\",\"\",入力シート!#REF!)","v":{"$error":"#REF!"}},{"$f":"IF(入力シート!#REF!=\"\",\"\",DBCS(入力シート!#REF!))","v":{"$error":"#REF!"}},{"$f":"IF(入力シート!#REF!=\"\",\"\",DBCS(入力シート!#REF!))","v":{"$error":"#REF!"}},{"$f":"ASC(IF(入力シート!#REF!=\"\",\"\",UPPER(入力シート!#REF!)))","v":{"$error":"#REF!"}},{"$f":"IF(入力シート!#REF!=\"\",\"\",PROPER(入力シート!#REF!))","v":{"$error":"#REF!"}},{"$f":"IF(入力シート!#REF!=\"\",\"\",入力シート!#REF!)","v":{"$error":"#REF!"}},{"$f":"IF(入力シート!#REF!=\"\",\"\",TEXT(入力シート!#REF!,\"yyyy/mm/dd\"))","v":{"$error":"#REF!"}},{"$f":"IF(入力シート!#REF!=\"\",\"\",入力シート!#REF!)","v":{"$error":"#REF!"}},{"$f":"IF(入力シート!#REF!=\"\",\"\",入力シート!#REF!)","v":{"$error":"#REF!"}},{"$f":"IF(入力シート!#REF!=\"\",\"\",入力シート!#REF!)","v":{"$error":"#REF!"}},{"$f":"IF(入力シート!#REF!=\"\",\"\",入力シート!#REF!)","v":{"$error":"#REF!"}},{"$f":"IF(入力シート!#REF!=\"\",\"\",入力シート!#REF!)","v":{"$error":"#REF!"}},{"$f":"IF(入力シート!#REF!=\"\",\"\",入力シート!#REF!)","v":{"$error":"#REF!"}},null,{"$f":"IF(入力シート!#REF!=\"\",\"\",入力シート!#REF!)","v":{"$error":"#REF!"}},{"$f":"IF(入力シート!#REF!=\"\",\"\",入力シート!#REF!)","v":{"$error":"#REF!"}},{"$f":"IF(入力シート!#REF!=\"\",\"\",入力シート!#REF!)","v":{"$error":"#REF!"}},{"$f":"IF(入力シート!#REF!=\"\",\"\",入力シート!#REF!)","v":{"$error":"#REF!"}},{"$f":"IF(入力シート!#REF!=\"\",\"\",入力シート!#REF!)","v":{"$error":"#REF!"}},{"$f":"IF(入力シート!#REF!=\"\",\"\",入力シート!#REF!)","v":{"$error":"#REF!"}},{"$f":"IF(入力シート!#REF!=\"\",\"\",入力シート!#REF!)","v":{"$error":"#REF!"}},{"$f":"IF(入力シート!#REF!=\"\",\"\",入力シート!#REF!)","v":{"$error":"#REF!"}},{"$f":"IF(入力シート!#REF!=\"\",\"\",入力シート!#REF!)","v":{"$error":"#REF!"}},{"$f":"IF(入力シート!#REF!=\"\",\"\",入力シート!#REF!)","v":{"$error":"#REF!"}},{"$f":"IF(入力シート!#REF!=\"\",\"\",入力シート!#REF!)","v":{"$error":"#REF!"}},null,null,{"$f":"IF(入力シート!H251=\"\",\"\",\"〇\")","v":""},{"$f":"IF(入力シート!#REF!=\"\",\"\",入力シート!#REF!)","v":{"$error":"#REF!"}},{"$f":"IF(入力シート!#REF!=\"\",\"\",入力シート!#REF!)","v":{"$error":"#REF!"}},{"$f":"IF(入力シート!#REF!=\"\",\"\",入力シート!#REF!)","v":{"$error":"#REF!"}},{"$f":"IF(入力シート!#REF!=\"\",\"\",入力シート!#REF!)","v":{"$error":"#REF!"}}]
[{"$f":"IF(入力シート!#REF!=\"\",\"\",入力シート!#REF!)","v":{"$error":"#REF!"}},{"$f":"IF(入力シート!#REF!=\"\",\"\",入力シート!#REF!)","v":{"$error":"#REF!"}},{"$f":"IF(入力シート!#REF!=\"\",\"\",DBCS(入力シート!#REF!))","v":{"$error":"#REF!"}},{"$f":"IF(入力シート!#REF!=\"\",\"\",DBCS(入力シート!#REF!))","v":{"$error":"#REF!"}},{"$f":"ASC(IF(入力シート!#REF!=\"\",\"\",UPPER(入力シート!#REF!)))","v":{"$error":"#REF!"}},{"$f":"IF(入力シート!#REF!=\"\",\"\",PROPER(入力シート!#REF!))","v":{"$error":"#REF!"}},{"$f":"IF(入力シート!#REF!=\"\",\"\",入力シート!#REF!)","v":{"$error":"#REF!"}},{"$f":"IF(入力シート!#REF!=\"\",\"\",TEXT(入力シート!#REF!,\"yyyy/mm/dd\"))","v":{"$error":"#REF!"}},{"$f":"IF(入力シート!#REF!=\"\",\"\",入力シート!#REF!)","v":{"$error":"#REF!"}},{"$f":"IF(入力シート!#REF!=\"\",\"\",入力シート!#REF!)","v":{"$error":"#REF!"}},{"$f":"IF(入力シート!#REF!=\"\",\"\",入力シート!#REF!)","v":{"$error":"#REF!"}},{"$f":"IF(入力シート!#REF!=\"\",\"\",入力シート!#REF!)","v":{"$error":"#REF!"}},{"$f":"IF(入力シート!#REF!=\"\",\"\",入力シート!#REF!)","v":{"$error":"#REF!"}},{"$f":"IF(入力シート!#REF!=\"\",\"\",入力シート!#REF!)","v":{"$error":"#REF!"}},null,{"$f":"IF(入力シート!#REF!=\"\",\"\",入力シート!#REF!)","v":{"$error":"#REF!"}},{"$f":"IF(入力シート!#REF!=\"\",\"\",入力シート!#REF!)","v":{"$error":"#REF!"}},{"$f":"IF(入力シート!#REF!=\"\",\"\",入力シート!#REF!)","v":{"$error":"#REF!"}},{"$f":"IF(入力シート!#REF!=\"\",\"\",入力シート!#REF!)","v":{"$error":"#REF!"}},{"$f":"IF(入力シート!#REF!=\"\",\"\",入力シート!#REF!)","v":{"$error":"#REF!"}},{"$f":"IF(入力シート!#REF!=\"\",\"\",入力シート!#REF!)","v":{"$error":"#REF!"}},{"$f":"IF(入力シート!#REF!=\"\",\"\",入力シート!#REF!)","v":{"$error":"#REF!"}},{"$f":"IF(入力シート!#REF!=\"\",\"\",入力シート!#REF!)","v":{"$error":"#REF!"}},{"$f":"IF(入力シート!#REF!=\"\",\"\",入力シート!#REF!)","v":{"$error":"#REF!"}},{"$f":"IF(入力シート!#REF!=\"\",\"\",入力シート!#REF!)","v":{"$error":"#REF!"}},{"$f":"IF(入力シート!#REF!=\"\",\"\",入力シート!#REF!)","v":{"$error":"#REF!"}},null,null,{"$f":"IF(入力シート!H252=\"\",\"\",\"〇\")","v":""},{"$f":"IF(入力シート!#REF!=\"\",\"\",入力シート!#REF!)","v":{"$error":"#REF!"}},{"$f":"IF(入力シート!#REF!=\"\",\"\",入力シート!#REF!)","v":{"$error":"#REF!"}},{"$f":"IF(入力シート!#REF!=\"\",\"\",入力シート!#REF!)","v":{"$error":"#REF!"}},{"$f":"IF(入力シート!#REF!=\"\",\"\",入力シート!#REF!)","v":{"$error":"#REF!"}}]
[{"$f":"IF(入力シート!#REF!=\"\",\"\",入力シート!#REF!)","v":{"$error":"#REF!"}},{"$f":"IF(入力シート!#REF!=\"\",\"\",入力シート!#REF!)","v":{"$error":"#REF!"}},{"$f":"IF(入力シート!#REF!=\"\",\"\",DBCS(入力シート!#REF!))","v":{"$error":"#REF!"}},{"$f":"IF(入力シート!#REF!=\"\",\"\",DBCS(入力シート!#REF!))","v":{"$error":"#REF!"}},{"$f":"ASC(IF(入力シート!#REF!=\"\",\"\",UPPER(入力シート!#REF!)))","v":{"$error":"#REF!"}},{"$f":"IF(入力シート!#REF!=\"\",\"\",PROPER(入力シート!#REF!))","v":{"$error":"#REF!"}},{"$f":"IF(入力シート!#REF!=\"\",\"\",入力シート!#REF!)","v":{"$error":"#REF!"}},{"$f":"IF(入力シート!#REF!=\"\",\"\",TEXT(入力シート!#REF!,\"yyyy/mm/dd\"))","v":{"$error":"#REF!"}},{"$f":"IF(入力シート!#REF!=\"\",\"\",入力シート!#REF!)","v":{"$error":"#REF!"}},{"$f":"IF(入力シート!#REF!=\"\",\"\",入力シート!#REF!)","v":{"$error":"#REF!"}},{"$f":"IF(入力シート!#REF!=\"\",\"\",入力シート!#REF!)","v":{"$error":"#REF!"}},{"$f":"IF(入力シート!#REF!=\"\",\"\",入力シート!#REF!)","v":{"$error":"#REF!"}},{"$f":"IF(入力シート!#REF!=\"\",\"\",入力シート!#REF!)","v":{"$error":"#REF!"}},{"$f":"IF(入力シート!#REF!=\"\",\"\",入力シート!#REF!)","v":{"$error":"#REF!"}},null,{"$f":"IF(入力シート!#REF!=\"\",\"\",入力シート!#REF!)","v":{"$error":"#REF!"}},{"$f":"IF(入力シート!#REF!=\"\",\"\",入力シート!#REF!)","v":{"$error":"#REF!"}},{"$f":"IF(入力シート!#REF!=\"\",\"\",入力シート!#REF!)","v":{"$error":"#REF!"}},{"$f":"IF(入力シート!#REF!=\"\",\"\",入力シート!#REF!)","v":{"$error":"#REF!"}},{"$f":"IF(入力シート!#REF!=\"\",\"\",入力シート!#REF!)","v":{"$error":"#REF!"}},{"$f":"IF(入力シート!#REF!=\"\",\"\",入力シート!#REF!)","v":{"$error":"#REF!"}},{"$f":"IF(入力シート!#REF!=\"\",\"\",入力シート!#REF!)","v":{"$error":"#REF!"}},{"$f":"IF(入力シート!#REF!=\"\",\"\",入力シート!#REF!)","v":{"$error":"#REF!"}},{"$f":"IF(入力シート!#REF!=\"\",\"\",入力シート!#REF!)","v":{"$error":"#REF!"}},{"$f":"IF(入力シート!#REF!=\"\",\"\",入力シート!#REF!)","v":{"$error":"#REF!"}},{"$f":"IF(入力シート!#REF!=\"\",\"\",入力シート!#REF!)","v":{"$error":"#REF!"}},null,null,{"$f":"IF(入力シート!H253=\"\",\"\",\"〇\")","v":""},{"$f":"IF(入力シート!#REF!=\"\",\"\",入力シート!#REF!)","v":{"$error":"#REF!"}},{"$f":"IF(入力シート!#REF!=\"\",\"\",入力シート!#REF!)","v":{"$error":"#REF!"}},{"$f":"IF(入力シート!#REF!=\"\",\"\",入力シート!#REF!)","v":{"$error":"#REF!"}},{"$f":"IF(入力シート!#REF!=\"\",\"\",入力シート!#REF!)","v":{"$error":"#REF!"}}]
[{"$f":"IF(入力シート!#REF!=\"\",\"\",入力シート!#REF!)","v":{"$error":"#REF!"}},{"$f":"IF(入力シート!#REF!=\"\",\"\",入力シート!#REF!)","v":{"$error":"#REF!"}},{"$f":"IF(入力シート!#REF!=\"\",\"\",DBCS(入力シート!#REF!))","v":{"$error":"#REF!"}},{"$f":"IF(入力シート!#REF!=\"\",\"\",DBCS(入力シート!#REF!))","v":{"$error":"#REF!"}},{"$f":"ASC(IF(入力シート!#REF!=\"\",\"\",UPPER(入力シート!#REF!)))","v":{"$error":"#REF!"}},{"$f":"IF(入力シート!#REF!=\"\",\"\",PROPER(入力シート!#REF!))","v":{"$error":"#REF!"}},{"$f":"IF(入力シート!#REF!=\"\",\"\",入力シート!#REF!)","v":{"$error":"#REF!"}},{"$f":"IF(入力シート!#REF!=\"\",\"\",TEXT(入力シート!#REF!,\"yyyy/mm/dd\"))","v":{"$error":"#REF!"}},{"$f":"IF(入力シート!#REF!=\"\",\"\",入力シート!#REF!)","v":{"$error":"#REF!"}},{"$f":"IF(入力シート!#REF!=\"\",\"\",入力シート!#REF!)","v":{"$error":"#REF!"}},{"$f":"IF(入力シート!#REF!=\"\",\"\",入力シート!#REF!)","v":{"$error":"#REF!"}},{"$f":"IF(入力シート!#REF!=\"\",\"\",入力シート!#REF!)","v":{"$error":"#REF!"}},{"$f":"IF(入力シート!#REF!=\"\",\"\",入力シート!#REF!)","v":{"$error":"#REF!"}},{"$f":"IF(入力シート!#REF!=\"\",\"\",入力シート!#REF!)","v":{"$error":"#REF!"}},null,{"$f":"IF(入力シート!#REF!=\"\",\"\",入力シート!#REF!)","v":{"$error":"#REF!"}},{"$f":"IF(入力シート!#REF!=\"\",\"\",入力シート!#REF!)","v":{"$error":"#REF!"}},{"$f":"IF(入力シート!#REF!=\"\",\"\",入力シート!#REF!)","v":{"$error":"#REF!"}},{"$f":"IF(入力シート!#REF!=\"\",\"\",入力シート!#REF!)","v":{"$error":"#REF!"}},{"$f":"IF(入力シート!#REF!=\"\",\"\",入力シート!#REF!)","v":{"$error":"#REF!"}},{"$f":"IF(入力シート!#REF!=\"\",\"\",入力シート!#REF!)","v":{"$error":"#REF!"}},{"$f":"IF(入力シート!#REF!=\"\",\"\",入力シート!#REF!)","v":{"$error":"#REF!"}},{"$f":"IF(入力シート!#REF!=\"\",\"\",入力シート!#REF!)","v":{"$error":"#REF!"}},{"$f":"IF(入力シート!#REF!=\"\",\"\",入力シート!#REF!)","v":{"$error":"#REF!"}},{"$f":"IF(入力シート!#REF!=\"\",\"\",入力シート!#REF!)","v":{"$error":"#REF!"}},{"$f":"IF(入力シート!#REF!=\"\",\"\",入力シート!#REF!)","v":{"$error":"#REF!"}},null,null,{"$f":"IF(入力シート!H254=\"\",\"\",\"〇\")","v":""},{"$f":"IF(入力シート!#REF!=\"\",\"\",入力シート!#REF!)","v":{"$error":"#REF!"}},{"$f":"IF(入力シート!#REF!=\"\",\"\",入力シート!#REF!)","v":{"$error":"#REF!"}},{"$f":"IF(入力シート!#REF!=\"\",\"\",入力シート!#REF!)","v":{"$error":"#REF!"}},{"$f":"IF(入力シート!#REF!=\"\",\"\",入力シート!#REF!)","v":{"$error":"#REF!"}}]
[{"$f":"IF(入力シート!#REF!=\"\",\"\",入力シート!#REF!)","v":{"$error":"#REF!"}},{"$f":"IF(入力シート!#REF!=\"\",\"\",入力シート!#REF!)","v":{"$error":"#REF!"}},{"$f":"IF(入力シート!#REF!=\"\",\"\",DBCS(入力シート!#REF!))","v":{"$error":"#REF!"}},{"$f":"IF(入力シート!#REF!=\"\",\"\",DBCS(入力シート!#REF!))","v":{"$error":"#REF!"}},{"$f":"ASC(IF(入力シート!#REF!=\"\",\"\",UPPER(入力シート!#REF!)))","v":{"$error":"#REF!"}},{"$f":"IF(入力シート!#REF!=\"\",\"\",PROPER(入力シート!#REF!))","v":{"$error":"#REF!"}},{"$f":"IF(入力シート!#REF!=\"\",\"\",入力シート!#REF!)","v":{"$error":"#REF!"}},{"$f":"IF(入力シート!#REF!=\"\",\"\",TEXT(入力シート!#REF!,\"yyyy/mm/dd\"))","v":{"$error":"#REF!"}},{"$f":"IF(入力シート!#REF!=\"\",\"\",入力シート!#REF!)","v":{"$error":"#REF!"}},{"$f":"IF(入力シート!#REF!=\"\",\"\",入力シート!#REF!)","v":{"$error":"#REF!"}},{"$f":"IF(入力シート!#REF!=\"\",\"\",入力シート!#REF!)","v":{"$error":"#REF!"}},{"$f":"IF(入力シート!#REF!=\"\",\"\",入力シート!#REF!)","v":{"$error":"#REF!"}},{"$f":"IF(入力シート!#REF!=\"\",\"\",入力シート!#REF!)","v":{"$error":"#REF!"}},{"$f":"IF(入力シート!#REF!=\"\",\"\",入力シート!#REF!)","v":{"$error":"#REF!"}},null,{"$f":"IF(入力シート!#REF!=\"\",\"\",入力シート!#REF!)","v":{"$error":"#REF!"}},{"$f":"IF(入力シート!#REF!=\"\",\"\",入力シート!#REF!)","v":{"$error":"#REF!"}},{"$f":"IF(入力シート!#REF!=\"\",\"\",入力シート!#REF!)","v":{"$error":"#REF!"}},{"$f":"IF(入力シート!#REF!=\"\",\"\",入力シート!#REF!)","v":{"$error":"#REF!"}},{"$f":"IF(入力シート!#REF!=\"\",\"\",入力シート!#REF!)","v":{"$error":"#REF!"}},{"$f":"IF(入力シート!#REF!=\"\",\"\",入力シート!#REF!)","v":{"$error":"#REF!"}},{"$f":"IF(入力シート!#REF!=\"\",\"\",入力シート!#REF!)","v":{"$error":"#REF!"}},{"$f":"IF(入力シート!#REF!=\"\",\"\",入力シート!#REF!)","v":{"$error":"#REF!"}},{"$f":"IF(入力シート!#REF!=\"\",\"\",入力シート!#REF!)","v":{"$error":"#REF!"}},{"$f":"IF(入力シート!#REF!=\"\",\"\",入力シート!#REF!)","v":{"$error":"#REF!"}},{"$f":"IF(入力シート!#REF!=\"\",\"\",入力シート!#REF!)","v":{"$error":"#REF!"}},null,null,{"$f":"IF(入力シート!H255=\"\",\"\",\"〇\")","v":""},{"$f":"IF(入力シート!#REF!=\"\",\"\",入力シート!#REF!)","v":{"$error":"#REF!"}},{"$f":"IF(入力シート!#REF!=\"\",\"\",入力シート!#REF!)","v":{"$error":"#REF!"}},{"$f":"IF(入力シート!#REF!=\"\",\"\",入力シート!#REF!)","v":{"$error":"#REF!"}},{"$f":"IF(入力シート!#REF!=\"\",\"\",入力シート!#REF!)","v":{"$error":"#REF!"}}]
[{"$f":"IF(入力シート!#REF!=\"\",\"\",入力シート!#REF!)","v":{"$error":"#REF!"}},{"$f":"IF(入力シート!#REF!=\"\",\"\",入力シート!#REF!)","v":{"$error":"#REF!"}},{"$f":"IF(入力シート!#REF!=\"\",\"\",DBCS(入力シート!#REF!))","v":{"$error":"#REF!"}},{"$f":"IF(入力シート!#REF!=\"\",\"\",DBCS(入力シート!#REF!))","v":{"$error":"#REF!"}},{"$f":"ASC(IF(入力シート!#REF!=\"\",\"\",UPPER(入力シート!#REF!)))","v":{"$error":"#REF!"}},{"$f":"IF(入力シート!#REF!=\"\",\"\",PROPER(入力シート!#REF!))","v":{"$error":"#REF!"}},{"$f":"IF(入力シート!#REF!=\"\",\"\",入力シート!#REF!)","v":{"$error":"#REF!"}},{"$f":"IF(入力シート!#REF!=\"\",\"\",TEXT(入力シート!#REF!,\"yyyy/mm/dd\"))","v":{"$error":"#REF!"}},{"$f":"IF(入力シート!#REF!=\"\",\"\",入力シート!#REF!)","v":{"$error":"#REF!"}},{"$f":"IF(入力シート!#REF!=\"\",\"\",入力シート!#REF!)","v":{"$error":"#REF!"}},{"$f":"IF(入力シート!#REF!=\"\",\"\",入力シート!#REF!)","v":{"$error":"#REF!"}},{"$f":"IF(入力シート!#REF!=\"\",\"\",入力シート!#REF!)","v":{"$error":"#REF!"}},{"$f":"IF(入力シート!#REF!=\"\",\"\",入力シート!#REF!)","v":{"$error":"#REF!"}},{"$f":"IF(入力シート!#REF!=\"\",\"\",入力シート!#REF!)","v":{"$error":"#REF!"}},null,{"$f":"IF(入力シート!#REF!=\"\",\"\",入力シート!#REF!)","v":{"$error":"#REF!"}},{"$f":"IF(入力シート!#REF!=\"\",\"\",入力シート!#REF!)","v":{"$error":"#REF!"}},{"$f":"IF(入力シート!#REF!=\"\",\"\",入力シート!#REF!)","v":{"$error":"#REF!"}},{"$f":"IF(入力シート!#REF!=\"\",\"\",入力シート!#REF!)","v":{"$error":"#REF!"}},{"$f":"IF(入力シート!#REF!=\"\",\"\",入力シート!#REF!)","v":{"$error":"#REF!"}},{"$f":"IF(入力シート!#REF!=\"\",\"\",入力シート!#REF!)","v":{"$error":"#REF!"}},{"$f":"IF(入力シート!#REF!=\"\",\"\",入力シート!#REF!)","v":{"$error":"#REF!"}},{"$f":"IF(入力シート!#REF!=\"\",\"\",入力シート!#REF!)","v":{"$error":"#REF!"}},{"$f":"IF(入力シート!#REF!=\"\",\"\",入力シート!#REF!)","v":{"$error":"#REF!"}},{"$f":"IF(入力シート!#REF!=\"\",\"\",入力シート!#REF!)","v":{"$error":"#REF!"}},{"$f":"IF(入力シート!#REF!=\"\",\"\",入力シート!#REF!)","v":{"$error":"#REF!"}},null,null,{"$f":"IF(入力シート!H256=\"\",\"\",\"〇\")","v":""},{"$f":"IF(入力シート!#REF!=\"\",\"\",入力シート!#REF!)","v":{"$error":"#REF!"}},{"$f":"IF(入力シート!#REF!=\"\",\"\",入力シート!#REF!)","v":{"$error":"#REF!"}},{"$f":"IF(入力シート!#REF!=\"\",\"\",入力シート!#REF!)","v":{"$error":"#REF!"}},{"$f":"IF(入力シート!#REF!=\"\",\"\",入力シート!#REF!)","v":{"$error":"#REF!"}}]
[{"$f":"IF(入力シート!#REF!=\"\",\"\",入力シート!#REF!)","v":{"$error":"#REF!"}},{"$f":"IF(入力シート!#REF!=\"\",\"\",入力シート!#REF!)","v":{"$error":"#REF!"}},{"$f":"IF(入力シート!#REF!=\"\",\"\",DBCS(入力シート!#REF!))","v":{"$error":"#REF!"}},{"$f":"IF(入力シート!#REF!=\"\",\"\",DBCS(入力シート!#REF!))","v":{"$error":"#REF!"}},{"$f":"ASC(IF(入力シート!#REF!=\"\",\"\",UPPER(入力シート!#REF!)))","v":{"$error":"#REF!"}},{"$f":"IF(入力シート!#REF!=\"\",\"\",PROPER(入力シート!#REF!))","v":{"$error":"#REF!"}},{"$f":"IF(入力シート!#REF!=\"\",\"\",入力シート!#REF!)","v":{"$error":"#REF!"}},{"$f":"IF(入力シート!#REF!=\"\",\"\",TEXT(入力シート!#REF!,\"yyyy/mm/dd\"))","v":{"$error":"#REF!"}},{"$f":"IF(入力シート!#REF!=\"\",\"\",入力シート!#REF!)","v":{"$error":"#REF!"}},{"$f":"IF(入力シート!#REF!=\"\",\"\",入力シート!#REF!)","v":{"$error":"#REF!"}},{"$f":"IF(入力シート!#REF!=\"\",\"\",入力シート!#REF!)","v":{"$error":"#REF!"}},{"$f":"IF(入力シート!#REF!=\"\",\"\",入力シート!#REF!)","v":{"$error":"#REF!"}},{"$f":"IF(入力シート!#REF!=\"\",\"\",入力シート!#REF!)","v":{"$error":"#REF!"}},{"$f":"IF(入力シート!#REF!=\"\",\"\",入力シート!#REF!)","v":{"$error":"#REF!"}},null,{"$f":"IF(入力シート!#REF!=\"\",\"\",入力シート!#REF!)","v":{"$error":"#REF!"}},{"$f":"IF(入力シート!#REF!=\"\",\"\",入力シート!#REF!)","v":{"$error":"#REF!"}},{"$f":"IF(入力シート!#REF!=\"\",\"\",入力シート!#REF!)","v":{"$error":"#REF!"}},{"$f":"IF(入力シート!#REF!=\"\",\"\",入力シート!#REF!)","v":{"$error":"#REF!"}},{"$f":"IF(入力シート!#REF!=\"\",\"\",入力シート!#REF!)","v":{"$error":"#REF!"}},{"$f":"IF(入力シート!#REF!=\"\",\"\",入力シート!#REF!)","v":{"$error":"#REF!"}},{"$f":"IF(入力シート!#REF!=\"\",\"\",入力シート!#REF!)","v":{"$error":"#REF!"}},{"$f":"IF(入力シート!#REF!=\"\",\"\",入力シート!#REF!)","v":{"$error":"#REF!"}},{"$f":"IF(入力シート!#REF!=\"\",\"\",入力シート!#REF!)","v":{"$error":"#REF!"}},{"$f":"IF(入力シート!#REF!=\"\",\"\",入力シート!#REF!)","v":{"$error":"#REF!"}},{"$f":"IF(入力シート!#REF!=\"\",\"\",入力シート!#REF!)","v":{"$error":"#REF!"}},null,null,{"$f":"IF(入力シート!H257=\"\",\"\",\"〇\")","v":""},{"$f":"IF(入力シート!#REF!=\"\",\"\",入力シート!#REF!)","v":{"$error":"#REF!"}},{"$f":"IF(入力シート!#REF!=\"\",\"\",入力シート!#REF!)","v":{"$error":"#REF!"}},{"$f":"IF(入力シート!#REF!=\"\",\"\",入力シート!#REF!)","v":{"$error":"#REF!"}},{"$f":"IF(入力シート!#REF!=\"\",\"\",入力シート!#REF!)","v":{"$error":"#REF!"}}]
[{"$f":"IF(入力シート!#REF!=\"\",\"\",入力シート!#REF!)","v":{"$error":"#REF!"}},{"$f":"IF(入力シート!#REF!=\"\",\"\",入力シート!#REF!)","v":{"$error":"#REF!"}},{"$f":"IF(入力シート!#REF!=\"\",\"\",DBCS(入力シート!#REF!))","v":{"$error":"#REF!"}},{"$f":"IF(入力シート!#REF!=\"\",\"\",DBCS(入力シート!#REF!))","v":{"$error":"#REF!"}},{"$f":"ASC(IF(入力シート!#REF!=\"\",\"\",UPPER(入力シート!#REF!)))","v":{"$error":"#REF!"}},{"$f":"IF(入力シート!#REF!=\"\",\"\",PROPER(入力シート!#REF!))","v":{"$error":"#REF!"}},{"$f":"IF(入力シート!#REF!=\"\",\"\",入力シート!#REF!)","v":{"$error":"#REF!"}},{"$f":"IF(入力シート!#REF!=\"\",\"\",TEXT(入力シート!#REF!,\"yyyy/mm/dd\"))","v":{"$error":"#REF!"}},{"$f":"IF(入力シート!#REF!=\"\",\"\",入力シート!#REF!)","v":{"$error":"#REF!"}},{"$f":"IF(入力シート!#REF!=\"\",\"\",入力シート!#REF!)","v":{"$error":"#REF!"}},{"$f":"IF(入力シート!#REF!=\"\",\"\",入力シート!#REF!)","v":{"$error":"#REF!"}},{"$f":"IF(入力シート!#REF!=\"\",\"\",入力シート!#REF!)","v":{"$error":"#REF!"}},{"$f":"IF(入力シート!#REF!=\"\",\"\",入力シート!#REF!)","v":{"$error":"#REF!"}},{"$f":"IF(入力シート!#REF!=\"\",\"\",入力シート!#REF!)","v":{"$error":"#REF!"}},null,{"$f":"IF(入力シート!#REF!=\"\",\"\",入力シート!#REF!)","v":{"$error":"#REF!"}},{"$f":"IF(入力シート!#REF!=\"\",\"\",入力シート!#REF!)","v":{"$error":"#REF!"}},{"$f":"IF(入力シート!#REF!=\"\",\"\",入力シート!#REF!)","v":{"$error":"#REF!"}},{"$f":"IF(入力シート!#REF!=\"\",\"\",入力シート!#REF!)","v":{"$error":"#REF!"}},{"$f":"IF(入力シート!#REF!=\"\",\"\",入力シート!#REF!)","v":{"$error":"#REF!"}},{"$f":"IF(入力シート!#REF!=\"\",\"\",入力シート!#REF!)","v":{"$error":"#REF!"}},{"$f":"IF(入力シート!#REF!=\"\",\"\",入力シート!#REF!)","v":{"$error":"#REF!"}},{"$f":"IF(入力シート!#REF!=\"\",\"\",入力シート!#REF!)","v":{"$error":"#REF!"}},{"$f":"IF(入力シート!#REF!=\"\",\"\",入力シート!#REF!)","v":{"$error":"#REF!"}},{"$f":"IF(入力シート!#REF!=\"\",\"\",入力シート!#REF!)","v":{"$error":"#REF!"}},{"$f":"IF(入力シート!#REF!=\"\",\"\",入力シート!#REF!)","v":{"$error":"#REF!"}},null,null,{"$f":"IF(入力シート!H258=\"\",\"\",\"〇\")","v":""},{"$f":"IF(入力シート!#REF!=\"\",\"\",入力シート!#REF!)","v":{"$error":"#REF!"}},{"$f":"IF(入力シート!#REF!=\"\",\"\",入力シート!#REF!)","v":{"$error":"#REF!"}},{"$f":"IF(入力シート!#REF!=\"\",\"\",入力シート!#REF!)","v":{"$error":"#REF!"}},{"$f":"IF(入力シート!#REF!=\"\",\"\",入力シート!#REF!)","v":{"$error":"#REF!"}}]
[{"$f":"IF(入力シート!#REF!=\"\",\"\",入力シート!#REF!)","v":{"$error":"#REF!"}},{"$f":"IF(入力シート!#REF!=\"\",\"\",入力シート!#REF!)","v":{"$error":"#REF!"}},{"$f":"IF(入力シート!#REF!=\"\",\"\",DBCS(入力シート!#REF!))","v":{"$error":"#REF!"}},{"$f":"IF(入力シート!#REF!=\"\",\"\",DBCS(入力シート!#REF!))","v":{"$error":"#REF!"}},{"$f":"ASC(IF(入力シート!#REF!=\"\",\"\",UPPER(入力シート!#REF!)))","v":{"$error":"#REF!"}},{"$f":"IF(入力シート!#REF!=\"\",\"\",PROPER(入力シート!#REF!))","v":{"$error":"#REF!"}},{"$f":"IF(入力シート!#REF!=\"\",\"\",入力シート!#REF!)","v":{"$error":"#REF!"}},{"$f":"IF(入力シート!#REF!=\"\",\"\",TEXT(入力シート!#REF!,\"yyyy/mm/dd\"))","v":{"$error":"#REF!"}},{"$f":"IF(入力シート!#REF!=\"\",\"\",入力シート!#REF!)","v":{"$error":"#REF!"}},{"$f":"IF(入力シート!#REF!=\"\",\"\",入力シート!#REF!)","v":{"$error":"#REF!"}},{"$f":"IF(入力シート!#REF!=\"\",\"\",入力シート!#REF!)","v":{"$error":"#REF!"}},{"$f":"IF(入力シート!#REF!=\"\",\"\",入力シート!#REF!)","v":{"$error":"#REF!"}},{"$f":"IF(入力シート!#REF!=\"\",\"\",入力シート!#REF!)","v":{"$error":"#REF!"}},{"$f":"IF(入力シート!#REF!=\"\",\"\",入力シート!#REF!)","v":{"$error":"#REF!"}},null,{"$f":"IF(入力シート!#REF!=\"\",\"\",入力シート!#REF!)","v":{"$error":"#REF!"}},{"$f":"IF(入力シート!#REF!=\"\",\"\",入力シート!#REF!)","v":{"$error":"#REF!"}},{"$f":"IF(入力シート!#REF!=\"\",\"\",入力シート!#REF!)","v":{"$error":"#REF!"}},{"$f":"IF(入力シート!#REF!=\"\",\"\",入力シート!#REF!)","v":{"$error":"#REF!"}},{"$f":"IF(入力シート!#REF!=\"\",\"\",入力シート!#REF!)","v":{"$error":"#REF!"}},{"$f":"IF(入力シート!#REF!=\"\",\"\",入力シート!#REF!)","v":{"$error":"#REF!"}},{"$f":"IF(入力シート!#REF!=\"\",\"\",入力シート!#REF!)","v":{"$error":"#REF!"}},{"$f":"IF(入力シート!#REF!=\"\",\"\",入力シート!#REF!)","v":{"$error":"#REF!"}},{"$f":"IF(入力シート!#REF!=\"\",\"\",入力シート!#REF!)","v":{"$error":"#REF!"}},{"$f":"IF(入力シート!#REF!=\"\",\"\",入力シート!#REF!)","v":{"$error":"#REF!"}},{"$f":"IF(入力シート!#REF!=\"\",\"\",入力シート!#REF!)","v":{"$error":"#REF!"}},null,null,{"$f":"IF(入力シート!H259=\"\",\"\",\"〇\")","v":""},{"$f":"IF(入力シート!#REF!=\"\",\"\",入力シート!#REF!)","v":{"$error":"#REF!"}},{"$f":"IF(入力シート!#REF!=\"\",\"\",入力シート!#REF!)","v":{"$error":"#REF!"}},{"$f":"IF(入力シート!#REF!=\"\",\"\",入力シート!#REF!)","v":{"$error":"#REF!"}},{"$f":"IF(入力シート!#REF!=\"\",\"\",入力シート!#REF!)","v":{"$error":"#REF!"}}]
[{"$f":"IF(入力シート!#REF!=\"\",\"\",入力シート!#REF!)","v":{"$error":"#REF!"}},{"$f":"IF(入力シート!#REF!=\"\",\"\",入力シート!#REF!)","v":{"$error":"#REF!"}},{"$f":"IF(入力シート!#REF!=\"\",\"\",DBCS(入力シート!#REF!))","v":{"$error":"#REF!"}},{"$f":"IF(入力シート!#REF!=\"\",\"\",DBCS(入力シート!#REF!))","v":{"$error":"#REF!"}},{"$f":"ASC(IF(入力シート!#REF!=\"\",\"\",UPPER(入力シート!#REF!)))","v":{"$error":"#REF!"}},{"$f":"IF(入力シート!#REF!=\"\",\"\",PROPER(入力シート!#REF!))","v":{"$error":"#REF!"}},{"$f":"IF(入力シート!#REF!=\"\",\"\",入力シート!#REF!)","v":{"$error":"#REF!"}},{"$f":"IF(入力シート!#REF!=\"\",\"\",TEXT(入力シート!#REF!,\"yyyy/mm/dd\"))","v":{"$error":"#REF!"}},{"$f":"IF(入力シート!#REF!=\"\",\"\",入力シート!#REF!)","v":{"$error":"#REF!"}},{"$f":"IF(入力シート!#REF!=\"\",\"\",入力シート!#REF!)","v":{"$error":"#REF!"}},{"$f":"IF(入力シート!#REF!=\"\",\"\",入力シート!#REF!)","v":{"$error":"#REF!"}},{"$f":"IF(入力シート!#REF!=\"\",\"\",入力シート!#REF!)","v":{"$error":"#REF!"}},{"$f":"IF(入力シート!#REF!=\"\",\"\",入力シート!#REF!)","v":{"$error":"#REF!"}},{"$f":"IF(入力シート!#REF!=\"\",\"\",入力シート!#REF!)","v":{"$error":"#REF!"}},null,{"$f":"IF(入力シート!#REF!=\"\",\"\",入力シート!#REF!)","v":{"$error":"#REF!"}},{"$f":"IF(入力シート!#REF!=\"\",\"\",入力シート!#REF!)","v":{"$error":"#REF!"}},{"$f":"IF(入力シート!#REF!=\"\",\"\",入力シート!#REF!)","v":{"$error":"#REF!"}},{"$f":"IF(入力シート!#REF!=\"\",\"\",入力シート!#REF!)","v":{"$error":"#REF!"}},{"$f":"IF(入力シート!#REF!=\"\",\"\",入力シート!#REF!)","v":{"$error":"#REF!"}},{"$f":"IF(入力シート!#REF!=\"\",\"\",入力シート!#REF!)","v":{"$error":"#REF!"}},{"$f":"IF(入力シート!#REF!=\"\",\"\",入力シート!#REF!)","v":{"$error":"#REF!"}},{"$f":"IF(入力シート!#REF!=\"\",\"\",入力シート!#REF!)","v":{"$error":"#REF!"}},{"$f":"IF(入力シート!#REF!=\"\",\"\",入力シート!#REF!)","v":{"$error":"#REF!"}},{"$f":"IF(入力シート!#REF!=\"\",\"\",入力シート!#REF!)","v":{"$error":"#REF!"}},{"$f":"IF(入力シート!#REF!=\"\",\"\",入力シート!#REF!)","v":{"$error":"#REF!"}},null,null,{"$f":"IF(入力シート!H260=\"\",\"\",\"〇\")","v":""},{"$f":"IF(入力シート!#REF!=\"\",\"\",入力シート!#REF!)","v":{"$error":"#REF!"}},{"$f":"IF(入力シート!#REF!=\"\",\"\",入力シート!#REF!)","v":{"$error":"#REF!"}},{"$f":"IF(入力シート!#REF!=\"\",\"\",入力シート!#REF!)","v":{"$error":"#REF!"}},{"$f":"IF(入力シート!#REF!=\"\",\"\",入力シート!#REF!)","v":{"$error":"#REF!"}}]
[{"$f":"IF(入力シート!#REF!=\"\",\"\",入力シート!#REF!)","v":{"$error":"#REF!"}},{"$f":"IF(入力シート!#REF!=\"\",\"\",入力シート!#REF!)","v":{"$error":"#REF!"}},{"$f":"IF(入力シート!#REF!=\"\",\"\",DBCS(入力シート!#REF!))","v":{"$error":"#REF!"}},{"$f":"IF(入力シート!#REF!=\"\",\"\",DBCS(入力シート!#REF!))","v":{"$error":"#REF!"}},{"$f":"ASC(IF(入力シート!#REF!=\"\",\"\",UPPER(入力シート!#REF!)))","v":{"$error":"#REF!"}},{"$f":"IF(入力シート!#REF!=\"\",\"\",PROPER(入力シート!#REF!))","v":{"$error":"#REF!"}},{"$f":"IF(入力シート!#REF!=\"\",\"\",入力シート!#REF!)","v":{"$error":"#REF!"}},{"$f":"IF(入力シート!#REF!=\"\",\"\",TEXT(入力シート!#REF!,\"yyyy/mm/dd\"))","v":{"$error":"#REF!"}},{"$f":"IF(入力シート!#REF!=\"\",\"\",入力シート!#REF!)","v":{"$error":"#REF!"}},{"$f":"IF(入力シート!#REF!=\"\",\"\",入力シート!#REF!)","v":{"$error":"#REF!"}},{"$f":"IF(入力シート!#REF!=\"\",\"\",入力シート!#REF!)","v":{"$error":"#REF!"}},{"$f":"IF(入力シート!#REF!=\"\",\"\",入力シート!#REF!)","v":{"$error":"#REF!"}},{"$f":"IF(入力シート!#REF!=\"\",\"\",入力シート!#REF!)","v":{"$error":"#REF!"}},{"$f":"IF(入力シート!#REF!=\"\",\"\",入力シート!#REF!)","v":{"$error":"#REF!"}},null,{"$f":"IF(入力シート!#REF!=\"\",\"\",入力シート!#REF!)","v":{"$error":"#REF!"}},{"$f":"IF(入力シート!#REF!=\"\",\"\",入力シート!#REF!)","v":{"$error":"#REF!"}},{"$f":"IF(入力シート!#REF!=\"\",\"\",入力シート!#REF!)","v":{"$error":"#REF!"}},{"$f":"IF(入力シート!#REF!=\"\",\"\",入力シート!#REF!)","v":{"$error":"#REF!"}},{"$f":"IF(入力シート!#REF!=\"\",\"\",入力シート!#REF!)","v":{"$error":"#REF!"}},{"$f":"IF(入力シート!#REF!=\"\",\"\",入力シート!#REF!)","v":{"$error":"#REF!"}},{"$f":"IF(入力シート!#REF!=\"\",\"\",入力シート!#REF!)","v":{"$error":"#REF!"}},{"$f":"IF(入力シート!#REF!=\"\",\"\",入力シート!#REF!)","v":{"$error":"#REF!"}},{"$f":"IF(入力シート!#REF!=\"\",\"\",入力シート!#REF!)","v":{"$error":"#REF!"}},{"$f":"IF(入力シート!#REF!=\"\",\"\",入力シート!#REF!)","v":{"$error":"#REF!"}},{"$f":"IF(入力シート!#REF!=\"\",\"\",入力シート!#REF!)","v":{"$error":"#REF!"}},null,null,{"$f":"IF(入力シート!H261=\"\",\"\",\"〇\")","v":""},{"$f":"IF(入力シート!#REF!=\"\",\"\",入力シート!#REF!)","v":{"$error":"#REF!"}},{"$f":"IF(入力シート!#REF!=\"\",\"\",入力シート!#REF!)","v":{"$error":"#REF!"}},{"$f":"IF(入力シート!#REF!=\"\",\"\",入力シート!#REF!)","v":{"$error":"#REF!"}},{"$f":"IF(入力シート!#REF!=\"\",\"\",入力シート!#REF!)","v":{"$error":"#REF!"}}]
[{"$f":"IF(入力シート!#REF!=\"\",\"\",入力シート!#REF!)","v":{"$error":"#REF!"}},{"$f":"IF(入力シート!#REF!=\"\",\"\",入力シート!#REF!)","v":{"$error":"#REF!"}},{"$f":"IF(入力シート!#REF!=\"\",\"\",DBCS(入力シート!#REF!))","v":{"$error":"#REF!"}},{"$f":"IF(入力シート!#REF!=\"\",\"\",DBCS(入力シート!#REF!))","v":{"$error":"#REF!"}},{"$f":"ASC(IF(入力シート!#REF!=\"\",\"\",UPPER(入力シート!#REF!)))","v":{"$error":"#REF!"}},{"$f":"IF(入力シート!#REF!=\"\",\"\",PROPER(入力シート!#REF!))","v":{"$error":"#REF!"}},{"$f":"IF(入力シート!#REF!=\"\",\"\",入力シート!#REF!)","v":{"$error":"#REF!"}},{"$f":"IF(入力シート!#REF!=\"\",\"\",TEXT(入力シート!#REF!,\"yyyy/mm/dd\"))","v":{"$error":"#REF!"}},{"$f":"IF(入力シート!#REF!=\"\",\"\",入力シート!#REF!)","v":{"$error":"#REF!"}},{"$f":"IF(入力シート!#REF!=\"\",\"\",入力シート!#REF!)","v":{"$error":"#REF!"}},{"$f":"IF(入力シート!#REF!=\"\",\"\",入力シート!#REF!)","v":{"$error":"#REF!"}},{"$f":"IF(入力シート!#REF!=\"\",\"\",入力シート!#REF!)","v":{"$error":"#REF!"}},{"$f":"IF(入力シート!#REF!=\"\",\"\",入力シート!#REF!)","v":{"$error":"#REF!"}},{"$f":"IF(入力シート!#REF!=\"\",\"\",入力シート!#REF!)","v":{"$error":"#REF!"}},null,{"$f":"IF(入力シート!#REF!=\"\",\"\",入力シート!#REF!)","v":{"$error":"#REF!"}},{"$f":"IF(入力シート!#REF!=\"\",\"\",入力シート!#REF!)","v":{"$error":"#REF!"}},{"$f":"IF(入力シート!#REF!=\"\",\"\",入力シート!#REF!)","v":{"$error":"#REF!"}},{"$f":"IF(入力シート!#REF!=\"\",\"\",入力シート!#REF!)","v":{"$error":"#REF!"}},{"$f":"IF(入力シート!#REF!=\"\",\"\",入力シート!#REF!)","v":{"$error":"#REF!"}},{"$f":"IF(入力シート!#REF!=\"\",\"\",入力シート!#REF!)","v":{"$error":"#REF!"}},{"$f":"IF(入力シート!#REF!=\"\",\"\",入力シート!#REF!)","v":{"$error":"#REF!"}},{"$f":"IF(入力シート!#REF!=\"\",\"\",入力シート!#REF!)","v":{"$error":"#REF!"}},{"$f":"IF(入力シート!#REF!=\"\",\"\",入力シート!#REF!)","v":{"$error":"#REF!"}},{"$f":"IF(入力シート!#REF!=\"\",\"\",入力シート!#REF!)","v":{"$error":"#REF!"}},{"$f":"IF(入力シート!#REF!=\"\",\"\",入力シート!#REF!)","v":{"$error":"#REF!"}},null,null,{"$f":"IF(入力シート!H262=\"\",\"\",\"〇\")","v":""},{"$f":"IF(入力シート!#REF!=\"\",\"\",入力シート!#REF!)","v":{"$error":"#REF!"}},{"$f":"IF(入力シート!#REF!=\"\",\"\",入力シート!#REF!)","v":{"$error":"#REF!"}},{"$f":"IF(入力シート!#REF!=\"\",\"\",入力シート!#REF!)","v":{"$error":"#REF!"}},{"$f":"IF(入力シート!#REF!=\"\",\"\",入力シート!#REF!)","v":{"$error":"#REF!"}}]
[{"$f":"IF(入力シート!#REF!=\"\",\"\",入力シート!#REF!)","v":{"$error":"#REF!"}},{"$f":"IF(入力シート!#REF!=\"\",\"\",入力シート!#REF!)","v":{"$error":"#REF!"}},{"$f":"IF(入力シート!#REF!=\"\",\"\",DBCS(入力シート!#REF!))","v":{"$error":"#REF!"}},{"$f":"IF(入力シート!#REF!=\"\",\"\",DBCS(入力シート!#REF!))","v":{"$error":"#REF!"}},{"$f":"ASC(IF(入力シート!#REF!=\"\",\"\",UPPER(入力シート!#REF!)))","v":{"$error":"#REF!"}},{"$f":"IF(入力シート!#REF!=\"\",\"\",PROPER(入力シート!#REF!))","v":{"$error":"#REF!"}},{"$f":"IF(入力シート!#REF!=\"\",\"\",入力シート!#REF!)","v":{"$error":"#REF!"}},{"$f":"IF(入力シート!#REF!=\"\",\"\",TEXT(入力シート!#REF!,\"yyyy/mm/dd\"))","v":{"$error":"#REF!"}},{"$f":"IF(入力シート!#REF!=\"\",\"\",入力シート!#REF!)","v":{"$error":"#REF!"}},{"$f":"IF(入力シート!#REF!=\"\",\"\",入力シート!#REF!)","v":{"$error":"#REF!"}},{"$f":"IF(入力シート!#REF!=\"\",\"\",入力シート!#REF!)","v":{"$error":"#REF!"}},{"$f":"IF(入力シート!#REF!=\"\",\"\",入力シート!#REF!)","v":{"$error":"#REF!"}},{"$f":"IF(入力シート!#REF!=\"\",\"\",入力シート!#REF!)","v":{"$error":"#REF!"}},{"$f":"IF(入力シート!#REF!=\"\",\"\",入力シート!#REF!)","v":{"$error":"#REF!"}},null,{"$f":"IF(入力シート!#REF!=\"\",\"\",入力シート!#REF!)","v":{"$error":"#REF!"}},{"$f":"IF(入力シート!#REF!=\"\",\"\",入力シート!#REF!)","v":{"$error":"#REF!"}},{"$f":"IF(入力シート!#REF!=\"\",\"\",入力シート!#REF!)","v":{"$error":"#REF!"}},{"$f":"IF(入力シート!#REF!=\"\",\"\",入力シート!#REF!)","v":{"$error":"#REF!"}},{"$f":"IF(入力シート!#REF!=\"\",\"\",入力シート!#REF!)","v":{"$error":"#REF!"}},{"$f":"IF(入力シート!#REF!=\"\",\"\",入力シート!#REF!)","v":{"$error":"#REF!"}},{"$f":"IF(入力シート!#REF!=\"\",\"\",入力シート!#REF!)","v":{"$error":"#REF!"}},{"$f":"IF(入力シート!#REF!=\"\",\"\",入力シート!#REF!)","v":{"$error":"#REF!"}},{"$f":"IF(入力シート!#REF!=\"\",\"\",入力シート!#REF!)","v":{"$error":"#REF!"}},{"$f":"IF(入力シート!#REF!=\"\",\"\",入力シート!#REF!)","v":{"$error":"#REF!"}},{"$f":"IF(入力シート!#REF!=\"\",\"\",入力シート!#REF!)","v":{"$error":"#REF!"}},null,null,{"$f":"IF(入力シート!H263=\"\",\"\",\"〇\")","v":""},{"$f":"IF(入力シート!#REF!=\"\",\"\",入力シート!#REF!)","v":{"$error":"#REF!"}},{"$f":"IF(入力シート!#REF!=\"\",\"\",入力シート!#REF!)","v":{"$error":"#REF!"}},{"$f":"IF(入力シート!#REF!=\"\",\"\",入力シート!#REF!)","v":{"$error":"#REF!"}},{"$f":"IF(入力シート!#REF!=\"\",\"\",入力シート!#REF!)","v":{"$error":"#REF!"}}]
[{"$f":"IF(入力シート!#REF!=\"\",\"\",入力シート!#REF!)","v":{"$error":"#REF!"}},{"$f":"IF(入力シート!#REF!=\"\",\"\",入力シート!#REF!)","v":{"$error":"#REF!"}},{"$f":"IF(入力シート!#REF!=\"\",\"\",DBCS(入力シート!#REF!))","v":{"$error":"#REF!"}},{"$f":"IF(入力シート!#REF!=\"\",\"\",DBCS(入力シート!#REF!))","v":{"$error":"#REF!"}},{"$f":"ASC(IF(入力シート!#REF!=\"\",\"\",UPPER(入力シート!#REF!)))","v":{"$error":"#REF!"}},{"$f":"IF(入力シート!#REF!=\"\",\"\",PROPER(入力シート!#REF!))","v":{"$error":"#REF!"}},{"$f":"IF(入力シート!#REF!=\"\",\"\",入力シート!#REF!)","v":{"$error":"#REF!"}},{"$f":"IF(入力シート!#REF!=\"\",\"\",TEXT(入力シート!#REF!,\"yyyy/mm/dd\"))","v":{"$error":"#REF!"}},{"$f":"IF(入力シート!#REF!=\"\",\"\",入力シート!#REF!)","v":{"$error":"#REF!"}},{"$f":"IF(入力シート!#REF!=\"\",\"\",入力シート!#REF!)","v":{"$error":"#REF!"}},{"$f":"IF(入力シート!#REF!=\"\",\"\",入力シート!#REF!)","v":{"$error":"#REF!"}},{"$f":"IF(入力シート!#REF!=\"\",\"\",入力シート!#REF!)","v":{"$error":"#REF!"}},{"$f":"IF(入力シート!#REF!=\"\",\"\",入力シート!#REF!)","v":{"$error":"#REF!"}},{"$f":"IF(入力シート!#REF!=\"\",\"\",入力シート!#REF!)","v":{"$error":"#REF!"}},null,{"$f":"IF(入力シート!#REF!=\"\",\"\",入力シート!#REF!)","v":{"$error":"#REF!"}},{"$f":"IF(入力シート!#REF!=\"\",\"\",入力シート!#REF!)","v":{"$error":"#REF!"}},{"$f":"IF(入力シート!#REF!=\"\",\"\",入力シート!#REF!)","v":{"$error":"#REF!"}},{"$f":"IF(入力シート!#REF!=\"\",\"\",入力シート!#REF!)","v":{"$error":"#REF!"}},{"$f":"IF(入力シート!#REF!=\"\",\"\",入力シート!#REF!)","v":{"$error":"#REF!"}},{"$f":"IF(入力シート!#REF!=\"\",\"\",入力シート!#REF!)","v":{"$error":"#REF!"}},{"$f":"IF(入力シート!#REF!=\"\",\"\",入力シート!#REF!)","v":{"$error":"#REF!"}},{"$f":"IF(入力シート!#REF!=\"\",\"\",入力シート!#REF!)","v":{"$error":"#REF!"}},{"$f":"IF(入力シート!#REF!=\"\",\"\",入力シート!#REF!)","v":{"$error":"#REF!"}},{"$f":"IF(入力シート!#REF!=\"\",\"\",入力シート!#REF!)","v":{"$error":"#REF!"}},{"$f":"IF(入力シート!#REF!=\"\",\"\",入力シート!#REF!)","v":{"$error":"#REF!"}},null,null,{"$f":"IF(入力シート!H264=\"\",\"\",\"〇\")","v":""},{"$f":"IF(入力シート!#REF!=\"\",\"\",入力シート!#REF!)","v":{"$error":"#REF!"}},{"$f":"IF(入力シート!#REF!=\"\",\"\",入力シート!#REF!)","v":{"$error":"#REF!"}},{"$f":"IF(入力シート!#REF!=\"\",\"\",入力シート!#REF!)","v":{"$error":"#REF!"}},{"$f":"IF(入力シート!#REF!=\"\",\"\",入力シート!#REF!)","v":{"$error":"#REF!"}}]
[{"$f":"IF(入力シート!#REF!=\"\",\"\",入力シート!#REF!)","v":{"$error":"#REF!"}},{"$f":"IF(入力シート!#REF!=\"\",\"\",入力シート!#REF!)","v":{"$error":"#REF!"}},{"$f":"IF(入力シート!#REF!=\"\",\"\",DBCS(入力シート!#REF!))","v":{"$error":"#REF!"}},{"$f":"IF(入力シート!#REF!=\"\",\"\",DBCS(入力シート!#REF!))","v":{"$error":"#REF!"}},{"$f":"ASC(IF(入力シート!#REF!=\"\",\"\",UPPER(入力シート!#REF!)))","v":{"$error":"#REF!"}},{"$f":"IF(入力シート!#REF!=\"\",\"\",PROPER(入力シート!#REF!))","v":{"$error":"#REF!"}},{"$f":"IF(入力シート!#REF!=\"\",\"\",入力シート!#REF!)","v":{"$error":"#REF!"}},{"$f":"IF(入力シート!#REF!=\"\",\"\",TEXT(入力シート!#REF!,\"yyyy/mm/dd\"))","v":{"$error":"#REF!"}},{"$f":"IF(入力シート!#REF!=\"\",\"\",入力シート!#REF!)","v":{"$error":"#REF!"}},{"$f":"IF(入力シート!#REF!=\"\",\"\",入力シート!#REF!)","v":{"$error":"#REF!"}},{"$f":"IF(入力シート!#REF!=\"\",\"\",入力シート!#REF!)","v":{"$error":"#REF!"}},{"$f":"IF(入力シート!#REF!=\"\",\"\",入力シート!#REF!)","v":{"$error":"#REF!"}},{"$f":"IF(入力シート!#REF!=\"\",\"\",入力シート!#REF!)","v":{"$error":"#REF!"}},{"$f":"IF(入力シート!#REF!=\"\",\"\",入力シート!#REF!)","v":{"$error":"#REF!"}},null,{"$f":"IF(入力シート!#REF!=\"\",\"\",入力シート!#REF!)","v":{"$error":"#REF!"}},{"$f":"IF(入力シート!#REF!=\"\",\"\",入力シート!#REF!)","v":{"$error":"#REF!"}},{"$f":"IF(入力シート!#REF!=\"\",\"\",入力シート!#REF!)","v":{"$error":"#REF!"}},{"$f":"IF(入力シート!#REF!=\"\",\"\",入力シート!#REF!)","v":{"$error":"#REF!"}},{"$f":"IF(入力シート!#REF!=\"\",\"\",入力シート!#REF!)","v":{"$error":"#REF!"}},{"$f":"IF(入力シート!#REF!=\"\",\"\",入力シート!#REF!)","v":{"$error":"#REF!"}},{"$f":"IF(入力シート!#REF!=\"\",\"\",入力シート!#REF!)","v":{"$error":"#REF!"}},{"$f":"IF(入力シート!#REF!=\"\",\"\",入力シート!#REF!)","v":{"$error":"#REF!"}},{"$f":"IF(入力シート!#REF!=\"\",\"\",入力シート!#REF!)","v":{"$error":"#REF!"}},{"$f":"IF(入力シート!#REF!=\"\",\"\",入力シート!#REF!)","v":{"$error":"#REF!"}},{"$f":"IF(入力シート!#REF!=\"\",\"\",入力シート!#REF!)","v":{"$error":"#REF!"}},null,null,{"$f":"IF(入力シート!H265=\"\",\"\",\"〇\")","v":""},{"$f":"IF(入力シート!#REF!=\"\",\"\",入力シート!#REF!)","v":{"$error":"#REF!"}},{"$f":"IF(入力シート!#REF!=\"\",\"\",入力シート!#REF!)","v":{"$error":"#REF!"}},{"$f":"IF(入力シート!#REF!=\"\",\"\",入力シート!#REF!)","v":{"$error":"#REF!"}},{"$f":"IF(入力シート!#REF!=\"\",\"\",入力シート!#REF!)","v":{"$error":"#REF!"}}]
[{"$f":"IF(入力シート!#REF!=\"\",\"\",入力シート!#REF!)","v":{"$error":"#REF!"}},{"$f":"IF(入力シート!#REF!=\"\",\"\",入力シート!#REF!)","v":{"$error":"#REF!"}},{"$f":"IF(入力シート!#REF!=\"\",\"\",DBCS(入力シート!#REF!))","v":{"$error":"#REF!"}},{"$f":"IF(入力シート!#REF!=\"\",\"\",DBCS(入力シート!#REF!))","v":{"$error":"#REF!"}},{"$f":"ASC(IF(入力シート!#REF!=\"\",\"\",UPPER(入力シート!#REF!)))","v":{"$error":"#REF!"}},{"$f":"IF(入力シート!#REF!=\"\",\"\",PROPER(入力シート!#REF!))","v":{"$error":"#REF!"}},{"$f":"IF(入力シート!#REF!=\"\",\"\",入力シート!#REF!)","v":{"$error":"#REF!"}},{"$f":"IF(入力シート!#REF!=\"\",\"\",TEXT(入力シート!#REF!,\"yyyy/mm/dd\"))","v":{"$error":"#REF!"}},{"$f":"IF(入力シート!#REF!=\"\",\"\",入力シート!#REF!)","v":{"$error":"#REF!"}},{"$f":"IF(入力シート!#REF!=\"\",\"\",入力シート!#REF!)","v":{"$error":"#REF!"}},{"$f":"IF(入力シート!#REF!=\"\",\"\",入力シート!#REF!)","v":{"$error":"#REF!"}},{"$f":"IF(入力シート!#REF!=\"\",\"\",入力シート!#REF!)","v":{"$error":"#REF!"}},{"$f":"IF(入力シート!#REF!=\"\",\"\",入力シート!#REF!)","v":{"$error":"#REF!"}},{"$f":"IF(入力シート!#REF!=\"\",\"\",入力シート!#REF!)","v":{"$error":"#REF!"}},null,{"$f":"IF(入力シート!#REF!=\"\",\"\",入力シート!#REF!)","v":{"$error":"#REF!"}},{"$f":"IF(入力シート!#REF!=\"\",\"\",入力シート!#REF!)","v":{"$error":"#REF!"}},{"$f":"IF(入力シート!#REF!=\"\",\"\",入力シート!#REF!)","v":{"$error":"#REF!"}},{"$f":"IF(入力シート!#REF!=\"\",\"\",入力シート!#REF!)","v":{"$error":"#REF!"}},{"$f":"IF(入力シート!#REF!=\"\",\"\",入力シート!#REF!)","v":{"$error":"#REF!"}},{"$f":"IF(入力シート!#REF!=\"\",\"\",入力シート!#REF!)","v":{"$error":"#REF!"}},{"$f":"IF(入力シート!#REF!=\"\",\"\",入力シート!#REF!)","v":{"$error":"#REF!"}},{"$f":"IF(入力シート!#REF!=\"\",\"\",入力シート!#REF!)","v":{"$error":"#REF!"}},{"$f":"IF(入力シート!#REF!=\"\",\"\",入力シート!#REF!)","v":{"$error":"#REF!"}},{"$f":"IF(入力シート!#REF!=\"\",\"\",入力シート!#REF!)","v":{"$error":"#REF!"}},{"$f":"IF(入力シート!#REF!=\"\",\"\",入力シート!#REF!)","v":{"$error":"#REF!"}},null,null,{"$f":"IF(入力シート!H266=\"\",\"\",\"〇\")","v":""},{"$f":"IF(入力シート!#REF!=\"\",\"\",入力シート!#REF!)","v":{"$error":"#REF!"}},{"$f":"IF(入力シート!#REF!=\"\",\"\",入力シート!#REF!)","v":{"$error":"#REF!"}},{"$f":"IF(入力シート!#REF!=\"\",\"\",入力シート!#REF!)","v":{"$error":"#REF!"}},{"$f":"IF(入力シート!#REF!=\"\",\"\",入力シート!#REF!)","v":{"$error":"#REF!"}}]
[{"$f":"IF(入力シート!#REF!=\"\",\"\",入力シート!#REF!)","v":{"$error":"#REF!"}},{"$f":"IF(入力シート!#REF!=\"\",\"\",入力シート!#REF!)","v":{"$error":"#REF!"}},{"$f":"IF(入力シート!#REF!=\"\",\"\",DBCS(入力シート!#REF!))","v":{"$error":"#REF!"}},{"$f":"IF(入力シート!#REF!=\"\",\"\",DBCS(入力シート!#REF!))","v":{"$error":"#REF!"}},{"$f":"ASC(IF(入力シート!#REF!=\"\",\"\",UPPER(入力シート!#REF!)))","v":{"$error":"#REF!"}},{"$f":"IF(入力シート!#REF!=\"\",\"\",PROPER(入力シート!#REF!))","v":{"$error":"#REF!"}},{"$f":"IF(入力シート!#REF!=\"\",\"\",入力シート!#REF!)","v":{"$error":"#REF!"}},{"$f":"IF(入力シート!#REF!=\"\",\"\",TEXT(入力シート!#REF!,\"yyyy/mm/dd\"))","v":{"$error":"#REF!"}},{"$f":"IF(入力シート!#REF!=\"\",\"\",入力シート!#REF!)","v":{"$error":"#REF!"}},{"$f":"IF(入力シート!#REF!=\"\",\"\",入力シート!#REF!)","v":{"$error":"#REF!"}},{"$f":"IF(入力シート!#REF!=\"\",\"\",入力シート!#REF!)","v":{"$error":"#REF!"}},{"$f":"IF(入力シート!#REF!=\"\",\"\",入力シート!#REF!)","v":{"$error":"#REF!"}},{"$f":"IF(入力シート!#REF!=\"\",\"\",入力シート!#REF!)","v":{"$error":"#REF!"}},{"$f":"IF(入力シート!#REF!=\"\",\"\",入力シート!#REF!)","v":{"$error":"#REF!"}},null,{"$f":"IF(入力シート!#REF!=\"\",\"\",入力シート!#REF!)","v":{"$error":"#REF!"}},{"$f":"IF(入力シート!#REF!=\"\",\"\",入力シート!#REF!)","v":{"$error":"#REF!"}},{"$f":"IF(入力シート!#REF!=\"\",\"\",入力シート!#REF!)","v":{"$error":"#REF!"}},{"$f":"IF(入力シート!#REF!=\"\",\"\",入力シート!#REF!)","v":{"$error":"#REF!"}},{"$f":"IF(入力シート!#REF!=\"\",\"\",入力シート!#REF!)","v":{"$error":"#REF!"}},{"$f":"IF(入力シート!#REF!=\"\",\"\",入力シート!#REF!)","v":{"$error":"#REF!"}},{"$f":"IF(入力シート!#REF!=\"\",\"\",入力シート!#REF!)","v":{"$error":"#REF!"}},{"$f":"IF(入力シート!#REF!=\"\",\"\",入力シート!#REF!)","v":{"$error":"#REF!"}},{"$f":"IF(入力シート!#REF!=\"\",\"\",入力シート!#REF!)","v":{"$error":"#REF!"}},{"$f":"IF(入力シート!#REF!=\"\",\"\",入力シート!#REF!)","v":{"$error":"#REF!"}},{"$f":"IF(入力シート!#REF!=\"\",\"\",入力シート!#REF!)","v":{"$error":"#REF!"}},null,null,{"$f":"IF(入力シート!H267=\"\",\"\",\"〇\")","v":""},{"$f":"IF(入力シート!#REF!=\"\",\"\",入力シート!#REF!)","v":{"$error":"#REF!"}},{"$f":"IF(入力シート!#REF!=\"\",\"\",入力シート!#REF!)","v":{"$error":"#REF!"}},{"$f":"IF(入力シート!#REF!=\"\",\"\",入力シート!#REF!)","v":{"$error":"#REF!"}},{"$f":"IF(入力シート!#REF!=\"\",\"\",入力シート!#REF!)","v":{"$error":"#REF!"}}]
[{"$f":"IF(入力シート!#REF!=\"\",\"\",入力シート!#REF!)","v":{"$error":"#REF!"}},{"$f":"IF(入力シート!#REF!=\"\",\"\",入力シート!#REF!)","v":{"$error":"#REF!"}},{"$f":"IF(入力シート!#REF!=\"\",\"\",DBCS(入力シート!#REF!))","v":{"$error":"#REF!"}},{"$f":"IF(入力シート!#REF!=\"\",\"\",DBCS(入力シート!#REF!))","v":{"$error":"#REF!"}},{"$f":"ASC(IF(入力シート!#REF!=\"\",\"\",UPPER(入力シート!#REF!)))","v":{"$error":"#REF!"}},{"$f":"IF(入力シート!#REF!=\"\",\"\",PROPER(入力シート!#REF!))","v":{"$error":"#REF!"}},{"$f":"IF(入力シート!#REF!=\"\",\"\",入力シート!#REF!)","v":{"$error":"#REF!"}},{"$f":"IF(入力シート!#REF!=\"\",\"\",TEXT(入力シート!#REF!,\"yyyy/mm/dd\"))","v":{"$error":"#REF!"}},{"$f":"IF(入力シート!#REF!=\"\",\"\",入力シート!#REF!)","v":{"$error":"#REF!"}},{"$f":"IF(入力シート!#REF!=\"\",\"\",入力シート!#REF!)","v":{"$error":"#REF!"}},{"$f":"IF(入力シート!#REF!=\"\",\"\",入力シート!#REF!)","v":{"$error":"#REF!"}},{"$f":"IF(入力シート!#REF!=\"\",\"\",入力シート!#REF!)","v":{"$error":"#REF!"}},{"$f":"IF(入力シート!#REF!=\"\",\"\",入力シート!#REF!)","v":{"$error":"#REF!"}},{"$f":"IF(入力シート!#REF!=\"\",\"\",入力シート!#REF!)","v":{"$error":"#REF!"}},null,{"$f":"IF(入力シート!#REF!=\"\",\"\",入力シート!#REF!)","v":{"$error":"#REF!"}},{"$f":"IF(入力シート!#REF!=\"\",\"\",入力シート!#REF!)","v":{"$error":"#REF!"}},{"$f":"IF(入力シート!#REF!=\"\",\"\",入力シート!#REF!)","v":{"$error":"#REF!"}},{"$f":"IF(入力シート!#REF!=\"\",\"\",入力シート!#REF!)","v":{"$error":"#REF!"}},{"$f":"IF(入力シート!#REF!=\"\",\"\",入力シート!#REF!)","v":{"$error":"#REF!"}},{"$f":"IF(入力シート!#REF!=\"\",\"\",入力シート!#REF!)","v":{"$error":"#REF!"}},{"$f":"IF(入力シート!#REF!=\"\",\"\",入力シート!#REF!)","v":{"$error":"#REF!"}},{"$f":"IF(入力シート!#REF!=\"\",\"\",入力シート!#REF!)","v":{"$error":"#REF!"}},{"$f":"IF(入力シート!#REF!=\"\",\"\",入力シート!#REF!)","v":{"$error":"#REF!"}},{"$f":"IF(入力シート!#REF!=\"\",\"\",入力シート!#REF!)","v":{"$error":"#REF!"}},{"$f":"IF(入力シート!#REF!=\"\",\"\",入力シート!#REF!)","v":{"$error":"#REF!"}},null,null,{"$f":"IF(入力シート!H268=\"\",\"\",\"〇\")","v":""},{"$f":"IF(入力シート!#REF!=\"\",\"\",入力シート!#REF!)","v":{"$error":"#REF!"}},{"$f":"IF(入力シート!#REF!=\"\",\"\",入力シート!#REF!)","v":{"$error":"#REF!"}},{"$f":"IF(入力シート!#REF!=\"\",\"\",入力シート!#REF!)","v":{"$error":"#REF!"}},{"$f":"IF(入力シート!#REF!=\"\",\"\",入力シート!#REF!)","v":{"$error":"#REF!"}}]
[{"$f":"IF(入力シート!#REF!=\"\",\"\",入力シート!#REF!)","v":{"$error":"#REF!"}},{"$f":"IF(入力シート!#REF!=\"\",\"\",入力シート!#REF!)","v":{"$error":"#REF!"}},{"$f":"IF(入力シート!#REF!=\"\",\"\",DBCS(入力シート!#REF!))","v":{"$error":"#REF!"}},{"$f":"IF(入力シート!#REF!=\"\",\"\",DBCS(入力シート!#REF!))","v":{"$error":"#REF!"}},{"$f":"ASC(IF(入力シート!#REF!=\"\",\"\",UPPER(入力シート!#REF!)))","v":{"$error":"#REF!"}},{"$f":"IF(入力シート!#REF!=\"\",\"\",PROPER(入力シート!#REF!))","v":{"$error":"#REF!"}},{"$f":"IF(入力シート!#REF!=\"\",\"\",入力シート!#REF!)","v":{"$error":"#REF!"}},{"$f":"IF(入力シート!#REF!=\"\",\"\",TEXT(入力シート!#REF!,\"yyyy/mm/dd\"))","v":{"$error":"#REF!"}},{"$f":"IF(入力シート!#REF!=\"\",\"\",入力シート!#REF!)","v":{"$error":"#REF!"}},{"$f":"IF(入力シート!#REF!=\"\",\"\",入力シート!#REF!)","v":{"$error":"#REF!"}},{"$f":"IF(入力シート!#REF!=\"\",\"\",入力シート!#REF!)","v":{"$error":"#REF!"}},{"$f":"IF(入力シート!#REF!=\"\",\"\",入力シート!#REF!)","v":{"$error":"#REF!"}},{"$f":"IF(入力シート!#REF!=\"\",\"\",入力シート!#REF!)","v":{"$error":"#REF!"}},{"$f":"IF(入力シート!#REF!=\"\",\"\",入力シート!#REF!)","v":{"$error":"#REF!"}},null,{"$f":"IF(入力シート!#REF!=\"\",\"\",入力シート!#REF!)","v":{"$error":"#REF!"}},{"$f":"IF(入力シート!#REF!=\"\",\"\",入力シート!#REF!)","v":{"$error":"#REF!"}},{"$f":"IF(入力シート!#REF!=\"\",\"\",入力シート!#REF!)","v":{"$error":"#REF!"}},{"$f":"IF(入力シート!#REF!=\"\",\"\",入力シート!#REF!)","v":{"$error":"#REF!"}},{"$f":"IF(入力シート!#REF!=\"\",\"\",入力シート!#REF!)","v":{"$error":"#REF!"}},{"$f":"IF(入力シート!#REF!=\"\",\"\",入力シート!#REF!)","v":{"$error":"#REF!"}},{"$f":"IF(入力シート!#REF!=\"\",\"\",入力シート!#REF!)","v":{"$error":"#REF!"}},{"$f":"IF(入力シート!#REF!=\"\",\"\",入力シート!#REF!)","v":{"$error":"#REF!"}},{"$f":"IF(入力シート!#REF!=\"\",\"\",入力シート!#REF!)","v":{"$error":"#REF!"}},{"$f":"IF(入力シート!#REF!=\"\",\"\",入力シート!#REF!)","v":{"$error":"#REF!"}},{"$f":"IF(入力シート!#REF!=\"\",\"\",入力シート!#REF!)","v":{"$error":"#REF!"}},null,null,{"$f":"IF(入力シート!H269=\"\",\"\",\"〇\")","v":""},{"$f":"IF(入力シート!#REF!=\"\",\"\",入力シート!#REF!)","v":{"$error":"#REF!"}},{"$f":"IF(入力シート!#REF!=\"\",\"\",入力シート!#REF!)","v":{"$error":"#REF!"}},{"$f":"IF(入力シート!#REF!=\"\",\"\",入力シート!#REF!)","v":{"$error":"#REF!"}},{"$f":"IF(入力シート!#REF!=\"\",\"\",入力シート!#REF!)","v":{"$error":"#REF!"}}]
[{"$f":"IF(入力シート!#REF!=\"\",\"\",入力シート!#REF!)","v":{"$error":"#REF!"}},{"$f":"IF(入力シート!#REF!=\"\",\"\",入力シート!#REF!)","v":{"$error":"#REF!"}},{"$f":"IF(入力シート!#REF!=\"\",\"\",DBCS(入力シート!#REF!))","v":{"$error":"#REF!"}},{"$f":"IF(入力シート!#REF!=\"\",\"\",DBCS(入力シート!#REF!))","v":{"$error":"#REF!"}},{"$f":"ASC(IF(入力シート!#REF!=\"\",\"\",UPPER(入力シート!#REF!)))","v":{"$error":"#REF!"}},{"$f":"IF(入力シート!#REF!=\"\",\"\",PROPER(入力シート!#REF!))","v":{"$error":"#REF!"}},{"$f":"IF(入力シート!#REF!=\"\",\"\",入力シート!#REF!)","v":{"$error":"#REF!"}},{"$f":"IF(入力シート!#REF!=\"\",\"\",TEXT(入力シート!#REF!,\"yyyy/mm/dd\"))","v":{"$error":"#REF!"}},{"$f":"IF(入力シート!#REF!=\"\",\"\",入力シート!#REF!)","v":{"$error":"#REF!"}},{"$f":"IF(入力シート!#REF!=\"\",\"\",入力シート!#REF!)","v":{"$error":"#REF!"}},{"$f":"IF(入力シート!#REF!=\"\",\"\",入力シート!#REF!)","v":{"$error":"#REF!"}},{"$f":"IF(入力シート!#REF!=\"\",\"\",入力シート!#REF!)","v":{"$error":"#REF!"}},{"$f":"IF(入力シート!#REF!=\"\",\"\",入力シート!#REF!)","v":{"$error":"#REF!"}},{"$f":"IF(入力シート!#REF!=\"\",\"\",入力シート!#REF!)","v":{"$error":"#REF!"}},null,{"$f":"IF(入力シート!#REF!=\"\",\"\",入力シート!#REF!)","v":{"$error":"#REF!"}},{"$f":"IF(入力シート!#REF!=\"\",\"\",入力シート!#REF!)","v":{"$error":"#REF!"}},{"$f":"IF(入力シート!#REF!=\"\",\"\",入力シート!#REF!)","v":{"$error":"#REF!"}},{"$f":"IF(入力シート!#REF!=\"\",\"\",入力シート!#REF!)","v":{"$error":"#REF!"}},{"$f":"IF(入力シート!#REF!=\"\",\"\",入力シート!#REF!)","v":{"$error":"#REF!"}},{"$f":"IF(入力シート!#REF!=\"\",\"\",入力シート!#REF!)","v":{"$error":"#REF!"}},{"$f":"IF(入力シート!#REF!=\"\",\"\",入力シート!#REF!)","v":{"$error":"#REF!"}},{"$f":"IF(入力シート!#REF!=\"\",\"\",入力シート!#REF!)","v":{"$error":"#REF!"}},{"$f":"IF(入力シート!#REF!=\"\",\"\",入力シート!#REF!)","v":{"$error":"#REF!"}},{"$f":"IF(入力シート!#REF!=\"\",\"\",入力シート!#REF!)","v":{"$error":"#REF!"}},{"$f":"IF(入力シート!#REF!=\"\",\"\",入力シート!#REF!)","v":{"$error":"#REF!"}},null,null,{"$f":"IF(入力シート!H270=\"\",\"\",\"〇\")","v":""},{"$f":"IF(入力シート!#REF!=\"\",\"\",入力シート!#REF!)","v":{"$error":"#REF!"}},{"$f":"IF(入力シート!#REF!=\"\",\"\",入力シート!#REF!)","v":{"$error":"#REF!"}},{"$f":"IF(入力シート!#REF!=\"\",\"\",入力シート!#REF!)","v":{"$error":"#REF!"}},{"$f":"IF(入力シート!#REF!=\"\",\"\",入力シート!#REF!)","v":{"$error":"#REF!"}}]
[{"$f":"IF(入力シート!#REF!=\"\",\"\",入力シート!#REF!)","v":{"$error":"#REF!"}},{"$f":"IF(入力シート!#REF!=\"\",\"\",入力シート!#REF!)","v":{"$error":"#REF!"}},{"$f":"IF(入力シート!#REF!=\"\",\"\",DBCS(入力シート!#REF!))","v":{"$error":"#REF!"}},{"$f":"IF(入力シート!#REF!=\"\",\"\",DBCS(入力シート!#REF!))","v":{"$error":"#REF!"}},{"$f":"ASC(IF(入力シート!#REF!=\"\",\"\",UPPER(入力シート!#REF!)))","v":{"$error":"#REF!"}},{"$f":"IF(入力シート!#REF!=\"\",\"\",PROPER(入力シート!#REF!))","v":{"$error":"#REF!"}},{"$f":"IF(入力シート!#REF!=\"\",\"\",入力シート!#REF!)","v":{"$error":"#REF!"}},{"$f":"IF(入力シート!#REF!=\"\",\"\",TEXT(入力シート!#REF!,\"yyyy/mm/dd\"))","v":{"$error":"#REF!"}},{"$f":"IF(入力シート!#REF!=\"\",\"\",入力シート!#REF!)","v":{"$error":"#REF!"}},{"$f":"IF(入力シート!#REF!=\"\",\"\",入力シート!#REF!)","v":{"$error":"#REF!"}},{"$f":"IF(入力シート!#REF!=\"\",\"\",入力シート!#REF!)","v":{"$error":"#REF!"}},{"$f":"IF(入力シート!#REF!=\"\",\"\",入力シート!#REF!)","v":{"$error":"#REF!"}},{"$f":"IF(入力シート!#REF!=\"\",\"\",入力シート!#REF!)","v":{"$error":"#REF!"}},{"$f":"IF(入力シート!#REF!=\"\",\"\",入力シート!#REF!)","v":{"$error":"#REF!"}},null,{"$f":"IF(入力シート!#REF!=\"\",\"\",入力シート!#REF!)","v":{"$error":"#REF!"}},{"$f":"IF(入力シート!#REF!=\"\",\"\",入力シート!#REF!)","v":{"$error":"#REF!"}},{"$f":"IF(入力シート!#REF!=\"\",\"\",入力シート!#REF!)","v":{"$error":"#REF!"}},{"$f":"IF(入力シート!#REF!=\"\",\"\",入力シート!#REF!)","v":{"$error":"#REF!"}},{"$f":"IF(入力シート!#REF!=\"\",\"\",入力シート!#REF!)","v":{"$error":"#REF!"}},{"$f":"IF(入力シート!#REF!=\"\",\"\",入力シート!#REF!)","v":{"$error":"#REF!"}},{"$f":"IF(入力シート!#REF!=\"\",\"\",入力シート!#REF!)","v":{"$error":"#REF!"}},{"$f":"IF(入力シート!#REF!=\"\",\"\",入力シート!#REF!)","v":{"$error":"#REF!"}},{"$f":"IF(入力シート!#REF!=\"\",\"\",入力シート!#REF!)","v":{"$error":"#REF!"}},{"$f":"IF(入力シート!#REF!=\"\",\"\",入力シート!#REF!)","v":{"$error":"#REF!"}},{"$f":"IF(入力シート!#REF!=\"\",\"\",入力シート!#REF!)","v":{"$error":"#REF!"}},null,null,{"$f":"IF(入力シート!H271=\"\",\"\",\"〇\")","v":""},{"$f":"IF(入力シート!#REF!=\"\",\"\",入力シート!#REF!)","v":{"$error":"#REF!"}},{"$f":"IF(入力シート!#REF!=\"\",\"\",入力シート!#REF!)","v":{"$error":"#REF!"}},{"$f":"IF(入力シート!#REF!=\"\",\"\",入力シート!#REF!)","v":{"$error":"#REF!"}},{"$f":"IF(入力シート!#REF!=\"\",\"\",入力シート!#REF!)","v":{"$error":"#REF!"}}]
[{"$f":"IF(入力シート!#REF!=\"\",\"\",入力シート!#REF!)","v":{"$error":"#REF!"}},{"$f":"IF(入力シート!#REF!=\"\",\"\",入力シート!#REF!)","v":{"$error":"#REF!"}},{"$f":"IF(入力シート!#REF!=\"\",\"\",DBCS(入力シート!#REF!))","v":{"$error":"#REF!"}},{"$f":"IF(入力シート!#REF!=\"\",\"\",DBCS(入力シート!#REF!))","v":{"$error":"#REF!"}},{"$f":"ASC(IF(入力シート!#REF!=\"\",\"\",UPPER(入力シート!#REF!)))","v":{"$error":"#REF!"}},{"$f":"IF(入力シート!#REF!=\"\",\"\",PROPER(入力シート!#REF!))","v":{"$error":"#REF!"}},{"$f":"IF(入力シート!#REF!=\"\",\"\",入力シート!#REF!)","v":{"$error":"#REF!"}},{"$f":"IF(入力シート!#REF!=\"\",\"\",TEXT(入力シート!#REF!,\"yyyy/mm/dd\"))","v":{"$error":"#REF!"}},{"$f":"IF(入力シート!#REF!=\"\",\"\",入力シート!#REF!)","v":{"$error":"#REF!"}},{"$f":"IF(入力シート!#REF!=\"\",\"\",入力シート!#REF!)","v":{"$error":"#REF!"}},{"$f":"IF(入力シート!#REF!=\"\",\"\",入力シート!#REF!)","v":{"$error":"#REF!"}},{"$f":"IF(入力シート!#REF!=\"\",\"\",入力シート!#REF!)","v":{"$error":"#REF!"}},{"$f":"IF(入力シート!#REF!=\"\",\"\",入力シート!#REF!)","v":{"$error":"#REF!"}},{"$f":"IF(入力シート!#REF!=\"\",\"\",入力シート!#REF!)","v":{"$error":"#REF!"}},null,{"$f":"IF(入力シート!#REF!=\"\",\"\",入力シート!#REF!)","v":{"$error":"#REF!"}},{"$f":"IF(入力シート!#REF!=\"\",\"\",入力シート!#REF!)","v":{"$error":"#REF!"}},{"$f":"IF(入力シート!#REF!=\"\",\"\",入力シート!#REF!)","v":{"$error":"#REF!"}},{"$f":"IF(入力シート!#REF!=\"\",\"\",入力シート!#REF!)","v":{"$error":"#REF!"}},{"$f":"IF(入力シート!#REF!=\"\",\"\",入力シート!#REF!)","v":{"$error":"#REF!"}},{"$f":"IF(入力シート!#REF!=\"\",\"\",入力シート!#REF!)","v":{"$error":"#REF!"}},{"$f":"IF(入力シート!#REF!=\"\",\"\",入力シート!#REF!)","v":{"$error":"#REF!"}},{"$f":"IF(入力シート!#REF!=\"\",\"\",入力シート!#REF!)","v":{"$error":"#REF!"}},{"$f":"IF(入力シート!#REF!=\"\",\"\",入力シート!#REF!)","v":{"$error":"#REF!"}},{"$f":"IF(入力シート!#REF!=\"\",\"\",入力シート!#REF!)","v":{"$error":"#REF!"}},{"$f":"IF(入力シート!#REF!=\"\",\"\",入力シート!#REF!)","v":{"$error":"#REF!"}},null,null,{"$f":"IF(入力シート!H272=\"\",\"\",\"〇\")","v":""},{"$f":"IF(入力シート!#REF!=\"\",\"\",入力シート!#REF!)","v":{"$error":"#REF!"}},{"$f":"IF(入力シート!#REF!=\"\",\"\",入力シート!#REF!)","v":{"$error":"#REF!"}},{"$f":"IF(入力シート!#REF!=\"\",\"\",入力シート!#REF!)","v":{"$error":"#REF!"}},{"$f":"IF(入力シート!#REF!=\"\",\"\",入力シート!#REF!)","v":{"$error":"#REF!"}}]
[{"$f":"IF(入力シート!#REF!=\"\",\"\",入力シート!#REF!)","v":{"$error":"#REF!"}},{"$f":"IF(入力シート!#REF!=\"\",\"\",入力シート!#REF!)","v":{"$error":"#REF!"}},{"$f":"IF(入力シート!#REF!=\"\",\"\",DBCS(入力シート!#REF!))","v":{"$error":"#REF!"}},{"$f":"IF(入力シート!#REF!=\"\",\"\",DBCS(入力シート!#REF!))","v":{"$error":"#REF!"}},{"$f":"ASC(IF(入力シート!#REF!=\"\",\"\",UPPER(入力シート!#REF!)))","v":{"$error":"#REF!"}},{"$f":"IF(入力シート!#REF!=\"\",\"\",PROPER(入力シート!#REF!))","v":{"$error":"#REF!"}},{"$f":"IF(入力シート!#REF!=\"\",\"\",入力シート!#REF!)","v":{"$error":"#REF!"}},{"$f":"IF(入力シート!#REF!=\"\",\"\",TEXT(入力シート!#REF!,\"yyyy/mm/dd\"))","v":{"$error":"#REF!"}},{"$f":"IF(入力シート!#REF!=\"\",\"\",入力シート!#REF!)","v":{"$error":"#REF!"}},{"$f":"IF(入力シート!#REF!=\"\",\"\",入力シート!#REF!)","v":{"$error":"#REF!"}},{"$f":"IF(入力シート!#REF!=\"\",\"\",入力シート!#REF!)","v":{"$error":"#REF!"}},{"$f":"IF(入力シート!#REF!=\"\",\"\",入力シート!#REF!)","v":{"$error":"#REF!"}},{"$f":"IF(入力シート!#REF!=\"\",\"\",入力シート!#REF!)","v":{"$error":"#REF!"}},{"$f":"IF(入力シート!#REF!=\"\",\"\",入力シート!#REF!)","v":{"$error":"#REF!"}},null,{"$f":"IF(入力シート!#REF!=\"\",\"\",入力シート!#REF!)","v":{"$error":"#REF!"}},{"$f":"IF(入力シート!#REF!=\"\",\"\",入力シート!#REF!)","v":{"$error":"#REF!"}},{"$f":"IF(入力シート!#REF!=\"\",\"\",入力シート!#REF!)","v":{"$error":"#REF!"}},{"$f":"IF(入力シート!#REF!=\"\",\"\",入力シート!#REF!)","v":{"$error":"#REF!"}},{"$f":"IF(入力シート!#REF!=\"\",\"\",入力シート!#REF!)","v":{"$error":"#REF!"}},{"$f":"IF(入力シート!#REF!=\"\",\"\",入力シート!#REF!)","v":{"$error":"#REF!"}},{"$f":"IF(入力シート!#REF!=\"\",\"\",入力シート!#REF!)","v":{"$error":"#REF!"}},{"$f":"IF(入力シート!#REF!=\"\",\"\",入力シート!#REF!)","v":{"$error":"#REF!"}},{"$f":"IF(入力シート!#REF!=\"\",\"\",入力シート!#REF!)","v":{"$error":"#REF!"}},{"$f":"IF(入力シート!#REF!=\"\",\"\",入力シート!#REF!)","v":{"$error":"#REF!"}},{"$f":"IF(入力シート!#REF!=\"\",\"\",入力シート!#REF!)","v":{"$error":"#REF!"}},null,null,{"$f":"IF(入力シート!H273=\"\",\"\",\"〇\")","v":""},{"$f":"IF(入力シート!#REF!=\"\",\"\",入力シート!#REF!)","v":{"$error":"#REF!"}},{"$f":"IF(入力シート!#REF!=\"\",\"\",入力シート!#REF!)","v":{"$error":"#REF!"}},{"$f":"IF(入力シート!#REF!=\"\",\"\",入力シート!#REF!)","v":{"$error":"#REF!"}},{"$f":"IF(入力シート!#REF!=\"\",\"\",入力シート!#REF!)","v":{"$error":"#REF!"}}]
[{"$f":"IF(入力シート!#REF!=\"\",\"\",入力シート!#REF!)","v":{"$error":"#REF!"}},{"$f":"IF(入力シート!#REF!=\"\",\"\",入力シート!#REF!)","v":{"$error":"#REF!"}},{"$f":"IF(入力シート!#REF!=\"\",\"\",DBCS(入力シート!#REF!))","v":{"$error":"#REF!"}},{"$f":"IF(入力シート!#REF!=\"\",\"\",DBCS(入力シート!#REF!))","v":{"$error":"#REF!"}},{"$f":"ASC(IF(入力シート!#REF!=\"\",\"\",UPPER(入力シート!#REF!)))","v":{"$error":"#REF!"}},{"$f":"IF(入力シート!#REF!=\"\",\"\",PROPER(入力シート!#REF!))","v":{"$error":"#REF!"}},{"$f":"IF(入力シート!#REF!=\"\",\"\",入力シート!#REF!)","v":{"$error":"#REF!"}},{"$f":"IF(入力シート!#REF!=\"\",\"\",TEXT(入力シート!#REF!,\"yyyy/mm/dd\"))","v":{"$error":"#REF!"}},{"$f":"IF(入力シート!#REF!=\"\",\"\",入力シート!#REF!)","v":{"$error":"#REF!"}},{"$f":"IF(入力シート!#REF!=\"\",\"\",入力シート!#REF!)","v":{"$error":"#REF!"}},{"$f":"IF(入力シート!#REF!=\"\",\"\",入力シート!#REF!)","v":{"$error":"#REF!"}},{"$f":"IF(入力シート!#REF!=\"\",\"\",入力シート!#REF!)","v":{"$error":"#REF!"}},{"$f":"IF(入力シート!#REF!=\"\",\"\",入力シート!#REF!)","v":{"$error":"#REF!"}},{"$f":"IF(入力シート!#REF!=\"\",\"\",入力シート!#REF!)","v":{"$error":"#REF!"}},null,{"$f":"IF(入力シート!#REF!=\"\",\"\",入力シート!#REF!)","v":{"$error":"#REF!"}},{"$f":"IF(入力シート!#REF!=\"\",\"\",入力シート!#REF!)","v":{"$error":"#REF!"}},{"$f":"IF(入力シート!#REF!=\"\",\"\",入力シート!#REF!)","v":{"$error":"#REF!"}},{"$f":"IF(入力シート!#REF!=\"\",\"\",入力シート!#REF!)","v":{"$error":"#REF!"}},{"$f":"IF(入力シート!#REF!=\"\",\"\",入力シート!#REF!)","v":{"$error":"#REF!"}},{"$f":"IF(入力シート!#REF!=\"\",\"\",入力シート!#REF!)","v":{"$error":"#REF!"}},{"$f":"IF(入力シート!#REF!=\"\",\"\",入力シート!#REF!)","v":{"$error":"#REF!"}},{"$f":"IF(入力シート!#REF!=\"\",\"\",入力シート!#REF!)","v":{"$error":"#REF!"}},{"$f":"IF(入力シート!#REF!=\"\",\"\",入力シート!#REF!)","v":{"$error":"#REF!"}},{"$f":"IF(入力シート!#REF!=\"\",\"\",入力シート!#REF!)","v":{"$error":"#REF!"}},{"$f":"IF(入力シート!#REF!=\"\",\"\",入力シート!#REF!)","v":{"$error":"#REF!"}},null,null,{"$f":"IF(入力シート!H274=\"\",\"\",\"〇\")","v":""},{"$f":"IF(入力シート!#REF!=\"\",\"\",入力シート!#REF!)","v":{"$error":"#REF!"}},{"$f":"IF(入力シート!#REF!=\"\",\"\",入力シート!#REF!)","v":{"$error":"#REF!"}},{"$f":"IF(入力シート!#REF!=\"\",\"\",入力シート!#REF!)","v":{"$error":"#REF!"}},{"$f":"IF(入力シート!#REF!=\"\",\"\",入力シート!#REF!)","v":{"$error":"#REF!"}}]
[{"$f":"IF(入力シート!#REF!=\"\",\"\",入力シート!#REF!)","v":{"$error":"#REF!"}},{"$f":"IF(入力シート!#REF!=\"\",\"\",入力シート!#REF!)","v":{"$error":"#REF!"}},{"$f":"IF(入力シート!#REF!=\"\",\"\",DBCS(入力シート!#REF!))","v":{"$error":"#REF!"}},{"$f":"IF(入力シート!#REF!=\"\",\"\",DBCS(入力シート!#REF!))","v":{"$error":"#REF!"}},{"$f":"ASC(IF(入力シート!#REF!=\"\",\"\",UPPER(入力シート!#REF!)))","v":{"$error":"#REF!"}},{"$f":"IF(入力シート!#REF!=\"\",\"\",PROPER(入力シート!#REF!))","v":{"$error":"#REF!"}},{"$f":"IF(入力シート!#REF!=\"\",\"\",入力シート!#REF!)","v":{"$error":"#REF!"}},{"$f":"IF(入力シート!#REF!=\"\",\"\",TEXT(入力シート!#REF!,\"yyyy/mm/dd\"))","v":{"$error":"#REF!"}},{"$f":"IF(入力シート!#REF!=\"\",\"\",入力シート!#REF!)","v":{"$error":"#REF!"}},{"$f":"IF(入力シート!#REF!=\"\",\"\",入力シート!#REF!)","v":{"$error":"#REF!"}},{"$f":"IF(入力シート!#REF!=\"\",\"\",入力シート!#REF!)","v":{"$error":"#REF!"}},{"$f":"IF(入力シート!#REF!=\"\",\"\",入力シート!#REF!)","v":{"$error":"#REF!"}},{"$f":"IF(入力シート!#REF!=\"\",\"\",入力シート!#REF!)","v":{"$error":"#REF!"}},{"$f":"IF(入力シート!#REF!=\"\",\"\",入力シート!#REF!)","v":{"$error":"#REF!"}},null,{"$f":"IF(入力シート!#REF!=\"\",\"\",入力シート!#REF!)","v":{"$error":"#REF!"}},{"$f":"IF(入力シート!#REF!=\"\",\"\",入力シート!#REF!)","v":{"$error":"#REF!"}},{"$f":"IF(入力シート!#REF!=\"\",\"\",入力シート!#REF!)","v":{"$error":"#REF!"}},{"$f":"IF(入力シート!#REF!=\"\",\"\",入力シート!#REF!)","v":{"$error":"#REF!"}},{"$f":"IF(入力シート!#REF!=\"\",\"\",入力シート!#REF!)","v":{"$error":"#REF!"}},{"$f":"IF(入力シート!#REF!=\"\",\"\",入力シート!#REF!)","v":{"$error":"#REF!"}},{"$f":"IF(入力シート!#REF!=\"\",\"\",入力シート!#REF!)","v":{"$error":"#REF!"}},{"$f":"IF(入力シート!#REF!=\"\",\"\",入力シート!#REF!)","v":{"$error":"#REF!"}},{"$f":"IF(入力シート!#REF!=\"\",\"\",入力シート!#REF!)","v":{"$error":"#REF!"}},{"$f":"IF(入力シート!#REF!=\"\",\"\",入力シート!#REF!)","v":{"$error":"#REF!"}},{"$f":"IF(入力シート!#REF!=\"\",\"\",入力シート!#REF!)","v":{"$error":"#REF!"}},null,null,{"$f":"IF(入力シート!H275=\"\",\"\",\"〇\")","v":""},{"$f":"IF(入力シート!#REF!=\"\",\"\",入力シート!#REF!)","v":{"$error":"#REF!"}},{"$f":"IF(入力シート!#REF!=\"\",\"\",入力シート!#REF!)","v":{"$error":"#REF!"}},{"$f":"IF(入力シート!#REF!=\"\",\"\",入力シート!#REF!)","v":{"$error":"#REF!"}},{"$f":"IF(入力シート!#REF!=\"\",\"\",入力シート!#REF!)","v":{"$error":"#REF!"}}]
[{"$f":"IF(入力シート!#REF!=\"\",\"\",入力シート!#REF!)","v":{"$error":"#REF!"}},{"$f":"IF(入力シート!#REF!=\"\",\"\",入力シート!#REF!)","v":{"$error":"#REF!"}},{"$f":"IF(入力シート!#REF!=\"\",\"\",DBCS(入力シート!#REF!))","v":{"$error":"#REF!"}},{"$f":"IF(入力シート!#REF!=\"\",\"\",DBCS(入力シート!#REF!))","v":{"$error":"#REF!"}},{"$f":"ASC(IF(入力シート!#REF!=\"\",\"\",UPPER(入力シート!#REF!)))","v":{"$error":"#REF!"}},{"$f":"IF(入力シート!#REF!=\"\",\"\",PROPER(入力シート!#REF!))","v":{"$error":"#REF!"}},{"$f":"IF(入力シート!#REF!=\"\",\"\",入力シート!#REF!)","v":{"$error":"#REF!"}},{"$f":"IF(入力シート!#REF!=\"\",\"\",TEXT(入力シート!#REF!,\"yyyy/mm/dd\"))","v":{"$error":"#REF!"}},{"$f":"IF(入力シート!#REF!=\"\",\"\",入力シート!#REF!)","v":{"$error":"#REF!"}},{"$f":"IF(入力シート!#REF!=\"\",\"\",入力シート!#REF!)","v":{"$error":"#REF!"}},{"$f":"IF(入力シート!#REF!=\"\",\"\",入力シート!#REF!)","v":{"$error":"#REF!"}},{"$f":"IF(入力シート!#REF!=\"\",\"\",入力シート!#REF!)","v":{"$error":"#REF!"}},{"$f":"IF(入力シート!#REF!=\"\",\"\",入力シート!#REF!)","v":{"$error":"#REF!"}},{"$f":"IF(入力シート!#REF!=\"\",\"\",入力シート!#REF!)","v":{"$error":"#REF!"}},null,{"$f":"IF(入力シート!#REF!=\"\",\"\",入力シート!#REF!)","v":{"$error":"#REF!"}},{"$f":"IF(入力シート!#REF!=\"\",\"\",入力シート!#REF!)","v":{"$error":"#REF!"}},{"$f":"IF(入力シート!#REF!=\"\",\"\",入力シート!#REF!)","v":{"$error":"#REF!"}},{"$f":"IF(入力シート!#REF!=\"\",\"\",入力シート!#REF!)","v":{"$error":"#REF!"}},{"$f":"IF(入力シート!#REF!=\"\",\"\",入力シート!#REF!)","v":{"$error":"#REF!"}},{"$f":"IF(入力シート!#REF!=\"\",\"\",入力シート!#REF!)","v":{"$error":"#REF!"}},{"$f":"IF(入力シート!#REF!=\"\",\"\",入力シート!#REF!)","v":{"$error":"#REF!"}},{"$f":"IF(入力シート!#REF!=\"\",\"\",入力シート!#REF!)","v":{"$error":"#REF!"}},{"$f":"IF(入力シート!#REF!=\"\",\"\",入力シート!#REF!)","v":{"$error":"#REF!"}},{"$f":"IF(入力シート!#REF!=\"\",\"\",入力シート!#REF!)","v":{"$error":"#REF!"}},{"$f":"IF(入力シート!#REF!=\"\",\"\",入力シート!#REF!)","v":{"$error":"#REF!"}},null,null,{"$f":"IF(入力シート!H276=\"\",\"\",\"〇\")","v":""},{"$f":"IF(入力シート!#REF!=\"\",\"\",入力シート!#REF!)","v":{"$error":"#REF!"}},{"$f":"IF(入力シート!#REF!=\"\",\"\",入力シート!#REF!)","v":{"$error":"#REF!"}},{"$f":"IF(入力シート!#REF!=\"\",\"\",入力シート!#REF!)","v":{"$error":"#REF!"}},{"$f":"IF(入力シート!#REF!=\"\",\"\",入力シート!#REF!)","v":{"$error":"#REF!"}}]
[{"$f":"IF(入力シート!#REF!=\"\",\"\",入力シート!#REF!)","v":{"$error":"#REF!"}},{"$f":"IF(入力シート!#REF!=\"\",\"\",入力シート!#REF!)","v":{"$error":"#REF!"}},{"$f":"IF(入力シート!#REF!=\"\",\"\",DBCS(入力シート!#REF!))","v":{"$error":"#REF!"}},{"$f":"IF(入力シート!#REF!=\"\",\"\",DBCS(入力シート!#REF!))","v":{"$error":"#REF!"}},{"$f":"ASC(IF(入力シート!#REF!=\"\",\"\",UPPER(入力シート!#REF!)))","v":{"$error":"#REF!"}},{"$f":"IF(入力シート!#REF!=\"\",\"\",PROPER(入力シート!#REF!))","v":{"$error":"#REF!"}},{"$f":"IF(入力シート!#REF!=\"\",\"\",入力シート!#REF!)","v":{"$error":"#REF!"}},{"$f":"IF(入力シート!#REF!=\"\",\"\",TEXT(入力シート!#REF!,\"yyyy/mm/dd\"))","v":{"$error":"#REF!"}},{"$f":"IF(入力シート!#REF!=\"\",\"\",入力シート!#REF!)","v":{"$error":"#REF!"}},{"$f":"IF(入力シート!#REF!=\"\",\"\",入力シート!#REF!)","v":{"$error":"#REF!"}},{"$f":"IF(入力シート!#REF!=\"\",\"\",入力シート!#REF!)","v":{"$error":"#REF!"}},{"$f":"IF(入力シート!#REF!=\"\",\"\",入力シート!#REF!)","v":{"$error":"#REF!"}},{"$f":"IF(入力シート!#REF!=\"\",\"\",入力シート!#REF!)","v":{"$error":"#REF!"}},{"$f":"IF(入力シート!#REF!=\"\",\"\",入力シート!#REF!)","v":{"$error":"#REF!"}},null,{"$f":"IF(入力シート!#REF!=\"\",\"\",入力シート!#REF!)","v":{"$error":"#REF!"}},{"$f":"IF(入力シート!#REF!=\"\",\"\",入力シート!#REF!)","v":{"$error":"#REF!"}},{"$f":"IF(入力シート!#REF!=\"\",\"\",入力シート!#REF!)","v":{"$error":"#REF!"}},{"$f":"IF(入力シート!#REF!=\"\",\"\",入力シート!#REF!)","v":{"$error":"#REF!"}},{"$f":"IF(入力シート!#REF!=\"\",\"\",入力シート!#REF!)","v":{"$error":"#REF!"}},{"$f":"IF(入力シート!#REF!=\"\",\"\",入力シート!#REF!)","v":{"$error":"#REF!"}},{"$f":"IF(入力シート!#REF!=\"\",\"\",入力シート!#REF!)","v":{"$error":"#REF!"}},{"$f":"IF(入力シート!#REF!=\"\",\"\",入力シート!#REF!)","v":{"$error":"#REF!"}},{"$f":"IF(入力シート!#REF!=\"\",\"\",入力シート!#REF!)","v":{"$error":"#REF!"}},{"$f":"IF(入力シート!#REF!=\"\",\"\",入力シート!#REF!)","v":{"$error":"#REF!"}},{"$f":"IF(入力シート!#REF!=\"\",\"\",入力シート!#REF!)","v":{"$error":"#REF!"}},null,null,{"$f":"IF(入力シート!H277=\"\",\"\",\"〇\")","v":""},{"$f":"IF(入力シート!#REF!=\"\",\"\",入力シート!#REF!)","v":{"$error":"#REF!"}},{"$f":"IF(入力シート!#REF!=\"\",\"\",入力シート!#REF!)","v":{"$error":"#REF!"}},{"$f":"IF(入力シート!#REF!=\"\",\"\",入力シート!#REF!)","v":{"$error":"#REF!"}},{"$f":"IF(入力シート!#REF!=\"\",\"\",入力シート!#REF!)","v":{"$error":"#REF!"}}]
[{"$f":"IF(入力シート!#REF!=\"\",\"\",入力シート!#REF!)","v":{"$error":"#REF!"}},{"$f":"IF(入力シート!#REF!=\"\",\"\",入力シート!#REF!)","v":{"$error":"#REF!"}},{"$f":"IF(入力シート!#REF!=\"\",\"\",DBCS(入力シート!#REF!))","v":{"$error":"#REF!"}},{"$f":"IF(入力シート!#REF!=\"\",\"\",DBCS(入力シート!#REF!))","v":{"$error":"#REF!"}},{"$f":"ASC(IF(入力シート!#REF!=\"\",\"\",UPPER(入力シート!#REF!)))","v":{"$error":"#REF!"}},{"$f":"IF(入力シート!#REF!=\"\",\"\",PROPER(入力シート!#REF!))","v":{"$error":"#REF!"}},{"$f":"IF(入力シート!#REF!=\"\",\"\",入力シート!#REF!)","v":{"$error":"#REF!"}},{"$f":"IF(入力シート!#REF!=\"\",\"\",TEXT(入力シート!#REF!,\"yyyy/mm/dd\"))","v":{"$error":"#REF!"}},{"$f":"IF(入力シート!#REF!=\"\",\"\",入力シート!#REF!)","v":{"$error":"#REF!"}},{"$f":"IF(入力シート!#REF!=\"\",\"\",入力シート!#REF!)","v":{"$error":"#REF!"}},{"$f":"IF(入力シート!#REF!=\"\",\"\",入力シート!#REF!)","v":{"$error":"#REF!"}},{"$f":"IF(入力シート!#REF!=\"\",\"\",入力シート!#REF!)","v":{"$error":"#REF!"}},{"$f":"IF(入力シート!#REF!=\"\",\"\",入力シート!#REF!)","v":{"$error":"#REF!"}},{"$f":"IF(入力シート!#REF!=\"\",\"\",入力シート!#REF!)","v":{"$error":"#REF!"}},null,{"$f":"IF(入力シート!#REF!=\"\",\"\",入力シート!#REF!)","v":{"$error":"#REF!"}},{"$f":"IF(入力シート!#REF!=\"\",\"\",入力シート!#REF!)","v":{"$error":"#REF!"}},{"$f":"IF(入力シート!#REF!=\"\",\"\",入力シート!#REF!)","v":{"$error":"#REF!"}},{"$f":"IF(入力シート!#REF!=\"\",\"\",入力シート!#REF!)","v":{"$error":"#REF!"}},{"$f":"IF(入力シート!#REF!=\"\",\"\",入力シート!#REF!)","v":{"$error":"#REF!"}},{"$f":"IF(入力シート!#REF!=\"\",\"\",入力シート!#REF!)","v":{"$error":"#REF!"}},{"$f":"IF(入力シート!#REF!=\"\",\"\",入力シート!#REF!)","v":{"$error":"#REF!"}},{"$f":"IF(入力シート!#REF!=\"\",\"\",入力シート!#REF!)","v":{"$error":"#REF!"}},{"$f":"IF(入力シート!#REF!=\"\",\"\",入力シート!#REF!)","v":{"$error":"#REF!"}},{"$f":"IF(入力シート!#REF!=\"\",\"\",入力シート!#REF!)","v":{"$error":"#REF!"}},{"$f":"IF(入力シート!#REF!=\"\",\"\",入力シート!#REF!)","v":{"$error":"#REF!"}},null,null,{"$f":"IF(入力シート!H278=\"\",\"\",\"〇\")","v":""},{"$f":"IF(入力シート!#REF!=\"\",\"\",入力シート!#REF!)","v":{"$error":"#REF!"}},{"$f":"IF(入力シート!#REF!=\"\",\"\",入力シート!#REF!)","v":{"$error":"#REF!"}},{"$f":"IF(入力シート!#REF!=\"\",\"\",入力シート!#REF!)","v":{"$error":"#REF!"}},{"$f":"IF(入力シート!#REF!=\"\",\"\",入力シート!#REF!)","v":{"$error":"#REF!"}}]
[{"$f":"IF(入力シート!#REF!=\"\",\"\",入力シート!#REF!)","v":{"$error":"#REF!"}},{"$f":"IF(入力シート!#REF!=\"\",\"\",入力シート!#REF!)","v":{"$error":"#REF!"}},{"$f":"IF(入力シート!#REF!=\"\",\"\",DBCS(入力シート!#REF!))","v":{"$error":"#REF!"}},{"$f":"IF(入力シート!#REF!=\"\",\"\",DBCS(入力シート!#REF!))","v":{"$error":"#REF!"}},{"$f":"ASC(IF(入力シート!#REF!=\"\",\"\",UPPER(入力シート!#REF!)))","v":{"$error":"#REF!"}},{"$f":"IF(入力シート!#REF!=\"\",\"\",PROPER(入力シート!#REF!))","v":{"$error":"#REF!"}},{"$f":"IF(入力シート!#REF!=\"\",\"\",入力シート!#REF!)","v":{"$error":"#REF!"}},{"$f":"IF(入力シート!#REF!=\"\",\"\",TEXT(入力シート!#REF!,\"yyyy/mm/dd\"))","v":{"$error":"#REF!"}},{"$f":"IF(入力シート!#REF!=\"\",\"\",入力シート!#REF!)","v":{"$error":"#REF!"}},{"$f":"IF(入力シート!#REF!=\"\",\"\",入力シート!#REF!)","v":{"$error":"#REF!"}},{"$f":"IF(入力シート!#REF!=\"\",\"\",入力シート!#REF!)","v":{"$error":"#REF!"}},{"$f":"IF(入力シート!#REF!=\"\",\"\",入力シート!#REF!)","v":{"$error":"#REF!"}},{"$f":"IF(入力シート!#REF!=\"\",\"\",入力シート!#REF!)","v":{"$error":"#REF!"}},{"$f":"IF(入力シート!#REF!=\"\",\"\",入力シート!#REF!)","v":{"$error":"#REF!"}},null,{"$f":"IF(入力シート!#REF!=\"\",\"\",入力シート!#REF!)","v":{"$error":"#REF!"}},{"$f":"IF(入力シート!#REF!=\"\",\"\",入力シート!#REF!)","v":{"$error":"#REF!"}},{"$f":"IF(入力シート!#REF!=\"\",\"\",入力シート!#REF!)","v":{"$error":"#REF!"}},{"$f":"IF(入力シート!#REF!=\"\",\"\",入力シート!#REF!)","v":{"$error":"#REF!"}},{"$f":"IF(入力シート!#REF!=\"\",\"\",入力シート!#REF!)","v":{"$error":"#REF!"}},{"$f":"IF(入力シート!#REF!=\"\",\"\",入力シート!#REF!)","v":{"$error":"#REF!"}},{"$f":"IF(入力シート!#REF!=\"\",\"\",入力シート!#REF!)","v":{"$error":"#REF!"}},{"$f":"IF(入力シート!#REF!=\"\",\"\",入力シート!#REF!)","v":{"$error":"#REF!"}},{"$f":"IF(入力シート!#REF!=\"\",\"\",入力シート!#REF!)","v":{"$error":"#REF!"}},{"$f":"IF(入力シート!#REF!=\"\",\"\",入力シート!#REF!)","v":{"$error":"#REF!"}},{"$f":"IF(入力シート!#REF!=\"\",\"\",入力シート!#REF!)","v":{"$error":"#REF!"}},null,null,{"$f":"IF(入力シート!H279=\"\",\"\",\"〇\")","v":""},{"$f":"IF(入力シート!#REF!=\"\",\"\",入力シート!#REF!)","v":{"$error":"#REF!"}},{"$f":"IF(入力シート!#REF!=\"\",\"\",入力シート!#REF!)","v":{"$error":"#REF!"}},{"$f":"IF(入力シート!#REF!=\"\",\"\",入力シート!#REF!)","v":{"$error":"#REF!"}},{"$f":"IF(入力シート!#REF!=\"\",\"\",入力シート!#REF!)","v":{"$error":"#REF!"}}]
[{"$f":"IF(入力シート!#REF!=\"\",\"\",入力シート!#REF!)","v":{"$error":"#REF!"}},{"$f":"IF(入力シート!#REF!=\"\",\"\",入力シート!#REF!)","v":{"$error":"#REF!"}},{"$f":"IF(入力シート!#REF!=\"\",\"\",DBCS(入力シート!#REF!))","v":{"$error":"#REF!"}},{"$f":"IF(入力シート!#REF!=\"\",\"\",DBCS(入力シート!#REF!))","v":{"$error":"#REF!"}},{"$f":"ASC(IF(入力シート!#REF!=\"\",\"\",UPPER(入力シート!#REF!)))","v":{"$error":"#REF!"}},{"$f":"IF(入力シート!#REF!=\"\",\"\",PROPER(入力シート!#REF!))","v":{"$error":"#REF!"}},{"$f":"IF(入力シート!#REF!=\"\",\"\",入力シート!#REF!)","v":{"$error":"#REF!"}},{"$f":"IF(入力シート!#REF!=\"\",\"\",TEXT(入力シート!#REF!,\"yyyy/mm/dd\"))","v":{"$error":"#REF!"}},{"$f":"IF(入力シート!#REF!=\"\",\"\",入力シート!#REF!)","v":{"$error":"#REF!"}},{"$f":"IF(入力シート!#REF!=\"\",\"\",入力シート!#REF!)","v":{"$error":"#REF!"}},{"$f":"IF(入力シート!#REF!=\"\",\"\",入力シート!#REF!)","v":{"$error":"#REF!"}},{"$f":"IF(入力シート!#REF!=\"\",\"\",入力シート!#REF!)","v":{"$error":"#REF!"}},{"$f":"IF(入力シート!#REF!=\"\",\"\",入力シート!#REF!)","v":{"$error":"#REF!"}},{"$f":"IF(入力シート!#REF!=\"\",\"\",入力シート!#REF!)","v":{"$error":"#REF!"}},null,{"$f":"IF(入力シート!#REF!=\"\",\"\",入力シート!#REF!)","v":{"$error":"#REF!"}},{"$f":"IF(入力シート!#REF!=\"\",\"\",入力シート!#REF!)","v":{"$error":"#REF!"}},{"$f":"IF(入力シート!#REF!=\"\",\"\",入力シート!#REF!)","v":{"$error":"#REF!"}},{"$f":"IF(入力シート!#REF!=\"\",\"\",入力シート!#REF!)","v":{"$error":"#REF!"}},{"$f":"IF(入力シート!#REF!=\"\",\"\",入力シート!#REF!)","v":{"$error":"#REF!"}},{"$f":"IF(入力シート!#REF!=\"\",\"\",入力シート!#REF!)","v":{"$error":"#REF!"}},{"$f":"IF(入力シート!#REF!=\"\",\"\",入力シート!#REF!)","v":{"$error":"#REF!"}},{"$f":"IF(入力シート!#REF!=\"\",\"\",入力シート!#REF!)","v":{"$error":"#REF!"}},{"$f":"IF(入力シート!#REF!=\"\",\"\",入力シート!#REF!)","v":{"$error":"#REF!"}},{"$f":"IF(入力シート!#REF!=\"\",\"\",入力シート!#REF!)","v":{"$error":"#REF!"}},{"$f":"IF(入力シート!#REF!=\"\",\"\",入力シート!#REF!)","v":{"$error":"#REF!"}},null,null,{"$f":"IF(入力シート!H280=\"\",\"\",\"〇\")","v":""},{"$f":"IF(入力シート!#REF!=\"\",\"\",入力シート!#REF!)","v":{"$error":"#REF!"}},{"$f":"IF(入力シート!#REF!=\"\",\"\",入力シート!#REF!)","v":{"$error":"#REF!"}},{"$f":"IF(入力シート!#REF!=\"\",\"\",入力シート!#REF!)","v":{"$error":"#REF!"}},{"$f":"IF(入力シート!#REF!=\"\",\"\",入力シート!#REF!)","v":{"$error":"#REF!"}}]
[{"$f":"IF(入力シート!#REF!=\"\",\"\",入力シート!#REF!)","v":{"$error":"#REF!"}},{"$f":"IF(入力シート!#REF!=\"\",\"\",入力シート!#REF!)","v":{"$error":"#REF!"}},{"$f":"IF(入力シート!#REF!=\"\",\"\",DBCS(入力シート!#REF!))","v":{"$error":"#REF!"}},{"$f":"IF(入力シート!#REF!=\"\",\"\",DBCS(入力シート!#REF!))","v":{"$error":"#REF!"}},{"$f":"ASC(IF(入力シート!#REF!=\"\",\"\",UPPER(入力シート!#REF!)))","v":{"$error":"#REF!"}},{"$f":"IF(入力シート!#REF!=\"\",\"\",PROPER(入力シート!#REF!))","v":{"$error":"#REF!"}},{"$f":"IF(入力シート!#REF!=\"\",\"\",入力シート!#REF!)","v":{"$error":"#REF!"}},{"$f":"IF(入力シート!#REF!=\"\",\"\",TEXT(入力シート!#REF!,\"yyyy/mm/dd\"))","v":{"$error":"#REF!"}},{"$f":"IF(入力シート!#REF!=\"\",\"\",入力シート!#REF!)","v":{"$error":"#REF!"}},{"$f":"IF(入力シート!#REF!=\"\",\"\",入力シート!#REF!)","v":{"$error":"#REF!"}},{"$f":"IF(入力シート!#REF!=\"\",\"\",入力シート!#REF!)","v":{"$error":"#REF!"}},{"$f":"IF(入力シート!#REF!=\"\",\"\",入力シート!#REF!)","v":{"$error":"#REF!"}},{"$f":"IF(入力シート!#REF!=\"\",\"\",入力シート!#REF!)","v":{"$error":"#REF!"}},{"$f":"IF(入力シート!#REF!=\"\",\"\",入力シート!#REF!)","v":{"$error":"#REF!"}},null,{"$f":"IF(入力シート!#REF!=\"\",\"\",入力シート!#REF!)","v":{"$error":"#REF!"}},{"$f":"IF(入力シート!#REF!=\"\",\"\",入力シート!#REF!)","v":{"$error":"#REF!"}},{"$f":"IF(入力シート!#REF!=\"\",\"\",入力シート!#REF!)","v":{"$error":"#REF!"}},{"$f":"IF(入力シート!#REF!=\"\",\"\",入力シート!#REF!)","v":{"$error":"#REF!"}},{"$f":"IF(入力シート!#REF!=\"\",\"\",入力シート!#REF!)","v":{"$error":"#REF!"}},{"$f":"IF(入力シート!#REF!=\"\",\"\",入力シート!#REF!)","v":{"$error":"#REF!"}},{"$f":"IF(入力シート!#REF!=\"\",\"\",入力シート!#REF!)","v":{"$error":"#REF!"}},{"$f":"IF(入力シート!#REF!=\"\",\"\",入力シート!#REF!)","v":{"$error":"#REF!"}},{"$f":"IF(入力シート!#REF!=\"\",\"\",入力シート!#REF!)","v":{"$error":"#REF!"}},{"$f":"IF(入力シート!#REF!=\"\",\"\",入力シート!#REF!)","v":{"$error":"#REF!"}},{"$f":"IF(入力シート!#REF!=\"\",\"\",入力シート!#REF!)","v":{"$error":"#REF!"}},null,null,{"$f":"IF(入力シート!H281=\"\",\"\",\"〇\")","v":""},{"$f":"IF(入力シート!#REF!=\"\",\"\",入力シート!#REF!)","v":{"$error":"#REF!"}},{"$f":"IF(入力シート!#REF!=\"\",\"\",入力シート!#REF!)","v":{"$error":"#REF!"}},{"$f":"IF(入力シート!#REF!=\"\",\"\",入力シート!#REF!)","v":{"$error":"#REF!"}},{"$f":"IF(入力シート!#REF!=\"\",\"\",入力シート!#REF!)","v":{"$error":"#REF!"}}]
[{"$f":"IF(入力シート!#REF!=\"\",\"\",入力シート!#REF!)","v":{"$error":"#REF!"}},{"$f":"IF(入力シート!#REF!=\"\",\"\",入力シート!#REF!)","v":{"$error":"#REF!"}},{"$f":"IF(入力シート!#REF!=\"\",\"\",DBCS(入力シート!#REF!))","v":{"$error":"#REF!"}},{"$f":"IF(入力シート!#REF!=\"\",\"\",DBCS(入力シート!#REF!))","v":{"$error":"#REF!"}},{"$f":"ASC(IF(入力シート!#REF!=\"\",\"\",UPPER(入力シート!#REF!)))","v":{"$error":"#REF!"}},{"$f":"IF(入力シート!#REF!=\"\",\"\",PROPER(入力シート!#REF!))","v":{"$error":"#REF!"}},{"$f":"IF(入力シート!#REF!=\"\",\"\",入力シート!#REF!)","v":{"$error":"#REF!"}},{"$f":"IF(入力シート!#REF!=\"\",\"\",TEXT(入力シート!#REF!,\"yyyy/mm/dd\"))","v":{"$error":"#REF!"}},{"$f":"IF(入力シート!#REF!=\"\",\"\",入力シート!#REF!)","v":{"$error":"#REF!"}},{"$f":"IF(入力シート!#REF!=\"\",\"\",入力シート!#REF!)","v":{"$error":"#REF!"}},{"$f":"IF(入力シート!#REF!=\"\",\"\",入力シート!#REF!)","v":{"$error":"#REF!"}},{"$f":"IF(入力シート!#REF!=\"\",\"\",入力シート!#REF!)","v":{"$error":"#REF!"}},{"$f":"IF(入力シート!#REF!=\"\",\"\",入力シート!#REF!)","v":{"$error":"#REF!"}},{"$f":"IF(入力シート!#REF!=\"\",\"\",入力シート!#REF!)","v":{"$error":"#REF!"}},null,{"$f":"IF(入力シート!#REF!=\"\",\"\",入力シート!#REF!)","v":{"$error":"#REF!"}},{"$f":"IF(入力シート!#REF!=\"\",\"\",入力シート!#REF!)","v":{"$error":"#REF!"}},{"$f":"IF(入力シート!#REF!=\"\",\"\",入力シート!#REF!)","v":{"$error":"#REF!"}},{"$f":"IF(入力シート!#REF!=\"\",\"\",入力シート!#REF!)","v":{"$error":"#REF!"}},{"$f":"IF(入力シート!#REF!=\"\",\"\",入力シート!#REF!)","v":{"$error":"#REF!"}},{"$f":"IF(入力シート!#REF!=\"\",\"\",入力シート!#REF!)","v":{"$error":"#REF!"}},{"$f":"IF(入力シート!#REF!=\"\",\"\",入力シート!#REF!)","v":{"$error":"#REF!"}},{"$f":"IF(入力シート!#REF!=\"\",\"\",入力シート!#REF!)","v":{"$error":"#REF!"}},{"$f":"IF(入力シート!#REF!=\"\",\"\",入力シート!#REF!)","v":{"$error":"#REF!"}},{"$f":"IF(入力シート!#REF!=\"\",\"\",入力シート!#REF!)","v":{"$error":"#REF!"}},{"$f":"IF(入力シート!#REF!=\"\",\"\",入力シート!#REF!)","v":{"$error":"#REF!"}},null,null,{"$f":"IF(入力シート!H282=\"\",\"\",\"〇\")","v":""},{"$f":"IF(入力シート!#REF!=\"\",\"\",入力シート!#REF!)","v":{"$error":"#REF!"}},{"$f":"IF(入力シート!#REF!=\"\",\"\",入力シート!#REF!)","v":{"$error":"#REF!"}},{"$f":"IF(入力シート!#REF!=\"\",\"\",入力シート!#REF!)","v":{"$error":"#REF!"}},{"$f":"IF(入力シート!#REF!=\"\",\"\",入力シート!#REF!)","v":{"$error":"#REF!"}}]
[{"$f":"IF(入力シート!#REF!=\"\",\"\",入力シート!#REF!)","v":{"$error":"#REF!"}},{"$f":"IF(入力シート!#REF!=\"\",\"\",入力シート!#REF!)","v":{"$error":"#REF!"}},{"$f":"IF(入力シート!#REF!=\"\",\"\",DBCS(入力シート!#REF!))","v":{"$error":"#REF!"}},{"$f":"IF(入力シート!#REF!=\"\",\"\",DBCS(入力シート!#REF!))","v":{"$error":"#REF!"}},{"$f":"ASC(IF(入力シート!#REF!=\"\",\"\",UPPER(入力シート!#REF!)))","v":{"$error":"#REF!"}},{"$f":"IF(入力シート!#REF!=\"\",\"\",PROPER(入力シート!#REF!))","v":{"$error":"#REF!"}},{"$f":"IF(入力シート!#REF!=\"\",\"\",入力シート!#REF!)","v":{"$error":"#REF!"}},{"$f":"IF(入力シート!#REF!=\"\",\"\",TEXT(入力シート!#REF!,\"yyyy/mm/dd\"))","v":{"$error":"#REF!"}},{"$f":"IF(入力シート!#REF!=\"\",\"\",入力シート!#REF!)","v":{"$error":"#REF!"}},{"$f":"IF(入力シート!#REF!=\"\",\"\",入力シート!#REF!)","v":{"$error":"#REF!"}},{"$f":"IF(入力シート!#REF!=\"\",\"\",入力シート!#REF!)","v":{"$error":"#REF!"}},{"$f":"IF(入力シート!#REF!=\"\",\"\",入力シート!#REF!)","v":{"$error":"#REF!"}},{"$f":"IF(入力シート!#REF!=\"\",\"\",入力シート!#REF!)","v":{"$error":"#REF!"}},{"$f":"IF(入力シート!#REF!=\"\",\"\",入力シート!#REF!)","v":{"$error":"#REF!"}},null,{"$f":"IF(入力シート!#REF!=\"\",\"\",入力シート!#REF!)","v":{"$error":"#REF!"}},{"$f":"IF(入力シート!#REF!=\"\",\"\",入力シート!#REF!)","v":{"$error":"#REF!"}},{"$f":"IF(入力シート!#REF!=\"\",\"\",入力シート!#REF!)","v":{"$error":"#REF!"}},{"$f":"IF(入力シート!#REF!=\"\",\"\",入力シート!#REF!)","v":{"$error":"#REF!"}},{"$f":"IF(入力シート!#REF!=\"\",\"\",入力シート!#REF!)","v":{"$error":"#REF!"}},{"$f":"IF(入力シート!#REF!=\"\",\"\",入力シート!#REF!)","v":{"$error":"#REF!"}},{"$f":"IF(入力シート!#REF!=\"\",\"\",入力シート!#REF!)","v":{"$error":"#REF!"}},{"$f":"IF(入力シート!#REF!=\"\",\"\",入力シート!#REF!)","v":{"$error":"#REF!"}},{"$f":"IF(入力シート!#REF!=\"\",\"\",入力シート!#REF!)","v":{"$error":"#REF!"}},{"$f":"IF(入力シート!#REF!=\"\",\"\",入力シート!#REF!)","v":{"$error":"#REF!"}},{"$f":"IF(入力シート!#REF!=\"\",\"\",入力シート!#REF!)","v":{"$error":"#REF!"}},null,null,{"$f":"IF(入力シート!H283=\"\",\"\",\"〇\")","v":""},{"$f":"IF(入力シート!#REF!=\"\",\"\",入力シート!#REF!)","v":{"$error":"#REF!"}},{"$f":"IF(入力シート!#REF!=\"\",\"\",入力シート!#REF!)","v":{"$error":"#REF!"}},{"$f":"IF(入力シート!#REF!=\"\",\"\",入力シート!#REF!)","v":{"$error":"#REF!"}},{"$f":"IF(入力シート!#REF!=\"\",\"\",入力シート!#REF!)","v":{"$error":"#REF!"}}]
[{"$f":"IF(入力シート!#REF!=\"\",\"\",入力シート!#REF!)","v":{"$error":"#REF!"}},{"$f":"IF(入力シート!#REF!=\"\",\"\",入力シート!#REF!)","v":{"$error":"#REF!"}},{"$f":"IF(入力シート!#REF!=\"\",\"\",DBCS(入力シート!#REF!))","v":{"$error":"#REF!"}},{"$f":"IF(入力シート!#REF!=\"\",\"\",DBCS(入力シート!#REF!))","v":{"$error":"#REF!"}},{"$f":"ASC(IF(入力シート!#REF!=\"\",\"\",UPPER(入力シート!#REF!)))","v":{"$error":"#REF!"}},{"$f":"IF(入力シート!#REF!=\"\",\"\",PROPER(入力シート!#REF!))","v":{"$error":"#REF!"}},{"$f":"IF(入力シート!#REF!=\"\",\"\",入力シート!#REF!)","v":{"$error":"#REF!"}},{"$f":"IF(入力シート!#REF!=\"\",\"\",TEXT(入力シート!#REF!,\"yyyy/mm/dd\"))","v":{"$error":"#REF!"}},{"$f":"IF(入力シート!#REF!=\"\",\"\",入力シート!#REF!)","v":{"$error":"#REF!"}},{"$f":"IF(入力シート!#REF!=\"\",\"\",入力シート!#REF!)","v":{"$error":"#REF!"}},{"$f":"IF(入力シート!#REF!=\"\",\"\",入力シート!#REF!)","v":{"$error":"#REF!"}},{"$f":"IF(入力シート!#REF!=\"\",\"\",入力シート!#REF!)","v":{"$error":"#REF!"}},{"$f":"IF(入力シート!#REF!=\"\",\"\",入力シート!#REF!)","v":{"$error":"#REF!"}},{"$f":"IF(入力シート!#REF!=\"\",\"\",入力シート!#REF!)","v":{"$error":"#REF!"}},null,{"$f":"IF(入力シート!#REF!=\"\",\"\",入力シート!#REF!)","v":{"$error":"#REF!"}},{"$f":"IF(入力シート!#REF!=\"\",\"\",入力シート!#REF!)","v":{"$error":"#REF!"}},{"$f":"IF(入力シート!#REF!=\"\",\"\",入力シート!#REF!)","v":{"$error":"#REF!"}},{"$f":"IF(入力シート!#REF!=\"\",\"\",入力シート!#REF!)","v":{"$error":"#REF!"}},{"$f":"IF(入力シート!#REF!=\"\",\"\",入力シート!#REF!)","v":{"$error":"#REF!"}},{"$f":"IF(入力シート!#REF!=\"\",\"\",入力シート!#REF!)","v":{"$error":"#REF!"}},{"$f":"IF(入力シート!#REF!=\"\",\"\",入力シート!#REF!)","v":{"$error":"#REF!"}},{"$f":"IF(入力シート!#REF!=\"\",\"\",入力シート!#REF!)","v":{"$error":"#REF!"}},{"$f":"IF(入力シート!#REF!=\"\",\"\",入力シート!#REF!)","v":{"$error":"#REF!"}},{"$f":"IF(入力シート!#REF!=\"\",\"\",入力シート!#REF!)","v":{"$error":"#REF!"}},{"$f":"IF(入力シート!#REF!=\"\",\"\",入力シート!#REF!)","v":{"$error":"#REF!"}},null,null,{"$f":"IF(入力シート!H284=\"\",\"\",\"〇\")","v":""},{"$f":"IF(入力シート!#REF!=\"\",\"\",入力シート!#REF!)","v":{"$error":"#REF!"}},{"$f":"IF(入力シート!#REF!=\"\",\"\",入力シート!#REF!)","v":{"$error":"#REF!"}},{"$f":"IF(入力シート!#REF!=\"\",\"\",入力シート!#REF!)","v":{"$error":"#REF!"}},{"$f":"IF(入力シート!#REF!=\"\",\"\",入力シート!#REF!)","v":{"$error":"#REF!"}}]
[{"$f":"IF(入力シート!#REF!=\"\",\"\",入力シート!#REF!)","v":{"$error":"#REF!"}},{"$f":"IF(入力シート!#REF!=\"\",\"\",入力シート!#REF!)","v":{"$error":"#REF!"}},{"$f":"IF(入力シート!#REF!=\"\",\"\",DBCS(入力シート!#REF!))","v":{"$error":"#REF!"}},{"$f":"IF(入力シート!#REF!=\"\",\"\",DBCS(入力シート!#REF!))","v":{"$error":"#REF!"}},{"$f":"ASC(IF(入力シート!#REF!=\"\",\"\",UPPER(入力シート!#REF!)))","v":{"$error":"#REF!"}},{"$f":"IF(入力シート!#REF!=\"\",\"\",PROPER(入力シート!#REF!))","v":{"$error":"#REF!"}},{"$f":"IF(入力シート!#REF!=\"\",\"\",入力シート!#REF!)","v":{"$error":"#REF!"}},{"$f":"IF(入力シート!#REF!=\"\",\"\",TEXT(入力シート!#REF!,\"yyyy/mm/dd\"))","v":{"$error":"#REF!"}},{"$f":"IF(入力シート!#REF!=\"\",\"\",入力シート!#REF!)","v":{"$error":"#REF!"}},{"$f":"IF(入力シート!#REF!=\"\",\"\",入力シート!#REF!)","v":{"$error":"#REF!"}},{"$f":"IF(入力シート!#REF!=\"\",\"\",入力シート!#REF!)","v":{"$error":"#REF!"}},{"$f":"IF(入力シート!#REF!=\"\",\"\",入力シート!#REF!)","v":{"$error":"#REF!"}},{"$f":"IF(入力シート!#REF!=\"\",\"\",入力シート!#REF!)","v":{"$error":"#REF!"}},{"$f":"IF(入力シート!#REF!=\"\",\"\",入力シート!#REF!)","v":{"$error":"#REF!"}},null,{"$f":"IF(入力シート!#REF!=\"\",\"\",入力シート!#REF!)","v":{"$error":"#REF!"}},{"$f":"IF(入力シート!#REF!=\"\",\"\",入力シート!#REF!)","v":{"$error":"#REF!"}},{"$f":"IF(入力シート!#REF!=\"\",\"\",入力シート!#REF!)","v":{"$error":"#REF!"}},{"$f":"IF(入力シート!#REF!=\"\",\"\",入力シート!#REF!)","v":{"$error":"#REF!"}},{"$f":"IF(入力シート!#REF!=\"\",\"\",入力シート!#REF!)","v":{"$error":"#REF!"}},{"$f":"IF(入力シート!#REF!=\"\",\"\",入力シート!#REF!)","v":{"$error":"#REF!"}},{"$f":"IF(入力シート!#REF!=\"\",\"\",入力シート!#REF!)","v":{"$error":"#REF!"}},{"$f":"IF(入力シート!#REF!=\"\",\"\",入力シート!#REF!)","v":{"$error":"#REF!"}},{"$f":"IF(入力シート!#REF!=\"\",\"\",入力シート!#REF!)","v":{"$error":"#REF!"}},{"$f":"IF(入力シート!#REF!=\"\",\"\",入力シート!#REF!)","v":{"$error":"#REF!"}},{"$f":"IF(入力シート!#REF!=\"\",\"\",入力シート!#REF!)","v":{"$error":"#REF!"}},null,null,{"$f":"IF(入力シート!H285=\"\",\"\",\"〇\")","v":""},{"$f":"IF(入力シート!#REF!=\"\",\"\",入力シート!#REF!)","v":{"$error":"#REF!"}},{"$f":"IF(入力シート!#REF!=\"\",\"\",入力シート!#REF!)","v":{"$error":"#REF!"}},{"$f":"IF(入力シート!#REF!=\"\",\"\",入力シート!#REF!)","v":{"$error":"#REF!"}},{"$f":"IF(入力シート!#REF!=\"\",\"\",入力シート!#REF!)","v":{"$error":"#REF!"}}]
[{"$f":"IF(入力シート!#REF!=\"\",\"\",入力シート!#REF!)","v":{"$error":"#REF!"}},{"$f":"IF(入力シート!#REF!=\"\",\"\",入力シート!#REF!)","v":{"$error":"#REF!"}},{"$f":"IF(入力シート!#REF!=\"\",\"\",DBCS(入力シート!#REF!))","v":{"$error":"#REF!"}},{"$f":"IF(入力シート!#REF!=\"\",\"\",DBCS(入力シート!#REF!))","v":{"$error":"#REF!"}},{"$f":"ASC(IF(入力シート!#REF!=\"\",\"\",UPPER(入力シート!#REF!)))","v":{"$error":"#REF!"}},{"$f":"IF(入力シート!#REF!=\"\",\"\",PROPER(入力シート!#REF!))","v":{"$error":"#REF!"}},{"$f":"IF(入力シート!#REF!=\"\",\"\",入力シート!#REF!)","v":{"$error":"#REF!"}},{"$f":"IF(入力シート!#REF!=\"\",\"\",TEXT(入力シート!#REF!,\"yyyy/mm/dd\"))","v":{"$error":"#REF!"}},{"$f":"IF(入力シート!#REF!=\"\",\"\",入力シート!#REF!)","v":{"$error":"#REF!"}},{"$f":"IF(入力シート!#REF!=\"\",\"\",入力シート!#REF!)","v":{"$error":"#REF!"}},{"$f":"IF(入力シート!#REF!=\"\",\"\",入力シート!#REF!)","v":{"$error":"#REF!"}},{"$f":"IF(入力シート!#REF!=\"\",\"\",入力シート!#REF!)","v":{"$error":"#REF!"}},{"$f":"IF(入力シート!#REF!=\"\",\"\",入力シート!#REF!)","v":{"$error":"#REF!"}},{"$f":"IF(入力シート!#REF!=\"\",\"\",入力シート!#REF!)","v":{"$error":"#REF!"}},null,{"$f":"IF(入力シート!#REF!=\"\",\"\",入力シート!#REF!)","v":{"$error":"#REF!"}},{"$f":"IF(入力シート!#REF!=\"\",\"\",入力シート!#REF!)","v":{"$error":"#REF!"}},{"$f":"IF(入力シート!#REF!=\"\",\"\",入力シート!#REF!)","v":{"$error":"#REF!"}},{"$f":"IF(入力シート!#REF!=\"\",\"\",入力シート!#REF!)","v":{"$error":"#REF!"}},{"$f":"IF(入力シート!#REF!=\"\",\"\",入力シート!#REF!)","v":{"$error":"#REF!"}},{"$f":"IF(入力シート!#REF!=\"\",\"\",入力シート!#REF!)","v":{"$error":"#REF!"}},{"$f":"IF(入力シート!#REF!=\"\",\"\",入力シート!#REF!)","v":{"$error":"#REF!"}},{"$f":"IF(入力シート!#REF!=\"\",\"\",入力シート!#REF!)","v":{"$error":"#REF!"}},{"$f":"IF(入力シート!#REF!=\"\",\"\",入力シート!#REF!)","v":{"$error":"#REF!"}},{"$f":"IF(入力シート!#REF!=\"\",\"\",入力シート!#REF!)","v":{"$error":"#REF!"}},{"$f":"IF(入力シート!#REF!=\"\",\"\",入力シート!#REF!)","v":{"$error":"#REF!"}},null,null,{"$f":"IF(入力シート!H286=\"\",\"\",\"〇\")","v":""},{"$f":"IF(入力シート!#REF!=\"\",\"\",入力シート!#REF!)","v":{"$error":"#REF!"}},{"$f":"IF(入力シート!#REF!=\"\",\"\",入力シート!#REF!)","v":{"$error":"#REF!"}},{"$f":"IF(入力シート!#REF!=\"\",\"\",入力シート!#REF!)","v":{"$error":"#REF!"}},{"$f":"IF(入力シート!#REF!=\"\",\"\",入力シート!#REF!)","v":{"$error":"#REF!"}}]
[{"$f":"IF(入力シート!#REF!=\"\",\"\",入力シート!#REF!)","v":{"$error":"#REF!"}},{"$f":"IF(入力シート!#REF!=\"\",\"\",入力シート!#REF!)","v":{"$error":"#REF!"}},{"$f":"IF(入力シート!#REF!=\"\",\"\",DBCS(入力シート!#REF!))","v":{"$error":"#REF!"}},{"$f":"IF(入力シート!#REF!=\"\",\"\",DBCS(入力シート!#REF!))","v":{"$error":"#REF!"}},{"$f":"ASC(IF(入力シート!#REF!=\"\",\"\",UPPER(入力シート!#REF!)))","v":{"$error":"#REF!"}},{"$f":"IF(入力シート!#REF!=\"\",\"\",PROPER(入力シート!#REF!))","v":{"$error":"#REF!"}},{"$f":"IF(入力シート!#REF!=\"\",\"\",入力シート!#REF!)","v":{"$error":"#REF!"}},{"$f":"IF(入力シート!#REF!=\"\",\"\",TEXT(入力シート!#REF!,\"yyyy/mm/dd\"))","v":{"$error":"#REF!"}},{"$f":"IF(入力シート!#REF!=\"\",\"\",入力シート!#REF!)","v":{"$error":"#REF!"}},{"$f":"IF(入力シート!#REF!=\"\",\"\",入力シート!#REF!)","v":{"$error":"#REF!"}},{"$f":"IF(入力シート!#REF!=\"\",\"\",入力シート!#REF!)","v":{"$error":"#REF!"}},{"$f":"IF(入力シート!#REF!=\"\",\"\",入力シート!#REF!)","v":{"$error":"#REF!"}},{"$f":"IF(入力シート!#REF!=\"\",\"\",入力シート!#REF!)","v":{"$error":"#REF!"}},{"$f":"IF(入力シート!#REF!=\"\",\"\",入力シート!#REF!)","v":{"$error":"#REF!"}},null,{"$f":"IF(入力シート!#REF!=\"\",\"\",入力シート!#REF!)","v":{"$error":"#REF!"}},{"$f":"IF(入力シート!#REF!=\"\",\"\",入力シート!#REF!)","v":{"$error":"#REF!"}},{"$f":"IF(入力シート!#REF!=\"\",\"\",入力シート!#REF!)","v":{"$error":"#REF!"}},{"$f":"IF(入力シート!#REF!=\"\",\"\",入力シート!#REF!)","v":{"$error":"#REF!"}},{"$f":"IF(入力シート!#REF!=\"\",\"\",入力シート!#REF!)","v":{"$error":"#REF!"}},{"$f":"IF(入力シート!#REF!=\"\",\"\",入力シート!#REF!)","v":{"$error":"#REF!"}},{"$f":"IF(入力シート!#REF!=\"\",\"\",入力シート!#REF!)","v":{"$error":"#REF!"}},{"$f":"IF(入力シート!#REF!=\"\",\"\",入力シート!#REF!)","v":{"$error":"#REF!"}},{"$f":"IF(入力シート!#REF!=\"\",\"\",入力シート!#REF!)","v":{"$error":"#REF!"}},{"$f":"IF(入力シート!#REF!=\"\",\"\",入力シート!#REF!)","v":{"$error":"#REF!"}},{"$f":"IF(入力シート!#REF!=\"\",\"\",入力シート!#REF!)","v":{"$error":"#REF!"}},null,null,{"$f":"IF(入力シート!H287=\"\",\"\",\"〇\")","v":""},{"$f":"IF(入力シート!#REF!=\"\",\"\",入力シート!#REF!)","v":{"$error":"#REF!"}},{"$f":"IF(入力シート!#REF!=\"\",\"\",入力シート!#REF!)","v":{"$error":"#REF!"}},{"$f":"IF(入力シート!#REF!=\"\",\"\",入力シート!#REF!)","v":{"$error":"#REF!"}},{"$f":"IF(入力シート!#REF!=\"\",\"\",入力シート!#REF!)","v":{"$error":"#REF!"}}]
[{"$f":"IF(入力シート!#REF!=\"\",\"\",入力シート!#REF!)","v":{"$error":"#REF!"}},{"$f":"IF(入力シート!#REF!=\"\",\"\",入力シート!#REF!)","v":{"$error":"#REF!"}},{"$f":"IF(入力シート!#REF!=\"\",\"\",DBCS(入力シート!#REF!))","v":{"$error":"#REF!"}},{"$f":"IF(入力シート!#REF!=\"\",\"\",DBCS(入力シート!#REF!))","v":{"$error":"#REF!"}},{"$f":"ASC(IF(入力シート!#REF!=\"\",\"\",UPPER(入力シート!#REF!)))","v":{"$error":"#REF!"}},{"$f":"IF(入力シート!#REF!=\"\",\"\",PROPER(入力シート!#REF!))","v":{"$error":"#REF!"}},{"$f":"IF(入力シート!#REF!=\"\",\"\",入力シート!#REF!)","v":{"$error":"#REF!"}},{"$f":"IF(入力シート!#REF!=\"\",\"\",TEXT(入力シート!#REF!,\"yyyy/mm/dd\"))","v":{"$error":"#REF!"}},{"$f":"IF(入力シート!#REF!=\"\",\"\",入力シート!#REF!)","v":{"$error":"#REF!"}},{"$f":"IF(入力シート!#REF!=\"\",\"\",入力シート!#REF!)","v":{"$error":"#REF!"}},{"$f":"IF(入力シート!#REF!=\"\",\"\",入力シート!#REF!)","v":{"$error":"#REF!"}},{"$f":"IF(入力シート!#REF!=\"\",\"\",入力シート!#REF!)","v":{"$error":"#REF!"}},{"$f":"IF(入力シート!#REF!=\"\",\"\",入力シート!#REF!)","v":{"$error":"#REF!"}},{"$f":"IF(入力シート!#REF!=\"\",\"\",入力シート!#REF!)","v":{"$error":"#REF!"}},null,{"$f":"IF(入力シート!#REF!=\"\",\"\",入力シート!#REF!)","v":{"$error":"#REF!"}},{"$f":"IF(入力シート!#REF!=\"\",\"\",入力シート!#REF!)","v":{"$error":"#REF!"}},{"$f":"IF(入力シート!#REF!=\"\",\"\",入力シート!#REF!)","v":{"$error":"#REF!"}},{"$f":"IF(入力シート!#REF!=\"\",\"\",入力シート!#REF!)","v":{"$error":"#REF!"}},{"$f":"IF(入力シート!#REF!=\"\",\"\",入力シート!#REF!)","v":{"$error":"#REF!"}},{"$f":"IF(入力シート!#REF!=\"\",\"\",入力シート!#REF!)","v":{"$error":"#REF!"}},{"$f":"IF(入力シート!#REF!=\"\",\"\",入力シート!#REF!)","v":{"$error":"#REF!"}},{"$f":"IF(入力シート!#REF!=\"\",\"\",入力シート!#REF!)","v":{"$error":"#REF!"}},{"$f":"IF(入力シート!#REF!=\"\",\"\",入力シート!#REF!)","v":{"$error":"#REF!"}},{"$f":"IF(入力シート!#REF!=\"\",\"\",入力シート!#REF!)","v":{"$error":"#REF!"}},{"$f":"IF(入力シート!#REF!=\"\",\"\",入力シート!#REF!)","v":{"$error":"#REF!"}},null,null,{"$f":"IF(入力シート!H288=\"\",\"\",\"〇\")","v":""},{"$f":"IF(入力シート!#REF!=\"\",\"\",入力シート!#REF!)","v":{"$error":"#REF!"}},{"$f":"IF(入力シート!#REF!=\"\",\"\",入力シート!#REF!)","v":{"$error":"#REF!"}},{"$f":"IF(入力シート!#REF!=\"\",\"\",入力シート!#REF!)","v":{"$error":"#REF!"}},{"$f":"IF(入力シート!#REF!=\"\",\"\",入力シート!#REF!)","v":{"$error":"#REF!"}}]
[{"$f":"IF(入力シート!#REF!=\"\",\"\",入力シート!#REF!)","v":{"$error":"#REF!"}},{"$f":"IF(入力シート!#REF!=\"\",\"\",入力シート!#REF!)","v":{"$error":"#REF!"}},{"$f":"IF(入力シート!#REF!=\"\",\"\",DBCS(入力シート!#REF!))","v":{"$error":"#REF!"}},{"$f":"IF(入力シート!#REF!=\"\",\"\",DBCS(入力シート!#REF!))","v":{"$error":"#REF!"}},{"$f":"ASC(IF(入力シート!#REF!=\"\",\"\",UPPER(入力シート!#REF!)))","v":{"$error":"#REF!"}},{"$f":"IF(入力シート!#REF!=\"\",\"\",PROPER(入力シート!#REF!))","v":{"$error":"#REF!"}},{"$f":"IF(入力シート!#REF!=\"\",\"\",入力シート!#REF!)","v":{"$error":"#REF!"}},{"$f":"IF(入力シート!#REF!=\"\",\"\",TEXT(入力シート!#REF!,\"yyyy/mm/dd\"))","v":{"$error":"#REF!"}},{"$f":"IF(入力シート!#REF!=\"\",\"\",入力シート!#REF!)","v":{"$error":"#REF!"}},{"$f":"IF(入力シート!#REF!=\"\",\"\",入力シート!#REF!)","v":{"$error":"#REF!"}},{"$f":"IF(入力シート!#REF!=\"\",\"\",入力シート!#REF!)","v":{"$error":"#REF!"}},{"$f":"IF(入力シート!#REF!=\"\",\"\",入力シート!#REF!)","v":{"$error":"#REF!"}},{"$f":"IF(入力シート!#REF!=\"\",\"\",入力シート!#REF!)","v":{"$error":"#REF!"}},{"$f":"IF(入力シート!#REF!=\"\",\"\",入力シート!#REF!)","v":{"$error":"#REF!"}},null,{"$f":"IF(入力シート!#REF!=\"\",\"\",入力シート!#REF!)","v":{"$error":"#REF!"}},{"$f":"IF(入力シート!#REF!=\"\",\"\",入力シート!#REF!)","v":{"$error":"#REF!"}},{"$f":"IF(入力シート!#REF!=\"\",\"\",入力シート!#REF!)","v":{"$error":"#REF!"}},{"$f":"IF(入力シート!#REF!=\"\",\"\",入力シート!#REF!)","v":{"$error":"#REF!"}},{"$f":"IF(入力シート!#REF!=\"\",\"\",入力シート!#REF!)","v":{"$error":"#REF!"}},{"$f":"IF(入力シート!#REF!=\"\",\"\",入力シート!#REF!)","v":{"$error":"#REF!"}},{"$f":"IF(入力シート!#REF!=\"\",\"\",入力シート!#REF!)","v":{"$error":"#REF!"}},{"$f":"IF(入力シート!#REF!=\"\",\"\",入力シート!#REF!)","v":{"$error":"#REF!"}},{"$f":"IF(入力シート!#REF!=\"\",\"\",入力シート!#REF!)","v":{"$error":"#REF!"}},{"$f":"IF(入力シート!#REF!=\"\",\"\",入力シート!#REF!)","v":{"$error":"#REF!"}},{"$f":"IF(入力シート!#REF!=\"\",\"\",入力シート!#REF!)","v":{"$error":"#REF!"}},null,null,{"$f":"IF(入力シート!H289=\"\",\"\",\"〇\")","v":""},{"$f":"IF(入力シート!#REF!=\"\",\"\",入力シート!#REF!)","v":{"$error":"#REF!"}},{"$f":"IF(入力シート!#REF!=\"\",\"\",入力シート!#REF!)","v":{"$error":"#REF!"}},{"$f":"IF(入力シート!#REF!=\"\",\"\",入力シート!#REF!)","v":{"$error":"#REF!"}},{"$f":"IF(入力シート!#REF!=\"\",\"\",入力シート!#REF!)","v":{"$error":"#REF!"}}]
[{"$f":"IF(入力シート!#REF!=\"\",\"\",入力シート!#REF!)","v":{"$error":"#REF!"}},{"$f":"IF(入力シート!#REF!=\"\",\"\",入力シート!#REF!)","v":{"$error":"#REF!"}},{"$f":"IF(入力シート!#REF!=\"\",\"\",DBCS(入力シート!#REF!))","v":{"$error":"#REF!"}},{"$f":"IF(入力シート!#REF!=\"\",\"\",DBCS(入力シート!#REF!))","v":{"$error":"#REF!"}},{"$f":"ASC(IF(入力シート!#REF!=\"\",\"\",UPPER(入力シート!#REF!)))","v":{"$error":"#REF!"}},{"$f":"IF(入力シート!#REF!=\"\",\"\",PROPER(入力シート!#REF!))","v":{"$error":"#REF!"}},{"$f":"IF(入力シート!#REF!=\"\",\"\",入力シート!#REF!)","v":{"$error":"#REF!"}},{"$f":"IF(入力シート!#REF!=\"\",\"\",TEXT(入力シート!#REF!,\"yyyy/mm/dd\"))","v":{"$error":"#REF!"}},{"$f":"IF(入力シート!#REF!=\"\",\"\",入力シート!#REF!)","v":{"$error":"#REF!"}},{"$f":"IF(入力シート!#REF!=\"\",\"\",入力シート!#REF!)","v":{"$error":"#REF!"}},{"$f":"IF(入力シート!#REF!=\"\",\"\",入力シート!#REF!)","v":{"$error":"#REF!"}},{"$f":"IF(入力シート!#REF!=\"\",\"\",入力シート!#REF!)","v":{"$error":"#REF!"}},{"$f":"IF(入力シート!#REF!=\"\",\"\",入力シート!#REF!)","v":{"$error":"#REF!"}},{"$f":"IF(入力シート!#REF!=\"\",\"\",入力シート!#REF!)","v":{"$error":"#REF!"}},null,{"$f":"IF(入力シート!#REF!=\"\",\"\",入力シート!#REF!)","v":{"$error":"#REF!"}},{"$f":"IF(入力シート!#REF!=\"\",\"\",入力シート!#REF!)","v":{"$error":"#REF!"}},{"$f":"IF(入力シート!#REF!=\"\",\"\",入力シート!#REF!)","v":{"$error":"#REF!"}},{"$f":"IF(入力シート!#REF!=\"\",\"\",入力シート!#REF!)","v":{"$error":"#REF!"}},{"$f":"IF(入力シート!#REF!=\"\",\"\",入力シート!#REF!)","v":{"$error":"#REF!"}},{"$f":"IF(入力シート!#REF!=\"\",\"\",入力シート!#REF!)","v":{"$error":"#REF!"}},{"$f":"IF(入力シート!#REF!=\"\",\"\",入力シート!#REF!)","v":{"$error":"#REF!"}},{"$f":"IF(入力シート!#REF!=\"\",\"\",入力シート!#REF!)","v":{"$error":"#REF!"}},{"$f":"IF(入力シート!#REF!=\"\",\"\",入力シート!#REF!)","v":{"$error":"#REF!"}},{"$f":"IF(入力シート!#REF!=\"\",\"\",入力シート!#REF!)","v":{"$error":"#REF!"}},{"$f":"IF(入力シート!#REF!=\"\",\"\",入力シート!#REF!)","v":{"$error":"#REF!"}},null,null,{"$f":"IF(入力シート!H290=\"\",\"\",\"〇\")","v":""},{"$f":"IF(入力シート!#REF!=\"\",\"\",入力シート!#REF!)","v":{"$error":"#REF!"}},{"$f":"IF(入力シート!#REF!=\"\",\"\",入力シート!#REF!)","v":{"$error":"#REF!"}},{"$f":"IF(入力シート!#REF!=\"\",\"\",入力シート!#REF!)","v":{"$error":"#REF!"}},{"$f":"IF(入力シート!#REF!=\"\",\"\",入力シート!#REF!)","v":{"$error":"#REF!"}}]
[{"$f":"IF(入力シート!#REF!=\"\",\"\",入力シート!#REF!)","v":{"$error":"#REF!"}},{"$f":"IF(入力シート!#REF!=\"\",\"\",入力シート!#REF!)","v":{"$error":"#REF!"}},{"$f":"IF(入力シート!#REF!=\"\",\"\",DBCS(入力シート!#REF!))","v":{"$error":"#REF!"}},{"$f":"IF(入力シート!#REF!=\"\",\"\",DBCS(入力シート!#REF!))","v":{"$error":"#REF!"}},{"$f":"ASC(IF(入力シート!#REF!=\"\",\"\",UPPER(入力シート!#REF!)))","v":{"$error":"#REF!"}},{"$f":"IF(入力シート!#REF!=\"\",\"\",PROPER(入力シート!#REF!))","v":{"$error":"#REF!"}},{"$f":"IF(入力シート!#REF!=\"\",\"\",入力シート!#REF!)","v":{"$error":"#REF!"}},{"$f":"IF(入力シート!#REF!=\"\",\"\",TEXT(入力シート!#REF!,\"yyyy/mm/dd\"))","v":{"$error":"#REF!"}},{"$f":"IF(入力シート!#REF!=\"\",\"\",入力シート!#REF!)","v":{"$error":"#REF!"}},{"$f":"IF(入力シート!#REF!=\"\",\"\",入力シート!#REF!)","v":{"$error":"#REF!"}},{"$f":"IF(入力シート!#REF!=\"\",\"\",入力シート!#REF!)","v":{"$error":"#REF!"}},{"$f":"IF(入力シート!#REF!=\"\",\"\",入力シート!#REF!)","v":{"$error":"#REF!"}},{"$f":"IF(入力シート!#REF!=\"\",\"\",入力シート!#REF!)","v":{"$error":"#REF!"}},{"$f":"IF(入力シート!#REF!=\"\",\"\",入力シート!#REF!)","v":{"$error":"#REF!"}},null,{"$f":"IF(入力シート!#REF!=\"\",\"\",入力シート!#REF!)","v":{"$error":"#REF!"}},{"$f":"IF(入力シート!#REF!=\"\",\"\",入力シート!#REF!)","v":{"$error":"#REF!"}},{"$f":"IF(入力シート!#REF!=\"\",\"\",入力シート!#REF!)","v":{"$error":"#REF!"}},{"$f":"IF(入力シート!#REF!=\"\",\"\",入力シート!#REF!)","v":{"$error":"#REF!"}},{"$f":"IF(入力シート!#REF!=\"\",\"\",入力シート!#REF!)","v":{"$error":"#REF!"}},{"$f":"IF(入力シート!#REF!=\"\",\"\",入力シート!#REF!)","v":{"$error":"#REF!"}},{"$f":"IF(入力シート!#REF!=\"\",\"\",入力シート!#REF!)","v":{"$error":"#REF!"}},{"$f":"IF(入力シート!#REF!=\"\",\"\",入力シート!#REF!)","v":{"$error":"#REF!"}},{"$f":"IF(入力シート!#REF!=\"\",\"\",入力シート!#REF!)","v":{"$error":"#REF!"}},{"$f":"IF(入力シート!#REF!=\"\",\"\",入力シート!#REF!)","v":{"$error":"#REF!"}},{"$f":"IF(入力シート!#REF!=\"\",\"\",入力シート!#REF!)","v":{"$error":"#REF!"}},null,null,{"$f":"IF(入力シート!H291=\"\",\"\",\"〇\")","v":""},{"$f":"IF(入力シート!#REF!=\"\",\"\",入力シート!#REF!)","v":{"$error":"#REF!"}},{"$f":"IF(入力シート!#REF!=\"\",\"\",入力シート!#REF!)","v":{"$error":"#REF!"}},{"$f":"IF(入力シート!#REF!=\"\",\"\",入力シート!#REF!)","v":{"$error":"#REF!"}},{"$f":"IF(入力シート!#REF!=\"\",\"\",入力シート!#REF!)","v":{"$error":"#REF!"}}]
[{"$f":"IF(入力シート!#REF!=\"\",\"\",入力シート!#REF!)","v":{"$error":"#REF!"}},{"$f":"IF(入力シート!#REF!=\"\",\"\",入力シート!#REF!)","v":{"$error":"#REF!"}},{"$f":"IF(入力シート!#REF!=\"\",\"\",DBCS(入力シート!#REF!))","v":{"$error":"#REF!"}},{"$f":"IF(入力シート!#REF!=\"\",\"\",DBCS(入力シート!#REF!))","v":{"$error":"#REF!"}},{"$f":"ASC(IF(入力シート!#REF!=\"\",\"\",UPPER(入力シート!#REF!)))","v":{"$error":"#REF!"}},{"$f":"IF(入力シート!#REF!=\"\",\"\",PROPER(入力シート!#REF!))","v":{"$error":"#REF!"}},{"$f":"IF(入力シート!#REF!=\"\",\"\",入力シート!#REF!)","v":{"$error":"#REF!"}},{"$f":"IF(入力シート!#REF!=\"\",\"\",TEXT(入力シート!#REF!,\"yyyy/mm/dd\"))","v":{"$error":"#REF!"}},{"$f":"IF(入力シート!#REF!=\"\",\"\",入力シート!#REF!)","v":{"$error":"#REF!"}},{"$f":"IF(入力シート!#REF!=\"\",\"\",入力シート!#REF!)","v":{"$error":"#REF!"}},{"$f":"IF(入力シート!#REF!=\"\",\"\",入力シート!#REF!)","v":{"$error":"#REF!"}},{"$f":"IF(入力シート!#REF!=\"\",\"\",入力シート!#REF!)","v":{"$error":"#REF!"}},{"$f":"IF(入力シート!#REF!=\"\",\"\",入力シート!#REF!)","v":{"$error":"#REF!"}},{"$f":"IF(入力シート!#REF!=\"\",\"\",入力シート!#REF!)","v":{"$error":"#REF!"}},null,{"$f":"IF(入力シート!#REF!=\"\",\"\",入力シート!#REF!)","v":{"$error":"#REF!"}},{"$f":"IF(入力シート!#REF!=\"\",\"\",入力シート!#REF!)","v":{"$error":"#REF!"}},{"$f":"IF(入力シート!#REF!=\"\",\"\",入力シート!#REF!)","v":{"$error":"#REF!"}},{"$f":"IF(入力シート!#REF!=\"\",\"\",入力シート!#REF!)","v":{"$error":"#REF!"}},{"$f":"IF(入力シート!#REF!=\"\",\"\",入力シート!#REF!)","v":{"$error":"#REF!"}},{"$f":"IF(入力シート!#REF!=\"\",\"\",入力シート!#REF!)","v":{"$error":"#REF!"}},{"$f":"IF(入力シート!#REF!=\"\",\"\",入力シート!#REF!)","v":{"$error":"#REF!"}},{"$f":"IF(入力シート!#REF!=\"\",\"\",入力シート!#REF!)","v":{"$error":"#REF!"}},{"$f":"IF(入力シート!#REF!=\"\",\"\",入力シート!#REF!)","v":{"$error":"#REF!"}},{"$f":"IF(入力シート!#REF!=\"\",\"\",入力シート!#REF!)","v":{"$error":"#REF!"}},{"$f":"IF(入力シート!#REF!=\"\",\"\",入力シート!#REF!)","v":{"$error":"#REF!"}},null,null,{"$f":"IF(入力シート!H292=\"\",\"\",\"〇\")","v":""},{"$f":"IF(入力シート!#REF!=\"\",\"\",入力シート!#REF!)","v":{"$error":"#REF!"}},{"$f":"IF(入力シート!#REF!=\"\",\"\",入力シート!#REF!)","v":{"$error":"#REF!"}},{"$f":"IF(入力シート!#REF!=\"\",\"\",入力シート!#REF!)","v":{"$error":"#REF!"}},{"$f":"IF(入力シート!#REF!=\"\",\"\",入力シート!#REF!)","v":{"$error":"#REF!"}}]
[{"$f":"IF(入力シート!#REF!=\"\",\"\",入力シート!#REF!)","v":{"$error":"#REF!"}},{"$f":"IF(入力シート!#REF!=\"\",\"\",入力シート!#REF!)","v":{"$error":"#REF!"}},{"$f":"IF(入力シート!#REF!=\"\",\"\",DBCS(入力シート!#REF!))","v":{"$error":"#REF!"}},{"$f":"IF(入力シート!#REF!=\"\",\"\",DBCS(入力シート!#REF!))","v":{"$error":"#REF!"}},{"$f":"ASC(IF(入力シート!#REF!=\"\",\"\",UPPER(入力シート!#REF!)))","v":{"$error":"#REF!"}},{"$f":"IF(入力シート!#REF!=\"\",\"\",PROPER(入力シート!#REF!))","v":{"$error":"#REF!"}},{"$f":"IF(入力シート!#REF!=\"\",\"\",入力シート!#REF!)","v":{"$error":"#REF!"}},{"$f":"IF(入力シート!#REF!=\"\",\"\",TEXT(入力シート!#REF!,\"yyyy/mm/dd\"))","v":{"$error":"#REF!"}},{"$f":"IF(入力シート!#REF!=\"\",\"\",入力シート!#REF!)","v":{"$error":"#REF!"}},{"$f":"IF(入力シート!#REF!=\"\",\"\",入力シート!#REF!)","v":{"$error":"#REF!"}},{"$f":"IF(入力シート!#REF!=\"\",\"\",入力シート!#REF!)","v":{"$error":"#REF!"}},{"$f":"IF(入力シート!#REF!=\"\",\"\",入力シート!#REF!)","v":{"$error":"#REF!"}},{"$f":"IF(入力シート!#REF!=\"\",\"\",入力シート!#REF!)","v":{"$error":"#REF!"}},{"$f":"IF(入力シート!#REF!=\"\",\"\",入力シート!#REF!)","v":{"$error":"#REF!"}},null,{"$f":"IF(入力シート!#REF!=\"\",\"\",入力シート!#REF!)","v":{"$error":"#REF!"}},{"$f":"IF(入力シート!#REF!=\"\",\"\",入力シート!#REF!)","v":{"$error":"#REF!"}},{"$f":"IF(入力シート!#REF!=\"\",\"\",入力シート!#REF!)","v":{"$error":"#REF!"}},{"$f":"IF(入力シート!#REF!=\"\",\"\",入力シート!#REF!)","v":{"$error":"#REF!"}},{"$f":"IF(入力シート!#REF!=\"\",\"\",入力シート!#REF!)","v":{"$error":"#REF!"}},{"$f":"IF(入力シート!#REF!=\"\",\"\",入力シート!#REF!)","v":{"$error":"#REF!"}},{"$f":"IF(入力シート!#REF!=\"\",\"\",入力シート!#REF!)","v":{"$error":"#REF!"}},{"$f":"IF(入力シート!#REF!=\"\",\"\",入力シート!#REF!)","v":{"$error":"#REF!"}},{"$f":"IF(入力シート!#REF!=\"\",\"\",入力シート!#REF!)","v":{"$error":"#REF!"}},{"$f":"IF(入力シート!#REF!=\"\",\"\",入力シート!#REF!)","v":{"$error":"#REF!"}},{"$f":"IF(入力シート!#REF!=\"\",\"\",入力シート!#REF!)","v":{"$error":"#REF!"}},null,null,{"$f":"IF(入力シート!H293=\"\",\"\",\"〇\")","v":""},{"$f":"IF(入力シート!#REF!=\"\",\"\",入力シート!#REF!)","v":{"$error":"#REF!"}},{"$f":"IF(入力シート!#REF!=\"\",\"\",入力シート!#REF!)","v":{"$error":"#REF!"}},{"$f":"IF(入力シート!#REF!=\"\",\"\",入力シート!#REF!)","v":{"$error":"#REF!"}},{"$f":"IF(入力シート!#REF!=\"\",\"\",入力シート!#REF!)","v":{"$error":"#REF!"}}]
[{"$f":"IF(入力シート!#REF!=\"\",\"\",入力シート!#REF!)","v":{"$error":"#REF!"}},{"$f":"IF(入力シート!#REF!=\"\",\"\",入力シート!#REF!)","v":{"$error":"#REF!"}},{"$f":"IF(入力シート!#REF!=\"\",\"\",DBCS(入力シート!#REF!))","v":{"$error":"#REF!"}},{"$f":"IF(入力シート!#REF!=\"\",\"\",DBCS(入力シート!#REF!))","v":{"$error":"#REF!"}},{"$f":"ASC(IF(入力シート!#REF!=\"\",\"\",UPPER(入力シート!#REF!)))","v":{"$error":"#REF!"}},{"$f":"IF(入力シート!#REF!=\"\",\"\",PROPER(入力シート!#REF!))","v":{"$error":"#REF!"}},{"$f":"IF(入力シート!#REF!=\"\",\"\",入力シート!#REF!)","v":{"$error":"#REF!"}},{"$f":"IF(入力シート!#REF!=\"\",\"\",TEXT(入力シート!#REF!,\"yyyy/mm/dd\"))","v":{"$error":"#REF!"}},{"$f":"IF(入力シート!#REF!=\"\",\"\",入力シート!#REF!)","v":{"$error":"#REF!"}},{"$f":"IF(入力シート!#REF!=\"\",\"\",入力シート!#REF!)","v":{"$error":"#REF!"}},{"$f":"IF(入力シート!#REF!=\"\",\"\",入力シート!#REF!)","v":{"$error":"#REF!"}},{"$f":"IF(入力シート!#REF!=\"\",\"\",入力シート!#REF!)","v":{"$error":"#REF!"}},{"$f":"IF(入力シート!#REF!=\"\",\"\",入力シート!#REF!)","v":{"$error":"#REF!"}},{"$f":"IF(入力シート!#REF!=\"\",\"\",入力シート!#REF!)","v":{"$error":"#REF!"}},null,{"$f":"IF(入力シート!#REF!=\"\",\"\",入力シート!#REF!)","v":{"$error":"#REF!"}},{"$f":"IF(入力シート!#REF!=\"\",\"\",入力シート!#REF!)","v":{"$error":"#REF!"}},{"$f":"IF(入力シート!#REF!=\"\",\"\",入力シート!#REF!)","v":{"$error":"#REF!"}},{"$f":"IF(入力シート!#REF!=\"\",\"\",入力シート!#REF!)","v":{"$error":"#REF!"}},{"$f":"IF(入力シート!#REF!=\"\",\"\",入力シート!#REF!)","v":{"$error":"#REF!"}},{"$f":"IF(入力シート!#REF!=\"\",\"\",入力シート!#REF!)","v":{"$error":"#REF!"}},{"$f":"IF(入力シート!#REF!=\"\",\"\",入力シート!#REF!)","v":{"$error":"#REF!"}},{"$f":"IF(入力シート!#REF!=\"\",\"\",入力シート!#REF!)","v":{"$error":"#REF!"}},{"$f":"IF(入力シート!#REF!=\"\",\"\",入力シート!#REF!)","v":{"$error":"#REF!"}},{"$f":"IF(入力シート!#REF!=\"\",\"\",入力シート!#REF!)","v":{"$error":"#REF!"}},{"$f":"IF(入力シート!#REF!=\"\",\"\",入力シート!#REF!)","v":{"$error":"#REF!"}},null,null,{"$f":"IF(入力シート!H294=\"\",\"\",\"〇\")","v":""},{"$f":"IF(入力シート!#REF!=\"\",\"\",入力シート!#REF!)","v":{"$error":"#REF!"}},{"$f":"IF(入力シート!#REF!=\"\",\"\",入力シート!#REF!)","v":{"$error":"#REF!"}},{"$f":"IF(入力シート!#REF!=\"\",\"\",入力シート!#REF!)","v":{"$error":"#REF!"}},{"$f":"IF(入力シート!#REF!=\"\",\"\",入力シート!#REF!)","v":{"$error":"#REF!"}}]
[{"$f":"IF(入力シート!#REF!=\"\",\"\",入力シート!#REF!)","v":{"$error":"#REF!"}},{"$f":"IF(入力シート!#REF!=\"\",\"\",入力シート!#REF!)","v":{"$error":"#REF!"}},{"$f":"IF(入力シート!#REF!=\"\",\"\",DBCS(入力シート!#REF!))","v":{"$error":"#REF!"}},{"$f":"IF(入力シート!#REF!=\"\",\"\",DBCS(入力シート!#REF!))","v":{"$error":"#REF!"}},{"$f":"ASC(IF(入力シート!#REF!=\"\",\"\",UPPER(入力シート!#REF!)))","v":{"$error":"#REF!"}},{"$f":"IF(入力シート!#REF!=\"\",\"\",PROPER(入力シート!#REF!))","v":{"$error":"#REF!"}},{"$f":"IF(入力シート!#REF!=\"\",\"\",入力シート!#REF!)","v":{"$error":"#REF!"}},{"$f":"IF(入力シート!#REF!=\"\",\"\",TEXT(入力シート!#REF!,\"yyyy/mm/dd\"))","v":{"$error":"#REF!"}},{"$f":"IF(入力シート!#REF!=\"\",\"\",入力シート!#REF!)","v":{"$error":"#REF!"}},{"$f":"IF(入力シート!#REF!=\"\",\"\",入力シート!#REF!)","v":{"$error":"#REF!"}},{"$f":"IF(入力シート!#REF!=\"\",\"\",入力シート!#REF!)","v":{"$error":"#REF!"}},{"$f":"IF(入力シート!#REF!=\"\",\"\",入力シート!#REF!)","v":{"$error":"#REF!"}},{"$f":"IF(入力シート!#REF!=\"\",\"\",入力シート!#REF!)","v":{"$error":"#REF!"}},{"$f":"IF(入力シート!#REF!=\"\",\"\",入力シート!#REF!)","v":{"$error":"#REF!"}},null,{"$f":"IF(入力シート!#REF!=\"\",\"\",入力シート!#REF!)","v":{"$error":"#REF!"}},{"$f":"IF(入力シート!#REF!=\"\",\"\",入力シート!#REF!)","v":{"$error":"#REF!"}},{"$f":"IF(入力シート!#REF!=\"\",\"\",入力シート!#REF!)","v":{"$error":"#REF!"}},{"$f":"IF(入力シート!#REF!=\"\",\"\",入力シート!#REF!)","v":{"$error":"#REF!"}},{"$f":"IF(入力シート!#REF!=\"\",\"\",入力シート!#REF!)","v":{"$error":"#REF!"}},{"$f":"IF(入力シート!#REF!=\"\",\"\",入力シート!#REF!)","v":{"$error":"#REF!"}},{"$f":"IF(入力シート!#REF!=\"\",\"\",入力シート!#REF!)","v":{"$error":"#REF!"}},{"$f":"IF(入力シート!#REF!=\"\",\"\",入力シート!#REF!)","v":{"$error":"#REF!"}},{"$f":"IF(入力シート!#REF!=\"\",\"\",入力シート!#REF!)","v":{"$error":"#REF!"}},{"$f":"IF(入力シート!#REF!=\"\",\"\",入力シート!#REF!)","v":{"$error":"#REF!"}},{"$f":"IF(入力シート!#REF!=\"\",\"\",入力シート!#REF!)","v":{"$error":"#REF!"}},null,null,{"$f":"IF(入力シート!H295=\"\",\"\",\"〇\")","v":""},{"$f":"IF(入力シート!#REF!=\"\",\"\",入力シート!#REF!)","v":{"$error":"#REF!"}},{"$f":"IF(入力シート!#REF!=\"\",\"\",入力シート!#REF!)","v":{"$error":"#REF!"}},{"$f":"IF(入力シート!#REF!=\"\",\"\",入力シート!#REF!)","v":{"$error":"#REF!"}},{"$f":"IF(入力シート!#REF!=\"\",\"\",入力シート!#REF!)","v":{"$error":"#REF!"}}]
[{"$f":"IF(入力シート!#REF!=\"\",\"\",入力シート!#REF!)","v":{"$error":"#REF!"}},{"$f":"IF(入力シート!#REF!=\"\",\"\",入力シート!#REF!)","v":{"$error":"#REF!"}},{"$f":"IF(入力シート!#REF!=\"\",\"\",DBCS(入力シート!#REF!))","v":{"$error":"#REF!"}},{"$f":"IF(入力シート!#REF!=\"\",\"\",DBCS(入力シート!#REF!))","v":{"$error":"#REF!"}},{"$f":"ASC(IF(入力シート!#REF!=\"\",\"\",UPPER(入力シート!#REF!)))","v":{"$error":"#REF!"}},{"$f":"IF(入力シート!#REF!=\"\",\"\",PROPER(入力シート!#REF!))","v":{"$error":"#REF!"}},{"$f":"IF(入力シート!#REF!=\"\",\"\",入力シート!#REF!)","v":{"$error":"#REF!"}},{"$f":"IF(入力シート!#REF!=\"\",\"\",TEXT(入力シート!#REF!,\"yyyy/mm/dd\"))","v":{"$error":"#REF!"}},{"$f":"IF(入力シート!#REF!=\"\",\"\",入力シート!#REF!)","v":{"$error":"#REF!"}},{"$f":"IF(入力シート!#REF!=\"\",\"\",入力シート!#REF!)","v":{"$error":"#REF!"}},{"$f":"IF(入力シート!#REF!=\"\",\"\",入力シート!#REF!)","v":{"$error":"#REF!"}},{"$f":"IF(入力シート!#REF!=\"\",\"\",入力シート!#REF!)","v":{"$error":"#REF!"}},{"$f":"IF(入力シート!#REF!=\"\",\"\",入力シート!#REF!)","v":{"$error":"#REF!"}},{"$f":"IF(入力シート!#REF!=\"\",\"\",入力シート!#REF!)","v":{"$error":"#REF!"}},null,{"$f":"IF(入力シート!#REF!=\"\",\"\",入力シート!#REF!)","v":{"$error":"#REF!"}},{"$f":"IF(入力シート!#REF!=\"\",\"\",入力シート!#REF!)","v":{"$error":"#REF!"}},{"$f":"IF(入力シート!#REF!=\"\",\"\",入力シート!#REF!)","v":{"$error":"#REF!"}},{"$f":"IF(入力シート!#REF!=\"\",\"\",入力シート!#REF!)","v":{"$error":"#REF!"}},{"$f":"IF(入力シート!#REF!=\"\",\"\",入力シート!#REF!)","v":{"$error":"#REF!"}},{"$f":"IF(入力シート!#REF!=\"\",\"\",入力シート!#REF!)","v":{"$error":"#REF!"}},{"$f":"IF(入力シート!#REF!=\"\",\"\",入力シート!#REF!)","v":{"$error":"#REF!"}},{"$f":"IF(入力シート!#REF!=\"\",\"\",入力シート!#REF!)","v":{"$error":"#REF!"}},{"$f":"IF(入力シート!#REF!=\"\",\"\",入力シート!#REF!)","v":{"$error":"#REF!"}},{"$f":"IF(入力シート!#REF!=\"\",\"\",入力シート!#REF!)","v":{"$error":"#REF!"}},{"$f":"IF(入力シート!#REF!=\"\",\"\",入力シート!#REF!)","v":{"$error":"#REF!"}},null,null,{"$f":"IF(入力シート!H296=\"\",\"\",\"〇\")","v":""},{"$f":"IF(入力シート!#REF!=\"\",\"\",入力シート!#REF!)","v":{"$error":"#REF!"}},{"$f":"IF(入力シート!#REF!=\"\",\"\",入力シート!#REF!)","v":{"$error":"#REF!"}},{"$f":"IF(入力シート!#REF!=\"\",\"\",入力シート!#REF!)","v":{"$error":"#REF!"}},{"$f":"IF(入力シート!#REF!=\"\",\"\",入力シート!#REF!)","v":{"$error":"#REF!"}}]
[{"$f":"IF(入力シート!#REF!=\"\",\"\",入力シート!#REF!)","v":{"$error":"#REF!"}},{"$f":"IF(入力シート!#REF!=\"\",\"\",入力シート!#REF!)","v":{"$error":"#REF!"}},{"$f":"IF(入力シート!#REF!=\"\",\"\",DBCS(入力シート!#REF!))","v":{"$error":"#REF!"}},{"$f":"IF(入力シート!#REF!=\"\",\"\",DBCS(入力シート!#REF!))","v":{"$error":"#REF!"}},{"$f":"ASC(IF(入力シート!#REF!=\"\",\"\",UPPER(入力シート!#REF!)))","v":{"$error":"#REF!"}},{"$f":"IF(入力シート!#REF!=\"\",\"\",PROPER(入力シート!#REF!))","v":{"$error":"#REF!"}},{"$f":"IF(入力シート!#REF!=\"\",\"\",入力シート!#REF!)","v":{"$error":"#REF!"}},{"$f":"IF(入力シート!#REF!=\"\",\"\",TEXT(入力シート!#REF!,\"yyyy/mm/dd\"))","v":{"$error":"#REF!"}},{"$f":"IF(入力シート!#REF!=\"\",\"\",入力シート!#REF!)","v":{"$error":"#REF!"}},{"$f":"IF(入力シート!#REF!=\"\",\"\",入力シート!#REF!)","v":{"$error":"#REF!"}},{"$f":"IF(入力シート!#REF!=\"\",\"\",入力シート!#REF!)","v":{"$error":"#REF!"}},{"$f":"IF(入力シート!#REF!=\"\",\"\",入力シート!#REF!)","v":{"$error":"#REF!"}},{"$f":"IF(入力シート!#REF!=\"\",\"\",入力シート!#REF!)","v":{"$error":"#REF!"}},{"$f":"IF(入力シート!#REF!=\"\",\"\",入力シート!#REF!)","v":{"$error":"#REF!"}},null,{"$f":"IF(入力シート!#REF!=\"\",\"\",入力シート!#REF!)","v":{"$error":"#REF!"}},{"$f":"IF(入力シート!#REF!=\"\",\"\",入力シート!#REF!)","v":{"$error":"#REF!"}},{"$f":"IF(入力シート!#REF!=\"\",\"\",入力シート!#REF!)","v":{"$error":"#REF!"}},{"$f":"IF(入力シート!#REF!=\"\",\"\",入力シート!#REF!)","v":{"$error":"#REF!"}},{"$f":"IF(入力シート!#REF!=\"\",\"\",入力シート!#REF!)","v":{"$error":"#REF!"}},{"$f":"IF(入力シート!#REF!=\"\",\"\",入力シート!#REF!)","v":{"$error":"#REF!"}},{"$f":"IF(入力シート!#REF!=\"\",\"\",入力シート!#REF!)","v":{"$error":"#REF!"}},{"$f":"IF(入力シート!#REF!=\"\",\"\",入力シート!#REF!)","v":{"$error":"#REF!"}},{"$f":"IF(入力シート!#REF!=\"\",\"\",入力シート!#REF!)","v":{"$error":"#REF!"}},{"$f":"IF(入力シート!#REF!=\"\",\"\",入力シート!#REF!)","v":{"$error":"#REF!"}},{"$f":"IF(入力シート!#REF!=\"\",\"\",入力シート!#REF!)","v":{"$error":"#REF!"}},null,null,{"$f":"IF(入力シート!H297=\"\",\"\",\"〇\")","v":""},{"$f":"IF(入力シート!#REF!=\"\",\"\",入力シート!#REF!)","v":{"$error":"#REF!"}},{"$f":"IF(入力シート!#REF!=\"\",\"\",入力シート!#REF!)","v":{"$error":"#REF!"}},{"$f":"IF(入力シート!#REF!=\"\",\"\",入力シート!#REF!)","v":{"$error":"#REF!"}},{"$f":"IF(入力シート!#REF!=\"\",\"\",入力シート!#REF!)","v":{"$error":"#REF!"}}]
[{"$f":"IF(入力シート!#REF!=\"\",\"\",入力シート!#REF!)","v":{"$error":"#REF!"}},{"$f":"IF(入力シート!#REF!=\"\",\"\",入力シート!#REF!)","v":{"$error":"#REF!"}},{"$f":"IF(入力シート!#REF!=\"\",\"\",DBCS(入力シート!#REF!))","v":{"$error":"#REF!"}},{"$f":"IF(入力シート!#REF!=\"\",\"\",DBCS(入力シート!#REF!))","v":{"$error":"#REF!"}},{"$f":"ASC(IF(入力シート!#REF!=\"\",\"\",UPPER(入力シート!#REF!)))","v":{"$error":"#REF!"}},{"$f":"IF(入力シート!#REF!=\"\",\"\",PROPER(入力シート!#REF!))","v":{"$error":"#REF!"}},{"$f":"IF(入力シート!#REF!=\"\",\"\",入力シート!#REF!)","v":{"$error":"#REF!"}},{"$f":"IF(入力シート!#REF!=\"\",\"\",TEXT(入力シート!#REF!,\"yyyy/mm/dd\"))","v":{"$error":"#REF!"}},{"$f":"IF(入力シート!#REF!=\"\",\"\",入力シート!#REF!)","v":{"$error":"#REF!"}},{"$f":"IF(入力シート!#REF!=\"\",\"\",入力シート!#REF!)","v":{"$error":"#REF!"}},{"$f":"IF(入力シート!#REF!=\"\",\"\",入力シート!#REF!)","v":{"$error":"#REF!"}},{"$f":"IF(入力シート!#REF!=\"\",\"\",入力シート!#REF!)","v":{"$error":"#REF!"}},{"$f":"IF(入力シート!#REF!=\"\",\"\",入力シート!#REF!)","v":{"$error":"#REF!"}},{"$f":"IF(入力シート!#REF!=\"\",\"\",入力シート!#REF!)","v":{"$error":"#REF!"}},null,{"$f":"IF(入力シート!#REF!=\"\",\"\",入力シート!#REF!)","v":{"$error":"#REF!"}},{"$f":"IF(入力シート!#REF!=\"\",\"\",入力シート!#REF!)","v":{"$error":"#REF!"}},{"$f":"IF(入力シート!#REF!=\"\",\"\",入力シート!#REF!)","v":{"$error":"#REF!"}},{"$f":"IF(入力シート!#REF!=\"\",\"\",入力シート!#REF!)","v":{"$error":"#REF!"}},{"$f":"IF(入力シート!#REF!=\"\",\"\",入力シート!#REF!)","v":{"$error":"#REF!"}},{"$f":"IF(入力シート!#REF!=\"\",\"\",入力シート!#REF!)","v":{"$error":"#REF!"}},{"$f":"IF(入力シート!#REF!=\"\",\"\",入力シート!#REF!)","v":{"$error":"#REF!"}},{"$f":"IF(入力シート!#REF!=\"\",\"\",入力シート!#REF!)","v":{"$error":"#REF!"}},{"$f":"IF(入力シート!#REF!=\"\",\"\",入力シート!#REF!)","v":{"$error":"#REF!"}},{"$f":"IF(入力シート!#REF!=\"\",\"\",入力シート!#REF!)","v":{"$error":"#REF!"}},{"$f":"IF(入力シート!#REF!=\"\",\"\",入力シート!#REF!)","v":{"$error":"#REF!"}},null,null,{"$f":"IF(入力シート!H298=\"\",\"\",\"〇\")","v":""},{"$f":"IF(入力シート!#REF!=\"\",\"\",入力シート!#REF!)","v":{"$error":"#REF!"}},{"$f":"IF(入力シート!#REF!=\"\",\"\",入力シート!#REF!)","v":{"$error":"#REF!"}},{"$f":"IF(入力シート!#REF!=\"\",\"\",入力シート!#REF!)","v":{"$error":"#REF!"}},{"$f":"IF(入力シート!#REF!=\"\",\"\",入力シート!#REF!)","v":{"$error":"#REF!"}}]
[{"$f":"IF(入力シート!#REF!=\"\",\"\",入力シート!#REF!)","v":{"$error":"#REF!"}},{"$f":"IF(入力シート!#REF!=\"\",\"\",入力シート!#REF!)","v":{"$error":"#REF!"}},{"$f":"IF(入力シート!#REF!=\"\",\"\",DBCS(入力シート!#REF!))","v":{"$error":"#REF!"}},{"$f":"IF(入力シート!#REF!=\"\",\"\",DBCS(入力シート!#REF!))","v":{"$error":"#REF!"}},{"$f":"ASC(IF(入力シート!#REF!=\"\",\"\",UPPER(入力シート!#REF!)))","v":{"$error":"#REF!"}},{"$f":"IF(入力シート!#REF!=\"\",\"\",PROPER(入力シート!#REF!))","v":{"$error":"#REF!"}},{"$f":"IF(入力シート!#REF!=\"\",\"\",入力シート!#REF!)","v":{"$error":"#REF!"}},{"$f":"IF(入力シート!#REF!=\"\",\"\",TEXT(入力シート!#REF!,\"yyyy/mm/dd\"))","v":{"$error":"#REF!"}},{"$f":"IF(入力シート!#REF!=\"\",\"\",入力シート!#REF!)","v":{"$error":"#REF!"}},{"$f":"IF(入力シート!#REF!=\"\",\"\",入力シート!#REF!)","v":{"$error":"#REF!"}},{"$f":"IF(入力シート!#REF!=\"\",\"\",入力シート!#REF!)","v":{"$error":"#REF!"}},{"$f":"IF(入力シート!#REF!=\"\",\"\",入力シート!#REF!)","v":{"$error":"#REF!"}},{"$f":"IF(入力シート!#REF!=\"\",\"\",入力シート!#REF!)","v":{"$error":"#REF!"}},{"$f":"IF(入力シート!#REF!=\"\",\"\",入力シート!#REF!)","v":{"$error":"#REF!"}},null,{"$f":"IF(入力シート!#REF!=\"\",\"\",入力シート!#REF!)","v":{"$error":"#REF!"}},{"$f":"IF(入力シート!#REF!=\"\",\"\",入力シート!#REF!)","v":{"$error":"#REF!"}},{"$f":"IF(入力シート!#REF!=\"\",\"\",入力シート!#REF!)","v":{"$error":"#REF!"}},{"$f":"IF(入力シート!#REF!=\"\",\"\",入力シート!#REF!)","v":{"$error":"#REF!"}},{"$f":"IF(入力シート!#REF!=\"\",\"\",入力シート!#REF!)","v":{"$error":"#REF!"}},{"$f":"IF(入力シート!#REF!=\"\",\"\",入力シート!#REF!)","v":{"$error":"#REF!"}},{"$f":"IF(入力シート!#REF!=\"\",\"\",入力シート!#REF!)","v":{"$error":"#REF!"}},{"$f":"IF(入力シート!#REF!=\"\",\"\",入力シート!#REF!)","v":{"$error":"#REF!"}},{"$f":"IF(入力シート!#REF!=\"\",\"\",入力シート!#REF!)","v":{"$error":"#REF!"}},{"$f":"IF(入力シート!#REF!=\"\",\"\",入力シート!#REF!)","v":{"$error":"#REF!"}},{"$f":"IF(入力シート!#REF!=\"\",\"\",入力シート!#REF!)","v":{"$error":"#REF!"}},null,null,{"$f":"IF(入力シート!H299=\"\",\"\",\"〇\")","v":""},{"$f":"IF(入力シート!#REF!=\"\",\"\",入力シート!#REF!)","v":{"$error":"#REF!"}},{"$f":"IF(入力シート!#REF!=\"\",\"\",入力シート!#REF!)","v":{"$error":"#REF!"}},{"$f":"IF(入力シート!#REF!=\"\",\"\",入力シート!#REF!)","v":{"$error":"#REF!"}},{"$f":"IF(入力シート!#REF!=\"\",\"\",入力シート!#REF!)","v":{"$error":"#REF!"}}]
[{"$f":"IF(入力シート!#REF!=\"\",\"\",入力シート!#REF!)","v":{"$error":"#REF!"}},{"$f":"IF(入力シート!#REF!=\"\",\"\",入力シート!#REF!)","v":{"$error":"#REF!"}},{"$f":"IF(入力シート!#REF!=\"\",\"\",DBCS(入力シート!#REF!))","v":{"$error":"#REF!"}},{"$f":"IF(入力シート!#REF!=\"\",\"\",DBCS(入力シート!#REF!))","v":{"$error":"#REF!"}},{"$f":"ASC(IF(入力シート!#REF!=\"\",\"\",UPPER(入力シート!#REF!)))","v":{"$error":"#REF!"}},{"$f":"IF(入力シート!#REF!=\"\",\"\",PROPER(入力シート!#REF!))","v":{"$error":"#REF!"}},{"$f":"IF(入力シート!#REF!=\"\",\"\",入力シート!#REF!)","v":{"$error":"#REF!"}},{"$f":"IF(入力シート!#REF!=\"\",\"\",TEXT(入力シート!#REF!,\"yyyy/mm/dd\"))","v":{"$error":"#REF!"}},{"$f":"IF(入力シート!#REF!=\"\",\"\",入力シート!#REF!)","v":{"$error":"#REF!"}},{"$f":"IF(入力シート!#REF!=\"\",\"\",入力シート!#REF!)","v":{"$error":"#REF!"}},{"$f":"IF(入力シート!#REF!=\"\",\"\",入力シート!#REF!)","v":{"$error":"#REF!"}},{"$f":"IF(入力シート!#REF!=\"\",\"\",入力シート!#REF!)","v":{"$error":"#REF!"}},{"$f":"IF(入力シート!#REF!=\"\",\"\",入力シート!#REF!)","v":{"$error":"#REF!"}},{"$f":"IF(入力シート!#REF!=\"\",\"\",入力シート!#REF!)","v":{"$error":"#REF!"}},null,{"$f":"IF(入力シート!#REF!=\"\",\"\",入力シート!#REF!)","v":{"$error":"#REF!"}},{"$f":"IF(入力シート!#REF!=\"\",\"\",入力シート!#REF!)","v":{"$error":"#REF!"}},{"$f":"IF(入力シート!#REF!=\"\",\"\",入力シート!#REF!)","v":{"$error":"#REF!"}},{"$f":"IF(入力シート!#REF!=\"\",\"\",入力シート!#REF!)","v":{"$error":"#REF!"}},{"$f":"IF(入力シート!#REF!=\"\",\"\",入力シート!#REF!)","v":{"$error":"#REF!"}},{"$f":"IF(入力シート!#REF!=\"\",\"\",入力シート!#REF!)","v":{"$error":"#REF!"}},{"$f":"IF(入力シート!#REF!=\"\",\"\",入力シート!#REF!)","v":{"$error":"#REF!"}},{"$f":"IF(入力シート!#REF!=\"\",\"\",入力シート!#REF!)","v":{"$error":"#REF!"}},{"$f":"IF(入力シート!#REF!=\"\",\"\",入力シート!#REF!)","v":{"$error":"#REF!"}},{"$f":"IF(入力シート!#REF!=\"\",\"\",入力シート!#REF!)","v":{"$error":"#REF!"}},{"$f":"IF(入力シート!#REF!=\"\",\"\",入力シート!#REF!)","v":{"$error":"#REF!"}},null,null,{"$f":"IF(入力シート!H300=\"\",\"\",\"〇\")","v":""},{"$f":"IF(入力シート!#REF!=\"\",\"\",入力シート!#REF!)","v":{"$error":"#REF!"}},{"$f":"IF(入力シート!#REF!=\"\",\"\",入力シート!#REF!)","v":{"$error":"#REF!"}},{"$f":"IF(入力シート!#REF!=\"\",\"\",入力シート!#REF!)","v":{"$error":"#REF!"}},{"$f":"IF(入力シート!#REF!=\"\",\"\",入力シート!#REF!)","v":{"$error":"#REF!"}}]
[{"$f":"IF(入力シート!#REF!=\"\",\"\",入力シート!#REF!)","v":{"$error":"#REF!"}},{"$f":"IF(入力シート!#REF!=\"\",\"\",入力シート!#REF!)","v":{"$error":"#REF!"}},{"$f":"IF(入力シート!#REF!=\"\",\"\",DBCS(入力シート!#REF!))","v":{"$error":"#REF!"}},{"$f":"IF(入力シート!#REF!=\"\",\"\",DBCS(入力シート!#REF!))","v":{"$error":"#REF!"}},{"$f":"ASC(IF(入力シート!#REF!=\"\",\"\",UPPER(入力シート!#REF!)))","v":{"$error":"#REF!"}},{"$f":"IF(入力シート!#REF!=\"\",\"\",PROPER(入力シート!#REF!))","v":{"$error":"#REF!"}},{"$f":"IF(入力シート!#REF!=\"\",\"\",入力シート!#REF!)","v":{"$error":"#REF!"}},{"$f":"IF(入力シート!#REF!=\"\",\"\",TEXT(入力シート!#REF!,\"yyyy/mm/dd\"))","v":{"$error":"#REF!"}},{"$f":"IF(入力シート!#REF!=\"\",\"\",入力シート!#REF!)","v":{"$error":"#REF!"}},{"$f":"IF(入力シート!#REF!=\"\",\"\",入力シート!#REF!)","v":{"$error":"#REF!"}},{"$f":"IF(入力シート!#REF!=\"\",\"\",入力シート!#REF!)","v":{"$error":"#REF!"}},{"$f":"IF(入力シート!#REF!=\"\",\"\",入力シート!#REF!)","v":{"$error":"#REF!"}},{"$f":"IF(入力シート!#REF!=\"\",\"\",入力シート!#REF!)","v":{"$error":"#REF!"}},{"$f":"IF(入力シート!#REF!=\"\",\"\",入力シート!#REF!)","v":{"$error":"#REF!"}},null,{"$f":"IF(入力シート!#REF!=\"\",\"\",入力シート!#REF!)","v":{"$error":"#REF!"}},{"$f":"IF(入力シート!#REF!=\"\",\"\",入力シート!#REF!)","v":{"$error":"#REF!"}},{"$f":"IF(入力シート!#REF!=\"\",\"\",入力シート!#REF!)","v":{"$error":"#REF!"}},{"$f":"IF(入力シート!#REF!=\"\",\"\",入力シート!#REF!)","v":{"$error":"#REF!"}},{"$f":"IF(入力シート!#REF!=\"\",\"\",入力シート!#REF!)","v":{"$error":"#REF!"}},{"$f":"IF(入力シート!#REF!=\"\",\"\",入力シート!#REF!)","v":{"$error":"#REF!"}},{"$f":"IF(入力シート!#REF!=\"\",\"\",入力シート!#REF!)","v":{"$error":"#REF!"}},{"$f":"IF(入力シート!#REF!=\"\",\"\",入力シート!#REF!)","v":{"$error":"#REF!"}},{"$f":"IF(入力シート!#REF!=\"\",\"\",入力シート!#REF!)","v":{"$error":"#REF!"}},{"$f":"IF(入力シート!#REF!=\"\",\"\",入力シート!#REF!)","v":{"$error":"#REF!"}},{"$f":"IF(入力シート!#REF!=\"\",\"\",入力シート!#REF!)","v":{"$error":"#REF!"}},null,null,{"$f":"IF(入力シート!H301=\"\",\"\",\"〇\")","v":""},{"$f":"IF(入力シート!#REF!=\"\",\"\",入力シート!#REF!)","v":{"$error":"#REF!"}},{"$f":"IF(入力シート!#REF!=\"\",\"\",入力シート!#REF!)","v":{"$error":"#REF!"}},{"$f":"IF(入力シート!#REF!=\"\",\"\",入力シート!#REF!)","v":{"$error":"#REF!"}},{"$f":"IF(入力シート!#REF!=\"\",\"\",入力シート!#REF!)","v":{"$error":"#REF!"}}]
[{"$f":"IF(入力シート!#REF!=\"\",\"\",入力シート!#REF!)","v":{"$error":"#REF!"}},{"$f":"IF(入力シート!#REF!=\"\",\"\",入力シート!#REF!)","v":{"$error":"#REF!"}},{"$f":"IF(入力シート!#REF!=\"\",\"\",DBCS(入力シート!#REF!))","v":{"$error":"#REF!"}},{"$f":"IF(入力シート!#REF!=\"\",\"\",DBCS(入力シート!#REF!))","v":{"$error":"#REF!"}},{"$f":"ASC(IF(入力シート!#REF!=\"\",\"\",UPPER(入力シート!#REF!)))","v":{"$error":"#REF!"}},{"$f":"IF(入力シート!#REF!=\"\",\"\",PROPER(入力シート!#REF!))","v":{"$error":"#REF!"}},{"$f":"IF(入力シート!#REF!=\"\",\"\",入力シート!#REF!)","v":{"$error":"#REF!"}},{"$f":"IF(入力シート!#REF!=\"\",\"\",TEXT(入力シート!#REF!,\"yyyy/mm/dd\"))","v":{"$error":"#REF!"}},{"$f":"IF(入力シート!#REF!=\"\",\"\",入力シート!#REF!)","v":{"$error":"#REF!"}},{"$f":"IF(入力シート!#REF!=\"\",\"\",入力シート!#REF!)","v":{"$error":"#REF!"}},{"$f":"IF(入力シート!#REF!=\"\",\"\",入力シート!#REF!)","v":{"$error":"#REF!"}},{"$f":"IF(入力シート!#REF!=\"\",\"\",入力シート!#REF!)","v":{"$error":"#REF!"}},{"$f":"IF(入力シート!#REF!=\"\",\"\",入力シート!#REF!)","v":{"$error":"#REF!"}},{"$f":"IF(入力シート!#REF!=\"\",\"\",入力シート!#REF!)","v":{"$error":"#REF!"}},null,{"$f":"IF(入力シート!#REF!=\"\",\"\",入力シート!#REF!)","v":{"$error":"#REF!"}},{"$f":"IF(入力シート!#REF!=\"\",\"\",入力シート!#REF!)","v":{"$error":"#REF!"}},{"$f":"IF(入力シート!#REF!=\"\",\"\",入力シート!#REF!)","v":{"$error":"#REF!"}},{"$f":"IF(入力シート!#REF!=\"\",\"\",入力シート!#REF!)","v":{"$error":"#REF!"}},{"$f":"IF(入力シート!#REF!=\"\",\"\",入力シート!#REF!)","v":{"$error":"#REF!"}},{"$f":"IF(入力シート!#REF!=\"\",\"\",入力シート!#REF!)","v":{"$error":"#REF!"}},{"$f":"IF(入力シート!#REF!=\"\",\"\",入力シート!#REF!)","v":{"$error":"#REF!"}},{"$f":"IF(入力シート!#REF!=\"\",\"\",入力シート!#REF!)","v":{"$error":"#REF!"}},{"$f":"IF(入力シート!#REF!=\"\",\"\",入力シート!#REF!)","v":{"$error":"#REF!"}},{"$f":"IF(入力シート!#REF!=\"\",\"\",入力シート!#REF!)","v":{"$error":"#REF!"}},{"$f":"IF(入力シート!#REF!=\"\",\"\",入力シート!#REF!)","v":{"$error":"#REF!"}},null,null,{"$f":"IF(入力シート!H302=\"\",\"\",\"〇\")","v":""},{"$f":"IF(入力シート!#REF!=\"\",\"\",入力シート!#REF!)","v":{"$error":"#REF!"}},{"$f":"IF(入力シート!#REF!=\"\",\"\",入力シート!#REF!)","v":{"$error":"#REF!"}},{"$f":"IF(入力シート!#REF!=\"\",\"\",入力シート!#REF!)","v":{"$error":"#REF!"}},{"$f":"IF(入力シート!#REF!=\"\",\"\",入力シート!#REF!)","v":{"$error":"#REF!"}}]
[{"$f":"IF(入力シート!#REF!=\"\",\"\",入力シート!#REF!)","v":{"$error":"#REF!"}},{"$f":"IF(入力シート!#REF!=\"\",\"\",入力シート!#REF!)","v":{"$error":"#REF!"}},{"$f":"IF(入力シート!#REF!=\"\",\"\",DBCS(入力シート!#REF!))","v":{"$error":"#REF!"}},{"$f":"IF(入力シート!#REF!=\"\",\"\",DBCS(入力シート!#REF!))","v":{"$error":"#REF!"}},{"$f":"ASC(IF(入力シート!#REF!=\"\",\"\",UPPER(入力シート!#REF!)))","v":{"$error":"#REF!"}},{"$f":"IF(入力シート!#REF!=\"\",\"\",PROPER(入力シート!#REF!))","v":{"$error":"#REF!"}},{"$f":"IF(入力シート!#REF!=\"\",\"\",入力シート!#REF!)","v":{"$error":"#REF!"}},{"$f":"IF(入力シート!#REF!=\"\",\"\",TEXT(入力シート!#REF!,\"yyyy/mm/dd\"))","v":{"$error":"#REF!"}},{"$f":"IF(入力シート!#REF!=\"\",\"\",入力シート!#REF!)","v":{"$error":"#REF!"}},{"$f":"IF(入力シート!#REF!=\"\",\"\",入力シート!#REF!)","v":{"$error":"#REF!"}},{"$f":"IF(入力シート!#REF!=\"\",\"\",入力シート!#REF!)","v":{"$error":"#REF!"}},{"$f":"IF(入力シート!#REF!=\"\",\"\",入力シート!#REF!)","v":{"$error":"#REF!"}},{"$f":"IF(入力シート!#REF!=\"\",\"\",入力シート!#REF!)","v":{"$error":"#REF!"}},{"$f":"IF(入力シート!#REF!=\"\",\"\",入力シート!#REF!)","v":{"$error":"#REF!"}},null,{"$f":"IF(入力シート!#REF!=\"\",\"\",入力シート!#REF!)","v":{"$error":"#REF!"}},{"$f":"IF(入力シート!#REF!=\"\",\"\",入力シート!#REF!)","v":{"$error":"#REF!"}},{"$f":"IF(入力シート!#REF!=\"\",\"\",入力シート!#REF!)","v":{"$error":"#REF!"}},{"$f":"IF(入力シート!#REF!=\"\",\"\",入力シート!#REF!)","v":{"$error":"#REF!"}},{"$f":"IF(入力シート!#REF!=\"\",\"\",入力シート!#REF!)","v":{"$error":"#REF!"}},{"$f":"IF(入力シート!#REF!=\"\",\"\",入力シート!#REF!)","v":{"$error":"#REF!"}},{"$f":"IF(入力シート!#REF!=\"\",\"\",入力シート!#REF!)","v":{"$error":"#REF!"}},{"$f":"IF(入力シート!#REF!=\"\",\"\",入力シート!#REF!)","v":{"$error":"#REF!"}},{"$f":"IF(入力シート!#REF!=\"\",\"\",入力シート!#REF!)","v":{"$error":"#REF!"}},{"$f":"IF(入力シート!#REF!=\"\",\"\",入力シート!#REF!)","v":{"$error":"#REF!"}},{"$f":"IF(入力シート!#REF!=\"\",\"\",入力シート!#REF!)","v":{"$error":"#REF!"}},null,null,{"$f":"IF(入力シート!H303=\"\",\"\",\"〇\")","v":""},{"$f":"IF(入力シート!#REF!=\"\",\"\",入力シート!#REF!)","v":{"$error":"#REF!"}},{"$f":"IF(入力シート!#REF!=\"\",\"\",入力シート!#REF!)","v":{"$error":"#REF!"}},{"$f":"IF(入力シート!#REF!=\"\",\"\",入力シート!#REF!)","v":{"$error":"#REF!"}},{"$f":"IF(入力シート!#REF!=\"\",\"\",入力シート!#REF!)","v":{"$error":"#REF!"}}]
[{"$f":"IF(入力シート!#REF!=\"\",\"\",入力シート!#REF!)","v":{"$error":"#REF!"}},{"$f":"IF(入力シート!#REF!=\"\",\"\",入力シート!#REF!)","v":{"$error":"#REF!"}},{"$f":"IF(入力シート!#REF!=\"\",\"\",DBCS(入力シート!#REF!))","v":{"$error":"#REF!"}},{"$f":"IF(入力シート!#REF!=\"\",\"\",DBCS(入力シート!#REF!))","v":{"$error":"#REF!"}},{"$f":"ASC(IF(入力シート!#REF!=\"\",\"\",UPPER(入力シート!#REF!)))","v":{"$error":"#REF!"}},{"$f":"IF(入力シート!#REF!=\"\",\"\",PROPER(入力シート!#REF!))","v":{"$error":"#REF!"}},{"$f":"IF(入力シート!#REF!=\"\",\"\",入力シート!#REF!)","v":{"$error":"#REF!"}},{"$f":"IF(入力シート!#REF!=\"\",\"\",TEXT(入力シート!#REF!,\"yyyy/mm/dd\"))","v":{"$error":"#REF!"}},{"$f":"IF(入力シート!#REF!=\"\",\"\",入力シート!#REF!)","v":{"$error":"#REF!"}},{"$f":"IF(入力シート!#REF!=\"\",\"\",入力シート!#REF!)","v":{"$error":"#REF!"}},{"$f":"IF(入力シート!#REF!=\"\",\"\",入力シート!#REF!)","v":{"$error":"#REF!"}},{"$f":"IF(入力シート!#REF!=\"\",\"\",入力シート!#REF!)","v":{"$error":"#REF!"}},{"$f":"IF(入力シート!#REF!=\"\",\"\",入力シート!#REF!)","v":{"$error":"#REF!"}},{"$f":"IF(入力シート!#REF!=\"\",\"\",入力シート!#REF!)","v":{"$error":"#REF!"}},null,{"$f":"IF(入力シート!#REF!=\"\",\"\",入力シート!#REF!)","v":{"$error":"#REF!"}},{"$f":"IF(入力シート!#REF!=\"\",\"\",入力シート!#REF!)","v":{"$error":"#REF!"}},{"$f":"IF(入力シート!#REF!=\"\",\"\",入力シート!#REF!)","v":{"$error":"#REF!"}},{"$f":"IF(入力シート!#REF!=\"\",\"\",入力シート!#REF!)","v":{"$error":"#REF!"}},{"$f":"IF(入力シート!#REF!=\"\",\"\",入力シート!#REF!)","v":{"$error":"#REF!"}},{"$f":"IF(入力シート!#REF!=\"\",\"\",入力シート!#REF!)","v":{"$error":"#REF!"}},{"$f":"IF(入力シート!#REF!=\"\",\"\",入力シート!#REF!)","v":{"$error":"#REF!"}},{"$f":"IF(入力シート!#REF!=\"\",\"\",入力シート!#REF!)","v":{"$error":"#REF!"}},{"$f":"IF(入力シート!#REF!=\"\",\"\",入力シート!#REF!)","v":{"$error":"#REF!"}},{"$f":"IF(入力シート!#REF!=\"\",\"\",入力シート!#REF!)","v":{"$error":"#REF!"}},{"$f":"IF(入力シート!#REF!=\"\",\"\",入力シート!#REF!)","v":{"$error":"#REF!"}},null,null,{"$f":"IF(入力シート!H304=\"\",\"\",\"〇\")","v":""},{"$f":"IF(入力シート!#REF!=\"\",\"\",入力シート!#REF!)","v":{"$error":"#REF!"}},{"$f":"IF(入力シート!#REF!=\"\",\"\",入力シート!#REF!)","v":{"$error":"#REF!"}},{"$f":"IF(入力シート!#REF!=\"\",\"\",入力シート!#REF!)","v":{"$error":"#REF!"}},{"$f":"IF(入力シート!#REF!=\"\",\"\",入力シート!#REF!)","v":{"$error":"#REF!"}}]
[{"$f":"IF(入力シート!#REF!=\"\",\"\",入力シート!#REF!)","v":{"$error":"#REF!"}},{"$f":"IF(入力シート!#REF!=\"\",\"\",入力シート!#REF!)","v":{"$error":"#REF!"}},{"$f":"IF(入力シート!#REF!=\"\",\"\",DBCS(入力シート!#REF!))","v":{"$error":"#REF!"}},{"$f":"IF(入力シート!#REF!=\"\",\"\",DBCS(入力シート!#REF!))","v":{"$error":"#REF!"}},{"$f":"ASC(IF(入力シート!#REF!=\"\",\"\",UPPER(入力シート!#REF!)))","v":{"$error":"#REF!"}},{"$f":"IF(入力シート!#REF!=\"\",\"\",PROPER(入力シート!#REF!))","v":{"$error":"#REF!"}},{"$f":"IF(入力シート!#REF!=\"\",\"\",入力シート!#REF!)","v":{"$error":"#REF!"}},{"$f":"IF(入力シート!#REF!=\"\",\"\",TEXT(入力シート!#REF!,\"yyyy/mm/dd\"))","v":{"$error":"#REF!"}},{"$f":"IF(入力シート!#REF!=\"\",\"\",入力シート!#REF!)","v":{"$error":"#REF!"}},{"$f":"IF(入力シート!#REF!=\"\",\"\",入力シート!#REF!)","v":{"$error":"#REF!"}},{"$f":"IF(入力シート!#REF!=\"\",\"\",入力シート!#REF!)","v":{"$error":"#REF!"}},{"$f":"IF(入力シート!#REF!=\"\",\"\",入力シート!#REF!)","v":{"$error":"#REF!"}},{"$f":"IF(入力シート!#REF!=\"\",\"\",入力シート!#REF!)","v":{"$error":"#REF!"}},{"$f":"IF(入力シート!#REF!=\"\",\"\",入力シート!#REF!)","v":{"$error":"#REF!"}},null,{"$f":"IF(入力シート!#REF!=\"\",\"\",入力シート!#REF!)","v":{"$error":"#REF!"}},{"$f":"IF(入力シート!#REF!=\"\",\"\",入力シート!#REF!)","v":{"$error":"#REF!"}},{"$f":"IF(入力シート!#REF!=\"\",\"\",入力シート!#REF!)","v":{"$error":"#REF!"}},{"$f":"IF(入力シート!#REF!=\"\",\"\",入力シート!#REF!)","v":{"$error":"#REF!"}},{"$f":"IF(入力シート!#REF!=\"\",\"\",入力シート!#REF!)","v":{"$error":"#REF!"}},{"$f":"IF(入力シート!#REF!=\"\",\"\",入力シート!#REF!)","v":{"$error":"#REF!"}},{"$f":"IF(入力シート!#REF!=\"\",\"\",入力シート!#REF!)","v":{"$error":"#REF!"}},{"$f":"IF(入力シート!#REF!=\"\",\"\",入力シート!#REF!)","v":{"$error":"#REF!"}},{"$f":"IF(入力シート!#REF!=\"\",\"\",入力シート!#REF!)","v":{"$error":"#REF!"}},{"$f":"IF(入力シート!#REF!=\"\",\"\",入力シート!#REF!)","v":{"$error":"#REF!"}},{"$f":"IF(入力シート!#REF!=\"\",\"\",入力シート!#REF!)","v":{"$error":"#REF!"}},null,null,{"$f":"IF(入力シート!H305=\"\",\"\",\"〇\")","v":""},{"$f":"IF(入力シート!#REF!=\"\",\"\",入力シート!#REF!)","v":{"$error":"#REF!"}},{"$f":"IF(入力シート!#REF!=\"\",\"\",入力シート!#REF!)","v":{"$error":"#REF!"}},{"$f":"IF(入力シート!#REF!=\"\",\"\",入力シート!#REF!)","v":{"$error":"#REF!"}},{"$f":"IF(入力シート!#REF!=\"\",\"\",入力シート!#REF!)","v":{"$error":"#REF!"}}]
[{"$f":"IF(入力シート!#REF!=\"\",\"\",入力シート!#REF!)","v":{"$error":"#REF!"}},{"$f":"IF(入力シート!#REF!=\"\",\"\",入力シート!#REF!)","v":{"$error":"#REF!"}},{"$f":"IF(入力シート!#REF!=\"\",\"\",DBCS(入力シート!#REF!))","v":{"$error":"#REF!"}},{"$f":"IF(入力シート!#REF!=\"\",\"\",DBCS(入力シート!#REF!))","v":{"$error":"#REF!"}},{"$f":"ASC(IF(入力シート!#REF!=\"\",\"\",UPPER(入力シート!#REF!)))","v":{"$error":"#REF!"}},{"$f":"IF(入力シート!#REF!=\"\",\"\",PROPER(入力シート!#REF!))","v":{"$error":"#REF!"}},{"$f":"IF(入力シート!#REF!=\"\",\"\",入力シート!#REF!)","v":{"$error":"#REF!"}},{"$f":"IF(入力シート!#REF!=\"\",\"\",TEXT(入力シート!#REF!,\"yyyy/mm/dd\"))","v":{"$error":"#REF!"}},{"$f":"IF(入力シート!#REF!=\"\",\"\",入力シート!#REF!)","v":{"$error":"#REF!"}},{"$f":"IF(入力シート!#REF!=\"\",\"\",入力シート!#REF!)","v":{"$error":"#REF!"}},{"$f":"IF(入力シート!#REF!=\"\",\"\",入力シート!#REF!)","v":{"$error":"#REF!"}},{"$f":"IF(入力シート!#REF!=\"\",\"\",入力シート!#REF!)","v":{"$error":"#REF!"}},{"$f":"IF(入力シート!#REF!=\"\",\"\",入力シート!#REF!)","v":{"$error":"#REF!"}},{"$f":"IF(入力シート!#REF!=\"\",\"\",入力シート!#REF!)","v":{"$error":"#REF!"}},null,{"$f":"IF(入力シート!#REF!=\"\",\"\",入力シート!#REF!)","v":{"$error":"#REF!"}},{"$f":"IF(入力シート!#REF!=\"\",\"\",入力シート!#REF!)","v":{"$error":"#REF!"}},{"$f":"IF(入力シート!#REF!=\"\",\"\",入力シート!#REF!)","v":{"$error":"#REF!"}},{"$f":"IF(入力シート!#REF!=\"\",\"\",入力シート!#REF!)","v":{"$error":"#REF!"}},{"$f":"IF(入力シート!#REF!=\"\",\"\",入力シート!#REF!)","v":{"$error":"#REF!"}},{"$f":"IF(入力シート!#REF!=\"\",\"\",入力シート!#REF!)","v":{"$error":"#REF!"}},{"$f":"IF(入力シート!#REF!=\"\",\"\",入力シート!#REF!)","v":{"$error":"#REF!"}},{"$f":"IF(入力シート!#REF!=\"\",\"\",入力シート!#REF!)","v":{"$error":"#REF!"}},{"$f":"IF(入力シート!#REF!=\"\",\"\",入力シート!#REF!)","v":{"$error":"#REF!"}},{"$f":"IF(入力シート!#REF!=\"\",\"\",入力シート!#REF!)","v":{"$error":"#REF!"}},{"$f":"IF(入力シート!#REF!=\"\",\"\",入力シート!#REF!)","v":{"$error":"#REF!"}},null,null,{"$f":"IF(入力シート!H306=\"\",\"\",\"〇\")","v":""},{"$f":"IF(入力シート!#REF!=\"\",\"\",入力シート!#REF!)","v":{"$error":"#REF!"}},{"$f":"IF(入力シート!#REF!=\"\",\"\",入力シート!#REF!)","v":{"$error":"#REF!"}},{"$f":"IF(入力シート!#REF!=\"\",\"\",入力シート!#REF!)","v":{"$error":"#REF!"}},{"$f":"IF(入力シート!#REF!=\"\",\"\",入力シート!#REF!)","v":{"$error":"#REF!"}}]
[{"$f":"IF(入力シート!#REF!=\"\",\"\",入力シート!#REF!)","v":{"$error":"#REF!"}},{"$f":"IF(入力シート!#REF!=\"\",\"\",入力シート!#REF!)","v":{"$error":"#REF!"}},{"$f":"IF(入力シート!#REF!=\"\",\"\",DBCS(入力シート!#REF!))","v":{"$error":"#REF!"}},{"$f":"IF(入力シート!#REF!=\"\",\"\",DBCS(入力シート!#REF!))","v":{"$error":"#REF!"}},{"$f":"ASC(IF(入力シート!#REF!=\"\",\"\",UPPER(入力シート!#REF!)))","v":{"$error":"#REF!"}},{"$f":"IF(入力シート!#REF!=\"\",\"\",PROPER(入力シート!#REF!))","v":{"$error":"#REF!"}},{"$f":"IF(入力シート!#REF!=\"\",\"\",入力シート!#REF!)","v":{"$error":"#REF!"}},{"$f":"IF(入力シート!#REF!=\"\",\"\",TEXT(入力シート!#REF!,\"yyyy/mm/dd\"))","v":{"$error":"#REF!"}},{"$f":"IF(入力シート!#REF!=\"\",\"\",入力シート!#REF!)","v":{"$error":"#REF!"}},{"$f":"IF(入力シート!#REF!=\"\",\"\",入力シート!#REF!)","v":{"$error":"#REF!"}},{"$f":"IF(入力シート!#REF!=\"\",\"\",入力シート!#REF!)","v":{"$error":"#REF!"}},{"$f":"IF(入力シート!#REF!=\"\",\"\",入力シート!#REF!)","v":{"$error":"#REF!"}},{"$f":"IF(入力シート!#REF!=\"\",\"\",入力シート!#REF!)","v":{"$error":"#REF!"}},{"$f":"IF(入力シート!#REF!=\"\",\"\",入力シート!#REF!)","v":{"$error":"#REF!"}},null,{"$f":"IF(入力シート!#REF!=\"\",\"\",入力シート!#REF!)","v":{"$error":"#REF!"}},{"$f":"IF(入力シート!#REF!=\"\",\"\",入力シート!#REF!)","v":{"$error":"#REF!"}},{"$f":"IF(入力シート!#REF!=\"\",\"\",入力シート!#REF!)","v":{"$error":"#REF!"}},{"$f":"IF(入力シート!#REF!=\"\",\"\",入力シート!#REF!)","v":{"$error":"#REF!"}},{"$f":"IF(入力シート!#REF!=\"\",\"\",入力シート!#REF!)","v":{"$error":"#REF!"}},{"$f":"IF(入力シート!#REF!=\"\",\"\",入力シート!#REF!)","v":{"$error":"#REF!"}},{"$f":"IF(入力シート!#REF!=\"\",\"\",入力シート!#REF!)","v":{"$error":"#REF!"}},{"$f":"IF(入力シート!#REF!=\"\",\"\",入力シート!#REF!)","v":{"$error":"#REF!"}},{"$f":"IF(入力シート!#REF!=\"\",\"\",入力シート!#REF!)","v":{"$error":"#REF!"}},{"$f":"IF(入力シート!#REF!=\"\",\"\",入力シート!#REF!)","v":{"$error":"#REF!"}},{"$f":"IF(入力シート!#REF!=\"\",\"\",入力シート!#REF!)","v":{"$error":"#REF!"}},null,null,{"$f":"IF(入力シート!H307=\"\",\"\",\"〇\")","v":""},{"$f":"IF(入力シート!#REF!=\"\",\"\",入力シート!#REF!)","v":{"$error":"#REF!"}},{"$f":"IF(入力シート!#REF!=\"\",\"\",入力シート!#REF!)","v":{"$error":"#REF!"}},{"$f":"IF(入力シート!#REF!=\"\",\"\",入力シート!#REF!)","v":{"$error":"#REF!"}},{"$f":"IF(入力シート!#REF!=\"\",\"\",入力シート!#REF!)","v":{"$error":"#REF!"}}]
[{"$f":"IF(入力シート!#REF!=\"\",\"\",入力シート!#REF!)","v":{"$error":"#REF!"}},{"$f":"IF(入力シート!#REF!=\"\",\"\",入力シート!#REF!)","v":{"$error":"#REF!"}},{"$f":"IF(入力シート!#REF!=\"\",\"\",DBCS(入力シート!#REF!))","v":{"$error":"#REF!"}},{"$f":"IF(入力シート!#REF!=\"\",\"\",DBCS(入力シート!#REF!))","v":{"$error":"#REF!"}},{"$f":"ASC(IF(入力シート!#REF!=\"\",\"\",UPPER(入力シート!#REF!)))","v":{"$error":"#REF!"}},{"$f":"IF(入力シート!#REF!=\"\",\"\",PROPER(入力シート!#REF!))","v":{"$error":"#REF!"}},{"$f":"IF(入力シート!#REF!=\"\",\"\",入力シート!#REF!)","v":{"$error":"#REF!"}},{"$f":"IF(入力シート!#REF!=\"\",\"\",TEXT(入力シート!#REF!,\"yyyy/mm/dd\"))","v":{"$error":"#REF!"}},{"$f":"IF(入力シート!#REF!=\"\",\"\",入力シート!#REF!)","v":{"$error":"#REF!"}},{"$f":"IF(入力シート!#REF!=\"\",\"\",入力シート!#REF!)","v":{"$error":"#REF!"}},{"$f":"IF(入力シート!#REF!=\"\",\"\",入力シート!#REF!)","v":{"$error":"#REF!"}},{"$f":"IF(入力シート!#REF!=\"\",\"\",入力シート!#REF!)","v":{"$error":"#REF!"}},{"$f":"IF(入力シート!#REF!=\"\",\"\",入力シート!#REF!)","v":{"$error":"#REF!"}},{"$f":"IF(入力シート!#REF!=\"\",\"\",入力シート!#REF!)","v":{"$error":"#REF!"}},null,{"$f":"IF(入力シート!#REF!=\"\",\"\",入力シート!#REF!)","v":{"$error":"#REF!"}},{"$f":"IF(入力シート!#REF!=\"\",\"\",入力シート!#REF!)","v":{"$error":"#REF!"}},{"$f":"IF(入力シート!#REF!=\"\",\"\",入力シート!#REF!)","v":{"$error":"#REF!"}},{"$f":"IF(入力シート!#REF!=\"\",\"\",入力シート!#REF!)","v":{"$error":"#REF!"}},{"$f":"IF(入力シート!#REF!=\"\",\"\",入力シート!#REF!)","v":{"$error":"#REF!"}},{"$f":"IF(入力シート!#REF!=\"\",\"\",入力シート!#REF!)","v":{"$error":"#REF!"}},{"$f":"IF(入力シート!#REF!=\"\",\"\",入力シート!#REF!)","v":{"$error":"#REF!"}},{"$f":"IF(入力シート!#REF!=\"\",\"\",入力シート!#REF!)","v":{"$error":"#REF!"}},{"$f":"IF(入力シート!#REF!=\"\",\"\",入力シート!#REF!)","v":{"$error":"#REF!"}},{"$f":"IF(入力シート!#REF!=\"\",\"\",入力シート!#REF!)","v":{"$error":"#REF!"}},{"$f":"IF(入力シート!#REF!=\"\",\"\",入力シート!#REF!)","v":{"$error":"#REF!"}},null,null,{"$f":"IF(入力シート!H308=\"\",\"\",\"〇\")","v":""},{"$f":"IF(入力シート!#REF!=\"\",\"\",入力シート!#REF!)","v":{"$error":"#REF!"}},{"$f":"IF(入力シート!#REF!=\"\",\"\",入力シート!#REF!)","v":{"$error":"#REF!"}},{"$f":"IF(入力シート!#REF!=\"\",\"\",入力シート!#REF!)","v":{"$error":"#REF!"}},{"$f":"IF(入力シート!#REF!=\"\",\"\",入力シート!#REF!)","v":{"$error":"#REF!"}}]
[{"$f":"IF(入力シート!#REF!=\"\",\"\",入力シート!#REF!)","v":{"$error":"#REF!"}},{"$f":"IF(入力シート!#REF!=\"\",\"\",入力シート!#REF!)","v":{"$error":"#REF!"}},{"$f":"IF(入力シート!#REF!=\"\",\"\",DBCS(入力シート!#REF!))","v":{"$error":"#REF!"}},{"$f":"IF(入力シート!#REF!=\"\",\"\",DBCS(入力シート!#REF!))","v":{"$error":"#REF!"}},{"$f":"ASC(IF(入力シート!#REF!=\"\",\"\",UPPER(入力シート!#REF!)))","v":{"$error":"#REF!"}},{"$f":"IF(入力シート!#REF!=\"\",\"\",PROPER(入力シート!#REF!))","v":{"$error":"#REF!"}},{"$f":"IF(入力シート!#REF!=\"\",\"\",入力シート!#REF!)","v":{"$error":"#REF!"}},{"$f":"IF(入力シート!#REF!=\"\",\"\",TEXT(入力シート!#REF!,\"yyyy/mm/dd\"))","v":{"$error":"#REF!"}},{"$f":"IF(入力シート!#REF!=\"\",\"\",入力シート!#REF!)","v":{"$error":"#REF!"}},{"$f":"IF(入力シート!#REF!=\"\",\"\",入力シート!#REF!)","v":{"$error":"#REF!"}},{"$f":"IF(入力シート!#REF!=\"\",\"\",入力シート!#REF!)","v":{"$error":"#REF!"}},{"$f":"IF(入力シート!#REF!=\"\",\"\",入力シート!#REF!)","v":{"$error":"#REF!"}},{"$f":"IF(入力シート!#REF!=\"\",\"\",入力シート!#REF!)","v":{"$error":"#REF!"}},{"$f":"IF(入力シート!#REF!=\"\",\"\",入力シート!#REF!)","v":{"$error":"#REF!"}},null,{"$f":"IF(入力シート!#REF!=\"\",\"\",入力シート!#REF!)","v":{"$error":"#REF!"}},{"$f":"IF(入力シート!#REF!=\"\",\"\",入力シート!#REF!)","v":{"$error":"#REF!"}},{"$f":"IF(入力シート!#REF!=\"\",\"\",入力シート!#REF!)","v":{"$error":"#REF!"}},{"$f":"IF(入力シート!#REF!=\"\",\"\",入力シート!#REF!)","v":{"$error":"#REF!"}},{"$f":"IF(入力シート!#REF!=\"\",\"\",入力シート!#REF!)","v":{"$error":"#REF!"}},{"$f":"IF(入力シート!#REF!=\"\",\"\",入力シート!#REF!)","v":{"$error":"#REF!"}},{"$f":"IF(入力シート!#REF!=\"\",\"\",入力シート!#REF!)","v":{"$error":"#REF!"}},{"$f":"IF(入力シート!#REF!=\"\",\"\",入力シート!#REF!)","v":{"$error":"#REF!"}},{"$f":"IF(入力シート!#REF!=\"\",\"\",入力シート!#REF!)","v":{"$error":"#REF!"}},{"$f":"IF(入力シート!#REF!=\"\",\"\",入力シート!#REF!)","v":{"$error":"#REF!"}},{"$f":"IF(入力シート!#REF!=\"\",\"\",入力シート!#REF!)","v":{"$error":"#REF!"}},null,null,{"$f":"IF(入力シート!H309=\"\",\"\",\"〇\")","v":""},{"$f":"IF(入力シート!#REF!=\"\",\"\",入力シート!#REF!)","v":{"$error":"#REF!"}},{"$f":"IF(入力シート!#REF!=\"\",\"\",入力シート!#REF!)","v":{"$error":"#REF!"}},{"$f":"IF(入力シート!#REF!=\"\",\"\",入力シート!#REF!)","v":{"$error":"#REF!"}},{"$f":"IF(入力シート!#REF!=\"\",\"\",入力シート!#REF!)","v":{"$error":"#REF!"}}]
[{"$f":"IF(入力シート!#REF!=\"\",\"\",入力シート!#REF!)","v":{"$error":"#REF!"}},{"$f":"IF(入力シート!#REF!=\"\",\"\",入力シート!#REF!)","v":{"$error":"#REF!"}},{"$f":"IF(入力シート!#REF!=\"\",\"\",DBCS(入力シート!#REF!))","v":{"$error":"#REF!"}},{"$f":"IF(入力シート!#REF!=\"\",\"\",DBCS(入力シート!#REF!))","v":{"$error":"#REF!"}},{"$f":"ASC(IF(入力シート!#REF!=\"\",\"\",UPPER(入力シート!#REF!)))","v":{"$error":"#REF!"}},{"$f":"IF(入力シート!#REF!=\"\",\"\",PROPER(入力シート!#REF!))","v":{"$error":"#REF!"}},{"$f":"IF(入力シート!#REF!=\"\",\"\",入力シート!#REF!)","v":{"$error":"#REF!"}},{"$f":"IF(入力シート!#REF!=\"\",\"\",TEXT(入力シート!#REF!,\"yyyy/mm/dd\"))","v":{"$error":"#REF!"}},{"$f":"IF(入力シート!#REF!=\"\",\"\",入力シート!#REF!)","v":{"$error":"#REF!"}},{"$f":"IF(入力シート!#REF!=\"\",\"\",入力シート!#REF!)","v":{"$error":"#REF!"}},{"$f":"IF(入力シート!#REF!=\"\",\"\",入力シート!#REF!)","v":{"$error":"#REF!"}},{"$f":"IF(入力シート!#REF!=\"\",\"\",入力シート!#REF!)","v":{"$error":"#REF!"}},{"$f":"IF(入力シート!#REF!=\"\",\"\",入力シート!#REF!)","v":{"$error":"#REF!"}},{"$f":"IF(入力シート!#REF!=\"\",\"\",入力シート!#REF!)","v":{"$error":"#REF!"}},null,{"$f":"IF(入力シート!#REF!=\"\",\"\",入力シート!#REF!)","v":{"$error":"#REF!"}},{"$f":"IF(入力シート!#REF!=\"\",\"\",入力シート!#REF!)","v":{"$error":"#REF!"}},{"$f":"IF(入力シート!#REF!=\"\",\"\",入力シート!#REF!)","v":{"$error":"#REF!"}},{"$f":"IF(入力シート!#REF!=\"\",\"\",入力シート!#REF!)","v":{"$error":"#REF!"}},{"$f":"IF(入力シート!#REF!=\"\",\"\",入力シート!#REF!)","v":{"$error":"#REF!"}},{"$f":"IF(入力シート!#REF!=\"\",\"\",入力シート!#REF!)","v":{"$error":"#REF!"}},{"$f":"IF(入力シート!#REF!=\"\",\"\",入力シート!#REF!)","v":{"$error":"#REF!"}},{"$f":"IF(入力シート!#REF!=\"\",\"\",入力シート!#REF!)","v":{"$error":"#REF!"}},{"$f":"IF(入力シート!#REF!=\"\",\"\",入力シート!#REF!)","v":{"$error":"#REF!"}},{"$f":"IF(入力シート!#REF!=\"\",\"\",入力シート!#REF!)","v":{"$error":"#REF!"}},{"$f":"IF(入力シート!#REF!=\"\",\"\",入力シート!#REF!)","v":{"$error":"#REF!"}},null,null,{"$f":"IF(入力シート!H310=\"\",\"\",\"〇\")","v":""},{"$f":"IF(入力シート!#REF!=\"\",\"\",入力シート!#REF!)","v":{"$error":"#REF!"}},{"$f":"IF(入力シート!#REF!=\"\",\"\",入力シート!#REF!)","v":{"$error":"#REF!"}},{"$f":"IF(入力シート!#REF!=\"\",\"\",入力シート!#REF!)","v":{"$error":"#REF!"}},{"$f":"IF(入力シート!#REF!=\"\",\"\",入力シート!#REF!)","v":{"$error":"#REF!"}}]
[{"$f":"IF(入力シート!#REF!=\"\",\"\",入力シート!#REF!)","v":{"$error":"#REF!"}},{"$f":"IF(入力シート!#REF!=\"\",\"\",入力シート!#REF!)","v":{"$error":"#REF!"}},{"$f":"IF(入力シート!#REF!=\"\",\"\",DBCS(入力シート!#REF!))","v":{"$error":"#REF!"}},{"$f":"IF(入力シート!#REF!=\"\",\"\",DBCS(入力シート!#REF!))","v":{"$error":"#REF!"}},{"$f":"ASC(IF(入力シート!#REF!=\"\",\"\",UPPER(入力シート!#REF!)))","v":{"$error":"#REF!"}},{"$f":"IF(入力シート!#REF!=\"\",\"\",PROPER(入力シート!#REF!))","v":{"$error":"#REF!"}},{"$f":"IF(入力シート!#REF!=\"\",\"\",入力シート!#REF!)","v":{"$error":"#REF!"}},{"$f":"IF(入力シート!#REF!=\"\",\"\",TEXT(入力シート!#REF!,\"yyyy/mm/dd\"))","v":{"$error":"#REF!"}},{"$f":"IF(入力シート!#REF!=\"\",\"\",入力シート!#REF!)","v":{"$error":"#REF!"}},{"$f":"IF(入力シート!#REF!=\"\",\"\",入力シート!#REF!)","v":{"$error":"#REF!"}},{"$f":"IF(入力シート!#REF!=\"\",\"\",入力シート!#REF!)","v":{"$error":"#REF!"}},{"$f":"IF(入力シート!#REF!=\"\",\"\",入力シート!#REF!)","v":{"$error":"#REF!"}},{"$f":"IF(入力シート!#REF!=\"\",\"\",入力シート!#REF!)","v":{"$error":"#REF!"}},{"$f":"IF(入力シート!#REF!=\"\",\"\",入力シート!#REF!)","v":{"$error":"#REF!"}},null,{"$f":"IF(入力シート!#REF!=\"\",\"\",入力シート!#REF!)","v":{"$error":"#REF!"}},{"$f":"IF(入力シート!#REF!=\"\",\"\",入力シート!#REF!)","v":{"$error":"#REF!"}},{"$f":"IF(入力シート!#REF!=\"\",\"\",入力シート!#REF!)","v":{"$error":"#REF!"}},{"$f":"IF(入力シート!#REF!=\"\",\"\",入力シート!#REF!)","v":{"$error":"#REF!"}},{"$f":"IF(入力シート!#REF!=\"\",\"\",入力シート!#REF!)","v":{"$error":"#REF!"}},{"$f":"IF(入力シート!#REF!=\"\",\"\",入力シート!#REF!)","v":{"$error":"#REF!"}},{"$f":"IF(入力シート!#REF!=\"\",\"\",入力シート!#REF!)","v":{"$error":"#REF!"}},{"$f":"IF(入力シート!#REF!=\"\",\"\",入力シート!#REF!)","v":{"$error":"#REF!"}},{"$f":"IF(入力シート!#REF!=\"\",\"\",入力シート!#REF!)","v":{"$error":"#REF!"}},{"$f":"IF(入力シート!#REF!=\"\",\"\",入力シート!#REF!)","v":{"$error":"#REF!"}},{"$f":"IF(入力シート!#REF!=\"\",\"\",入力シート!#REF!)","v":{"$error":"#REF!"}},null,null,{"$f":"IF(入力シート!H311=\"\",\"\",\"〇\")","v":""},{"$f":"IF(入力シート!#REF!=\"\",\"\",入力シート!#REF!)","v":{"$error":"#REF!"}},{"$f":"IF(入力シート!#REF!=\"\",\"\",入力シート!#REF!)","v":{"$error":"#REF!"}},{"$f":"IF(入力シート!#REF!=\"\",\"\",入力シート!#REF!)","v":{"$error":"#REF!"}},{"$f":"IF(入力シート!#REF!=\"\",\"\",入力シート!#REF!)","v":{"$error":"#REF!"}}]
[{"$f":"IF(入力シート!#REF!=\"\",\"\",入力シート!#REF!)","v":{"$error":"#REF!"}},{"$f":"IF(入力シート!#REF!=\"\",\"\",入力シート!#REF!)","v":{"$error":"#REF!"}},{"$f":"IF(入力シート!#REF!=\"\",\"\",DBCS(入力シート!#REF!))","v":{"$error":"#REF!"}},{"$f":"IF(入力シート!#REF!=\"\",\"\",DBCS(入力シート!#REF!))","v":{"$error":"#REF!"}},{"$f":"ASC(IF(入力シート!#REF!=\"\",\"\",UPPER(入力シート!#REF!)))","v":{"$error":"#REF!"}},{"$f":"IF(入力シート!#REF!=\"\",\"\",PROPER(入力シート!#REF!))","v":{"$error":"#REF!"}},{"$f":"IF(入力シート!#REF!=\"\",\"\",入力シート!#REF!)","v":{"$error":"#REF!"}},{"$f":"IF(入力シート!#REF!=\"\",\"\",TEXT(入力シート!#REF!,\"yyyy/mm/dd\"))","v":{"$error":"#REF!"}},{"$f":"IF(入力シート!#REF!=\"\",\"\",入力シート!#REF!)","v":{"$error":"#REF!"}},{"$f":"IF(入力シート!#REF!=\"\",\"\",入力シート!#REF!)","v":{"$error":"#REF!"}},{"$f":"IF(入力シート!#REF!=\"\",\"\",入力シート!#REF!)","v":{"$error":"#REF!"}},{"$f":"IF(入力シート!#REF!=\"\",\"\",入力シート!#REF!)","v":{"$error":"#REF!"}},{"$f":"IF(入力シート!#REF!=\"\",\"\",入力シート!#REF!)","v":{"$error":"#REF!"}},{"$f":"IF(入力シート!#REF!=\"\",\"\",入力シート!#REF!)","v":{"$error":"#REF!"}},null,{"$f":"IF(入力シート!#REF!=\"\",\"\",入力シート!#REF!)","v":{"$error":"#REF!"}},{"$f":"IF(入力シート!#REF!=\"\",\"\",入力シート!#REF!)","v":{"$error":"#REF!"}},{"$f":"IF(入力シート!#REF!=\"\",\"\",入力シート!#REF!)","v":{"$error":"#REF!"}},{"$f":"IF(入力シート!#REF!=\"\",\"\",入力シート!#REF!)","v":{"$error":"#REF!"}},{"$f":"IF(入力シート!#REF!=\"\",\"\",入力シート!#REF!)","v":{"$error":"#REF!"}},{"$f":"IF(入力シート!#REF!=\"\",\"\",入力シート!#REF!)","v":{"$error":"#REF!"}},{"$f":"IF(入力シート!#REF!=\"\",\"\",入力シート!#REF!)","v":{"$error":"#REF!"}},{"$f":"IF(入力シート!#REF!=\"\",\"\",入力シート!#REF!)","v":{"$error":"#REF!"}},{"$f":"IF(入力シート!#REF!=\"\",\"\",入力シート!#REF!)","v":{"$error":"#REF!"}},{"$f":"IF(入力シート!#REF!=\"\",\"\",入力シート!#REF!)","v":{"$error":"#REF!"}},{"$f":"IF(入力シート!#REF!=\"\",\"\",入力シート!#REF!)","v":{"$error":"#REF!"}},null,null,{"$f":"IF(入力シート!H312=\"\",\"\",\"〇\")","v":""},{"$f":"IF(入力シート!#REF!=\"\",\"\",入力シート!#REF!)","v":{"$error":"#REF!"}},{"$f":"IF(入力シート!#REF!=\"\",\"\",入力シート!#REF!)","v":{"$error":"#REF!"}},{"$f":"IF(入力シート!#REF!=\"\",\"\",入力シート!#REF!)","v":{"$error":"#REF!"}},{"$f":"IF(入力シート!#REF!=\"\",\"\",入力シート!#REF!)","v":{"$error":"#REF!"}}]
[{"$f":"IF(入力シート!#REF!=\"\",\"\",入力シート!#REF!)","v":{"$error":"#REF!"}},{"$f":"IF(入力シート!#REF!=\"\",\"\",入力シート!#REF!)","v":{"$error":"#REF!"}},{"$f":"IF(入力シート!#REF!=\"\",\"\",DBCS(入力シート!#REF!))","v":{"$error":"#REF!"}},{"$f":"IF(入力シート!#REF!=\"\",\"\",DBCS(入力シート!#REF!))","v":{"$error":"#REF!"}},{"$f":"ASC(IF(入力シート!#REF!=\"\",\"\",UPPER(入力シート!#REF!)))","v":{"$error":"#REF!"}},{"$f":"IF(入力シート!#REF!=\"\",\"\",PROPER(入力シート!#REF!))","v":{"$error":"#REF!"}},{"$f":"IF(入力シート!#REF!=\"\",\"\",入力シート!#REF!)","v":{"$error":"#REF!"}},{"$f":"IF(入力シート!#REF!=\"\",\"\",TEXT(入力シート!#REF!,\"yyyy/mm/dd\"))","v":{"$error":"#REF!"}},{"$f":"IF(入力シート!#REF!=\"\",\"\",入力シート!#REF!)","v":{"$error":"#REF!"}},{"$f":"IF(入力シート!#REF!=\"\",\"\",入力シート!#REF!)","v":{"$error":"#REF!"}},{"$f":"IF(入力シート!#REF!=\"\",\"\",入力シート!#REF!)","v":{"$error":"#REF!"}},{"$f":"IF(入力シート!#REF!=\"\",\"\",入力シート!#REF!)","v":{"$error":"#REF!"}},{"$f":"IF(入力シート!#REF!=\"\",\"\",入力シート!#REF!)","v":{"$error":"#REF!"}},{"$f":"IF(入力シート!#REF!=\"\",\"\",入力シート!#REF!)","v":{"$error":"#REF!"}},null,{"$f":"IF(入力シート!#REF!=\"\",\"\",入力シート!#REF!)","v":{"$error":"#REF!"}},{"$f":"IF(入力シート!#REF!=\"\",\"\",入力シート!#REF!)","v":{"$error":"#REF!"}},{"$f":"IF(入力シート!#REF!=\"\",\"\",入力シート!#REF!)","v":{"$error":"#REF!"}},{"$f":"IF(入力シート!#REF!=\"\",\"\",入力シート!#REF!)","v":{"$error":"#REF!"}},{"$f":"IF(入力シート!#REF!=\"\",\"\",入力シート!#REF!)","v":{"$error":"#REF!"}},{"$f":"IF(入力シート!#REF!=\"\",\"\",入力シート!#REF!)","v":{"$error":"#REF!"}},{"$f":"IF(入力シート!#REF!=\"\",\"\",入力シート!#REF!)","v":{"$error":"#REF!"}},{"$f":"IF(入力シート!#REF!=\"\",\"\",入力シート!#REF!)","v":{"$error":"#REF!"}},{"$f":"IF(入力シート!#REF!=\"\",\"\",入力シート!#REF!)","v":{"$error":"#REF!"}},{"$f":"IF(入力シート!#REF!=\"\",\"\",入力シート!#REF!)","v":{"$error":"#REF!"}},{"$f":"IF(入力シート!#REF!=\"\",\"\",入力シート!#REF!)","v":{"$error":"#REF!"}},null,null,{"$f":"IF(入力シート!H313=\"\",\"\",\"〇\")","v":""},{"$f":"IF(入力シート!#REF!=\"\",\"\",入力シート!#REF!)","v":{"$error":"#REF!"}},{"$f":"IF(入力シート!#REF!=\"\",\"\",入力シート!#REF!)","v":{"$error":"#REF!"}},{"$f":"IF(入力シート!#REF!=\"\",\"\",入力シート!#REF!)","v":{"$error":"#REF!"}},{"$f":"IF(入力シート!#REF!=\"\",\"\",入力シート!#REF!)","v":{"$error":"#REF!"}}]
[{"$f":"IF(入力シート!#REF!=\"\",\"\",入力シート!#REF!)","v":{"$error":"#REF!"}},{"$f":"IF(入力シート!#REF!=\"\",\"\",入力シート!#REF!)","v":{"$error":"#REF!"}},{"$f":"IF(入力シート!#REF!=\"\",\"\",DBCS(入力シート!#REF!))","v":{"$error":"#REF!"}},{"$f":"IF(入力シート!#REF!=\"\",\"\",DBCS(入力シート!#REF!))","v":{"$error":"#REF!"}},{"$f":"ASC(IF(入力シート!#REF!=\"\",\"\",UPPER(入力シート!#REF!)))","v":{"$error":"#REF!"}},{"$f":"IF(入力シート!#REF!=\"\",\"\",PROPER(入力シート!#REF!))","v":{"$error":"#REF!"}},{"$f":"IF(入力シート!#REF!=\"\",\"\",入力シート!#REF!)","v":{"$error":"#REF!"}},{"$f":"IF(入力シート!#REF!=\"\",\"\",TEXT(入力シート!#REF!,\"yyyy/mm/dd\"))","v":{"$error":"#REF!"}},{"$f":"IF(入力シート!#REF!=\"\",\"\",入力シート!#REF!)","v":{"$error":"#REF!"}},{"$f":"IF(入力シート!#REF!=\"\",\"\",入力シート!#REF!)","v":{"$error":"#REF!"}},{"$f":"IF(入力シート!#REF!=\"\",\"\",入力シート!#REF!)","v":{"$error":"#REF!"}},{"$f":"IF(入力シート!#REF!=\"\",\"\",入力シート!#REF!)","v":{"$error":"#REF!"}},{"$f":"IF(入力シート!#REF!=\"\",\"\",入力シート!#REF!)","v":{"$error":"#REF!"}},{"$f":"IF(入力シート!#REF!=\"\",\"\",入力シート!#REF!)","v":{"$error":"#REF!"}},null,{"$f":"IF(入力シート!#REF!=\"\",\"\",入力シート!#REF!)","v":{"$error":"#REF!"}},{"$f":"IF(入力シート!#REF!=\"\",\"\",入力シート!#REF!)","v":{"$error":"#REF!"}},{"$f":"IF(入力シート!#REF!=\"\",\"\",入力シート!#REF!)","v":{"$error":"#REF!"}},{"$f":"IF(入力シート!#REF!=\"\",\"\",入力シート!#REF!)","v":{"$error":"#REF!"}},{"$f":"IF(入力シート!#REF!=\"\",\"\",入力シート!#REF!)","v":{"$error":"#REF!"}},{"$f":"IF(入力シート!#REF!=\"\",\"\",入力シート!#REF!)","v":{"$error":"#REF!"}},{"$f":"IF(入力シート!#REF!=\"\",\"\",入力シート!#REF!)","v":{"$error":"#REF!"}},{"$f":"IF(入力シート!#REF!=\"\",\"\",入力シート!#REF!)","v":{"$error":"#REF!"}},{"$f":"IF(入力シート!#REF!=\"\",\"\",入力シート!#REF!)","v":{"$error":"#REF!"}},{"$f":"IF(入力シート!#REF!=\"\",\"\",入力シート!#REF!)","v":{"$error":"#REF!"}},{"$f":"IF(入力シート!#REF!=\"\",\"\",入力シート!#REF!)","v":{"$error":"#REF!"}},null,null,{"$f":"IF(入力シート!H314=\"\",\"\",\"〇\")","v":""},{"$f":"IF(入力シート!#REF!=\"\",\"\",入力シート!#REF!)","v":{"$error":"#REF!"}},{"$f":"IF(入力シート!#REF!=\"\",\"\",入力シート!#REF!)","v":{"$error":"#REF!"}},{"$f":"IF(入力シート!#REF!=\"\",\"\",入力シート!#REF!)","v":{"$error":"#REF!"}},{"$f":"IF(入力シート!#REF!=\"\",\"\",入力シート!#REF!)","v":{"$error":"#REF!"}}]
[{"$f":"IF(入力シート!#REF!=\"\",\"\",入力シート!#REF!)","v":{"$error":"#REF!"}},{"$f":"IF(入力シート!#REF!=\"\",\"\",入力シート!#REF!)","v":{"$error":"#REF!"}},{"$f":"IF(入力シート!#REF!=\"\",\"\",DBCS(入力シート!#REF!))","v":{"$error":"#REF!"}},{"$f":"IF(入力シート!#REF!=\"\",\"\",DBCS(入力シート!#REF!))","v":{"$error":"#REF!"}},{"$f":"ASC(IF(入力シート!#REF!=\"\",\"\",UPPER(入力シート!#REF!)))","v":{"$error":"#REF!"}},{"$f":"IF(入力シート!#REF!=\"\",\"\",PROPER(入力シート!#REF!))","v":{"$error":"#REF!"}},{"$f":"IF(入力シート!#REF!=\"\",\"\",入力シート!#REF!)","v":{"$error":"#REF!"}},{"$f":"IF(入力シート!#REF!=\"\",\"\",TEXT(入力シート!#REF!,\"yyyy/mm/dd\"))","v":{"$error":"#REF!"}},{"$f":"IF(入力シート!#REF!=\"\",\"\",入力シート!#REF!)","v":{"$error":"#REF!"}},{"$f":"IF(入力シート!#REF!=\"\",\"\",入力シート!#REF!)","v":{"$error":"#REF!"}},{"$f":"IF(入力シート!#REF!=\"\",\"\",入力シート!#REF!)","v":{"$error":"#REF!"}},{"$f":"IF(入力シート!#REF!=\"\",\"\",入力シート!#REF!)","v":{"$error":"#REF!"}},{"$f":"IF(入力シート!#REF!=\"\",\"\",入力シート!#REF!)","v":{"$error":"#REF!"}},{"$f":"IF(入力シート!#REF!=\"\",\"\",入力シート!#REF!)","v":{"$error":"#REF!"}},null,{"$f":"IF(入力シート!#REF!=\"\",\"\",入力シート!#REF!)","v":{"$error":"#REF!"}},{"$f":"IF(入力シート!#REF!=\"\",\"\",入力シート!#REF!)","v":{"$error":"#REF!"}},{"$f":"IF(入力シート!#REF!=\"\",\"\",入力シート!#REF!)","v":{"$error":"#REF!"}},{"$f":"IF(入力シート!#REF!=\"\",\"\",入力シート!#REF!)","v":{"$error":"#REF!"}},{"$f":"IF(入力シート!#REF!=\"\",\"\",入力シート!#REF!)","v":{"$error":"#REF!"}},{"$f":"IF(入力シート!#REF!=\"\",\"\",入力シート!#REF!)","v":{"$error":"#REF!"}},{"$f":"IF(入力シート!#REF!=\"\",\"\",入力シート!#REF!)","v":{"$error":"#REF!"}},{"$f":"IF(入力シート!#REF!=\"\",\"\",入力シート!#REF!)","v":{"$error":"#REF!"}},{"$f":"IF(入力シート!#REF!=\"\",\"\",入力シート!#REF!)","v":{"$error":"#REF!"}},{"$f":"IF(入力シート!#REF!=\"\",\"\",入力シート!#REF!)","v":{"$error":"#REF!"}},{"$f":"IF(入力シート!#REF!=\"\",\"\",入力シート!#REF!)","v":{"$error":"#REF!"}},null,null,{"$f":"IF(入力シート!H315=\"\",\"\",\"〇\")","v":""},{"$f":"IF(入力シート!#REF!=\"\",\"\",入力シート!#REF!)","v":{"$error":"#REF!"}},{"$f":"IF(入力シート!#REF!=\"\",\"\",入力シート!#REF!)","v":{"$error":"#REF!"}},{"$f":"IF(入力シート!#REF!=\"\",\"\",入力シート!#REF!)","v":{"$error":"#REF!"}},{"$f":"IF(入力シート!#REF!=\"\",\"\",入力シート!#REF!)","v":{"$error":"#REF!"}}]
[{"$f":"IF(入力シート!#REF!=\"\",\"\",入力シート!#REF!)","v":{"$error":"#REF!"}},{"$f":"IF(入力シート!#REF!=\"\",\"\",入力シート!#REF!)","v":{"$error":"#REF!"}},{"$f":"IF(入力シート!#REF!=\"\",\"\",DBCS(入力シート!#REF!))","v":{"$error":"#REF!"}},{"$f":"IF(入力シート!#REF!=\"\",\"\",DBCS(入力シート!#REF!))","v":{"$error":"#REF!"}},{"$f":"ASC(IF(入力シート!#REF!=\"\",\"\",UPPER(入力シート!#REF!)))","v":{"$error":"#REF!"}},{"$f":"IF(入力シート!#REF!=\"\",\"\",PROPER(入力シート!#REF!))","v":{"$error":"#REF!"}},{"$f":"IF(入力シート!#REF!=\"\",\"\",入力シート!#REF!)","v":{"$error":"#REF!"}},{"$f":"IF(入力シート!#REF!=\"\",\"\",TEXT(入力シート!#REF!,\"yyyy/mm/dd\"))","v":{"$error":"#REF!"}},{"$f":"IF(入力シート!#REF!=\"\",\"\",入力シート!#REF!)","v":{"$error":"#REF!"}},{"$f":"IF(入力シート!#REF!=\"\",\"\",入力シート!#REF!)","v":{"$error":"#REF!"}},{"$f":"IF(入力シート!#REF!=\"\",\"\",入力シート!#REF!)","v":{"$error":"#REF!"}},{"$f":"IF(入力シート!#REF!=\"\",\"\",入力シート!#REF!)","v":{"$error":"#REF!"}},{"$f":"IF(入力シート!#REF!=\"\",\"\",入力シート!#REF!)","v":{"$error":"#REF!"}},{"$f":"IF(入力シート!#REF!=\"\",\"\",入力シート!#REF!)","v":{"$error":"#REF!"}},null,{"$f":"IF(入力シート!#REF!=\"\",\"\",入力シート!#REF!)","v":{"$error":"#REF!"}},{"$f":"IF(入力シート!#REF!=\"\",\"\",入力シート!#REF!)","v":{"$error":"#REF!"}},{"$f":"IF(入力シート!#REF!=\"\",\"\",入力シート!#REF!)","v":{"$error":"#REF!"}},{"$f":"IF(入力シート!#REF!=\"\",\"\",入力シート!#REF!)","v":{"$error":"#REF!"}},{"$f":"IF(入力シート!#REF!=\"\",\"\",入力シート!#REF!)","v":{"$error":"#REF!"}},{"$f":"IF(入力シート!#REF!=\"\",\"\",入力シート!#REF!)","v":{"$error":"#REF!"}},{"$f":"IF(入力シート!#REF!=\"\",\"\",入力シート!#REF!)","v":{"$error":"#REF!"}},{"$f":"IF(入力シート!#REF!=\"\",\"\",入力シート!#REF!)","v":{"$error":"#REF!"}},{"$f":"IF(入力シート!#REF!=\"\",\"\",入力シート!#REF!)","v":{"$error":"#REF!"}},{"$f":"IF(入力シート!#REF!=\"\",\"\",入力シート!#REF!)","v":{"$error":"#REF!"}},{"$f":"IF(入力シート!#REF!=\"\",\"\",入力シート!#REF!)","v":{"$error":"#REF!"}},null,null,{"$f":"IF(入力シート!H316=\"\",\"\",\"〇\")","v":""},{"$f":"IF(入力シート!#REF!=\"\",\"\",入力シート!#REF!)","v":{"$error":"#REF!"}},{"$f":"IF(入力シート!#REF!=\"\",\"\",入力シート!#REF!)","v":{"$error":"#REF!"}},{"$f":"IF(入力シート!#REF!=\"\",\"\",入力シート!#REF!)","v":{"$error":"#REF!"}},{"$f":"IF(入力シート!#REF!=\"\",\"\",入力シート!#REF!)","v":{"$error":"#REF!"}}]
[{"$f":"IF(入力シート!#REF!=\"\",\"\",入力シート!#REF!)","v":{"$error":"#REF!"}},{"$f":"IF(入力シート!#REF!=\"\",\"\",入力シート!#REF!)","v":{"$error":"#REF!"}},{"$f":"IF(入力シート!#REF!=\"\",\"\",DBCS(入力シート!#REF!))","v":{"$error":"#REF!"}},{"$f":"IF(入力シート!#REF!=\"\",\"\",DBCS(入力シート!#REF!))","v":{"$error":"#REF!"}},{"$f":"ASC(IF(入力シート!#REF!=\"\",\"\",UPPER(入力シート!#REF!)))","v":{"$error":"#REF!"}},{"$f":"IF(入力シート!#REF!=\"\",\"\",PROPER(入力シート!#REF!))","v":{"$error":"#REF!"}},{"$f":"IF(入力シート!#REF!=\"\",\"\",入力シート!#REF!)","v":{"$error":"#REF!"}},{"$f":"IF(入力シート!#REF!=\"\",\"\",TEXT(入力シート!#REF!,\"yyyy/mm/dd\"))","v":{"$error":"#REF!"}},{"$f":"IF(入力シート!#REF!=\"\",\"\",入力シート!#REF!)","v":{"$error":"#REF!"}},{"$f":"IF(入力シート!#REF!=\"\",\"\",入力シート!#REF!)","v":{"$error":"#REF!"}},{"$f":"IF(入力シート!#REF!=\"\",\"\",入力シート!#REF!)","v":{"$error":"#REF!"}},{"$f":"IF(入力シート!#REF!=\"\",\"\",入力シート!#REF!)","v":{"$error":"#REF!"}},{"$f":"IF(入力シート!#REF!=\"\",\"\",入力シート!#REF!)","v":{"$error":"#REF!"}},{"$f":"IF(入力シート!#REF!=\"\",\"\",入力シート!#REF!)","v":{"$error":"#REF!"}},null,{"$f":"IF(入力シート!#REF!=\"\",\"\",入力シート!#REF!)","v":{"$error":"#REF!"}},{"$f":"IF(入力シート!#REF!=\"\",\"\",入力シート!#REF!)","v":{"$error":"#REF!"}},{"$f":"IF(入力シート!#REF!=\"\",\"\",入力シート!#REF!)","v":{"$error":"#REF!"}},{"$f":"IF(入力シート!#REF!=\"\",\"\",入力シート!#REF!)","v":{"$error":"#REF!"}},{"$f":"IF(入力シート!#REF!=\"\",\"\",入力シート!#REF!)","v":{"$error":"#REF!"}},{"$f":"IF(入力シート!#REF!=\"\",\"\",入力シート!#REF!)","v":{"$error":"#REF!"}},{"$f":"IF(入力シート!#REF!=\"\",\"\",入力シート!#REF!)","v":{"$error":"#REF!"}},{"$f":"IF(入力シート!#REF!=\"\",\"\",入力シート!#REF!)","v":{"$error":"#REF!"}},{"$f":"IF(入力シート!#REF!=\"\",\"\",入力シート!#REF!)","v":{"$error":"#REF!"}},{"$f":"IF(入力シート!#REF!=\"\",\"\",入力シート!#REF!)","v":{"$error":"#REF!"}},{"$f":"IF(入力シート!#REF!=\"\",\"\",入力シート!#REF!)","v":{"$error":"#REF!"}},null,null,{"$f":"IF(入力シート!H317=\"\",\"\",\"〇\")","v":""},{"$f":"IF(入力シート!#REF!=\"\",\"\",入力シート!#REF!)","v":{"$error":"#REF!"}},{"$f":"IF(入力シート!#REF!=\"\",\"\",入力シート!#REF!)","v":{"$error":"#REF!"}},{"$f":"IF(入力シート!#REF!=\"\",\"\",入力シート!#REF!)","v":{"$error":"#REF!"}},{"$f":"IF(入力シート!#REF!=\"\",\"\",入力シート!#REF!)","v":{"$error":"#REF!"}}]
[{"$f":"IF(入力シート!#REF!=\"\",\"\",入力シート!#REF!)","v":{"$error":"#REF!"}},{"$f":"IF(入力シート!#REF!=\"\",\"\",入力シート!#REF!)","v":{"$error":"#REF!"}},{"$f":"IF(入力シート!#REF!=\"\",\"\",DBCS(入力シート!#REF!))","v":{"$error":"#REF!"}},{"$f":"IF(入力シート!#REF!=\"\",\"\",DBCS(入力シート!#REF!))","v":{"$error":"#REF!"}},{"$f":"ASC(IF(入力シート!#REF!=\"\",\"\",UPPER(入力シート!#REF!)))","v":{"$error":"#REF!"}},{"$f":"IF(入力シート!#REF!=\"\",\"\",PROPER(入力シート!#REF!))","v":{"$error":"#REF!"}},{"$f":"IF(入力シート!#REF!=\"\",\"\",入力シート!#REF!)","v":{"$error":"#REF!"}},{"$f":"IF(入力シート!#REF!=\"\",\"\",TEXT(入力シート!#REF!,\"yyyy/mm/dd\"))","v":{"$error":"#REF!"}},{"$f":"IF(入力シート!#REF!=\"\",\"\",入力シート!#REF!)","v":{"$error":"#REF!"}},{"$f":"IF(入力シート!#REF!=\"\",\"\",入力シート!#REF!)","v":{"$error":"#REF!"}},{"$f":"IF(入力シート!#REF!=\"\",\"\",入力シート!#REF!)","v":{"$error":"#REF!"}},{"$f":"IF(入力シート!#REF!=\"\",\"\",入力シート!#REF!)","v":{"$error":"#REF!"}},{"$f":"IF(入力シート!#REF!=\"\",\"\",入力シート!#REF!)","v":{"$error":"#REF!"}},{"$f":"IF(入力シート!#REF!=\"\",\"\",入力シート!#REF!)","v":{"$error":"#REF!"}},null,{"$f":"IF(入力シート!#REF!=\"\",\"\",入力シート!#REF!)","v":{"$error":"#REF!"}},{"$f":"IF(入力シート!#REF!=\"\",\"\",入力シート!#REF!)","v":{"$error":"#REF!"}},{"$f":"IF(入力シート!#REF!=\"\",\"\",入力シート!#REF!)","v":{"$error":"#REF!"}},{"$f":"IF(入力シート!#REF!=\"\",\"\",入力シート!#REF!)","v":{"$error":"#REF!"}},{"$f":"IF(入力シート!#REF!=\"\",\"\",入力シート!#REF!)","v":{"$error":"#REF!"}},{"$f":"IF(入力シート!#REF!=\"\",\"\",入力シート!#REF!)","v":{"$error":"#REF!"}},{"$f":"IF(入力シート!#REF!=\"\",\"\",入力シート!#REF!)","v":{"$error":"#REF!"}},{"$f":"IF(入力シート!#REF!=\"\",\"\",入力シート!#REF!)","v":{"$error":"#REF!"}},{"$f":"IF(入力シート!#REF!=\"\",\"\",入力シート!#REF!)","v":{"$error":"#REF!"}},{"$f":"IF(入力シート!#REF!=\"\",\"\",入力シート!#REF!)","v":{"$error":"#REF!"}},{"$f":"IF(入力シート!#REF!=\"\",\"\",入力シート!#REF!)","v":{"$error":"#REF!"}},null,null,{"$f":"IF(入力シート!H318=\"\",\"\",\"〇\")","v":""},{"$f":"IF(入力シート!#REF!=\"\",\"\",入力シート!#REF!)","v":{"$error":"#REF!"}},{"$f":"IF(入力シート!#REF!=\"\",\"\",入力シート!#REF!)","v":{"$error":"#REF!"}},{"$f":"IF(入力シート!#REF!=\"\",\"\",入力シート!#REF!)","v":{"$error":"#REF!"}},{"$f":"IF(入力シート!#REF!=\"\",\"\",入力シート!#REF!)","v":{"$error":"#REF!"}}]
[{"$f":"IF(入力シート!#REF!=\"\",\"\",入力シート!#REF!)","v":{"$error":"#REF!"}},{"$f":"IF(入力シート!#REF!=\"\",\"\",入力シート!#REF!)","v":{"$error":"#REF!"}},{"$f":"IF(入力シート!#REF!=\"\",\"\",DBCS(入力シート!#REF!))","v":{"$error":"#REF!"}},{"$f":"IF(入力シート!#REF!=\"\",\"\",DBCS(入力シート!#REF!))","v":{"$error":"#REF!"}},{"$f":"ASC(IF(入力シート!#REF!=\"\",\"\",UPPER(入力シート!#REF!)))","v":{"$error":"#REF!"}},{"$f":"IF(入力シート!#REF!=\"\",\"\",PROPER(入力シート!#REF!))","v":{"$error":"#REF!"}},{"$f":"IF(入力シート!#REF!=\"\",\"\",入力シート!#REF!)","v":{"$error":"#REF!"}},{"$f":"IF(入力シート!#REF!=\"\",\"\",TEXT(入力シート!#REF!,\"yyyy/mm/dd\"))","v":{"$error":"#REF!"}},{"$f":"IF(入力シート!#REF!=\"\",\"\",入力シート!#REF!)","v":{"$error":"#REF!"}},{"$f":"IF(入力シート!#REF!=\"\",\"\",入力シート!#REF!)","v":{"$error":"#REF!"}},{"$f":"IF(入力シート!#REF!=\"\",\"\",入力シート!#REF!)","v":{"$error":"#REF!"}},{"$f":"IF(入力シート!#REF!=\"\",\"\",入力シート!#REF!)","v":{"$error":"#REF!"}},{"$f":"IF(入力シート!#REF!=\"\",\"\",入力シート!#REF!)","v":{"$error":"#REF!"}},{"$f":"IF(入力シート!#REF!=\"\",\"\",入力シート!#REF!)","v":{"$error":"#REF!"}},null,{"$f":"IF(入力シート!#REF!=\"\",\"\",入力シート!#REF!)","v":{"$error":"#REF!"}},{"$f":"IF(入力シート!#REF!=\"\",\"\",入力シート!#REF!)","v":{"$error":"#REF!"}},{"$f":"IF(入力シート!#REF!=\"\",\"\",入力シート!#REF!)","v":{"$error":"#REF!"}},{"$f":"IF(入力シート!#REF!=\"\",\"\",入力シート!#REF!)","v":{"$error":"#REF!"}},{"$f":"IF(入力シート!#REF!=\"\",\"\",入力シート!#REF!)","v":{"$error":"#REF!"}},{"$f":"IF(入力シート!#REF!=\"\",\"\",入力シート!#REF!)","v":{"$error":"#REF!"}},{"$f":"IF(入力シート!#REF!=\"\",\"\",入力シート!#REF!)","v":{"$error":"#REF!"}},{"$f":"IF(入力シート!#REF!=\"\",\"\",入力シート!#REF!)","v":{"$error":"#REF!"}},{"$f":"IF(入力シート!#REF!=\"\",\"\",入力シート!#REF!)","v":{"$error":"#REF!"}},{"$f":"IF(入力シート!#REF!=\"\",\"\",入力シート!#REF!)","v":{"$error":"#REF!"}},{"$f":"IF(入力シート!#REF!=\"\",\"\",入力シート!#REF!)","v":{"$error":"#REF!"}},null,null,{"$f":"IF(入力シート!H319=\"\",\"\",\"〇\")","v":""},{"$f":"IF(入力シート!#REF!=\"\",\"\",入力シート!#REF!)","v":{"$error":"#REF!"}},{"$f":"IF(入力シート!#REF!=\"\",\"\",入力シート!#REF!)","v":{"$error":"#REF!"}},{"$f":"IF(入力シート!#REF!=\"\",\"\",入力シート!#REF!)","v":{"$error":"#REF!"}},{"$f":"IF(入力シート!#REF!=\"\",\"\",入力シート!#REF!)","v":{"$error":"#REF!"}}]
[{"$f":"IF(入力シート!#REF!=\"\",\"\",入力シート!#REF!)","v":{"$error":"#REF!"}},{"$f":"IF(入力シート!#REF!=\"\",\"\",入力シート!#REF!)","v":{"$error":"#REF!"}},{"$f":"IF(入力シート!#REF!=\"\",\"\",DBCS(入力シート!#REF!))","v":{"$error":"#REF!"}},{"$f":"IF(入力シート!#REF!=\"\",\"\",DBCS(入力シート!#REF!))","v":{"$error":"#REF!"}},{"$f":"ASC(IF(入力シート!#REF!=\"\",\"\",UPPER(入力シート!#REF!)))","v":{"$error":"#REF!"}},{"$f":"IF(入力シート!#REF!=\"\",\"\",PROPER(入力シート!#REF!))","v":{"$error":"#REF!"}},{"$f":"IF(入力シート!#REF!=\"\",\"\",入力シート!#REF!)","v":{"$error":"#REF!"}},{"$f":"IF(入力シート!#REF!=\"\",\"\",TEXT(入力シート!#REF!,\"yyyy/mm/dd\"))","v":{"$error":"#REF!"}},{"$f":"IF(入力シート!#REF!=\"\",\"\",入力シート!#REF!)","v":{"$error":"#REF!"}},{"$f":"IF(入力シート!#REF!=\"\",\"\",入力シート!#REF!)","v":{"$error":"#REF!"}},{"$f":"IF(入力シート!#REF!=\"\",\"\",入力シート!#REF!)","v":{"$error":"#REF!"}},{"$f":"IF(入力シート!#REF!=\"\",\"\",入力シート!#REF!)","v":{"$error":"#REF!"}},{"$f":"IF(入力シート!#REF!=\"\",\"\",入力シート!#REF!)","v":{"$error":"#REF!"}},{"$f":"IF(入力シート!#REF!=\"\",\"\",入力シート!#REF!)","v":{"$error":"#REF!"}},null,{"$f":"IF(入力シート!#REF!=\"\",\"\",入力シート!#REF!)","v":{"$error":"#REF!"}},{"$f":"IF(入力シート!#REF!=\"\",\"\",入力シート!#REF!)","v":{"$error":"#REF!"}},{"$f":"IF(入力シート!#REF!=\"\",\"\",入力シート!#REF!)","v":{"$error":"#REF!"}},{"$f":"IF(入力シート!#REF!=\"\",\"\",入力シート!#REF!)","v":{"$error":"#REF!"}},{"$f":"IF(入力シート!#REF!=\"\",\"\",入力シート!#REF!)","v":{"$error":"#REF!"}},{"$f":"IF(入力シート!#REF!=\"\",\"\",入力シート!#REF!)","v":{"$error":"#REF!"}},{"$f":"IF(入力シート!#REF!=\"\",\"\",入力シート!#REF!)","v":{"$error":"#REF!"}},{"$f":"IF(入力シート!#REF!=\"\",\"\",入力シート!#REF!)","v":{"$error":"#REF!"}},{"$f":"IF(入力シート!#REF!=\"\",\"\",入力シート!#REF!)","v":{"$error":"#REF!"}},{"$f":"IF(入力シート!#REF!=\"\",\"\",入力シート!#REF!)","v":{"$error":"#REF!"}},{"$f":"IF(入力シート!#REF!=\"\",\"\",入力シート!#REF!)","v":{"$error":"#REF!"}},null,null,{"$f":"IF(入力シート!H320=\"\",\"\",\"〇\")","v":""},{"$f":"IF(入力シート!#REF!=\"\",\"\",入力シート!#REF!)","v":{"$error":"#REF!"}},{"$f":"IF(入力シート!#REF!=\"\",\"\",入力シート!#REF!)","v":{"$error":"#REF!"}},{"$f":"IF(入力シート!#REF!=\"\",\"\",入力シート!#REF!)","v":{"$error":"#REF!"}},{"$f":"IF(入力シート!#REF!=\"\",\"\",入力シート!#REF!)","v":{"$error":"#REF!"}}]
[{"$f":"IF(入力シート!#REF!=\"\",\"\",入力シート!#REF!)","v":{"$error":"#REF!"}},{"$f":"IF(入力シート!#REF!=\"\",\"\",入力シート!#REF!)","v":{"$error":"#REF!"}},{"$f":"IF(入力シート!#REF!=\"\",\"\",DBCS(入力シート!#REF!))","v":{"$error":"#REF!"}},{"$f":"IF(入力シート!#REF!=\"\",\"\",DBCS(入力シート!#REF!))","v":{"$error":"#REF!"}},{"$f":"ASC(IF(入力シート!#REF!=\"\",\"\",UPPER(入力シート!#REF!)))","v":{"$error":"#REF!"}},{"$f":"IF(入力シート!#REF!=\"\",\"\",PROPER(入力シート!#REF!))","v":{"$error":"#REF!"}},{"$f":"IF(入力シート!#REF!=\"\",\"\",入力シート!#REF!)","v":{"$error":"#REF!"}},{"$f":"IF(入力シート!#REF!=\"\",\"\",TEXT(入力シート!#REF!,\"yyyy/mm/dd\"))","v":{"$error":"#REF!"}},{"$f":"IF(入力シート!#REF!=\"\",\"\",入力シート!#REF!)","v":{"$error":"#REF!"}},{"$f":"IF(入力シート!#REF!=\"\",\"\",入力シート!#REF!)","v":{"$error":"#REF!"}},{"$f":"IF(入力シート!#REF!=\"\",\"\",入力シート!#REF!)","v":{"$error":"#REF!"}},{"$f":"IF(入力シート!#REF!=\"\",\"\",入力シート!#REF!)","v":{"$error":"#REF!"}},{"$f":"IF(入力シート!#REF!=\"\",\"\",入力シート!#REF!)","v":{"$error":"#REF!"}},{"$f":"IF(入力シート!#REF!=\"\",\"\",入力シート!#REF!)","v":{"$error":"#REF!"}},null,{"$f":"IF(入力シート!#REF!=\"\",\"\",入力シート!#REF!)","v":{"$error":"#REF!"}},{"$f":"IF(入力シート!#REF!=\"\",\"\",入力シート!#REF!)","v":{"$error":"#REF!"}},{"$f":"IF(入力シート!#REF!=\"\",\"\",入力シート!#REF!)","v":{"$error":"#REF!"}},{"$f":"IF(入力シート!#REF!=\"\",\"\",入力シート!#REF!)","v":{"$error":"#REF!"}},{"$f":"IF(入力シート!#REF!=\"\",\"\",入力シート!#REF!)","v":{"$error":"#REF!"}},{"$f":"IF(入力シート!#REF!=\"\",\"\",入力シート!#REF!)","v":{"$error":"#REF!"}},{"$f":"IF(入力シート!#REF!=\"\",\"\",入力シート!#REF!)","v":{"$error":"#REF!"}},{"$f":"IF(入力シート!#REF!=\"\",\"\",入力シート!#REF!)","v":{"$error":"#REF!"}},{"$f":"IF(入力シート!#REF!=\"\",\"\",入力シート!#REF!)","v":{"$error":"#REF!"}},{"$f":"IF(入力シート!#REF!=\"\",\"\",入力シート!#REF!)","v":{"$error":"#REF!"}},{"$f":"IF(入力シート!#REF!=\"\",\"\",入力シート!#REF!)","v":{"$error":"#REF!"}},null,null,{"$f":"IF(入力シート!H321=\"\",\"\",\"〇\")","v":""},{"$f":"IF(入力シート!#REF!=\"\",\"\",入力シート!#REF!)","v":{"$error":"#REF!"}},{"$f":"IF(入力シート!#REF!=\"\",\"\",入力シート!#REF!)","v":{"$error":"#REF!"}},{"$f":"IF(入力シート!#REF!=\"\",\"\",入力シート!#REF!)","v":{"$error":"#REF!"}},{"$f":"IF(入力シート!#REF!=\"\",\"\",入力シート!#REF!)","v":{"$error":"#REF!"}}]
[{"$f":"IF(入力シート!#REF!=\"\",\"\",入力シート!#REF!)","v":{"$error":"#REF!"}},{"$f":"IF(入力シート!#REF!=\"\",\"\",入力シート!#REF!)","v":{"$error":"#REF!"}},{"$f":"IF(入力シート!#REF!=\"\",\"\",DBCS(入力シート!#REF!))","v":{"$error":"#REF!"}},{"$f":"IF(入力シート!#REF!=\"\",\"\",DBCS(入力シート!#REF!))","v":{"$error":"#REF!"}},{"$f":"ASC(IF(入力シート!#REF!=\"\",\"\",UPPER(入力シート!#REF!)))","v":{"$error":"#REF!"}},{"$f":"IF(入力シート!#REF!=\"\",\"\",PROPER(入力シート!#REF!))","v":{"$error":"#REF!"}},{"$f":"IF(入力シート!#REF!=\"\",\"\",入力シート!#REF!)","v":{"$error":"#REF!"}},{"$f":"IF(入力シート!#REF!=\"\",\"\",TEXT(入力シート!#REF!,\"yyyy/mm/dd\"))","v":{"$error":"#REF!"}},{"$f":"IF(入力シート!#REF!=\"\",\"\",入力シート!#REF!)","v":{"$error":"#REF!"}},{"$f":"IF(入力シート!#REF!=\"\",\"\",入力シート!#REF!)","v":{"$error":"#REF!"}},{"$f":"IF(入力シート!#REF!=\"\",\"\",入力シート!#REF!)","v":{"$error":"#REF!"}},{"$f":"IF(入力シート!#REF!=\"\",\"\",入力シート!#REF!)","v":{"$error":"#REF!"}},{"$f":"IF(入力シート!#REF!=\"\",\"\",入力シート!#REF!)","v":{"$error":"#REF!"}},{"$f":"IF(入力シート!#REF!=\"\",\"\",入力シート!#REF!)","v":{"$error":"#REF!"}},null,{"$f":"IF(入力シート!#REF!=\"\",\"\",入力シート!#REF!)","v":{"$error":"#REF!"}},{"$f":"IF(入力シート!#REF!=\"\",\"\",入力シート!#REF!)","v":{"$error":"#REF!"}},{"$f":"IF(入力シート!#REF!=\"\",\"\",入力シート!#REF!)","v":{"$error":"#REF!"}},{"$f":"IF(入力シート!#REF!=\"\",\"\",入力シート!#REF!)","v":{"$error":"#REF!"}},{"$f":"IF(入力シート!#REF!=\"\",\"\",入力シート!#REF!)","v":{"$error":"#REF!"}},{"$f":"IF(入力シート!#REF!=\"\",\"\",入力シート!#REF!)","v":{"$error":"#REF!"}},{"$f":"IF(入力シート!#REF!=\"\",\"\",入力シート!#REF!)","v":{"$error":"#REF!"}},{"$f":"IF(入力シート!#REF!=\"\",\"\",入力シート!#REF!)","v":{"$error":"#REF!"}},{"$f":"IF(入力シート!#REF!=\"\",\"\",入力シート!#REF!)","v":{"$error":"#REF!"}},{"$f":"IF(入力シート!#REF!=\"\",\"\",入力シート!#REF!)","v":{"$error":"#REF!"}},{"$f":"IF(入力シート!#REF!=\"\",\"\",入力シート!#REF!)","v":{"$error":"#REF!"}},null,null,{"$f":"IF(入力シート!H322=\"\",\"\",\"〇\")","v":""},{"$f":"IF(入力シート!#REF!=\"\",\"\",入力シート!#REF!)","v":{"$error":"#REF!"}},{"$f":"IF(入力シート!#REF!=\"\",\"\",入力シート!#REF!)","v":{"$error":"#REF!"}},{"$f":"IF(入力シート!#REF!=\"\",\"\",入力シート!#REF!)","v":{"$error":"#REF!"}},{"$f":"IF(入力シート!#REF!=\"\",\"\",入力シート!#REF!)","v":{"$error":"#REF!"}}]
[{"$f":"IF(入力シート!#REF!=\"\",\"\",入力シート!#REF!)","v":{"$error":"#REF!"}},{"$f":"IF(入力シート!#REF!=\"\",\"\",入力シート!#REF!)","v":{"$error":"#REF!"}},{"$f":"IF(入力シート!#REF!=\"\",\"\",DBCS(入力シート!#REF!))","v":{"$error":"#REF!"}},{"$f":"IF(入力シート!#REF!=\"\",\"\",DBCS(入力シート!#REF!))","v":{"$error":"#REF!"}},{"$f":"ASC(IF(入力シート!#REF!=\"\",\"\",UPPER(入力シート!#REF!)))","v":{"$error":"#REF!"}},{"$f":"IF(入力シート!#REF!=\"\",\"\",PROPER(入力シート!#REF!))","v":{"$error":"#REF!"}},{"$f":"IF(入力シート!#REF!=\"\",\"\",入力シート!#REF!)","v":{"$error":"#REF!"}},{"$f":"IF(入力シート!#REF!=\"\",\"\",TEXT(入力シート!#REF!,\"yyyy/mm/dd\"))","v":{"$error":"#REF!"}},{"$f":"IF(入力シート!#REF!=\"\",\"\",入力シート!#REF!)","v":{"$error":"#REF!"}},{"$f":"IF(入力シート!#REF!=\"\",\"\",入力シート!#REF!)","v":{"$error":"#REF!"}},{"$f":"IF(入力シート!#REF!=\"\",\"\",入力シート!#REF!)","v":{"$error":"#REF!"}},{"$f":"IF(入力シート!#REF!=\"\",\"\",入力シート!#REF!)","v":{"$error":"#REF!"}},{"$f":"IF(入力シート!#REF!=\"\",\"\",入力シート!#REF!)","v":{"$error":"#REF!"}},{"$f":"IF(入力シート!#REF!=\"\",\"\",入力シート!#REF!)","v":{"$error":"#REF!"}},null,{"$f":"IF(入力シート!#REF!=\"\",\"\",入力シート!#REF!)","v":{"$error":"#REF!"}},{"$f":"IF(入力シート!#REF!=\"\",\"\",入力シート!#REF!)","v":{"$error":"#REF!"}},{"$f":"IF(入力シート!#REF!=\"\",\"\",入力シート!#REF!)","v":{"$error":"#REF!"}},{"$f":"IF(入力シート!#REF!=\"\",\"\",入力シート!#REF!)","v":{"$error":"#REF!"}},{"$f":"IF(入力シート!#REF!=\"\",\"\",入力シート!#REF!)","v":{"$error":"#REF!"}},{"$f":"IF(入力シート!#REF!=\"\",\"\",入力シート!#REF!)","v":{"$error":"#REF!"}},{"$f":"IF(入力シート!#REF!=\"\",\"\",入力シート!#REF!)","v":{"$error":"#REF!"}},{"$f":"IF(入力シート!#REF!=\"\",\"\",入力シート!#REF!)","v":{"$error":"#REF!"}},{"$f":"IF(入力シート!#REF!=\"\",\"\",入力シート!#REF!)","v":{"$error":"#REF!"}},{"$f":"IF(入力シート!#REF!=\"\",\"\",入力シート!#REF!)","v":{"$error":"#REF!"}},{"$f":"IF(入力シート!#REF!=\"\",\"\",入力シート!#REF!)","v":{"$error":"#REF!"}},null,null,{"$f":"IF(入力シート!H323=\"\",\"\",\"〇\")","v":""},{"$f":"IF(入力シート!#REF!=\"\",\"\",入力シート!#REF!)","v":{"$error":"#REF!"}},{"$f":"IF(入力シート!#REF!=\"\",\"\",入力シート!#REF!)","v":{"$error":"#REF!"}},{"$f":"IF(入力シート!#REF!=\"\",\"\",入力シート!#REF!)","v":{"$error":"#REF!"}},{"$f":"IF(入力シート!#REF!=\"\",\"\",入力シート!#REF!)","v":{"$error":"#REF!"}}]
[{"$f":"IF(入力シート!#REF!=\"\",\"\",入力シート!#REF!)","v":{"$error":"#REF!"}},{"$f":"IF(入力シート!#REF!=\"\",\"\",入力シート!#REF!)","v":{"$error":"#REF!"}},{"$f":"IF(入力シート!#REF!=\"\",\"\",DBCS(入力シート!#REF!))","v":{"$error":"#REF!"}},{"$f":"IF(入力シート!#REF!=\"\",\"\",DBCS(入力シート!#REF!))","v":{"$error":"#REF!"}},{"$f":"ASC(IF(入力シート!#REF!=\"\",\"\",UPPER(入力シート!#REF!)))","v":{"$error":"#REF!"}},{"$f":"IF(入力シート!#REF!=\"\",\"\",PROPER(入力シート!#REF!))","v":{"$error":"#REF!"}},{"$f":"IF(入力シート!#REF!=\"\",\"\",入力シート!#REF!)","v":{"$error":"#REF!"}},{"$f":"IF(入力シート!#REF!=\"\",\"\",TEXT(入力シート!#REF!,\"yyyy/mm/dd\"))","v":{"$error":"#REF!"}},{"$f":"IF(入力シート!#REF!=\"\",\"\",入力シート!#REF!)","v":{"$error":"#REF!"}},{"$f":"IF(入力シート!#REF!=\"\",\"\",入力シート!#REF!)","v":{"$error":"#REF!"}},{"$f":"IF(入力シート!#REF!=\"\",\"\",入力シート!#REF!)","v":{"$error":"#REF!"}},{"$f":"IF(入力シート!#REF!=\"\",\"\",入力シート!#REF!)","v":{"$error":"#REF!"}},{"$f":"IF(入力シート!#REF!=\"\",\"\",入力シート!#REF!)","v":{"$error":"#REF!"}},{"$f":"IF(入力シート!#REF!=\"\",\"\",入力シート!#REF!)","v":{"$error":"#REF!"}},null,{"$f":"IF(入力シート!#REF!=\"\",\"\",入力シート!#REF!)","v":{"$error":"#REF!"}},{"$f":"IF(入力シート!#REF!=\"\",\"\",入力シート!#REF!)","v":{"$error":"#REF!"}},{"$f":"IF(入力シート!#REF!=\"\",\"\",入力シート!#REF!)","v":{"$error":"#REF!"}},{"$f":"IF(入力シート!#REF!=\"\",\"\",入力シート!#REF!)","v":{"$error":"#REF!"}},{"$f":"IF(入力シート!#REF!=\"\",\"\",入力シート!#REF!)","v":{"$error":"#REF!"}},{"$f":"IF(入力シート!#REF!=\"\",\"\",入力シート!#REF!)","v":{"$error":"#REF!"}},{"$f":"IF(入力シート!#REF!=\"\",\"\",入力シート!#REF!)","v":{"$error":"#REF!"}},{"$f":"IF(入力シート!#REF!=\"\",\"\",入力シート!#REF!)","v":{"$error":"#REF!"}},{"$f":"IF(入力シート!#REF!=\"\",\"\",入力シート!#REF!)","v":{"$error":"#REF!"}},{"$f":"IF(入力シート!#REF!=\"\",\"\",入力シート!#REF!)","v":{"$error":"#REF!"}},{"$f":"IF(入力シート!#REF!=\"\",\"\",入力シート!#REF!)","v":{"$error":"#REF!"}},null,null,{"$f":"IF(入力シート!H324=\"\",\"\",\"〇\")","v":""},{"$f":"IF(入力シート!#REF!=\"\",\"\",入力シート!#REF!)","v":{"$error":"#REF!"}},{"$f":"IF(入力シート!#REF!=\"\",\"\",入力シート!#REF!)","v":{"$error":"#REF!"}},{"$f":"IF(入力シート!#REF!=\"\",\"\",入力シート!#REF!)","v":{"$error":"#REF!"}},{"$f":"IF(入力シート!#REF!=\"\",\"\",入力シート!#REF!)","v":{"$error":"#REF!"}}]
[{"$f":"IF(入力シート!#REF!=\"\",\"\",入力シート!#REF!)","v":{"$error":"#REF!"}},{"$f":"IF(入力シート!#REF!=\"\",\"\",入力シート!#REF!)","v":{"$error":"#REF!"}},{"$f":"IF(入力シート!#REF!=\"\",\"\",DBCS(入力シート!#REF!))","v":{"$error":"#REF!"}},{"$f":"IF(入力シート!#REF!=\"\",\"\",DBCS(入力シート!#REF!))","v":{"$error":"#REF!"}},{"$f":"ASC(IF(入力シート!#REF!=\"\",\"\",UPPER(入力シート!#REF!)))","v":{"$error":"#REF!"}},{"$f":"IF(入力シート!#REF!=\"\",\"\",PROPER(入力シート!#REF!))","v":{"$error":"#REF!"}},{"$f":"IF(入力シート!#REF!=\"\",\"\",入力シート!#REF!)","v":{"$error":"#REF!"}},{"$f":"IF(入力シート!#REF!=\"\",\"\",TEXT(入力シート!#REF!,\"yyyy/mm/dd\"))","v":{"$error":"#REF!"}},{"$f":"IF(入力シート!#REF!=\"\",\"\",入力シート!#REF!)","v":{"$error":"#REF!"}},{"$f":"IF(入力シート!#REF!=\"\",\"\",入力シート!#REF!)","v":{"$error":"#REF!"}},{"$f":"IF(入力シート!#REF!=\"\",\"\",入力シート!#REF!)","v":{"$error":"#REF!"}},{"$f":"IF(入力シート!#REF!=\"\",\"\",入力シート!#REF!)","v":{"$error":"#REF!"}},{"$f":"IF(入力シート!#REF!=\"\",\"\",入力シート!#REF!)","v":{"$error":"#REF!"}},{"$f":"IF(入力シート!#REF!=\"\",\"\",入力シート!#REF!)","v":{"$error":"#REF!"}},null,{"$f":"IF(入力シート!#REF!=\"\",\"\",入力シート!#REF!)","v":{"$error":"#REF!"}},{"$f":"IF(入力シート!#REF!=\"\",\"\",入力シート!#REF!)","v":{"$error":"#REF!"}},{"$f":"IF(入力シート!#REF!=\"\",\"\",入力シート!#REF!)","v":{"$error":"#REF!"}},{"$f":"IF(入力シート!#REF!=\"\",\"\",入力シート!#REF!)","v":{"$error":"#REF!"}},{"$f":"IF(入力シート!#REF!=\"\",\"\",入力シート!#REF!)","v":{"$error":"#REF!"}},{"$f":"IF(入力シート!#REF!=\"\",\"\",入力シート!#REF!)","v":{"$error":"#REF!"}},{"$f":"IF(入力シート!#REF!=\"\",\"\",入力シート!#REF!)","v":{"$error":"#REF!"}},{"$f":"IF(入力シート!#REF!=\"\",\"\",入力シート!#REF!)","v":{"$error":"#REF!"}},{"$f":"IF(入力シート!#REF!=\"\",\"\",入力シート!#REF!)","v":{"$error":"#REF!"}},{"$f":"IF(入力シート!#REF!=\"\",\"\",入力シート!#REF!)","v":{"$error":"#REF!"}},{"$f":"IF(入力シート!#REF!=\"\",\"\",入力シート!#REF!)","v":{"$error":"#REF!"}},null,null,{"$f":"IF(入力シート!H325=\"\",\"\",\"〇\")","v":""},{"$f":"IF(入力シート!#REF!=\"\",\"\",入力シート!#REF!)","v":{"$error":"#REF!"}},{"$f":"IF(入力シート!#REF!=\"\",\"\",入力シート!#REF!)","v":{"$error":"#REF!"}},{"$f":"IF(入力シート!#REF!=\"\",\"\",入力シート!#REF!)","v":{"$error":"#REF!"}},{"$f":"IF(入力シート!#REF!=\"\",\"\",入力シート!#REF!)","v":{"$error":"#REF!"}}]
[{"$f":"IF(入力シート!#REF!=\"\",\"\",入力シート!#REF!)","v":{"$error":"#REF!"}},{"$f":"IF(入力シート!#REF!=\"\",\"\",入力シート!#REF!)","v":{"$error":"#REF!"}},{"$f":"IF(入力シート!#REF!=\"\",\"\",DBCS(入力シート!#REF!))","v":{"$error":"#REF!"}},{"$f":"IF(入力シート!#REF!=\"\",\"\",DBCS(入力シート!#REF!))","v":{"$error":"#REF!"}},{"$f":"ASC(IF(入力シート!#REF!=\"\",\"\",UPPER(入力シート!#REF!)))","v":{"$error":"#REF!"}},{"$f":"IF(入力シート!#REF!=\"\",\"\",PROPER(入力シート!#REF!))","v":{"$error":"#REF!"}},{"$f":"IF(入力シート!#REF!=\"\",\"\",入力シート!#REF!)","v":{"$error":"#REF!"}},{"$f":"IF(入力シート!#REF!=\"\",\"\",TEXT(入力シート!#REF!,\"yyyy/mm/dd\"))","v":{"$error":"#REF!"}},{"$f":"IF(入力シート!#REF!=\"\",\"\",入力シート!#REF!)","v":{"$error":"#REF!"}},{"$f":"IF(入力シート!#REF!=\"\",\"\",入力シート!#REF!)","v":{"$error":"#REF!"}},{"$f":"IF(入力シート!#REF!=\"\",\"\",入力シート!#REF!)","v":{"$error":"#REF!"}},{"$f":"IF(入力シート!#REF!=\"\",\"\",入力シート!#REF!)","v":{"$error":"#REF!"}},{"$f":"IF(入力シート!#REF!=\"\",\"\",入力シート!#REF!)","v":{"$error":"#REF!"}},{"$f":"IF(入力シート!#REF!=\"\",\"\",入力シート!#REF!)","v":{"$error":"#REF!"}},null,{"$f":"IF(入力シート!#REF!=\"\",\"\",入力シート!#REF!)","v":{"$error":"#REF!"}},{"$f":"IF(入力シート!#REF!=\"\",\"\",入力シート!#REF!)","v":{"$error":"#REF!"}},{"$f":"IF(入力シート!#REF!=\"\",\"\",入力シート!#REF!)","v":{"$error":"#REF!"}},{"$f":"IF(入力シート!#REF!=\"\",\"\",入力シート!#REF!)","v":{"$error":"#REF!"}},{"$f":"IF(入力シート!#REF!=\"\",\"\",入力シート!#REF!)","v":{"$error":"#REF!"}},{"$f":"IF(入力シート!#REF!=\"\",\"\",入力シート!#REF!)","v":{"$error":"#REF!"}},{"$f":"IF(入力シート!#REF!=\"\",\"\",入力シート!#REF!)","v":{"$error":"#REF!"}},{"$f":"IF(入力シート!#REF!=\"\",\"\",入力シート!#REF!)","v":{"$error":"#REF!"}},{"$f":"IF(入力シート!#REF!=\"\",\"\",入力シート!#REF!)","v":{"$error":"#REF!"}},{"$f":"IF(入力シート!#REF!=\"\",\"\",入力シート!#REF!)","v":{"$error":"#REF!"}},{"$f":"IF(入力シート!#REF!=\"\",\"\",入力シート!#REF!)","v":{"$error":"#REF!"}},null,null,{"$f":"IF(入力シート!H326=\"\",\"\",\"〇\")","v":""},{"$f":"IF(入力シート!#REF!=\"\",\"\",入力シート!#REF!)","v":{"$error":"#REF!"}},{"$f":"IF(入力シート!#REF!=\"\",\"\",入力シート!#REF!)","v":{"$error":"#REF!"}},{"$f":"IF(入力シート!#REF!=\"\",\"\",入力シート!#REF!)","v":{"$error":"#REF!"}},{"$f":"IF(入力シート!#REF!=\"\",\"\",入力シート!#REF!)","v":{"$error":"#REF!"}}]
[{"$f":"IF(入力シート!#REF!=\"\",\"\",入力シート!#REF!)","v":{"$error":"#REF!"}},{"$f":"IF(入力シート!#REF!=\"\",\"\",入力シート!#REF!)","v":{"$error":"#REF!"}},{"$f":"IF(入力シート!#REF!=\"\",\"\",DBCS(入力シート!#REF!))","v":{"$error":"#REF!"}},{"$f":"IF(入力シート!#REF!=\"\",\"\",DBCS(入力シート!#REF!))","v":{"$error":"#REF!"}},{"$f":"ASC(IF(入力シート!#REF!=\"\",\"\",UPPER(入力シート!#REF!)))","v":{"$error":"#REF!"}},{"$f":"IF(入力シート!#REF!=\"\",\"\",PROPER(入力シート!#REF!))","v":{"$error":"#REF!"}},{"$f":"IF(入力シート!#REF!=\"\",\"\",入力シート!#REF!)","v":{"$error":"#REF!"}},{"$f":"IF(入力シート!#REF!=\"\",\"\",TEXT(入力シート!#REF!,\"yyyy/mm/dd\"))","v":{"$error":"#REF!"}},{"$f":"IF(入力シート!#REF!=\"\",\"\",入力シート!#REF!)","v":{"$error":"#REF!"}},{"$f":"IF(入力シート!#REF!=\"\",\"\",入力シート!#REF!)","v":{"$error":"#REF!"}},{"$f":"IF(入力シート!#REF!=\"\",\"\",入力シート!#REF!)","v":{"$error":"#REF!"}},{"$f":"IF(入力シート!#REF!=\"\",\"\",入力シート!#REF!)","v":{"$error":"#REF!"}},{"$f":"IF(入力シート!#REF!=\"\",\"\",入力シート!#REF!)","v":{"$error":"#REF!"}},{"$f":"IF(入力シート!#REF!=\"\",\"\",入力シート!#REF!)","v":{"$error":"#REF!"}},null,{"$f":"IF(入力シート!#REF!=\"\",\"\",入力シート!#REF!)","v":{"$error":"#REF!"}},{"$f":"IF(入力シート!#REF!=\"\",\"\",入力シート!#REF!)","v":{"$error":"#REF!"}},{"$f":"IF(入力シート!#REF!=\"\",\"\",入力シート!#REF!)","v":{"$error":"#REF!"}},{"$f":"IF(入力シート!#REF!=\"\",\"\",入力シート!#REF!)","v":{"$error":"#REF!"}},{"$f":"IF(入力シート!#REF!=\"\",\"\",入力シート!#REF!)","v":{"$error":"#REF!"}},{"$f":"IF(入力シート!#REF!=\"\",\"\",入力シート!#REF!)","v":{"$error":"#REF!"}},{"$f":"IF(入力シート!#REF!=\"\",\"\",入力シート!#REF!)","v":{"$error":"#REF!"}},{"$f":"IF(入力シート!#REF!=\"\",\"\",入力シート!#REF!)","v":{"$error":"#REF!"}},{"$f":"IF(入力シート!#REF!=\"\",\"\",入力シート!#REF!)","v":{"$error":"#REF!"}},{"$f":"IF(入力シート!#REF!=\"\",\"\",入力シート!#REF!)","v":{"$error":"#REF!"}},{"$f":"IF(入力シート!#REF!=\"\",\"\",入力シート!#REF!)","v":{"$error":"#REF!"}},null,null,{"$f":"IF(入力シート!H327=\"\",\"\",\"〇\")","v":""},{"$f":"IF(入力シート!#REF!=\"\",\"\",入力シート!#REF!)","v":{"$error":"#REF!"}},{"$f":"IF(入力シート!#REF!=\"\",\"\",入力シート!#REF!)","v":{"$error":"#REF!"}},{"$f":"IF(入力シート!#REF!=\"\",\"\",入力シート!#REF!)","v":{"$error":"#REF!"}},{"$f":"IF(入力シート!#REF!=\"\",\"\",入力シート!#REF!)","v":{"$error":"#REF!"}}]
[{"$f":"IF(入力シート!#REF!=\"\",\"\",入力シート!#REF!)","v":{"$error":"#REF!"}},{"$f":"IF(入力シート!#REF!=\"\",\"\",入力シート!#REF!)","v":{"$error":"#REF!"}},{"$f":"IF(入力シート!#REF!=\"\",\"\",DBCS(入力シート!#REF!))","v":{"$error":"#REF!"}},{"$f":"IF(入力シート!#REF!=\"\",\"\",DBCS(入力シート!#REF!))","v":{"$error":"#REF!"}},{"$f":"ASC(IF(入力シート!#REF!=\"\",\"\",UPPER(入力シート!#REF!)))","v":{"$error":"#REF!"}},{"$f":"IF(入力シート!#REF!=\"\",\"\",PROPER(入力シート!#REF!))","v":{"$error":"#REF!"}},{"$f":"IF(入力シート!#REF!=\"\",\"\",入力シート!#REF!)","v":{"$error":"#REF!"}},{"$f":"IF(入力シート!#REF!=\"\",\"\",TEXT(入力シート!#REF!,\"yyyy/mm/dd\"))","v":{"$error":"#REF!"}},{"$f":"IF(入力シート!#REF!=\"\",\"\",入力シート!#REF!)","v":{"$error":"#REF!"}},{"$f":"IF(入力シート!#REF!=\"\",\"\",入力シート!#REF!)","v":{"$error":"#REF!"}},{"$f":"IF(入力シート!#REF!=\"\",\"\",入力シート!#REF!)","v":{"$error":"#REF!"}},{"$f":"IF(入力シート!#REF!=\"\",\"\",入力シート!#REF!)","v":{"$error":"#REF!"}},{"$f":"IF(入力シート!#REF!=\"\",\"\",入力シート!#REF!)","v":{"$error":"#REF!"}},{"$f":"IF(入力シート!#REF!=\"\",\"\",入力シート!#REF!)","v":{"$error":"#REF!"}},null,{"$f":"IF(入力シート!#REF!=\"\",\"\",入力シート!#REF!)","v":{"$error":"#REF!"}},{"$f":"IF(入力シート!#REF!=\"\",\"\",入力シート!#REF!)","v":{"$error":"#REF!"}},{"$f":"IF(入力シート!#REF!=\"\",\"\",入力シート!#REF!)","v":{"$error":"#REF!"}},{"$f":"IF(入力シート!#REF!=\"\",\"\",入力シート!#REF!)","v":{"$error":"#REF!"}},{"$f":"IF(入力シート!#REF!=\"\",\"\",入力シート!#REF!)","v":{"$error":"#REF!"}},{"$f":"IF(入力シート!#REF!=\"\",\"\",入力シート!#REF!)","v":{"$error":"#REF!"}},{"$f":"IF(入力シート!#REF!=\"\",\"\",入力シート!#REF!)","v":{"$error":"#REF!"}},{"$f":"IF(入力シート!#REF!=\"\",\"\",入力シート!#REF!)","v":{"$error":"#REF!"}},{"$f":"IF(入力シート!#REF!=\"\",\"\",入力シート!#REF!)","v":{"$error":"#REF!"}},{"$f":"IF(入力シート!#REF!=\"\",\"\",入力シート!#REF!)","v":{"$error":"#REF!"}},{"$f":"IF(入力シート!#REF!=\"\",\"\",入力シート!#REF!)","v":{"$error":"#REF!"}},null,null,{"$f":"IF(入力シート!H328=\"\",\"\",\"〇\")","v":""},{"$f":"IF(入力シート!#REF!=\"\",\"\",入力シート!#REF!)","v":{"$error":"#REF!"}},{"$f":"IF(入力シート!#REF!=\"\",\"\",入力シート!#REF!)","v":{"$error":"#REF!"}},{"$f":"IF(入力シート!#REF!=\"\",\"\",入力シート!#REF!)","v":{"$error":"#REF!"}},{"$f":"IF(入力シート!#REF!=\"\",\"\",入力シート!#REF!)","v":{"$error":"#REF!"}}]
[{"$f":"IF(入力シート!#REF!=\"\",\"\",入力シート!#REF!)","v":{"$error":"#REF!"}},{"$f":"IF(入力シート!#REF!=\"\",\"\",入力シート!#REF!)","v":{"$error":"#REF!"}},{"$f":"IF(入力シート!#REF!=\"\",\"\",DBCS(入力シート!#REF!))","v":{"$error":"#REF!"}},{"$f":"IF(入力シート!#REF!=\"\",\"\",DBCS(入力シート!#REF!))","v":{"$error":"#REF!"}},{"$f":"ASC(IF(入力シート!#REF!=\"\",\"\",UPPER(入力シート!#REF!)))","v":{"$error":"#REF!"}},{"$f":"IF(入力シート!#REF!=\"\",\"\",PROPER(入力シート!#REF!))","v":{"$error":"#REF!"}},{"$f":"IF(入力シート!#REF!=\"\",\"\",入力シート!#REF!)","v":{"$error":"#REF!"}},{"$f":"IF(入力シート!#REF!=\"\",\"\",TEXT(入力シート!#REF!,\"yyyy/mm/dd\"))","v":{"$error":"#REF!"}},{"$f":"IF(入力シート!#REF!=\"\",\"\",入力シート!#REF!)","v":{"$error":"#REF!"}},{"$f":"IF(入力シート!#REF!=\"\",\"\",入力シート!#REF!)","v":{"$error":"#REF!"}},{"$f":"IF(入力シート!#REF!=\"\",\"\",入力シート!#REF!)","v":{"$error":"#REF!"}},{"$f":"IF(入力シート!#REF!=\"\",\"\",入力シート!#REF!)","v":{"$error":"#REF!"}},{"$f":"IF(入力シート!#REF!=\"\",\"\",入力シート!#REF!)","v":{"$error":"#REF!"}},{"$f":"IF(入力シート!#REF!=\"\",\"\",入力シート!#REF!)","v":{"$error":"#REF!"}},null,{"$f":"IF(入力シート!#REF!=\"\",\"\",入力シート!#REF!)","v":{"$error":"#REF!"}},{"$f":"IF(入力シート!#REF!=\"\",\"\",入力シート!#REF!)","v":{"$error":"#REF!"}},{"$f":"IF(入力シート!#REF!=\"\",\"\",入力シート!#REF!)","v":{"$error":"#REF!"}},{"$f":"IF(入力シート!#REF!=\"\",\"\",入力シート!#REF!)","v":{"$error":"#REF!"}},{"$f":"IF(入力シート!#REF!=\"\",\"\",入力シート!#REF!)","v":{"$error":"#REF!"}},{"$f":"IF(入力シート!#REF!=\"\",\"\",入力シート!#REF!)","v":{"$error":"#REF!"}},{"$f":"IF(入力シート!#REF!=\"\",\"\",入力シート!#REF!)","v":{"$error":"#REF!"}},{"$f":"IF(入力シート!#REF!=\"\",\"\",入力シート!#REF!)","v":{"$error":"#REF!"}},{"$f":"IF(入力シート!#REF!=\"\",\"\",入力シート!#REF!)","v":{"$error":"#REF!"}},{"$f":"IF(入力シート!#REF!=\"\",\"\",入力シート!#REF!)","v":{"$error":"#REF!"}},{"$f":"IF(入力シート!#REF!=\"\",\"\",入力シート!#REF!)","v":{"$error":"#REF!"}},null,null,{"$f":"IF(入力シート!H329=\"\",\"\",\"〇\")","v":""},{"$f":"IF(入力シート!#REF!=\"\",\"\",入力シート!#REF!)","v":{"$error":"#REF!"}},{"$f":"IF(入力シート!#REF!=\"\",\"\",入力シート!#REF!)","v":{"$error":"#REF!"}},{"$f":"IF(入力シート!#REF!=\"\",\"\",入力シート!#REF!)","v":{"$error":"#REF!"}},{"$f":"IF(入力シート!#REF!=\"\",\"\",入力シート!#REF!)","v":{"$error":"#REF!"}}]
[{"$f":"IF(入力シート!#REF!=\"\",\"\",入力シート!#REF!)","v":{"$error":"#REF!"}},{"$f":"IF(入力シート!#REF!=\"\",\"\",入力シート!#REF!)","v":{"$error":"#REF!"}},{"$f":"IF(入力シート!#REF!=\"\",\"\",DBCS(入力シート!#REF!))","v":{"$error":"#REF!"}},{"$f":"IF(入力シート!#REF!=\"\",\"\",DBCS(入力シート!#REF!))","v":{"$error":"#REF!"}},{"$f":"ASC(IF(入力シート!#REF!=\"\",\"\",UPPER(入力シート!#REF!)))","v":{"$error":"#REF!"}},{"$f":"IF(入力シート!#REF!=\"\",\"\",PROPER(入力シート!#REF!))","v":{"$error":"#REF!"}},{"$f":"IF(入力シート!#REF!=\"\",\"\",入力シート!#REF!)","v":{"$error":"#REF!"}},{"$f":"IF(入力シート!#REF!=\"\",\"\",TEXT(入力シート!#REF!,\"yyyy/mm/dd\"))","v":{"$error":"#REF!"}},{"$f":"IF(入力シート!#REF!=\"\",\"\",入力シート!#REF!)","v":{"$error":"#REF!"}},{"$f":"IF(入力シート!#REF!=\"\",\"\",入力シート!#REF!)","v":{"$error":"#REF!"}},{"$f":"IF(入力シート!#REF!=\"\",\"\",入力シート!#REF!)","v":{"$error":"#REF!"}},{"$f":"IF(入力シート!#REF!=\"\",\"\",入力シート!#REF!)","v":{"$error":"#REF!"}},{"$f":"IF(入力シート!#REF!=\"\",\"\",入力シート!#REF!)","v":{"$error":"#REF!"}},{"$f":"IF(入力シート!#REF!=\"\",\"\",入力シート!#REF!)","v":{"$error":"#REF!"}},null,{"$f":"IF(入力シート!#REF!=\"\",\"\",入力シート!#REF!)","v":{"$error":"#REF!"}},{"$f":"IF(入力シート!#REF!=\"\",\"\",入力シート!#REF!)","v":{"$error":"#REF!"}},{"$f":"IF(入力シート!#REF!=\"\",\"\",入力シート!#REF!)","v":{"$error":"#REF!"}},{"$f":"IF(入力シート!#REF!=\"\",\"\",入力シート!#REF!)","v":{"$error":"#REF!"}},{"$f":"IF(入力シート!#REF!=\"\",\"\",入力シート!#REF!)","v":{"$error":"#REF!"}},{"$f":"IF(入力シート!#REF!=\"\",\"\",入力シート!#REF!)","v":{"$error":"#REF!"}},{"$f":"IF(入力シート!#REF!=\"\",\"\",入力シート!#REF!)","v":{"$error":"#REF!"}},{"$f":"IF(入力シート!#REF!=\"\",\"\",入力シート!#REF!)","v":{"$error":"#REF!"}},{"$f":"IF(入力シート!#REF!=\"\",\"\",入力シート!#REF!)","v":{"$error":"#REF!"}},{"$f":"IF(入力シート!#REF!=\"\",\"\",入力シート!#REF!)","v":{"$error":"#REF!"}},{"$f":"IF(入力シート!#REF!=\"\",\"\",入力シート!#REF!)","v":{"$error":"#REF!"}},null,null,{"$f":"IF(入力シート!H330=\"\",\"\",\"〇\")","v":""},{"$f":"IF(入力シート!#REF!=\"\",\"\",入力シート!#REF!)","v":{"$error":"#REF!"}},{"$f":"IF(入力シート!#REF!=\"\",\"\",入力シート!#REF!)","v":{"$error":"#REF!"}},{"$f":"IF(入力シート!#REF!=\"\",\"\",入力シート!#REF!)","v":{"$error":"#REF!"}},{"$f":"IF(入力シート!#REF!=\"\",\"\",入力シート!#REF!)","v":{"$error":"#REF!"}}]
[{"$f":"IF(入力シート!#REF!=\"\",\"\",入力シート!#REF!)","v":{"$error":"#REF!"}},{"$f":"IF(入力シート!#REF!=\"\",\"\",入力シート!#REF!)","v":{"$error":"#REF!"}},{"$f":"IF(入力シート!#REF!=\"\",\"\",DBCS(入力シート!#REF!))","v":{"$error":"#REF!"}},{"$f":"IF(入力シート!#REF!=\"\",\"\",DBCS(入力シート!#REF!))","v":{"$error":"#REF!"}},{"$f":"ASC(IF(入力シート!#REF!=\"\",\"\",UPPER(入力シート!#REF!)))","v":{"$error":"#REF!"}},{"$f":"IF(入力シート!#REF!=\"\",\"\",PROPER(入力シート!#REF!))","v":{"$error":"#REF!"}},{"$f":"IF(入力シート!#REF!=\"\",\"\",入力シート!#REF!)","v":{"$error":"#REF!"}},{"$f":"IF(入力シート!#REF!=\"\",\"\",TEXT(入力シート!#REF!,\"yyyy/mm/dd\"))","v":{"$error":"#REF!"}},{"$f":"IF(入力シート!#REF!=\"\",\"\",入力シート!#REF!)","v":{"$error":"#REF!"}},{"$f":"IF(入力シート!#REF!=\"\",\"\",入力シート!#REF!)","v":{"$error":"#REF!"}},{"$f":"IF(入力シート!#REF!=\"\",\"\",入力シート!#REF!)","v":{"$error":"#REF!"}},{"$f":"IF(入力シート!#REF!=\"\",\"\",入力シート!#REF!)","v":{"$error":"#REF!"}},{"$f":"IF(入力シート!#REF!=\"\",\"\",入力シート!#REF!)","v":{"$error":"#REF!"}},{"$f":"IF(入力シート!#REF!=\"\",\"\",入力シート!#REF!)","v":{"$error":"#REF!"}},null,{"$f":"IF(入力シート!#REF!=\"\",\"\",入力シート!#REF!)","v":{"$error":"#REF!"}},{"$f":"IF(入力シート!#REF!=\"\",\"\",入力シート!#REF!)","v":{"$error":"#REF!"}},{"$f":"IF(入力シート!#REF!=\"\",\"\",入力シート!#REF!)","v":{"$error":"#REF!"}},{"$f":"IF(入力シート!#REF!=\"\",\"\",入力シート!#REF!)","v":{"$error":"#REF!"}},{"$f":"IF(入力シート!#REF!=\"\",\"\",入力シート!#REF!)","v":{"$error":"#REF!"}},{"$f":"IF(入力シート!#REF!=\"\",\"\",入力シート!#REF!)","v":{"$error":"#REF!"}},{"$f":"IF(入力シート!#REF!=\"\",\"\",入力シート!#REF!)","v":{"$error":"#REF!"}},{"$f":"IF(入力シート!#REF!=\"\",\"\",入力シート!#REF!)","v":{"$error":"#REF!"}},{"$f":"IF(入力シート!#REF!=\"\",\"\",入力シート!#REF!)","v":{"$error":"#REF!"}},{"$f":"IF(入力シート!#REF!=\"\",\"\",入力シート!#REF!)","v":{"$error":"#REF!"}},{"$f":"IF(入力シート!#REF!=\"\",\"\",入力シート!#REF!)","v":{"$error":"#REF!"}},null,null,{"$f":"IF(入力シート!H331=\"\",\"\",\"〇\")","v":""},{"$f":"IF(入力シート!#REF!=\"\",\"\",入力シート!#REF!)","v":{"$error":"#REF!"}},{"$f":"IF(入力シート!#REF!=\"\",\"\",入力シート!#REF!)","v":{"$error":"#REF!"}},{"$f":"IF(入力シート!#REF!=\"\",\"\",入力シート!#REF!)","v":{"$error":"#REF!"}},{"$f":"IF(入力シート!#REF!=\"\",\"\",入力シート!#REF!)","v":{"$error":"#REF!"}}]
[{"$f":"IF(入力シート!#REF!=\"\",\"\",入力シート!#REF!)","v":{"$error":"#REF!"}},{"$f":"IF(入力シート!#REF!=\"\",\"\",入力シート!#REF!)","v":{"$error":"#REF!"}},{"$f":"IF(入力シート!#REF!=\"\",\"\",DBCS(入力シート!#REF!))","v":{"$error":"#REF!"}},{"$f":"IF(入力シート!#REF!=\"\",\"\",DBCS(入力シート!#REF!))","v":{"$error":"#REF!"}},{"$f":"ASC(IF(入力シート!#REF!=\"\",\"\",UPPER(入力シート!#REF!)))","v":{"$error":"#REF!"}},{"$f":"IF(入力シート!#REF!=\"\",\"\",PROPER(入力シート!#REF!))","v":{"$error":"#REF!"}},{"$f":"IF(入力シート!#REF!=\"\",\"\",入力シート!#REF!)","v":{"$error":"#REF!"}},{"$f":"IF(入力シート!#REF!=\"\",\"\",TEXT(入力シート!#REF!,\"yyyy/mm/dd\"))","v":{"$error":"#REF!"}},{"$f":"IF(入力シート!#REF!=\"\",\"\",入力シート!#REF!)","v":{"$error":"#REF!"}},{"$f":"IF(入力シート!#REF!=\"\",\"\",入力シート!#REF!)","v":{"$error":"#REF!"}},{"$f":"IF(入力シート!#REF!=\"\",\"\",入力シート!#REF!)","v":{"$error":"#REF!"}},{"$f":"IF(入力シート!#REF!=\"\",\"\",入力シート!#REF!)","v":{"$error":"#REF!"}},{"$f":"IF(入力シート!#REF!=\"\",\"\",入力シート!#REF!)","v":{"$error":"#REF!"}},{"$f":"IF(入力シート!#REF!=\"\",\"\",入力シート!#REF!)","v":{"$error":"#REF!"}},null,{"$f":"IF(入力シート!#REF!=\"\",\"\",入力シート!#REF!)","v":{"$error":"#REF!"}},{"$f":"IF(入力シート!#REF!=\"\",\"\",入力シート!#REF!)","v":{"$error":"#REF!"}},{"$f":"IF(入力シート!#REF!=\"\",\"\",入力シート!#REF!)","v":{"$error":"#REF!"}},{"$f":"IF(入力シート!#REF!=\"\",\"\",入力シート!#REF!)","v":{"$error":"#REF!"}},{"$f":"IF(入力シート!#REF!=\"\",\"\",入力シート!#REF!)","v":{"$error":"#REF!"}},{"$f":"IF(入力シート!#REF!=\"\",\"\",入力シート!#REF!)","v":{"$error":"#REF!"}},{"$f":"IF(入力シート!#REF!=\"\",\"\",入力シート!#REF!)","v":{"$error":"#REF!"}},{"$f":"IF(入力シート!#REF!=\"\",\"\",入力シート!#REF!)","v":{"$error":"#REF!"}},{"$f":"IF(入力シート!#REF!=\"\",\"\",入力シート!#REF!)","v":{"$error":"#REF!"}},{"$f":"IF(入力シート!#REF!=\"\",\"\",入力シート!#REF!)","v":{"$error":"#REF!"}},{"$f":"IF(入力シート!#REF!=\"\",\"\",入力シート!#REF!)","v":{"$error":"#REF!"}},null,null,{"$f":"IF(入力シート!H332=\"\",\"\",\"〇\")","v":""},{"$f":"IF(入力シート!#REF!=\"\",\"\",入力シート!#REF!)","v":{"$error":"#REF!"}},{"$f":"IF(入力シート!#REF!=\"\",\"\",入力シート!#REF!)","v":{"$error":"#REF!"}},{"$f":"IF(入力シート!#REF!=\"\",\"\",入力シート!#REF!)","v":{"$error":"#REF!"}},{"$f":"IF(入力シート!#REF!=\"\",\"\",入力シート!#REF!)","v":{"$error":"#REF!"}}]
[{"$f":"IF(入力シート!#REF!=\"\",\"\",入力シート!#REF!)","v":{"$error":"#REF!"}},{"$f":"IF(入力シート!#REF!=\"\",\"\",入力シート!#REF!)","v":{"$error":"#REF!"}},{"$f":"IF(入力シート!#REF!=\"\",\"\",DBCS(入力シート!#REF!))","v":{"$error":"#REF!"}},{"$f":"IF(入力シート!#REF!=\"\",\"\",DBCS(入力シート!#REF!))","v":{"$error":"#REF!"}},{"$f":"ASC(IF(入力シート!#REF!=\"\",\"\",UPPER(入力シート!#REF!)))","v":{"$error":"#REF!"}},{"$f":"IF(入力シート!#REF!=\"\",\"\",PROPER(入力シート!#REF!))","v":{"$error":"#REF!"}},{"$f":"IF(入力シート!#REF!=\"\",\"\",入力シート!#REF!)","v":{"$error":"#REF!"}},{"$f":"IF(入力シート!#REF!=\"\",\"\",TEXT(入力シート!#REF!,\"yyyy/mm/dd\"))","v":{"$error":"#REF!"}},{"$f":"IF(入力シート!#REF!=\"\",\"\",入力シート!#REF!)","v":{"$error":"#REF!"}},{"$f":"IF(入力シート!#REF!=\"\",\"\",入力シート!#REF!)","v":{"$error":"#REF!"}},{"$f":"IF(入力シート!#REF!=\"\",\"\",入力シート!#REF!)","v":{"$error":"#REF!"}},{"$f":"IF(入力シート!#REF!=\"\",\"\",入力シート!#REF!)","v":{"$error":"#REF!"}},{"$f":"IF(入力シート!#REF!=\"\",\"\",入力シート!#REF!)","v":{"$error":"#REF!"}},{"$f":"IF(入力シート!#REF!=\"\",\"\",入力シート!#REF!)","v":{"$error":"#REF!"}},null,{"$f":"IF(入力シート!#REF!=\"\",\"\",入力シート!#REF!)","v":{"$error":"#REF!"}},{"$f":"IF(入力シート!#REF!=\"\",\"\",入力シート!#REF!)","v":{"$error":"#REF!"}},{"$f":"IF(入力シート!#REF!=\"\",\"\",入力シート!#REF!)","v":{"$error":"#REF!"}},{"$f":"IF(入力シート!#REF!=\"\",\"\",入力シート!#REF!)","v":{"$error":"#REF!"}},{"$f":"IF(入力シート!#REF!=\"\",\"\",入力シート!#REF!)","v":{"$error":"#REF!"}},{"$f":"IF(入力シート!#REF!=\"\",\"\",入力シート!#REF!)","v":{"$error":"#REF!"}},{"$f":"IF(入力シート!#REF!=\"\",\"\",入力シート!#REF!)","v":{"$error":"#REF!"}},{"$f":"IF(入力シート!#REF!=\"\",\"\",入力シート!#REF!)","v":{"$error":"#REF!"}},{"$f":"IF(入力シート!#REF!=\"\",\"\",入力シート!#REF!)","v":{"$error":"#REF!"}},{"$f":"IF(入力シート!#REF!=\"\",\"\",入力シート!#REF!)","v":{"$error":"#REF!"}},{"$f":"IF(入力シート!#REF!=\"\",\"\",入力シート!#REF!)","v":{"$error":"#REF!"}},null,null,{"$f":"IF(入力シート!H333=\"\",\"\",\"〇\")","v":""},{"$f":"IF(入力シート!#REF!=\"\",\"\",入力シート!#REF!)","v":{"$error":"#REF!"}},{"$f":"IF(入力シート!#REF!=\"\",\"\",入力シート!#REF!)","v":{"$error":"#REF!"}},{"$f":"IF(入力シート!#REF!=\"\",\"\",入力シート!#REF!)","v":{"$error":"#REF!"}},{"$f":"IF(入力シート!#REF!=\"\",\"\",入力シート!#REF!)","v":{"$error":"#REF!"}}]
[{"$f":"IF(入力シート!#REF!=\"\",\"\",入力シート!#REF!)","v":{"$error":"#REF!"}},{"$f":"IF(入力シート!#REF!=\"\",\"\",入力シート!#REF!)","v":{"$error":"#REF!"}},{"$f":"IF(入力シート!#REF!=\"\",\"\",DBCS(入力シート!#REF!))","v":{"$error":"#REF!"}},{"$f":"IF(入力シート!#REF!=\"\",\"\",DBCS(入力シート!#REF!))","v":{"$error":"#REF!"}},{"$f":"ASC(IF(入力シート!#REF!=\"\",\"\",UPPER(入力シート!#REF!)))","v":{"$error":"#REF!"}},{"$f":"IF(入力シート!#REF!=\"\",\"\",PROPER(入力シート!#REF!))","v":{"$error":"#REF!"}},{"$f":"IF(入力シート!#REF!=\"\",\"\",入力シート!#REF!)","v":{"$error":"#REF!"}},{"$f":"IF(入力シート!#REF!=\"\",\"\",TEXT(入力シート!#REF!,\"yyyy/mm/dd\"))","v":{"$error":"#REF!"}},{"$f":"IF(入力シート!#REF!=\"\",\"\",入力シート!#REF!)","v":{"$error":"#REF!"}},{"$f":"IF(入力シート!#REF!=\"\",\"\",入力シート!#REF!)","v":{"$error":"#REF!"}},{"$f":"IF(入力シート!#REF!=\"\",\"\",入力シート!#REF!)","v":{"$error":"#REF!"}},{"$f":"IF(入力シート!#REF!=\"\",\"\",入力シート!#REF!)","v":{"$error":"#REF!"}},{"$f":"IF(入力シート!#REF!=\"\",\"\",入力シート!#REF!)","v":{"$error":"#REF!"}},{"$f":"IF(入力シート!#REF!=\"\",\"\",入力シート!#REF!)","v":{"$error":"#REF!"}},null,{"$f":"IF(入力シート!#REF!=\"\",\"\",入力シート!#REF!)","v":{"$error":"#REF!"}},{"$f":"IF(入力シート!#REF!=\"\",\"\",入力シート!#REF!)","v":{"$error":"#REF!"}},{"$f":"IF(入力シート!#REF!=\"\",\"\",入力シート!#REF!)","v":{"$error":"#REF!"}},{"$f":"IF(入力シート!#REF!=\"\",\"\",入力シート!#REF!)","v":{"$error":"#REF!"}},{"$f":"IF(入力シート!#REF!=\"\",\"\",入力シート!#REF!)","v":{"$error":"#REF!"}},{"$f":"IF(入力シート!#REF!=\"\",\"\",入力シート!#REF!)","v":{"$error":"#REF!"}},{"$f":"IF(入力シート!#REF!=\"\",\"\",入力シート!#REF!)","v":{"$error":"#REF!"}},{"$f":"IF(入力シート!#REF!=\"\",\"\",入力シート!#REF!)","v":{"$error":"#REF!"}},{"$f":"IF(入力シート!#REF!=\"\",\"\",入力シート!#REF!)","v":{"$error":"#REF!"}},{"$f":"IF(入力シート!#REF!=\"\",\"\",入力シート!#REF!)","v":{"$error":"#REF!"}},{"$f":"IF(入力シート!#REF!=\"\",\"\",入力シート!#REF!)","v":{"$error":"#REF!"}},null,null,{"$f":"IF(入力シート!H334=\"\",\"\",\"〇\")","v":""},{"$f":"IF(入力シート!#REF!=\"\",\"\",入力シート!#REF!)","v":{"$error":"#REF!"}},{"$f":"IF(入力シート!#REF!=\"\",\"\",入力シート!#REF!)","v":{"$error":"#REF!"}},{"$f":"IF(入力シート!#REF!=\"\",\"\",入力シート!#REF!)","v":{"$error":"#REF!"}},{"$f":"IF(入力シート!#REF!=\"\",\"\",入力シート!#REF!)","v":{"$error":"#REF!"}}]
[{"$f":"IF(入力シート!#REF!=\"\",\"\",入力シート!#REF!)","v":{"$error":"#REF!"}},{"$f":"IF(入力シート!#REF!=\"\",\"\",入力シート!#REF!)","v":{"$error":"#REF!"}},{"$f":"IF(入力シート!#REF!=\"\",\"\",DBCS(入力シート!#REF!))","v":{"$error":"#REF!"}},{"$f":"IF(入力シート!#REF!=\"\",\"\",DBCS(入力シート!#REF!))","v":{"$error":"#REF!"}},{"$f":"ASC(IF(入力シート!#REF!=\"\",\"\",UPPER(入力シート!#REF!)))","v":{"$error":"#REF!"}},{"$f":"IF(入力シート!#REF!=\"\",\"\",PROPER(入力シート!#REF!))","v":{"$error":"#REF!"}},{"$f":"IF(入力シート!#REF!=\"\",\"\",入力シート!#REF!)","v":{"$error":"#REF!"}},{"$f":"IF(入力シート!#REF!=\"\",\"\",TEXT(入力シート!#REF!,\"yyyy/mm/dd\"))","v":{"$error":"#REF!"}},{"$f":"IF(入力シート!#REF!=\"\",\"\",入力シート!#REF!)","v":{"$error":"#REF!"}},{"$f":"IF(入力シート!#REF!=\"\",\"\",入力シート!#REF!)","v":{"$error":"#REF!"}},{"$f":"IF(入力シート!#REF!=\"\",\"\",入力シート!#REF!)","v":{"$error":"#REF!"}},{"$f":"IF(入力シート!#REF!=\"\",\"\",入力シート!#REF!)","v":{"$error":"#REF!"}},{"$f":"IF(入力シート!#REF!=\"\",\"\",入力シート!#REF!)","v":{"$error":"#REF!"}},{"$f":"IF(入力シート!#REF!=\"\",\"\",入力シート!#REF!)","v":{"$error":"#REF!"}},null,{"$f":"IF(入力シート!#REF!=\"\",\"\",入力シート!#REF!)","v":{"$error":"#REF!"}},{"$f":"IF(入力シート!#REF!=\"\",\"\",入力シート!#REF!)","v":{"$error":"#REF!"}},{"$f":"IF(入力シート!#REF!=\"\",\"\",入力シート!#REF!)","v":{"$error":"#REF!"}},{"$f":"IF(入力シート!#REF!=\"\",\"\",入力シート!#REF!)","v":{"$error":"#REF!"}},{"$f":"IF(入力シート!#REF!=\"\",\"\",入力シート!#REF!)","v":{"$error":"#REF!"}},{"$f":"IF(入力シート!#REF!=\"\",\"\",入力シート!#REF!)","v":{"$error":"#REF!"}},{"$f":"IF(入力シート!#REF!=\"\",\"\",入力シート!#REF!)","v":{"$error":"#REF!"}},{"$f":"IF(入力シート!#REF!=\"\",\"\",入力シート!#REF!)","v":{"$error":"#REF!"}},{"$f":"IF(入力シート!#REF!=\"\",\"\",入力シート!#REF!)","v":{"$error":"#REF!"}},{"$f":"IF(入力シート!#REF!=\"\",\"\",入力シート!#REF!)","v":{"$error":"#REF!"}},{"$f":"IF(入力シート!#REF!=\"\",\"\",入力シート!#REF!)","v":{"$error":"#REF!"}},null,null,{"$f":"IF(入力シート!H335=\"\",\"\",\"〇\")","v":""},{"$f":"IF(入力シート!#REF!=\"\",\"\",入力シート!#REF!)","v":{"$error":"#REF!"}},{"$f":"IF(入力シート!#REF!=\"\",\"\",入力シート!#REF!)","v":{"$error":"#REF!"}},{"$f":"IF(入力シート!#REF!=\"\",\"\",入力シート!#REF!)","v":{"$error":"#REF!"}},{"$f":"IF(入力シート!#REF!=\"\",\"\",入力シート!#REF!)","v":{"$error":"#REF!"}}]
[{"$f":"IF(入力シート!#REF!=\"\",\"\",入力シート!#REF!)","v":{"$error":"#REF!"}},{"$f":"IF(入力シート!#REF!=\"\",\"\",入力シート!#REF!)","v":{"$error":"#REF!"}},{"$f":"IF(入力シート!#REF!=\"\",\"\",DBCS(入力シート!#REF!))","v":{"$error":"#REF!"}},{"$f":"IF(入力シート!#REF!=\"\",\"\",DBCS(入力シート!#REF!))","v":{"$error":"#REF!"}},{"$f":"ASC(IF(入力シート!#REF!=\"\",\"\",UPPER(入力シート!#REF!)))","v":{"$error":"#REF!"}},{"$f":"IF(入力シート!#REF!=\"\",\"\",PROPER(入力シート!#REF!))","v":{"$error":"#REF!"}},{"$f":"IF(入力シート!#REF!=\"\",\"\",入力シート!#REF!)","v":{"$error":"#REF!"}},{"$f":"IF(入力シート!#REF!=\"\",\"\",TEXT(入力シート!#REF!,\"yyyy/mm/dd\"))","v":{"$error":"#REF!"}},{"$f":"IF(入力シート!#REF!=\"\",\"\",入力シート!#REF!)","v":{"$error":"#REF!"}},{"$f":"IF(入力シート!#REF!=\"\",\"\",入力シート!#REF!)","v":{"$error":"#REF!"}},{"$f":"IF(入力シート!#REF!=\"\",\"\",入力シート!#REF!)","v":{"$error":"#REF!"}},{"$f":"IF(入力シート!#REF!=\"\",\"\",入力シート!#REF!)","v":{"$error":"#REF!"}},{"$f":"IF(入力シート!#REF!=\"\",\"\",入力シート!#REF!)","v":{"$error":"#REF!"}},{"$f":"IF(入力シート!#REF!=\"\",\"\",入力シート!#REF!)","v":{"$error":"#REF!"}},null,{"$f":"IF(入力シート!#REF!=\"\",\"\",入力シート!#REF!)","v":{"$error":"#REF!"}},{"$f":"IF(入力シート!#REF!=\"\",\"\",入力シート!#REF!)","v":{"$error":"#REF!"}},{"$f":"IF(入力シート!#REF!=\"\",\"\",入力シート!#REF!)","v":{"$error":"#REF!"}},{"$f":"IF(入力シート!#REF!=\"\",\"\",入力シート!#REF!)","v":{"$error":"#REF!"}},{"$f":"IF(入力シート!#REF!=\"\",\"\",入力シート!#REF!)","v":{"$error":"#REF!"}},{"$f":"IF(入力シート!#REF!=\"\",\"\",入力シート!#REF!)","v":{"$error":"#REF!"}},{"$f":"IF(入力シート!#REF!=\"\",\"\",入力シート!#REF!)","v":{"$error":"#REF!"}},{"$f":"IF(入力シート!#REF!=\"\",\"\",入力シート!#REF!)","v":{"$error":"#REF!"}},{"$f":"IF(入力シート!#REF!=\"\",\"\",入力シート!#REF!)","v":{"$error":"#REF!"}},{"$f":"IF(入力シート!#REF!=\"\",\"\",入力シート!#REF!)","v":{"$error":"#REF!"}},{"$f":"IF(入力シート!#REF!=\"\",\"\",入力シート!#REF!)","v":{"$error":"#REF!"}},null,null,{"$f":"IF(入力シート!H336=\"\",\"\",\"〇\")","v":""},{"$f":"IF(入力シート!#REF!=\"\",\"\",入力シート!#REF!)","v":{"$error":"#REF!"}},{"$f":"IF(入力シート!#REF!=\"\",\"\",入力シート!#REF!)","v":{"$error":"#REF!"}},{"$f":"IF(入力シート!#REF!=\"\",\"\",入力シート!#REF!)","v":{"$error":"#REF!"}},{"$f":"IF(入力シート!#REF!=\"\",\"\",入力シート!#REF!)","v":{"$error":"#REF!"}}]
[{"$f":"IF(入力シート!#REF!=\"\",\"\",入力シート!#REF!)","v":{"$error":"#REF!"}},{"$f":"IF(入力シート!#REF!=\"\",\"\",入力シート!#REF!)","v":{"$error":"#REF!"}},{"$f":"IF(入力シート!#REF!=\"\",\"\",DBCS(入力シート!#REF!))","v":{"$error":"#REF!"}},{"$f":"IF(入力シート!#REF!=\"\",\"\",DBCS(入力シート!#REF!))","v":{"$error":"#REF!"}},{"$f":"ASC(IF(入力シート!#REF!=\"\",\"\",UPPER(入力シート!#REF!)))","v":{"$error":"#REF!"}},{"$f":"IF(入力シート!#REF!=\"\",\"\",PROPER(入力シート!#REF!))","v":{"$error":"#REF!"}},{"$f":"IF(入力シート!#REF!=\"\",\"\",入力シート!#REF!)","v":{"$error":"#REF!"}},{"$f":"IF(入力シート!#REF!=\"\",\"\",TEXT(入力シート!#REF!,\"yyyy/mm/dd\"))","v":{"$error":"#REF!"}},{"$f":"IF(入力シート!#REF!=\"\",\"\",入力シート!#REF!)","v":{"$error":"#REF!"}},{"$f":"IF(入力シート!#REF!=\"\",\"\",入力シート!#REF!)","v":{"$error":"#REF!"}},{"$f":"IF(入力シート!#REF!=\"\",\"\",入力シート!#REF!)","v":{"$error":"#REF!"}},{"$f":"IF(入力シート!#REF!=\"\",\"\",入力シート!#REF!)","v":{"$error":"#REF!"}},{"$f":"IF(入力シート!#REF!=\"\",\"\",入力シート!#REF!)","v":{"$error":"#REF!"}},{"$f":"IF(入力シート!#REF!=\"\",\"\",入力シート!#REF!)","v":{"$error":"#REF!"}},null,{"$f":"IF(入力シート!#REF!=\"\",\"\",入力シート!#REF!)","v":{"$error":"#REF!"}},{"$f":"IF(入力シート!#REF!=\"\",\"\",入力シート!#REF!)","v":{"$error":"#REF!"}},{"$f":"IF(入力シート!#REF!=\"\",\"\",入力シート!#REF!)","v":{"$error":"#REF!"}},{"$f":"IF(入力シート!#REF!=\"\",\"\",入力シート!#REF!)","v":{"$error":"#REF!"}},{"$f":"IF(入力シート!#REF!=\"\",\"\",入力シート!#REF!)","v":{"$error":"#REF!"}},{"$f":"IF(入力シート!#REF!=\"\",\"\",入力シート!#REF!)","v":{"$error":"#REF!"}},{"$f":"IF(入力シート!#REF!=\"\",\"\",入力シート!#REF!)","v":{"$error":"#REF!"}},{"$f":"IF(入力シート!#REF!=\"\",\"\",入力シート!#REF!)","v":{"$error":"#REF!"}},{"$f":"IF(入力シート!#REF!=\"\",\"\",入力シート!#REF!)","v":{"$error":"#REF!"}},{"$f":"IF(入力シート!#REF!=\"\",\"\",入力シート!#REF!)","v":{"$error":"#REF!"}},{"$f":"IF(入力シート!#REF!=\"\",\"\",入力シート!#REF!)","v":{"$error":"#REF!"}},null,null,{"$f":"IF(入力シート!H337=\"\",\"\",\"〇\")","v":""},{"$f":"IF(入力シート!#REF!=\"\",\"\",入力シート!#REF!)","v":{"$error":"#REF!"}},{"$f":"IF(入力シート!#REF!=\"\",\"\",入力シート!#REF!)","v":{"$error":"#REF!"}},{"$f":"IF(入力シート!#REF!=\"\",\"\",入力シート!#REF!)","v":{"$error":"#REF!"}},{"$f":"IF(入力シート!#REF!=\"\",\"\",入力シート!#REF!)","v":{"$error":"#REF!"}}]
[{"$f":"IF(入力シート!#REF!=\"\",\"\",入力シート!#REF!)","v":{"$error":"#REF!"}},{"$f":"IF(入力シート!#REF!=\"\",\"\",入力シート!#REF!)","v":{"$error":"#REF!"}},{"$f":"IF(入力シート!#REF!=\"\",\"\",DBCS(入力シート!#REF!))","v":{"$error":"#REF!"}},{"$f":"IF(入力シート!#REF!=\"\",\"\",DBCS(入力シート!#REF!))","v":{"$error":"#REF!"}},{"$f":"ASC(IF(入力シート!#REF!=\"\",\"\",UPPER(入力シート!#REF!)))","v":{"$error":"#REF!"}},{"$f":"IF(入力シート!#REF!=\"\",\"\",PROPER(入力シート!#REF!))","v":{"$error":"#REF!"}},{"$f":"IF(入力シート!#REF!=\"\",\"\",入力シート!#REF!)","v":{"$error":"#REF!"}},{"$f":"IF(入力シート!#REF!=\"\",\"\",TEXT(入力シート!#REF!,\"yyyy/mm/dd\"))","v":{"$error":"#REF!"}},{"$f":"IF(入力シート!#REF!=\"\",\"\",入力シート!#REF!)","v":{"$error":"#REF!"}},{"$f":"IF(入力シート!#REF!=\"\",\"\",入力シート!#REF!)","v":{"$error":"#REF!"}},{"$f":"IF(入力シート!#REF!=\"\",\"\",入力シート!#REF!)","v":{"$error":"#REF!"}},{"$f":"IF(入力シート!#REF!=\"\",\"\",入力シート!#REF!)","v":{"$error":"#REF!"}},{"$f":"IF(入力シート!#REF!=\"\",\"\",入力シート!#REF!)","v":{"$error":"#REF!"}},{"$f":"IF(入力シート!#REF!=\"\",\"\",入力シート!#REF!)","v":{"$error":"#REF!"}},null,{"$f":"IF(入力シート!#REF!=\"\",\"\",入力シート!#REF!)","v":{"$error":"#REF!"}},{"$f":"IF(入力シート!#REF!=\"\",\"\",入力シート!#REF!)","v":{"$error":"#REF!"}},{"$f":"IF(入力シート!#REF!=\"\",\"\",入力シート!#REF!)","v":{"$error":"#REF!"}},{"$f":"IF(入力シート!#REF!=\"\",\"\",入力シート!#REF!)","v":{"$error":"#REF!"}},{"$f":"IF(入力シート!#REF!=\"\",\"\",入力シート!#REF!)","v":{"$error":"#REF!"}},{"$f":"IF(入力シート!#REF!=\"\",\"\",入力シート!#REF!)","v":{"$error":"#REF!"}},{"$f":"IF(入力シート!#REF!=\"\",\"\",入力シート!#REF!)","v":{"$error":"#REF!"}},{"$f":"IF(入力シート!#REF!=\"\",\"\",入力シート!#REF!)","v":{"$error":"#REF!"}},{"$f":"IF(入力シート!#REF!=\"\",\"\",入力シート!#REF!)","v":{"$error":"#REF!"}},{"$f":"IF(入力シート!#REF!=\"\",\"\",入力シート!#REF!)","v":{"$error":"#REF!"}},{"$f":"IF(入力シート!#REF!=\"\",\"\",入力シート!#REF!)","v":{"$error":"#REF!"}},null,null,{"$f":"IF(入力シート!H338=\"\",\"\",\"〇\")","v":""},{"$f":"IF(入力シート!#REF!=\"\",\"\",入力シート!#REF!)","v":{"$error":"#REF!"}},{"$f":"IF(入力シート!#REF!=\"\",\"\",入力シート!#REF!)","v":{"$error":"#REF!"}},{"$f":"IF(入力シート!#REF!=\"\",\"\",入力シート!#REF!)","v":{"$error":"#REF!"}},{"$f":"IF(入力シート!#REF!=\"\",\"\",入力シート!#REF!)","v":{"$error":"#REF!"}}]
[{"$f":"IF(入力シート!#REF!=\"\",\"\",入力シート!#REF!)","v":{"$error":"#REF!"}},{"$f":"IF(入力シート!#REF!=\"\",\"\",入力シート!#REF!)","v":{"$error":"#REF!"}},{"$f":"IF(入力シート!#REF!=\"\",\"\",DBCS(入力シート!#REF!))","v":{"$error":"#REF!"}},{"$f":"IF(入力シート!#REF!=\"\",\"\",DBCS(入力シート!#REF!))","v":{"$error":"#REF!"}},{"$f":"ASC(IF(入力シート!#REF!=\"\",\"\",UPPER(入力シート!#REF!)))","v":{"$error":"#REF!"}},{"$f":"IF(入力シート!#REF!=\"\",\"\",PROPER(入力シート!#REF!))","v":{"$error":"#REF!"}},{"$f":"IF(入力シート!#REF!=\"\",\"\",入力シート!#REF!)","v":{"$error":"#REF!"}},{"$f":"IF(入力シート!#REF!=\"\",\"\",TEXT(入力シート!#REF!,\"yyyy/mm/dd\"))","v":{"$error":"#REF!"}},{"$f":"IF(入力シート!#REF!=\"\",\"\",入力シート!#REF!)","v":{"$error":"#REF!"}},{"$f":"IF(入力シート!#REF!=\"\",\"\",入力シート!#REF!)","v":{"$error":"#REF!"}},{"$f":"IF(入力シート!#REF!=\"\",\"\",入力シート!#REF!)","v":{"$error":"#REF!"}},{"$f":"IF(入力シート!#REF!=\"\",\"\",入力シート!#REF!)","v":{"$error":"#REF!"}},{"$f":"IF(入力シート!#REF!=\"\",\"\",入力シート!#REF!)","v":{"$error":"#REF!"}},{"$f":"IF(入力シート!#REF!=\"\",\"\",入力シート!#REF!)","v":{"$error":"#REF!"}},null,{"$f":"IF(入力シート!#REF!=\"\",\"\",入力シート!#REF!)","v":{"$error":"#REF!"}},{"$f":"IF(入力シート!#REF!=\"\",\"\",入力シート!#REF!)","v":{"$error":"#REF!"}},{"$f":"IF(入力シート!#REF!=\"\",\"\",入力シート!#REF!)","v":{"$error":"#REF!"}},{"$f":"IF(入力シート!#REF!=\"\",\"\",入力シート!#REF!)","v":{"$error":"#REF!"}},{"$f":"IF(入力シート!#REF!=\"\",\"\",入力シート!#REF!)","v":{"$error":"#REF!"}},{"$f":"IF(入力シート!#REF!=\"\",\"\",入力シート!#REF!)","v":{"$error":"#REF!"}},{"$f":"IF(入力シート!#REF!=\"\",\"\",入力シート!#REF!)","v":{"$error":"#REF!"}},{"$f":"IF(入力シート!#REF!=\"\",\"\",入力シート!#REF!)","v":{"$error":"#REF!"}},{"$f":"IF(入力シート!#REF!=\"\",\"\",入力シート!#REF!)","v":{"$error":"#REF!"}},{"$f":"IF(入力シート!#REF!=\"\",\"\",入力シート!#REF!)","v":{"$error":"#REF!"}},{"$f":"IF(入力シート!#REF!=\"\",\"\",入力シート!#REF!)","v":{"$error":"#REF!"}},null,null,{"$f":"IF(入力シート!H339=\"\",\"\",\"〇\")","v":""},{"$f":"IF(入力シート!#REF!=\"\",\"\",入力シート!#REF!)","v":{"$error":"#REF!"}},{"$f":"IF(入力シート!#REF!=\"\",\"\",入力シート!#REF!)","v":{"$error":"#REF!"}},{"$f":"IF(入力シート!#REF!=\"\",\"\",入力シート!#REF!)","v":{"$error":"#REF!"}},{"$f":"IF(入力シート!#REF!=\"\",\"\",入力シート!#REF!)","v":{"$error":"#REF!"}}]
[{"$f":"IF(入力シート!#REF!=\"\",\"\",入力シート!#REF!)","v":{"$error":"#REF!"}},{"$f":"IF(入力シート!#REF!=\"\",\"\",入力シート!#REF!)","v":{"$error":"#REF!"}},{"$f":"IF(入力シート!#REF!=\"\",\"\",DBCS(入力シート!#REF!))","v":{"$error":"#REF!"}},{"$f":"IF(入力シート!#REF!=\"\",\"\",DBCS(入力シート!#REF!))","v":{"$error":"#REF!"}},{"$f":"ASC(IF(入力シート!#REF!=\"\",\"\",UPPER(入力シート!#REF!)))","v":{"$error":"#REF!"}},{"$f":"IF(入力シート!#REF!=\"\",\"\",PROPER(入力シート!#REF!))","v":{"$error":"#REF!"}},{"$f":"IF(入力シート!#REF!=\"\",\"\",入力シート!#REF!)","v":{"$error":"#REF!"}},{"$f":"IF(入力シート!#REF!=\"\",\"\",TEXT(入力シート!#REF!,\"yyyy/mm/dd\"))","v":{"$error":"#REF!"}},{"$f":"IF(入力シート!#REF!=\"\",\"\",入力シート!#REF!)","v":{"$error":"#REF!"}},{"$f":"IF(入力シート!#REF!=\"\",\"\",入力シート!#REF!)","v":{"$error":"#REF!"}},{"$f":"IF(入力シート!#REF!=\"\",\"\",入力シート!#REF!)","v":{"$error":"#REF!"}},{"$f":"IF(入力シート!#REF!=\"\",\"\",入力シート!#REF!)","v":{"$error":"#REF!"}},{"$f":"IF(入力シート!#REF!=\"\",\"\",入力シート!#REF!)","v":{"$error":"#REF!"}},{"$f":"IF(入力シート!#REF!=\"\",\"\",入力シート!#REF!)","v":{"$error":"#REF!"}},null,{"$f":"IF(入力シート!#REF!=\"\",\"\",入力シート!#REF!)","v":{"$error":"#REF!"}},{"$f":"IF(入力シート!#REF!=\"\",\"\",入力シート!#REF!)","v":{"$error":"#REF!"}},{"$f":"IF(入力シート!#REF!=\"\",\"\",入力シート!#REF!)","v":{"$error":"#REF!"}},{"$f":"IF(入力シート!#REF!=\"\",\"\",入力シート!#REF!)","v":{"$error":"#REF!"}},{"$f":"IF(入力シート!#REF!=\"\",\"\",入力シート!#REF!)","v":{"$error":"#REF!"}},{"$f":"IF(入力シート!#REF!=\"\",\"\",入力シート!#REF!)","v":{"$error":"#REF!"}},{"$f":"IF(入力シート!#REF!=\"\",\"\",入力シート!#REF!)","v":{"$error":"#REF!"}},{"$f":"IF(入力シート!#REF!=\"\",\"\",入力シート!#REF!)","v":{"$error":"#REF!"}},{"$f":"IF(入力シート!#REF!=\"\",\"\",入力シート!#REF!)","v":{"$error":"#REF!"}},{"$f":"IF(入力シート!#REF!=\"\",\"\",入力シート!#REF!)","v":{"$error":"#REF!"}},{"$f":"IF(入力シート!#REF!=\"\",\"\",入力シート!#REF!)","v":{"$error":"#REF!"}},null,null,{"$f":"IF(入力シート!H340=\"\",\"\",\"〇\")","v":""},{"$f":"IF(入力シート!#REF!=\"\",\"\",入力シート!#REF!)","v":{"$error":"#REF!"}},{"$f":"IF(入力シート!#REF!=\"\",\"\",入力シート!#REF!)","v":{"$error":"#REF!"}},{"$f":"IF(入力シート!#REF!=\"\",\"\",入力シート!#REF!)","v":{"$error":"#REF!"}},{"$f":"IF(入力シート!#REF!=\"\",\"\",入力シート!#REF!)","v":{"$error":"#REF!"}}]
[{"$f":"IF(入力シート!#REF!=\"\",\"\",入力シート!#REF!)","v":{"$error":"#REF!"}},{"$f":"IF(入力シート!#REF!=\"\",\"\",入力シート!#REF!)","v":{"$error":"#REF!"}},{"$f":"IF(入力シート!#REF!=\"\",\"\",DBCS(入力シート!#REF!))","v":{"$error":"#REF!"}},{"$f":"IF(入力シート!#REF!=\"\",\"\",DBCS(入力シート!#REF!))","v":{"$error":"#REF!"}},{"$f":"ASC(IF(入力シート!#REF!=\"\",\"\",UPPER(入力シート!#REF!)))","v":{"$error":"#REF!"}},{"$f":"IF(入力シート!#REF!=\"\",\"\",PROPER(入力シート!#REF!))","v":{"$error":"#REF!"}},{"$f":"IF(入力シート!#REF!=\"\",\"\",入力シート!#REF!)","v":{"$error":"#REF!"}},{"$f":"IF(入力シート!#REF!=\"\",\"\",TEXT(入力シート!#REF!,\"yyyy/mm/dd\"))","v":{"$error":"#REF!"}},{"$f":"IF(入力シート!#REF!=\"\",\"\",入力シート!#REF!)","v":{"$error":"#REF!"}},{"$f":"IF(入力シート!#REF!=\"\",\"\",入力シート!#REF!)","v":{"$error":"#REF!"}},{"$f":"IF(入力シート!#REF!=\"\",\"\",入力シート!#REF!)","v":{"$error":"#REF!"}},{"$f":"IF(入力シート!#REF!=\"\",\"\",入力シート!#REF!)","v":{"$error":"#REF!"}},{"$f":"IF(入力シート!#REF!=\"\",\"\",入力シート!#REF!)","v":{"$error":"#REF!"}},{"$f":"IF(入力シート!#REF!=\"\",\"\",入力シート!#REF!)","v":{"$error":"#REF!"}},null,{"$f":"IF(入力シート!#REF!=\"\",\"\",入力シート!#REF!)","v":{"$error":"#REF!"}},{"$f":"IF(入力シート!#REF!=\"\",\"\",入力シート!#REF!)","v":{"$error":"#REF!"}},{"$f":"IF(入力シート!#REF!=\"\",\"\",入力シート!#REF!)","v":{"$error":"#REF!"}},{"$f":"IF(入力シート!#REF!=\"\",\"\",入力シート!#REF!)","v":{"$error":"#REF!"}},{"$f":"IF(入力シート!#REF!=\"\",\"\",入力シート!#REF!)","v":{"$error":"#REF!"}},{"$f":"IF(入力シート!#REF!=\"\",\"\",入力シート!#REF!)","v":{"$error":"#REF!"}},{"$f":"IF(入力シート!#REF!=\"\",\"\",入力シート!#REF!)","v":{"$error":"#REF!"}},{"$f":"IF(入力シート!#REF!=\"\",\"\",入力シート!#REF!)","v":{"$error":"#REF!"}},{"$f":"IF(入力シート!#REF!=\"\",\"\",入力シート!#REF!)","v":{"$error":"#REF!"}},{"$f":"IF(入力シート!#REF!=\"\",\"\",入力シート!#REF!)","v":{"$error":"#REF!"}},{"$f":"IF(入力シート!#REF!=\"\",\"\",入力シート!#REF!)","v":{"$error":"#REF!"}},null,null,{"$f":"IF(入力シート!H341=\"\",\"\",\"〇\")","v":""},{"$f":"IF(入力シート!#REF!=\"\",\"\",入力シート!#REF!)","v":{"$error":"#REF!"}},{"$f":"IF(入力シート!#REF!=\"\",\"\",入力シート!#REF!)","v":{"$error":"#REF!"}},{"$f":"IF(入力シート!#REF!=\"\",\"\",入力シート!#REF!)","v":{"$error":"#REF!"}},{"$f":"IF(入力シート!#REF!=\"\",\"\",入力シート!#REF!)","v":{"$error":"#REF!"}}]
[{"$f":"IF(入力シート!#REF!=\"\",\"\",入力シート!#REF!)","v":{"$error":"#REF!"}},{"$f":"IF(入力シート!#REF!=\"\",\"\",入力シート!#REF!)","v":{"$error":"#REF!"}},{"$f":"IF(入力シート!#REF!=\"\",\"\",DBCS(入力シート!#REF!))","v":{"$error":"#REF!"}},{"$f":"IF(入力シート!#REF!=\"\",\"\",DBCS(入力シート!#REF!))","v":{"$error":"#REF!"}},{"$f":"ASC(IF(入力シート!#REF!=\"\",\"\",UPPER(入力シート!#REF!)))","v":{"$error":"#REF!"}},{"$f":"IF(入力シート!#REF!=\"\",\"\",PROPER(入力シート!#REF!))","v":{"$error":"#REF!"}},{"$f":"IF(入力シート!#REF!=\"\",\"\",入力シート!#REF!)","v":{"$error":"#REF!"}},{"$f":"IF(入力シート!#REF!=\"\",\"\",TEXT(入力シート!#REF!,\"yyyy/mm/dd\"))","v":{"$error":"#REF!"}},{"$f":"IF(入力シート!#REF!=\"\",\"\",入力シート!#REF!)","v":{"$error":"#REF!"}},{"$f":"IF(入力シート!#REF!=\"\",\"\",入力シート!#REF!)","v":{"$error":"#REF!"}},{"$f":"IF(入力シート!#REF!=\"\",\"\",入力シート!#REF!)","v":{"$error":"#REF!"}},{"$f":"IF(入力シート!#REF!=\"\",\"\",入力シート!#REF!)","v":{"$error":"#REF!"}},{"$f":"IF(入力シート!#REF!=\"\",\"\",入力シート!#REF!)","v":{"$error":"#REF!"}},{"$f":"IF(入力シート!#REF!=\"\",\"\",入力シート!#REF!)","v":{"$error":"#REF!"}},null,{"$f":"IF(入力シート!#REF!=\"\",\"\",入力シート!#REF!)","v":{"$error":"#REF!"}},{"$f":"IF(入力シート!#REF!=\"\",\"\",入力シート!#REF!)","v":{"$error":"#REF!"}},{"$f":"IF(入力シート!#REF!=\"\",\"\",入力シート!#REF!)","v":{"$error":"#REF!"}},{"$f":"IF(入力シート!#REF!=\"\",\"\",入力シート!#REF!)","v":{"$error":"#REF!"}},{"$f":"IF(入力シート!#REF!=\"\",\"\",入力シート!#REF!)","v":{"$error":"#REF!"}},{"$f":"IF(入力シート!#REF!=\"\",\"\",入力シート!#REF!)","v":{"$error":"#REF!"}},{"$f":"IF(入力シート!#REF!=\"\",\"\",入力シート!#REF!)","v":{"$error":"#REF!"}},{"$f":"IF(入力シート!#REF!=\"\",\"\",入力シート!#REF!)","v":{"$error":"#REF!"}},{"$f":"IF(入力シート!#REF!=\"\",\"\",入力シート!#REF!)","v":{"$error":"#REF!"}},{"$f":"IF(入力シート!#REF!=\"\",\"\",入力シート!#REF!)","v":{"$error":"#REF!"}},{"$f":"IF(入力シート!#REF!=\"\",\"\",入力シート!#REF!)","v":{"$error":"#REF!"}},null,null,{"$f":"IF(入力シート!H342=\"\",\"\",\"〇\")","v":""},{"$f":"IF(入力シート!#REF!=\"\",\"\",入力シート!#REF!)","v":{"$error":"#REF!"}},{"$f":"IF(入力シート!#REF!=\"\",\"\",入力シート!#REF!)","v":{"$error":"#REF!"}},{"$f":"IF(入力シート!#REF!=\"\",\"\",入力シート!#REF!)","v":{"$error":"#REF!"}},{"$f":"IF(入力シート!#REF!=\"\",\"\",入力シート!#REF!)","v":{"$error":"#REF!"}}]
[{"$f":"IF(入力シート!#REF!=\"\",\"\",入力シート!#REF!)","v":{"$error":"#REF!"}},{"$f":"IF(入力シート!#REF!=\"\",\"\",入力シート!#REF!)","v":{"$error":"#REF!"}},{"$f":"IF(入力シート!#REF!=\"\",\"\",DBCS(入力シート!#REF!))","v":{"$error":"#REF!"}},{"$f":"IF(入力シート!#REF!=\"\",\"\",DBCS(入力シート!#REF!))","v":{"$error":"#REF!"}},{"$f":"ASC(IF(入力シート!#REF!=\"\",\"\",UPPER(入力シート!#REF!)))","v":{"$error":"#REF!"}},{"$f":"IF(入力シート!#REF!=\"\",\"\",PROPER(入力シート!#REF!))","v":{"$error":"#REF!"}},{"$f":"IF(入力シート!#REF!=\"\",\"\",入力シート!#REF!)","v":{"$error":"#REF!"}},{"$f":"IF(入力シート!#REF!=\"\",\"\",TEXT(入力シート!#REF!,\"yyyy/mm/dd\"))","v":{"$error":"#REF!"}},{"$f":"IF(入力シート!#REF!=\"\",\"\",入力シート!#REF!)","v":{"$error":"#REF!"}},{"$f":"IF(入力シート!#REF!=\"\",\"\",入力シート!#REF!)","v":{"$error":"#REF!"}},{"$f":"IF(入力シート!#REF!=\"\",\"\",入力シート!#REF!)","v":{"$error":"#REF!"}},{"$f":"IF(入力シート!#REF!=\"\",\"\",入力シート!#REF!)","v":{"$error":"#REF!"}},{"$f":"IF(入力シート!#REF!=\"\",\"\",入力シート!#REF!)","v":{"$error":"#REF!"}},{"$f":"IF(入力シート!#REF!=\"\",\"\",入力シート!#REF!)","v":{"$error":"#REF!"}},null,{"$f":"IF(入力シート!#REF!=\"\",\"\",入力シート!#REF!)","v":{"$error":"#REF!"}},{"$f":"IF(入力シート!#REF!=\"\",\"\",入力シート!#REF!)","v":{"$error":"#REF!"}},{"$f":"IF(入力シート!#REF!=\"\",\"\",入力シート!#REF!)","v":{"$error":"#REF!"}},{"$f":"IF(入力シート!#REF!=\"\",\"\",入力シート!#REF!)","v":{"$error":"#REF!"}},{"$f":"IF(入力シート!#REF!=\"\",\"\",入力シート!#REF!)","v":{"$error":"#REF!"}},{"$f":"IF(入力シート!#REF!=\"\",\"\",入力シート!#REF!)","v":{"$error":"#REF!"}},{"$f":"IF(入力シート!#REF!=\"\",\"\",入力シート!#REF!)","v":{"$error":"#REF!"}},{"$f":"IF(入力シート!#REF!=\"\",\"\",入力シート!#REF!)","v":{"$error":"#REF!"}},{"$f":"IF(入力シート!#REF!=\"\",\"\",入力シート!#REF!)","v":{"$error":"#REF!"}},{"$f":"IF(入力シート!#REF!=\"\",\"\",入力シート!#REF!)","v":{"$error":"#REF!"}},{"$f":"IF(入力シート!#REF!=\"\",\"\",入力シート!#REF!)","v":{"$error":"#REF!"}},null,null,{"$f":"IF(入力シート!H343=\"\",\"\",\"〇\")","v":""},{"$f":"IF(入力シート!#REF!=\"\",\"\",入力シート!#REF!)","v":{"$error":"#REF!"}},{"$f":"IF(入力シート!#REF!=\"\",\"\",入力シート!#REF!)","v":{"$error":"#REF!"}},{"$f":"IF(入力シート!#REF!=\"\",\"\",入力シート!#REF!)","v":{"$error":"#REF!"}},{"$f":"IF(入力シート!#REF!=\"\",\"\",入力シート!#REF!)","v":{"$error":"#REF!"}}]
[{"$f":"IF(入力シート!#REF!=\"\",\"\",入力シート!#REF!)","v":{"$error":"#REF!"}},{"$f":"IF(入力シート!#REF!=\"\",\"\",入力シート!#REF!)","v":{"$error":"#REF!"}},{"$f":"IF(入力シート!#REF!=\"\",\"\",DBCS(入力シート!#REF!))","v":{"$error":"#REF!"}},{"$f":"IF(入力シート!#REF!=\"\",\"\",DBCS(入力シート!#REF!))","v":{"$error":"#REF!"}},{"$f":"ASC(IF(入力シート!#REF!=\"\",\"\",UPPER(入力シート!#REF!)))","v":{"$error":"#REF!"}},{"$f":"IF(入力シート!#REF!=\"\",\"\",PROPER(入力シート!#REF!))","v":{"$error":"#REF!"}},{"$f":"IF(入力シート!#REF!=\"\",\"\",入力シート!#REF!)","v":{"$error":"#REF!"}},{"$f":"IF(入力シート!#REF!=\"\",\"\",TEXT(入力シート!#REF!,\"yyyy/mm/dd\"))","v":{"$error":"#REF!"}},{"$f":"IF(入力シート!#REF!=\"\",\"\",入力シート!#REF!)","v":{"$error":"#REF!"}},{"$f":"IF(入力シート!#REF!=\"\",\"\",入力シート!#REF!)","v":{"$error":"#REF!"}},{"$f":"IF(入力シート!#REF!=\"\",\"\",入力シート!#REF!)","v":{"$error":"#REF!"}},{"$f":"IF(入力シート!#REF!=\"\",\"\",入力シート!#REF!)","v":{"$error":"#REF!"}},{"$f":"IF(入力シート!#REF!=\"\",\"\",入力シート!#REF!)","v":{"$error":"#REF!"}},{"$f":"IF(入力シート!#REF!=\"\",\"\",入力シート!#REF!)","v":{"$error":"#REF!"}},null,{"$f":"IF(入力シート!#REF!=\"\",\"\",入力シート!#REF!)","v":{"$error":"#REF!"}},{"$f":"IF(入力シート!#REF!=\"\",\"\",入力シート!#REF!)","v":{"$error":"#REF!"}},{"$f":"IF(入力シート!#REF!=\"\",\"\",入力シート!#REF!)","v":{"$error":"#REF!"}},{"$f":"IF(入力シート!#REF!=\"\",\"\",入力シート!#REF!)","v":{"$error":"#REF!"}},{"$f":"IF(入力シート!#REF!=\"\",\"\",入力シート!#REF!)","v":{"$error":"#REF!"}},{"$f":"IF(入力シート!#REF!=\"\",\"\",入力シート!#REF!)","v":{"$error":"#REF!"}},{"$f":"IF(入力シート!#REF!=\"\",\"\",入力シート!#REF!)","v":{"$error":"#REF!"}},{"$f":"IF(入力シート!#REF!=\"\",\"\",入力シート!#REF!)","v":{"$error":"#REF!"}},{"$f":"IF(入力シート!#REF!=\"\",\"\",入力シート!#REF!)","v":{"$error":"#REF!"}},{"$f":"IF(入力シート!#REF!=\"\",\"\",入力シート!#REF!)","v":{"$error":"#REF!"}},{"$f":"IF(入力シート!#REF!=\"\",\"\",入力シート!#REF!)","v":{"$error":"#REF!"}},null,null,{"$f":"IF(入力シート!H344=\"\",\"\",\"〇\")","v":""},{"$f":"IF(入力シート!#REF!=\"\",\"\",入力シート!#REF!)","v":{"$error":"#REF!"}},{"$f":"IF(入力シート!#REF!=\"\",\"\",入力シート!#REF!)","v":{"$error":"#REF!"}},{"$f":"IF(入力シート!#REF!=\"\",\"\",入力シート!#REF!)","v":{"$error":"#REF!"}},{"$f":"IF(入力シート!#REF!=\"\",\"\",入力シート!#REF!)","v":{"$error":"#REF!"}}]
[{"$f":"IF(入力シート!#REF!=\"\",\"\",入力シート!#REF!)","v":{"$error":"#REF!"}},{"$f":"IF(入力シート!#REF!=\"\",\"\",入力シート!#REF!)","v":{"$error":"#REF!"}},{"$f":"IF(入力シート!#REF!=\"\",\"\",DBCS(入力シート!#REF!))","v":{"$error":"#REF!"}},{"$f":"IF(入力シート!#REF!=\"\",\"\",DBCS(入力シート!#REF!))","v":{"$error":"#REF!"}},{"$f":"ASC(IF(入力シート!#REF!=\"\",\"\",UPPER(入力シート!#REF!)))","v":{"$error":"#REF!"}},{"$f":"IF(入力シート!#REF!=\"\",\"\",PROPER(入力シート!#REF!))","v":{"$error":"#REF!"}},{"$f":"IF(入力シート!#REF!=\"\",\"\",入力シート!#REF!)","v":{"$error":"#REF!"}},{"$f":"IF(入力シート!#REF!=\"\",\"\",TEXT(入力シート!#REF!,\"yyyy/mm/dd\"))","v":{"$error":"#REF!"}},{"$f":"IF(入力シート!#REF!=\"\",\"\",入力シート!#REF!)","v":{"$error":"#REF!"}},{"$f":"IF(入力シート!#REF!=\"\",\"\",入力シート!#REF!)","v":{"$error":"#REF!"}},{"$f":"IF(入力シート!#REF!=\"\",\"\",入力シート!#REF!)","v":{"$error":"#REF!"}},{"$f":"IF(入力シート!#REF!=\"\",\"\",入力シート!#REF!)","v":{"$error":"#REF!"}},{"$f":"IF(入力シート!#REF!=\"\",\"\",入力シート!#REF!)","v":{"$error":"#REF!"}},{"$f":"IF(入力シート!#REF!=\"\",\"\",入力シート!#REF!)","v":{"$error":"#REF!"}},null,{"$f":"IF(入力シート!#REF!=\"\",\"\",入力シート!#REF!)","v":{"$error":"#REF!"}},{"$f":"IF(入力シート!#REF!=\"\",\"\",入力シート!#REF!)","v":{"$error":"#REF!"}},{"$f":"IF(入力シート!#REF!=\"\",\"\",入力シート!#REF!)","v":{"$error":"#REF!"}},{"$f":"IF(入力シート!#REF!=\"\",\"\",入力シート!#REF!)","v":{"$error":"#REF!"}},{"$f":"IF(入力シート!#REF!=\"\",\"\",入力シート!#REF!)","v":{"$error":"#REF!"}},{"$f":"IF(入力シート!#REF!=\"\",\"\",入力シート!#REF!)","v":{"$error":"#REF!"}},{"$f":"IF(入力シート!#REF!=\"\",\"\",入力シート!#REF!)","v":{"$error":"#REF!"}},{"$f":"IF(入力シート!#REF!=\"\",\"\",入力シート!#REF!)","v":{"$error":"#REF!"}},{"$f":"IF(入力シート!#REF!=\"\",\"\",入力シート!#REF!)","v":{"$error":"#REF!"}},{"$f":"IF(入力シート!#REF!=\"\",\"\",入力シート!#REF!)","v":{"$error":"#REF!"}},{"$f":"IF(入力シート!#REF!=\"\",\"\",入力シート!#REF!)","v":{"$error":"#REF!"}},null,null,{"$f":"IF(入力シート!H345=\"\",\"\",\"〇\")","v":""},{"$f":"IF(入力シート!#REF!=\"\",\"\",入力シート!#REF!)","v":{"$error":"#REF!"}},{"$f":"IF(入力シート!#REF!=\"\",\"\",入力シート!#REF!)","v":{"$error":"#REF!"}},{"$f":"IF(入力シート!#REF!=\"\",\"\",入力シート!#REF!)","v":{"$error":"#REF!"}},{"$f":"IF(入力シート!#REF!=\"\",\"\",入力シート!#REF!)","v":{"$error":"#REF!"}}]
[{"$f":"IF(入力シート!#REF!=\"\",\"\",入力シート!#REF!)","v":{"$error":"#REF!"}},{"$f":"IF(入力シート!#REF!=\"\",\"\",入力シート!#REF!)","v":{"$error":"#REF!"}},{"$f":"IF(入力シート!#REF!=\"\",\"\",DBCS(入力シート!#REF!))","v":{"$error":"#REF!"}},{"$f":"IF(入力シート!#REF!=\"\",\"\",DBCS(入力シート!#REF!))","v":{"$error":"#REF!"}},{"$f":"ASC(IF(入力シート!#REF!=\"\",\"\",UPPER(入力シート!#REF!)))","v":{"$error":"#REF!"}},{"$f":"IF(入力シート!#REF!=\"\",\"\",PROPER(入力シート!#REF!))","v":{"$error":"#REF!"}},{"$f":"IF(入力シート!#REF!=\"\",\"\",入力シート!#REF!)","v":{"$error":"#REF!"}},{"$f":"IF(入力シート!#REF!=\"\",\"\",TEXT(入力シート!#REF!,\"yyyy/mm/dd\"))","v":{"$error":"#REF!"}},{"$f":"IF(入力シート!#REF!=\"\",\"\",入力シート!#REF!)","v":{"$error":"#REF!"}},{"$f":"IF(入力シート!#REF!=\"\",\"\",入力シート!#REF!)","v":{"$error":"#REF!"}},{"$f":"IF(入力シート!#REF!=\"\",\"\",入力シート!#REF!)","v":{"$error":"#REF!"}},{"$f":"IF(入力シート!#REF!=\"\",\"\",入力シート!#REF!)","v":{"$error":"#REF!"}},{"$f":"IF(入力シート!#REF!=\"\",\"\",入力シート!#REF!)","v":{"$error":"#REF!"}},{"$f":"IF(入力シート!#REF!=\"\",\"\",入力シート!#REF!)","v":{"$error":"#REF!"}},null,{"$f":"IF(入力シート!#REF!=\"\",\"\",入力シート!#REF!)","v":{"$error":"#REF!"}},{"$f":"IF(入力シート!#REF!=\"\",\"\",入力シート!#REF!)","v":{"$error":"#REF!"}},{"$f":"IF(入力シート!#REF!=\"\",\"\",入力シート!#REF!)","v":{"$error":"#REF!"}},{"$f":"IF(入力シート!#REF!=\"\",\"\",入力シート!#REF!)","v":{"$error":"#REF!"}},{"$f":"IF(入力シート!#REF!=\"\",\"\",入力シート!#REF!)","v":{"$error":"#REF!"}},{"$f":"IF(入力シート!#REF!=\"\",\"\",入力シート!#REF!)","v":{"$error":"#REF!"}},{"$f":"IF(入力シート!#REF!=\"\",\"\",入力シート!#REF!)","v":{"$error":"#REF!"}},{"$f":"IF(入力シート!#REF!=\"\",\"\",入力シート!#REF!)","v":{"$error":"#REF!"}},{"$f":"IF(入力シート!#REF!=\"\",\"\",入力シート!#REF!)","v":{"$error":"#REF!"}},{"$f":"IF(入力シート!#REF!=\"\",\"\",入力シート!#REF!)","v":{"$error":"#REF!"}},{"$f":"IF(入力シート!#REF!=\"\",\"\",入力シート!#REF!)","v":{"$error":"#REF!"}},null,null,{"$f":"IF(入力シート!H346=\"\",\"\",\"〇\")","v":""},{"$f":"IF(入力シート!#REF!=\"\",\"\",入力シート!#REF!)","v":{"$error":"#REF!"}},{"$f":"IF(入力シート!#REF!=\"\",\"\",入力シート!#REF!)","v":{"$error":"#REF!"}},{"$f":"IF(入力シート!#REF!=\"\",\"\",入力シート!#REF!)","v":{"$error":"#REF!"}},{"$f":"IF(入力シート!#REF!=\"\",\"\",入力シート!#REF!)","v":{"$error":"#REF!"}}]
[{"$f":"IF(入力シート!#REF!=\"\",\"\",入力シート!#REF!)","v":{"$error":"#REF!"}},{"$f":"IF(入力シート!#REF!=\"\",\"\",入力シート!#REF!)","v":{"$error":"#REF!"}},{"$f":"IF(入力シート!#REF!=\"\",\"\",DBCS(入力シート!#REF!))","v":{"$error":"#REF!"}},{"$f":"IF(入力シート!#REF!=\"\",\"\",DBCS(入力シート!#REF!))","v":{"$error":"#REF!"}},{"$f":"ASC(IF(入力シート!#REF!=\"\",\"\",UPPER(入力シート!#REF!)))","v":{"$error":"#REF!"}},{"$f":"IF(入力シート!#REF!=\"\",\"\",PROPER(入力シート!#REF!))","v":{"$error":"#REF!"}},{"$f":"IF(入力シート!#REF!=\"\",\"\",入力シート!#REF!)","v":{"$error":"#REF!"}},{"$f":"IF(入力シート!#REF!=\"\",\"\",TEXT(入力シート!#REF!,\"yyyy/mm/dd\"))","v":{"$error":"#REF!"}},{"$f":"IF(入力シート!#REF!=\"\",\"\",入力シート!#REF!)","v":{"$error":"#REF!"}},{"$f":"IF(入力シート!#REF!=\"\",\"\",入力シート!#REF!)","v":{"$error":"#REF!"}},{"$f":"IF(入力シート!#REF!=\"\",\"\",入力シート!#REF!)","v":{"$error":"#REF!"}},{"$f":"IF(入力シート!#REF!=\"\",\"\",入力シート!#REF!)","v":{"$error":"#REF!"}},{"$f":"IF(入力シート!#REF!=\"\",\"\",入力シート!#REF!)","v":{"$error":"#REF!"}},{"$f":"IF(入力シート!#REF!=\"\",\"\",入力シート!#REF!)","v":{"$error":"#REF!"}},null,{"$f":"IF(入力シート!#REF!=\"\",\"\",入力シート!#REF!)","v":{"$error":"#REF!"}},{"$f":"IF(入力シート!#REF!=\"\",\"\",入力シート!#REF!)","v":{"$error":"#REF!"}},{"$f":"IF(入力シート!#REF!=\"\",\"\",入力シート!#REF!)","v":{"$error":"#REF!"}},{"$f":"IF(入力シート!#REF!=\"\",\"\",入力シート!#REF!)","v":{"$error":"#REF!"}},{"$f":"IF(入力シート!#REF!=\"\",\"\",入力シート!#REF!)","v":{"$error":"#REF!"}},{"$f":"IF(入力シート!#REF!=\"\",\"\",入力シート!#REF!)","v":{"$error":"#REF!"}},{"$f":"IF(入力シート!#REF!=\"\",\"\",入力シート!#REF!)","v":{"$error":"#REF!"}},{"$f":"IF(入力シート!#REF!=\"\",\"\",入力シート!#REF!)","v":{"$error":"#REF!"}},{"$f":"IF(入力シート!#REF!=\"\",\"\",入力シート!#REF!)","v":{"$error":"#REF!"}},{"$f":"IF(入力シート!#REF!=\"\",\"\",入力シート!#REF!)","v":{"$error":"#REF!"}},{"$f":"IF(入力シート!#REF!=\"\",\"\",入力シート!#REF!)","v":{"$error":"#REF!"}},null,null,{"$f":"IF(入力シート!H347=\"\",\"\",\"〇\")","v":""},{"$f":"IF(入力シート!#REF!=\"\",\"\",入力シート!#REF!)","v":{"$error":"#REF!"}},{"$f":"IF(入力シート!#REF!=\"\",\"\",入力シート!#REF!)","v":{"$error":"#REF!"}},{"$f":"IF(入力シート!#REF!=\"\",\"\",入力シート!#REF!)","v":{"$error":"#REF!"}},{"$f":"IF(入力シート!#REF!=\"\",\"\",入力シート!#REF!)","v":{"$error":"#REF!"}}]
[{"$f":"IF(入力シート!#REF!=\"\",\"\",入力シート!#REF!)","v":{"$error":"#REF!"}},{"$f":"IF(入力シート!#REF!=\"\",\"\",入力シート!#REF!)","v":{"$error":"#REF!"}},{"$f":"IF(入力シート!#REF!=\"\",\"\",DBCS(入力シート!#REF!))","v":{"$error":"#REF!"}},{"$f":"IF(入力シート!#REF!=\"\",\"\",DBCS(入力シート!#REF!))","v":{"$error":"#REF!"}},{"$f":"ASC(IF(入力シート!#REF!=\"\",\"\",UPPER(入力シート!#REF!)))","v":{"$error":"#REF!"}},{"$f":"IF(入力シート!#REF!=\"\",\"\",PROPER(入力シート!#REF!))","v":{"$error":"#REF!"}},{"$f":"IF(入力シート!#REF!=\"\",\"\",入力シート!#REF!)","v":{"$error":"#REF!"}},{"$f":"IF(入力シート!#REF!=\"\",\"\",TEXT(入力シート!#REF!,\"yyyy/mm/dd\"))","v":{"$error":"#REF!"}},{"$f":"IF(入力シート!#REF!=\"\",\"\",入力シート!#REF!)","v":{"$error":"#REF!"}},{"$f":"IF(入力シート!#REF!=\"\",\"\",入力シート!#REF!)","v":{"$error":"#REF!"}},{"$f":"IF(入力シート!#REF!=\"\",\"\",入力シート!#REF!)","v":{"$error":"#REF!"}},{"$f":"IF(入力シート!#REF!=\"\",\"\",入力シート!#REF!)","v":{"$error":"#REF!"}},{"$f":"IF(入力シート!#REF!=\"\",\"\",入力シート!#REF!)","v":{"$error":"#REF!"}},{"$f":"IF(入力シート!#REF!=\"\",\"\",入力シート!#REF!)","v":{"$error":"#REF!"}},null,{"$f":"IF(入力シート!#REF!=\"\",\"\",入力シート!#REF!)","v":{"$error":"#REF!"}},{"$f":"IF(入力シート!#REF!=\"\",\"\",入力シート!#REF!)","v":{"$error":"#REF!"}},{"$f":"IF(入力シート!#REF!=\"\",\"\",入力シート!#REF!)","v":{"$error":"#REF!"}},{"$f":"IF(入力シート!#REF!=\"\",\"\",入力シート!#REF!)","v":{"$error":"#REF!"}},{"$f":"IF(入力シート!#REF!=\"\",\"\",入力シート!#REF!)","v":{"$error":"#REF!"}},{"$f":"IF(入力シート!#REF!=\"\",\"\",入力シート!#REF!)","v":{"$error":"#REF!"}},{"$f":"IF(入力シート!#REF!=\"\",\"\",入力シート!#REF!)","v":{"$error":"#REF!"}},{"$f":"IF(入力シート!#REF!=\"\",\"\",入力シート!#REF!)","v":{"$error":"#REF!"}},{"$f":"IF(入力シート!#REF!=\"\",\"\",入力シート!#REF!)","v":{"$error":"#REF!"}},{"$f":"IF(入力シート!#REF!=\"\",\"\",入力シート!#REF!)","v":{"$error":"#REF!"}},{"$f":"IF(入力シート!#REF!=\"\",\"\",入力シート!#REF!)","v":{"$error":"#REF!"}},null,null,{"$f":"IF(入力シート!H348=\"\",\"\",\"〇\")","v":""},{"$f":"IF(入力シート!#REF!=\"\",\"\",入力シート!#REF!)","v":{"$error":"#REF!"}},{"$f":"IF(入力シート!#REF!=\"\",\"\",入力シート!#REF!)","v":{"$error":"#REF!"}},{"$f":"IF(入力シート!#REF!=\"\",\"\",入力シート!#REF!)","v":{"$error":"#REF!"}},{"$f":"IF(入力シート!#REF!=\"\",\"\",入力シート!#REF!)","v":{"$error":"#REF!"}}]
[{"$f":"IF(入力シート!#REF!=\"\",\"\",入力シート!#REF!)","v":{"$error":"#REF!"}},{"$f":"IF(入力シート!#REF!=\"\",\"\",入力シート!#REF!)","v":{"$error":"#REF!"}},{"$f":"IF(入力シート!#REF!=\"\",\"\",DBCS(入力シート!#REF!))","v":{"$error":"#REF!"}},{"$f":"IF(入力シート!#REF!=\"\",\"\",DBCS(入力シート!#REF!))","v":{"$error":"#REF!"}},{"$f":"ASC(IF(入力シート!#REF!=\"\",\"\",UPPER(入力シート!#REF!)))","v":{"$error":"#REF!"}},{"$f":"IF(入力シート!#REF!=\"\",\"\",PROPER(入力シート!#REF!))","v":{"$error":"#REF!"}},{"$f":"IF(入力シート!#REF!=\"\",\"\",入力シート!#REF!)","v":{"$error":"#REF!"}},{"$f":"IF(入力シート!#REF!=\"\",\"\",TEXT(入力シート!#REF!,\"yyyy/mm/dd\"))","v":{"$error":"#REF!"}},{"$f":"IF(入力シート!#REF!=\"\",\"\",入力シート!#REF!)","v":{"$error":"#REF!"}},{"$f":"IF(入力シート!#REF!=\"\",\"\",入力シート!#REF!)","v":{"$error":"#REF!"}},{"$f":"IF(入力シート!#REF!=\"\",\"\",入力シート!#REF!)","v":{"$error":"#REF!"}},{"$f":"IF(入力シート!#REF!=\"\",\"\",入力シート!#REF!)","v":{"$error":"#REF!"}},{"$f":"IF(入力シート!#REF!=\"\",\"\",入力シート!#REF!)","v":{"$error":"#REF!"}},{"$f":"IF(入力シート!#REF!=\"\",\"\",入力シート!#REF!)","v":{"$error":"#REF!"}},null,{"$f":"IF(入力シート!#REF!=\"\",\"\",入力シート!#REF!)","v":{"$error":"#REF!"}},{"$f":"IF(入力シート!#REF!=\"\",\"\",入力シート!#REF!)","v":{"$error":"#REF!"}},{"$f":"IF(入力シート!#REF!=\"\",\"\",入力シート!#REF!)","v":{"$error":"#REF!"}},{"$f":"IF(入力シート!#REF!=\"\",\"\",入力シート!#REF!)","v":{"$error":"#REF!"}},{"$f":"IF(入力シート!#REF!=\"\",\"\",入力シート!#REF!)","v":{"$error":"#REF!"}},{"$f":"IF(入力シート!#REF!=\"\",\"\",入力シート!#REF!)","v":{"$error":"#REF!"}},{"$f":"IF(入力シート!#REF!=\"\",\"\",入力シート!#REF!)","v":{"$error":"#REF!"}},{"$f":"IF(入力シート!#REF!=\"\",\"\",入力シート!#REF!)","v":{"$error":"#REF!"}},{"$f":"IF(入力シート!#REF!=\"\",\"\",入力シート!#REF!)","v":{"$error":"#REF!"}},{"$f":"IF(入力シート!#REF!=\"\",\"\",入力シート!#REF!)","v":{"$error":"#REF!"}},{"$f":"IF(入力シート!#REF!=\"\",\"\",入力シート!#REF!)","v":{"$error":"#REF!"}},null,null,{"$f":"IF(入力シート!H349=\"\",\"\",\"〇\")","v":""},{"$f":"IF(入力シート!#REF!=\"\",\"\",入力シート!#REF!)","v":{"$error":"#REF!"}},{"$f":"IF(入力シート!#REF!=\"\",\"\",入力シート!#REF!)","v":{"$error":"#REF!"}},{"$f":"IF(入力シート!#REF!=\"\",\"\",入力シート!#REF!)","v":{"$error":"#REF!"}},{"$f":"IF(入力シート!#REF!=\"\",\"\",入力シート!#REF!)","v":{"$error":"#REF!"}}]
[{"$f":"IF(入力シート!#REF!=\"\",\"\",入力シート!#REF!)","v":{"$error":"#REF!"}},{"$f":"IF(入力シート!#REF!=\"\",\"\",入力シート!#REF!)","v":{"$error":"#REF!"}},{"$f":"IF(入力シート!#REF!=\"\",\"\",DBCS(入力シート!#REF!))","v":{"$error":"#REF!"}},{"$f":"IF(入力シート!#REF!=\"\",\"\",DBCS(入力シート!#REF!))","v":{"$error":"#REF!"}},{"$f":"ASC(IF(入力シート!#REF!=\"\",\"\",UPPER(入力シート!#REF!)))","v":{"$error":"#REF!"}},{"$f":"IF(入力シート!#REF!=\"\",\"\",PROPER(入力シート!#REF!))","v":{"$error":"#REF!"}},{"$f":"IF(入力シート!#REF!=\"\",\"\",入力シート!#REF!)","v":{"$error":"#REF!"}},{"$f":"IF(入力シート!#REF!=\"\",\"\",TEXT(入力シート!#REF!,\"yyyy/mm/dd\"))","v":{"$error":"#REF!"}},{"$f":"IF(入力シート!#REF!=\"\",\"\",入力シート!#REF!)","v":{"$error":"#REF!"}},{"$f":"IF(入力シート!#REF!=\"\",\"\",入力シート!#REF!)","v":{"$error":"#REF!"}},{"$f":"IF(入力シート!#REF!=\"\",\"\",入力シート!#REF!)","v":{"$error":"#REF!"}},{"$f":"IF(入力シート!#REF!=\"\",\"\",入力シート!#REF!)","v":{"$error":"#REF!"}},{"$f":"IF(入力シート!#REF!=\"\",\"\",入力シート!#REF!)","v":{"$error":"#REF!"}},{"$f":"IF(入力シート!#REF!=\"\",\"\",入力シート!#REF!)","v":{"$error":"#REF!"}},null,{"$f":"IF(入力シート!#REF!=\"\",\"\",入力シート!#REF!)","v":{"$error":"#REF!"}},{"$f":"IF(入力シート!#REF!=\"\",\"\",入力シート!#REF!)","v":{"$error":"#REF!"}},{"$f":"IF(入力シート!#REF!=\"\",\"\",入力シート!#REF!)","v":{"$error":"#REF!"}},{"$f":"IF(入力シート!#REF!=\"\",\"\",入力シート!#REF!)","v":{"$error":"#REF!"}},{"$f":"IF(入力シート!#REF!=\"\",\"\",入力シート!#REF!)","v":{"$error":"#REF!"}},{"$f":"IF(入力シート!#REF!=\"\",\"\",入力シート!#REF!)","v":{"$error":"#REF!"}},{"$f":"IF(入力シート!#REF!=\"\",\"\",入力シート!#REF!)","v":{"$error":"#REF!"}},{"$f":"IF(入力シート!#REF!=\"\",\"\",入力シート!#REF!)","v":{"$error":"#REF!"}},{"$f":"IF(入力シート!#REF!=\"\",\"\",入力シート!#REF!)","v":{"$error":"#REF!"}},{"$f":"IF(入力シート!#REF!=\"\",\"\",入力シート!#REF!)","v":{"$error":"#REF!"}},{"$f":"IF(入力シート!#REF!=\"\",\"\",入力シート!#REF!)","v":{"$error":"#REF!"}},null,null,{"$f":"IF(入力シート!H350=\"\",\"\",\"〇\")","v":""},{"$f":"IF(入力シート!#REF!=\"\",\"\",入力シート!#REF!)","v":{"$error":"#REF!"}},{"$f":"IF(入力シート!#REF!=\"\",\"\",入力シート!#REF!)","v":{"$error":"#REF!"}},{"$f":"IF(入力シート!#REF!=\"\",\"\",入力シート!#REF!)","v":{"$error":"#REF!"}},{"$f":"IF(入力シート!#REF!=\"\",\"\",入力シート!#REF!)","v":{"$error":"#REF!"}}]
[{"$f":"IF(入力シート!#REF!=\"\",\"\",入力シート!#REF!)","v":{"$error":"#REF!"}},{"$f":"IF(入力シート!#REF!=\"\",\"\",入力シート!#REF!)","v":{"$error":"#REF!"}},{"$f":"IF(入力シート!#REF!=\"\",\"\",DBCS(入力シート!#REF!))","v":{"$error":"#REF!"}},{"$f":"IF(入力シート!#REF!=\"\",\"\",DBCS(入力シート!#REF!))","v":{"$error":"#REF!"}},{"$f":"ASC(IF(入力シート!#REF!=\"\",\"\",UPPER(入力シート!#REF!)))","v":{"$error":"#REF!"}},{"$f":"IF(入力シート!#REF!=\"\",\"\",PROPER(入力シート!#REF!))","v":{"$error":"#REF!"}},{"$f":"IF(入力シート!#REF!=\"\",\"\",入力シート!#REF!)","v":{"$error":"#REF!"}},{"$f":"IF(入力シート!#REF!=\"\",\"\",TEXT(入力シート!#REF!,\"yyyy/mm/dd\"))","v":{"$error":"#REF!"}},{"$f":"IF(入力シート!#REF!=\"\",\"\",入力シート!#REF!)","v":{"$error":"#REF!"}},{"$f":"IF(入力シート!#REF!=\"\",\"\",入力シート!#REF!)","v":{"$error":"#REF!"}},{"$f":"IF(入力シート!#REF!=\"\",\"\",入力シート!#REF!)","v":{"$error":"#REF!"}},{"$f":"IF(入力シート!#REF!=\"\",\"\",入力シート!#REF!)","v":{"$error":"#REF!"}},{"$f":"IF(入力シート!#REF!=\"\",\"\",入力シート!#REF!)","v":{"$error":"#REF!"}},{"$f":"IF(入力シート!#REF!=\"\",\"\",入力シート!#REF!)","v":{"$error":"#REF!"}},null,{"$f":"IF(入力シート!#REF!=\"\",\"\",入力シート!#REF!)","v":{"$error":"#REF!"}},{"$f":"IF(入力シート!#REF!=\"\",\"\",入力シート!#REF!)","v":{"$error":"#REF!"}},{"$f":"IF(入力シート!#REF!=\"\",\"\",入力シート!#REF!)","v":{"$error":"#REF!"}},{"$f":"IF(入力シート!#REF!=\"\",\"\",入力シート!#REF!)","v":{"$error":"#REF!"}},{"$f":"IF(入力シート!#REF!=\"\",\"\",入力シート!#REF!)","v":{"$error":"#REF!"}},{"$f":"IF(入力シート!#REF!=\"\",\"\",入力シート!#REF!)","v":{"$error":"#REF!"}},{"$f":"IF(入力シート!#REF!=\"\",\"\",入力シート!#REF!)","v":{"$error":"#REF!"}},{"$f":"IF(入力シート!#REF!=\"\",\"\",入力シート!#REF!)","v":{"$error":"#REF!"}},{"$f":"IF(入力シート!#REF!=\"\",\"\",入力シート!#REF!)","v":{"$error":"#REF!"}},{"$f":"IF(入力シート!#REF!=\"\",\"\",入力シート!#REF!)","v":{"$error":"#REF!"}},{"$f":"IF(入力シート!#REF!=\"\",\"\",入力シート!#REF!)","v":{"$error":"#REF!"}},null,null,{"$f":"IF(入力シート!H351=\"\",\"\",\"〇\")","v":""},{"$f":"IF(入力シート!#REF!=\"\",\"\",入力シート!#REF!)","v":{"$error":"#REF!"}},{"$f":"IF(入力シート!#REF!=\"\",\"\",入力シート!#REF!)","v":{"$error":"#REF!"}},{"$f":"IF(入力シート!#REF!=\"\",\"\",入力シート!#REF!)","v":{"$error":"#REF!"}},{"$f":"IF(入力シート!#REF!=\"\",\"\",入力シート!#REF!)","v":{"$error":"#REF!"}}]
[{"$f":"IF(入力シート!#REF!=\"\",\"\",入力シート!#REF!)","v":{"$error":"#REF!"}},{"$f":"IF(入力シート!#REF!=\"\",\"\",入力シート!#REF!)","v":{"$error":"#REF!"}},{"$f":"IF(入力シート!#REF!=\"\",\"\",DBCS(入力シート!#REF!))","v":{"$error":"#REF!"}},{"$f":"IF(入力シート!#REF!=\"\",\"\",DBCS(入力シート!#REF!))","v":{"$error":"#REF!"}},{"$f":"ASC(IF(入力シート!#REF!=\"\",\"\",UPPER(入力シート!#REF!)))","v":{"$error":"#REF!"}},{"$f":"IF(入力シート!#REF!=\"\",\"\",PROPER(入力シート!#REF!))","v":{"$error":"#REF!"}},{"$f":"IF(入力シート!#REF!=\"\",\"\",入力シート!#REF!)","v":{"$error":"#REF!"}},{"$f":"IF(入力シート!#REF!=\"\",\"\",TEXT(入力シート!#REF!,\"yyyy/mm/dd\"))","v":{"$error":"#REF!"}},{"$f":"IF(入力シート!#REF!=\"\",\"\",入力シート!#REF!)","v":{"$error":"#REF!"}},{"$f":"IF(入力シート!#REF!=\"\",\"\",入力シート!#REF!)","v":{"$error":"#REF!"}},{"$f":"IF(入力シート!#REF!=\"\",\"\",入力シート!#REF!)","v":{"$error":"#REF!"}},{"$f":"IF(入力シート!#REF!=\"\",\"\",入力シート!#REF!)","v":{"$error":"#REF!"}},{"$f":"IF(入力シート!#REF!=\"\",\"\",入力シート!#REF!)","v":{"$error":"#REF!"}},{"$f":"IF(入力シート!#REF!=\"\",\"\",入力シート!#REF!)","v":{"$error":"#REF!"}},null,{"$f":"IF(入力シート!#REF!=\"\",\"\",入力シート!#REF!)","v":{"$error":"#REF!"}},{"$f":"IF(入力シート!#REF!=\"\",\"\",入力シート!#REF!)","v":{"$error":"#REF!"}},{"$f":"IF(入力シート!#REF!=\"\",\"\",入力シート!#REF!)","v":{"$error":"#REF!"}},{"$f":"IF(入力シート!#REF!=\"\",\"\",入力シート!#REF!)","v":{"$error":"#REF!"}},{"$f":"IF(入力シート!#REF!=\"\",\"\",入力シート!#REF!)","v":{"$error":"#REF!"}},{"$f":"IF(入力シート!#REF!=\"\",\"\",入力シート!#REF!)","v":{"$error":"#REF!"}},{"$f":"IF(入力シート!#REF!=\"\",\"\",入力シート!#REF!)","v":{"$error":"#REF!"}},{"$f":"IF(入力シート!#REF!=\"\",\"\",入力シート!#REF!)","v":{"$error":"#REF!"}},{"$f":"IF(入力シート!#REF!=\"\",\"\",入力シート!#REF!)","v":{"$error":"#REF!"}},{"$f":"IF(入力シート!#REF!=\"\",\"\",入力シート!#REF!)","v":{"$error":"#REF!"}},{"$f":"IF(入力シート!#REF!=\"\",\"\",入力シート!#REF!)","v":{"$error":"#REF!"}},null,null,{"$f":"IF(入力シート!H352=\"\",\"\",\"〇\")","v":""},{"$f":"IF(入力シート!#REF!=\"\",\"\",入力シート!#REF!)","v":{"$error":"#REF!"}},{"$f":"IF(入力シート!#REF!=\"\",\"\",入力シート!#REF!)","v":{"$error":"#REF!"}},{"$f":"IF(入力シート!#REF!=\"\",\"\",入力シート!#REF!)","v":{"$error":"#REF!"}},{"$f":"IF(入力シート!#REF!=\"\",\"\",入力シート!#REF!)","v":{"$error":"#REF!"}}]
[{"$f":"IF(入力シート!#REF!=\"\",\"\",入力シート!#REF!)","v":{"$error":"#REF!"}},{"$f":"IF(入力シート!#REF!=\"\",\"\",入力シート!#REF!)","v":{"$error":"#REF!"}},{"$f":"IF(入力シート!#REF!=\"\",\"\",DBCS(入力シート!#REF!))","v":{"$error":"#REF!"}},{"$f":"IF(入力シート!#REF!=\"\",\"\",DBCS(入力シート!#REF!))","v":{"$error":"#REF!"}},{"$f":"ASC(IF(入力シート!#REF!=\"\",\"\",UPPER(入力シート!#REF!)))","v":{"$error":"#REF!"}},{"$f":"IF(入力シート!#REF!=\"\",\"\",PROPER(入力シート!#REF!))","v":{"$error":"#REF!"}},{"$f":"IF(入力シート!#REF!=\"\",\"\",入力シート!#REF!)","v":{"$error":"#REF!"}},{"$f":"IF(入力シート!#REF!=\"\",\"\",TEXT(入力シート!#REF!,\"yyyy/mm/dd\"))","v":{"$error":"#REF!"}},{"$f":"IF(入力シート!#REF!=\"\",\"\",入力シート!#REF!)","v":{"$error":"#REF!"}},{"$f":"IF(入力シート!#REF!=\"\",\"\",入力シート!#REF!)","v":{"$error":"#REF!"}},{"$f":"IF(入力シート!#REF!=\"\",\"\",入力シート!#REF!)","v":{"$error":"#REF!"}},{"$f":"IF(入力シート!#REF!=\"\",\"\",入力シート!#REF!)","v":{"$error":"#REF!"}},{"$f":"IF(入力シート!#REF!=\"\",\"\",入力シート!#REF!)","v":{"$error":"#REF!"}},{"$f":"IF(入力シート!#REF!=\"\",\"\",入力シート!#REF!)","v":{"$error":"#REF!"}},null,{"$f":"IF(入力シート!#REF!=\"\",\"\",入力シート!#REF!)","v":{"$error":"#REF!"}},{"$f":"IF(入力シート!#REF!=\"\",\"\",入力シート!#REF!)","v":{"$error":"#REF!"}},{"$f":"IF(入力シート!#REF!=\"\",\"\",入力シート!#REF!)","v":{"$error":"#REF!"}},{"$f":"IF(入力シート!#REF!=\"\",\"\",入力シート!#REF!)","v":{"$error":"#REF!"}},{"$f":"IF(入力シート!#REF!=\"\",\"\",入力シート!#REF!)","v":{"$error":"#REF!"}},{"$f":"IF(入力シート!#REF!=\"\",\"\",入力シート!#REF!)","v":{"$error":"#REF!"}},{"$f":"IF(入力シート!#REF!=\"\",\"\",入力シート!#REF!)","v":{"$error":"#REF!"}},{"$f":"IF(入力シート!#REF!=\"\",\"\",入力シート!#REF!)","v":{"$error":"#REF!"}},{"$f":"IF(入力シート!#REF!=\"\",\"\",入力シート!#REF!)","v":{"$error":"#REF!"}},{"$f":"IF(入力シート!#REF!=\"\",\"\",入力シート!#REF!)","v":{"$error":"#REF!"}},{"$f":"IF(入力シート!#REF!=\"\",\"\",入力シート!#REF!)","v":{"$error":"#REF!"}},null,null,{"$f":"IF(入力シート!H353=\"\",\"\",\"〇\")","v":""},{"$f":"IF(入力シート!#REF!=\"\",\"\",入力シート!#REF!)","v":{"$error":"#REF!"}},{"$f":"IF(入力シート!#REF!=\"\",\"\",入力シート!#REF!)","v":{"$error":"#REF!"}},{"$f":"IF(入力シート!#REF!=\"\",\"\",入力シート!#REF!)","v":{"$error":"#REF!"}},{"$f":"IF(入力シート!#REF!=\"\",\"\",入力シート!#REF!)","v":{"$error":"#REF!"}}]
[{"$f":"IF(入力シート!#REF!=\"\",\"\",入力シート!#REF!)","v":{"$error":"#REF!"}},{"$f":"IF(入力シート!#REF!=\"\",\"\",入力シート!#REF!)","v":{"$error":"#REF!"}},{"$f":"IF(入力シート!#REF!=\"\",\"\",DBCS(入力シート!#REF!))","v":{"$error":"#REF!"}},{"$f":"IF(入力シート!#REF!=\"\",\"\",DBCS(入力シート!#REF!))","v":{"$error":"#REF!"}},{"$f":"ASC(IF(入力シート!#REF!=\"\",\"\",UPPER(入力シート!#REF!)))","v":{"$error":"#REF!"}},{"$f":"IF(入力シート!#REF!=\"\",\"\",PROPER(入力シート!#REF!))","v":{"$error":"#REF!"}},{"$f":"IF(入力シート!#REF!=\"\",\"\",入力シート!#REF!)","v":{"$error":"#REF!"}},{"$f":"IF(入力シート!#REF!=\"\",\"\",TEXT(入力シート!#REF!,\"yyyy/mm/dd\"))","v":{"$error":"#REF!"}},{"$f":"IF(入力シート!#REF!=\"\",\"\",入力シート!#REF!)","v":{"$error":"#REF!"}},{"$f":"IF(入力シート!#REF!=\"\",\"\",入力シート!#REF!)","v":{"$error":"#REF!"}},{"$f":"IF(入力シート!#REF!=\"\",\"\",入力シート!#REF!)","v":{"$error":"#REF!"}},{"$f":"IF(入力シート!#REF!=\"\",\"\",入力シート!#REF!)","v":{"$error":"#REF!"}},{"$f":"IF(入力シート!#REF!=\"\",\"\",入力シート!#REF!)","v":{"$error":"#REF!"}},{"$f":"IF(入力シート!#REF!=\"\",\"\",入力シート!#REF!)","v":{"$error":"#REF!"}},null,{"$f":"IF(入力シート!#REF!=\"\",\"\",入力シート!#REF!)","v":{"$error":"#REF!"}},{"$f":"IF(入力シート!#REF!=\"\",\"\",入力シート!#REF!)","v":{"$error":"#REF!"}},{"$f":"IF(入力シート!#REF!=\"\",\"\",入力シート!#REF!)","v":{"$error":"#REF!"}},{"$f":"IF(入力シート!#REF!=\"\",\"\",入力シート!#REF!)","v":{"$error":"#REF!"}},{"$f":"IF(入力シート!#REF!=\"\",\"\",入力シート!#REF!)","v":{"$error":"#REF!"}},{"$f":"IF(入力シート!#REF!=\"\",\"\",入力シート!#REF!)","v":{"$error":"#REF!"}},{"$f":"IF(入力シート!#REF!=\"\",\"\",入力シート!#REF!)","v":{"$error":"#REF!"}},{"$f":"IF(入力シート!#REF!=\"\",\"\",入力シート!#REF!)","v":{"$error":"#REF!"}},{"$f":"IF(入力シート!#REF!=\"\",\"\",入力シート!#REF!)","v":{"$error":"#REF!"}},{"$f":"IF(入力シート!#REF!=\"\",\"\",入力シート!#REF!)","v":{"$error":"#REF!"}},{"$f":"IF(入力シート!#REF!=\"\",\"\",入力シート!#REF!)","v":{"$error":"#REF!"}},null,null,{"$f":"IF(入力シート!H354=\"\",\"\",\"〇\")","v":""},{"$f":"IF(入力シート!#REF!=\"\",\"\",入力シート!#REF!)","v":{"$error":"#REF!"}},{"$f":"IF(入力シート!#REF!=\"\",\"\",入力シート!#REF!)","v":{"$error":"#REF!"}},{"$f":"IF(入力シート!#REF!=\"\",\"\",入力シート!#REF!)","v":{"$error":"#REF!"}},{"$f":"IF(入力シート!#REF!=\"\",\"\",入力シート!#REF!)","v":{"$error":"#REF!"}}]
[{"$f":"IF(入力シート!#REF!=\"\",\"\",入力シート!#REF!)","v":{"$error":"#REF!"}},{"$f":"IF(入力シート!#REF!=\"\",\"\",入力シート!#REF!)","v":{"$error":"#REF!"}},{"$f":"IF(入力シート!#REF!=\"\",\"\",DBCS(入力シート!#REF!))","v":{"$error":"#REF!"}},{"$f":"IF(入力シート!#REF!=\"\",\"\",DBCS(入力シート!#REF!))","v":{"$error":"#REF!"}},{"$f":"ASC(IF(入力シート!#REF!=\"\",\"\",UPPER(入力シート!#REF!)))","v":{"$error":"#REF!"}},{"$f":"IF(入力シート!#REF!=\"\",\"\",PROPER(入力シート!#REF!))","v":{"$error":"#REF!"}},{"$f":"IF(入力シート!#REF!=\"\",\"\",入力シート!#REF!)","v":{"$error":"#REF!"}},{"$f":"IF(入力シート!#REF!=\"\",\"\",TEXT(入力シート!#REF!,\"yyyy/mm/dd\"))","v":{"$error":"#REF!"}},{"$f":"IF(入力シート!#REF!=\"\",\"\",入力シート!#REF!)","v":{"$error":"#REF!"}},{"$f":"IF(入力シート!#REF!=\"\",\"\",入力シート!#REF!)","v":{"$error":"#REF!"}},{"$f":"IF(入力シート!#REF!=\"\",\"\",入力シート!#REF!)","v":{"$error":"#REF!"}},{"$f":"IF(入力シート!#REF!=\"\",\"\",入力シート!#REF!)","v":{"$error":"#REF!"}},{"$f":"IF(入力シート!#REF!=\"\",\"\",入力シート!#REF!)","v":{"$error":"#REF!"}},{"$f":"IF(入力シート!#REF!=\"\",\"\",入力シート!#REF!)","v":{"$error":"#REF!"}},null,{"$f":"IF(入力シート!#REF!=\"\",\"\",入力シート!#REF!)","v":{"$error":"#REF!"}},{"$f":"IF(入力シート!#REF!=\"\",\"\",入力シート!#REF!)","v":{"$error":"#REF!"}},{"$f":"IF(入力シート!#REF!=\"\",\"\",入力シート!#REF!)","v":{"$error":"#REF!"}},{"$f":"IF(入力シート!#REF!=\"\",\"\",入力シート!#REF!)","v":{"$error":"#REF!"}},{"$f":"IF(入力シート!#REF!=\"\",\"\",入力シート!#REF!)","v":{"$error":"#REF!"}},{"$f":"IF(入力シート!#REF!=\"\",\"\",入力シート!#REF!)","v":{"$error":"#REF!"}},{"$f":"IF(入力シート!#REF!=\"\",\"\",入力シート!#REF!)","v":{"$error":"#REF!"}},{"$f":"IF(入力シート!#REF!=\"\",\"\",入力シート!#REF!)","v":{"$error":"#REF!"}},{"$f":"IF(入力シート!#REF!=\"\",\"\",入力シート!#REF!)","v":{"$error":"#REF!"}},{"$f":"IF(入力シート!#REF!=\"\",\"\",入力シート!#REF!)","v":{"$error":"#REF!"}},{"$f":"IF(入力シート!#REF!=\"\",\"\",入力シート!#REF!)","v":{"$error":"#REF!"}},null,null,{"$f":"IF(入力シート!H355=\"\",\"\",\"〇\")","v":""},{"$f":"IF(入力シート!#REF!=\"\",\"\",入力シート!#REF!)","v":{"$error":"#REF!"}},{"$f":"IF(入力シート!#REF!=\"\",\"\",入力シート!#REF!)","v":{"$error":"#REF!"}},{"$f":"IF(入力シート!#REF!=\"\",\"\",入力シート!#REF!)","v":{"$error":"#REF!"}},{"$f":"IF(入力シート!#REF!=\"\",\"\",入力シート!#REF!)","v":{"$error":"#REF!"}}]
[{"$f":"IF(入力シート!#REF!=\"\",\"\",入力シート!#REF!)","v":{"$error":"#REF!"}},{"$f":"IF(入力シート!#REF!=\"\",\"\",入力シート!#REF!)","v":{"$error":"#REF!"}},{"$f":"IF(入力シート!#REF!=\"\",\"\",DBCS(入力シート!#REF!))","v":{"$error":"#REF!"}},{"$f":"IF(入力シート!#REF!=\"\",\"\",DBCS(入力シート!#REF!))","v":{"$error":"#REF!"}},{"$f":"ASC(IF(入力シート!#REF!=\"\",\"\",UPPER(入力シート!#REF!)))","v":{"$error":"#REF!"}},{"$f":"IF(入力シート!#REF!=\"\",\"\",PROPER(入力シート!#REF!))","v":{"$error":"#REF!"}},{"$f":"IF(入力シート!#REF!=\"\",\"\",入力シート!#REF!)","v":{"$error":"#REF!"}},{"$f":"IF(入力シート!#REF!=\"\",\"\",TEXT(入力シート!#REF!,\"yyyy/mm/dd\"))","v":{"$error":"#REF!"}},{"$f":"IF(入力シート!#REF!=\"\",\"\",入力シート!#REF!)","v":{"$error":"#REF!"}},{"$f":"IF(入力シート!#REF!=\"\",\"\",入力シート!#REF!)","v":{"$error":"#REF!"}},{"$f":"IF(入力シート!#REF!=\"\",\"\",入力シート!#REF!)","v":{"$error":"#REF!"}},{"$f":"IF(入力シート!#REF!=\"\",\"\",入力シート!#REF!)","v":{"$error":"#REF!"}},{"$f":"IF(入力シート!#REF!=\"\",\"\",入力シート!#REF!)","v":{"$error":"#REF!"}},{"$f":"IF(入力シート!#REF!=\"\",\"\",入力シート!#REF!)","v":{"$error":"#REF!"}},null,{"$f":"IF(入力シート!#REF!=\"\",\"\",入力シート!#REF!)","v":{"$error":"#REF!"}},{"$f":"IF(入力シート!#REF!=\"\",\"\",入力シート!#REF!)","v":{"$error":"#REF!"}},{"$f":"IF(入力シート!#REF!=\"\",\"\",入力シート!#REF!)","v":{"$error":"#REF!"}},{"$f":"IF(入力シート!#REF!=\"\",\"\",入力シート!#REF!)","v":{"$error":"#REF!"}},{"$f":"IF(入力シート!#REF!=\"\",\"\",入力シート!#REF!)","v":{"$error":"#REF!"}},{"$f":"IF(入力シート!#REF!=\"\",\"\",入力シート!#REF!)","v":{"$error":"#REF!"}},{"$f":"IF(入力シート!#REF!=\"\",\"\",入力シート!#REF!)","v":{"$error":"#REF!"}},{"$f":"IF(入力シート!#REF!=\"\",\"\",入力シート!#REF!)","v":{"$error":"#REF!"}},{"$f":"IF(入力シート!#REF!=\"\",\"\",入力シート!#REF!)","v":{"$error":"#REF!"}},{"$f":"IF(入力シート!#REF!=\"\",\"\",入力シート!#REF!)","v":{"$error":"#REF!"}},{"$f":"IF(入力シート!#REF!=\"\",\"\",入力シート!#REF!)","v":{"$error":"#REF!"}},null,null,{"$f":"IF(入力シート!H356=\"\",\"\",\"〇\")","v":""},{"$f":"IF(入力シート!#REF!=\"\",\"\",入力シート!#REF!)","v":{"$error":"#REF!"}},{"$f":"IF(入力シート!#REF!=\"\",\"\",入力シート!#REF!)","v":{"$error":"#REF!"}},{"$f":"IF(入力シート!#REF!=\"\",\"\",入力シート!#REF!)","v":{"$error":"#REF!"}},{"$f":"IF(入力シート!#REF!=\"\",\"\",入力シート!#REF!)","v":{"$error":"#REF!"}}]
[{"$f":"IF(入力シート!#REF!=\"\",\"\",入力シート!#REF!)","v":{"$error":"#REF!"}},{"$f":"IF(入力シート!#REF!=\"\",\"\",入力シート!#REF!)","v":{"$error":"#REF!"}},{"$f":"IF(入力シート!#REF!=\"\",\"\",DBCS(入力シート!#REF!))","v":{"$error":"#REF!"}},{"$f":"IF(入力シート!#REF!=\"\",\"\",DBCS(入力シート!#REF!))","v":{"$error":"#REF!"}},{"$f":"ASC(IF(入力シート!#REF!=\"\",\"\",UPPER(入力シート!#REF!)))","v":{"$error":"#REF!"}},{"$f":"IF(入力シート!#REF!=\"\",\"\",PROPER(入力シート!#REF!))","v":{"$error":"#REF!"}},{"$f":"IF(入力シート!#REF!=\"\",\"\",入力シート!#REF!)","v":{"$error":"#REF!"}},{"$f":"IF(入力シート!#REF!=\"\",\"\",TEXT(入力シート!#REF!,\"yyyy/mm/dd\"))","v":{"$error":"#REF!"}},{"$f":"IF(入力シート!#REF!=\"\",\"\",入力シート!#REF!)","v":{"$error":"#REF!"}},{"$f":"IF(入力シート!#REF!=\"\",\"\",入力シート!#REF!)","v":{"$error":"#REF!"}},{"$f":"IF(入力シート!#REF!=\"\",\"\",入力シート!#REF!)","v":{"$error":"#REF!"}},{"$f":"IF(入力シート!#REF!=\"\",\"\",入力シート!#REF!)","v":{"$error":"#REF!"}},{"$f":"IF(入力シート!#REF!=\"\",\"\",入力シート!#REF!)","v":{"$error":"#REF!"}},{"$f":"IF(入力シート!#REF!=\"\",\"\",入力シート!#REF!)","v":{"$error":"#REF!"}},null,{"$f":"IF(入力シート!#REF!=\"\",\"\",入力シート!#REF!)","v":{"$error":"#REF!"}},{"$f":"IF(入力シート!#REF!=\"\",\"\",入力シート!#REF!)","v":{"$error":"#REF!"}},{"$f":"IF(入力シート!#REF!=\"\",\"\",入力シート!#REF!)","v":{"$error":"#REF!"}},{"$f":"IF(入力シート!#REF!=\"\",\"\",入力シート!#REF!)","v":{"$error":"#REF!"}},{"$f":"IF(入力シート!#REF!=\"\",\"\",入力シート!#REF!)","v":{"$error":"#REF!"}},{"$f":"IF(入力シート!#REF!=\"\",\"\",入力シート!#REF!)","v":{"$error":"#REF!"}},{"$f":"IF(入力シート!#REF!=\"\",\"\",入力シート!#REF!)","v":{"$error":"#REF!"}},{"$f":"IF(入力シート!#REF!=\"\",\"\",入力シート!#REF!)","v":{"$error":"#REF!"}},{"$f":"IF(入力シート!#REF!=\"\",\"\",入力シート!#REF!)","v":{"$error":"#REF!"}},{"$f":"IF(入力シート!#REF!=\"\",\"\",入力シート!#REF!)","v":{"$error":"#REF!"}},{"$f":"IF(入力シート!#REF!=\"\",\"\",入力シート!#REF!)","v":{"$error":"#REF!"}},null,null,{"$f":"IF(入力シート!H357=\"\",\"\",\"〇\")","v":""},{"$f":"IF(入力シート!#REF!=\"\",\"\",入力シート!#REF!)","v":{"$error":"#REF!"}},{"$f":"IF(入力シート!#REF!=\"\",\"\",入力シート!#REF!)","v":{"$error":"#REF!"}},{"$f":"IF(入力シート!#REF!=\"\",\"\",入力シート!#REF!)","v":{"$error":"#REF!"}},{"$f":"IF(入力シート!#REF!=\"\",\"\",入力シート!#REF!)","v":{"$error":"#REF!"}}]
[{"$f":"IF(入力シート!#REF!=\"\",\"\",入力シート!#REF!)","v":{"$error":"#REF!"}},{"$f":"IF(入力シート!#REF!=\"\",\"\",入力シート!#REF!)","v":{"$error":"#REF!"}},{"$f":"IF(入力シート!#REF!=\"\",\"\",DBCS(入力シート!#REF!))","v":{"$error":"#REF!"}},{"$f":"IF(入力シート!#REF!=\"\",\"\",DBCS(入力シート!#REF!))","v":{"$error":"#REF!"}},{"$f":"ASC(IF(入力シート!#REF!=\"\",\"\",UPPER(入力シート!#REF!)))","v":{"$error":"#REF!"}},{"$f":"IF(入力シート!#REF!=\"\",\"\",PROPER(入力シート!#REF!))","v":{"$error":"#REF!"}},{"$f":"IF(入力シート!#REF!=\"\",\"\",入力シート!#REF!)","v":{"$error":"#REF!"}},{"$f":"IF(入力シート!#REF!=\"\",\"\",TEXT(入力シート!#REF!,\"yyyy/mm/dd\"))","v":{"$error":"#REF!"}},{"$f":"IF(入力シート!#REF!=\"\",\"\",入力シート!#REF!)","v":{"$error":"#REF!"}},{"$f":"IF(入力シート!#REF!=\"\",\"\",入力シート!#REF!)","v":{"$error":"#REF!"}},{"$f":"IF(入力シート!#REF!=\"\",\"\",入力シート!#REF!)","v":{"$error":"#REF!"}},{"$f":"IF(入力シート!#REF!=\"\",\"\",入力シート!#REF!)","v":{"$error":"#REF!"}},{"$f":"IF(入力シート!#REF!=\"\",\"\",入力シート!#REF!)","v":{"$error":"#REF!"}},{"$f":"IF(入力シート!#REF!=\"\",\"\",入力シート!#REF!)","v":{"$error":"#REF!"}},null,{"$f":"IF(入力シート!#REF!=\"\",\"\",入力シート!#REF!)","v":{"$error":"#REF!"}},{"$f":"IF(入力シート!#REF!=\"\",\"\",入力シート!#REF!)","v":{"$error":"#REF!"}},{"$f":"IF(入力シート!#REF!=\"\",\"\",入力シート!#REF!)","v":{"$error":"#REF!"}},{"$f":"IF(入力シート!#REF!=\"\",\"\",入力シート!#REF!)","v":{"$error":"#REF!"}},{"$f":"IF(入力シート!#REF!=\"\",\"\",入力シート!#REF!)","v":{"$error":"#REF!"}},{"$f":"IF(入力シート!#REF!=\"\",\"\",入力シート!#REF!)","v":{"$error":"#REF!"}},{"$f":"IF(入力シート!#REF!=\"\",\"\",入力シート!#REF!)","v":{"$error":"#REF!"}},{"$f":"IF(入力シート!#REF!=\"\",\"\",入力シート!#REF!)","v":{"$error":"#REF!"}},{"$f":"IF(入力シート!#REF!=\"\",\"\",入力シート!#REF!)","v":{"$error":"#REF!"}},{"$f":"IF(入力シート!#REF!=\"\",\"\",入力シート!#REF!)","v":{"$error":"#REF!"}},{"$f":"IF(入力シート!#REF!=\"\",\"\",入力シート!#REF!)","v":{"$error":"#REF!"}},null,null,{"$f":"IF(入力シート!H358=\"\",\"\",\"〇\")","v":""},{"$f":"IF(入力シート!#REF!=\"\",\"\",入力シート!#REF!)","v":{"$error":"#REF!"}},{"$f":"IF(入力シート!#REF!=\"\",\"\",入力シート!#REF!)","v":{"$error":"#REF!"}},{"$f":"IF(入力シート!#REF!=\"\",\"\",入力シート!#REF!)","v":{"$error":"#REF!"}},{"$f":"IF(入力シート!#REF!=\"\",\"\",入力シート!#REF!)","v":{"$error":"#REF!"}}]
[{"$f":"IF(入力シート!#REF!=\"\",\"\",入力シート!#REF!)","v":{"$error":"#REF!"}},{"$f":"IF(入力シート!#REF!=\"\",\"\",入力シート!#REF!)","v":{"$error":"#REF!"}},{"$f":"IF(入力シート!#REF!=\"\",\"\",DBCS(入力シート!#REF!))","v":{"$error":"#REF!"}},{"$f":"IF(入力シート!#REF!=\"\",\"\",DBCS(入力シート!#REF!))","v":{"$error":"#REF!"}},{"$f":"ASC(IF(入力シート!#REF!=\"\",\"\",UPPER(入力シート!#REF!)))","v":{"$error":"#REF!"}},{"$f":"IF(入力シート!#REF!=\"\",\"\",PROPER(入力シート!#REF!))","v":{"$error":"#REF!"}},{"$f":"IF(入力シート!#REF!=\"\",\"\",入力シート!#REF!)","v":{"$error":"#REF!"}},{"$f":"IF(入力シート!#REF!=\"\",\"\",TEXT(入力シート!#REF!,\"yyyy/mm/dd\"))","v":{"$error":"#REF!"}},{"$f":"IF(入力シート!#REF!=\"\",\"\",入力シート!#REF!)","v":{"$error":"#REF!"}},{"$f":"IF(入力シート!#REF!=\"\",\"\",入力シート!#REF!)","v":{"$error":"#REF!"}},{"$f":"IF(入力シート!#REF!=\"\",\"\",入力シート!#REF!)","v":{"$error":"#REF!"}},{"$f":"IF(入力シート!#REF!=\"\",\"\",入力シート!#REF!)","v":{"$error":"#REF!"}},{"$f":"IF(入力シート!#REF!=\"\",\"\",入力シート!#REF!)","v":{"$error":"#REF!"}},{"$f":"IF(入力シート!#REF!=\"\",\"\",入力シート!#REF!)","v":{"$error":"#REF!"}},null,{"$f":"IF(入力シート!#REF!=\"\",\"\",入力シート!#REF!)","v":{"$error":"#REF!"}},{"$f":"IF(入力シート!#REF!=\"\",\"\",入力シート!#REF!)","v":{"$error":"#REF!"}},{"$f":"IF(入力シート!#REF!=\"\",\"\",入力シート!#REF!)","v":{"$error":"#REF!"}},{"$f":"IF(入力シート!#REF!=\"\",\"\",入力シート!#REF!)","v":{"$error":"#REF!"}},{"$f":"IF(入力シート!#REF!=\"\",\"\",入力シート!#REF!)","v":{"$error":"#REF!"}},{"$f":"IF(入力シート!#REF!=\"\",\"\",入力シート!#REF!)","v":{"$error":"#REF!"}},{"$f":"IF(入力シート!#REF!=\"\",\"\",入力シート!#REF!)","v":{"$error":"#REF!"}},{"$f":"IF(入力シート!#REF!=\"\",\"\",入力シート!#REF!)","v":{"$error":"#REF!"}},{"$f":"IF(入力シート!#REF!=\"\",\"\",入力シート!#REF!)","v":{"$error":"#REF!"}},{"$f":"IF(入力シート!#REF!=\"\",\"\",入力シート!#REF!)","v":{"$error":"#REF!"}},{"$f":"IF(入力シート!#REF!=\"\",\"\",入力シート!#REF!)","v":{"$error":"#REF!"}},null,null,{"$f":"IF(入力シート!H359=\"\",\"\",\"〇\")","v":""},{"$f":"IF(入力シート!#REF!=\"\",\"\",入力シート!#REF!)","v":{"$error":"#REF!"}},{"$f":"IF(入力シート!#REF!=\"\",\"\",入力シート!#REF!)","v":{"$error":"#REF!"}},{"$f":"IF(入力シート!#REF!=\"\",\"\",入力シート!#REF!)","v":{"$error":"#REF!"}},{"$f":"IF(入力シート!#REF!=\"\",\"\",入力シート!#REF!)","v":{"$error":"#REF!"}}]
[{"$f":"IF(入力シート!#REF!=\"\",\"\",入力シート!#REF!)","v":{"$error":"#REF!"}},{"$f":"IF(入力シート!#REF!=\"\",\"\",入力シート!#REF!)","v":{"$error":"#REF!"}},{"$f":"IF(入力シート!#REF!=\"\",\"\",DBCS(入力シート!#REF!))","v":{"$error":"#REF!"}},{"$f":"IF(入力シート!#REF!=\"\",\"\",DBCS(入力シート!#REF!))","v":{"$error":"#REF!"}},{"$f":"ASC(IF(入力シート!#REF!=\"\",\"\",UPPER(入力シート!#REF!)))","v":{"$error":"#REF!"}},{"$f":"IF(入力シート!#REF!=\"\",\"\",PROPER(入力シート!#REF!))","v":{"$error":"#REF!"}},{"$f":"IF(入力シート!#REF!=\"\",\"\",入力シート!#REF!)","v":{"$error":"#REF!"}},{"$f":"IF(入力シート!#REF!=\"\",\"\",TEXT(入力シート!#REF!,\"yyyy/mm/dd\"))","v":{"$error":"#REF!"}},{"$f":"IF(入力シート!#REF!=\"\",\"\",入力シート!#REF!)","v":{"$error":"#REF!"}},{"$f":"IF(入力シート!#REF!=\"\",\"\",入力シート!#REF!)","v":{"$error":"#REF!"}},{"$f":"IF(入力シート!#REF!=\"\",\"\",入力シート!#REF!)","v":{"$error":"#REF!"}},{"$f":"IF(入力シート!#REF!=\"\",\"\",入力シート!#REF!)","v":{"$error":"#REF!"}},{"$f":"IF(入力シート!#REF!=\"\",\"\",入力シート!#REF!)","v":{"$error":"#REF!"}},{"$f":"IF(入力シート!#REF!=\"\",\"\",入力シート!#REF!)","v":{"$error":"#REF!"}},null,{"$f":"IF(入力シート!#REF!=\"\",\"\",入力シート!#REF!)","v":{"$error":"#REF!"}},{"$f":"IF(入力シート!#REF!=\"\",\"\",入力シート!#REF!)","v":{"$error":"#REF!"}},{"$f":"IF(入力シート!#REF!=\"\",\"\",入力シート!#REF!)","v":{"$error":"#REF!"}},{"$f":"IF(入力シート!#REF!=\"\",\"\",入力シート!#REF!)","v":{"$error":"#REF!"}},{"$f":"IF(入力シート!#REF!=\"\",\"\",入力シート!#REF!)","v":{"$error":"#REF!"}},{"$f":"IF(入力シート!#REF!=\"\",\"\",入力シート!#REF!)","v":{"$error":"#REF!"}},{"$f":"IF(入力シート!#REF!=\"\",\"\",入力シート!#REF!)","v":{"$error":"#REF!"}},{"$f":"IF(入力シート!#REF!=\"\",\"\",入力シート!#REF!)","v":{"$error":"#REF!"}},{"$f":"IF(入力シート!#REF!=\"\",\"\",入力シート!#REF!)","v":{"$error":"#REF!"}},{"$f":"IF(入力シート!#REF!=\"\",\"\",入力シート!#REF!)","v":{"$error":"#REF!"}},{"$f":"IF(入力シート!#REF!=\"\",\"\",入力シート!#REF!)","v":{"$error":"#REF!"}},null,null,{"$f":"IF(入力シート!H360=\"\",\"\",\"〇\")","v":""},{"$f":"IF(入力シート!#REF!=\"\",\"\",入力シート!#REF!)","v":{"$error":"#REF!"}},{"$f":"IF(入力シート!#REF!=\"\",\"\",入力シート!#REF!)","v":{"$error":"#REF!"}},{"$f":"IF(入力シート!#REF!=\"\",\"\",入力シート!#REF!)","v":{"$error":"#REF!"}},{"$f":"IF(入力シート!#REF!=\"\",\"\",入力シート!#REF!)","v":{"$error":"#REF!"}}]
[{"$f":"IF(入力シート!#REF!=\"\",\"\",入力シート!#REF!)","v":{"$error":"#REF!"}},{"$f":"IF(入力シート!#REF!=\"\",\"\",入力シート!#REF!)","v":{"$error":"#REF!"}},{"$f":"IF(入力シート!#REF!=\"\",\"\",DBCS(入力シート!#REF!))","v":{"$error":"#REF!"}},{"$f":"IF(入力シート!#REF!=\"\",\"\",DBCS(入力シート!#REF!))","v":{"$error":"#REF!"}},{"$f":"ASC(IF(入力シート!#REF!=\"\",\"\",UPPER(入力シート!#REF!)))","v":{"$error":"#REF!"}},{"$f":"IF(入力シート!#REF!=\"\",\"\",PROPER(入力シート!#REF!))","v":{"$error":"#REF!"}},{"$f":"IF(入力シート!#REF!=\"\",\"\",入力シート!#REF!)","v":{"$error":"#REF!"}},{"$f":"IF(入力シート!#REF!=\"\",\"\",TEXT(入力シート!#REF!,\"yyyy/mm/dd\"))","v":{"$error":"#REF!"}},{"$f":"IF(入力シート!#REF!=\"\",\"\",入力シート!#REF!)","v":{"$error":"#REF!"}},{"$f":"IF(入力シート!#REF!=\"\",\"\",入力シート!#REF!)","v":{"$error":"#REF!"}},{"$f":"IF(入力シート!#REF!=\"\",\"\",入力シート!#REF!)","v":{"$error":"#REF!"}},{"$f":"IF(入力シート!#REF!=\"\",\"\",入力シート!#REF!)","v":{"$error":"#REF!"}},{"$f":"IF(入力シート!#REF!=\"\",\"\",入力シート!#REF!)","v":{"$error":"#REF!"}},{"$f":"IF(入力シート!#REF!=\"\",\"\",入力シート!#REF!)","v":{"$error":"#REF!"}},null,{"$f":"IF(入力シート!#REF!=\"\",\"\",入力シート!#REF!)","v":{"$error":"#REF!"}},{"$f":"IF(入力シート!#REF!=\"\",\"\",入力シート!#REF!)","v":{"$error":"#REF!"}},{"$f":"IF(入力シート!#REF!=\"\",\"\",入力シート!#REF!)","v":{"$error":"#REF!"}},{"$f":"IF(入力シート!#REF!=\"\",\"\",入力シート!#REF!)","v":{"$error":"#REF!"}},{"$f":"IF(入力シート!#REF!=\"\",\"\",入力シート!#REF!)","v":{"$error":"#REF!"}},{"$f":"IF(入力シート!#REF!=\"\",\"\",入力シート!#REF!)","v":{"$error":"#REF!"}},{"$f":"IF(入力シート!#REF!=\"\",\"\",入力シート!#REF!)","v":{"$error":"#REF!"}},{"$f":"IF(入力シート!#REF!=\"\",\"\",入力シート!#REF!)","v":{"$error":"#REF!"}},{"$f":"IF(入力シート!#REF!=\"\",\"\",入力シート!#REF!)","v":{"$error":"#REF!"}},{"$f":"IF(入力シート!#REF!=\"\",\"\",入力シート!#REF!)","v":{"$error":"#REF!"}},{"$f":"IF(入力シート!#REF!=\"\",\"\",入力シート!#REF!)","v":{"$error":"#REF!"}},null,null,{"$f":"IF(入力シート!H361=\"\",\"\",\"〇\")","v":""},{"$f":"IF(入力シート!#REF!=\"\",\"\",入力シート!#REF!)","v":{"$error":"#REF!"}},{"$f":"IF(入力シート!#REF!=\"\",\"\",入力シート!#REF!)","v":{"$error":"#REF!"}},{"$f":"IF(入力シート!#REF!=\"\",\"\",入力シート!#REF!)","v":{"$error":"#REF!"}},{"$f":"IF(入力シート!#REF!=\"\",\"\",入力シート!#REF!)","v":{"$error":"#REF!"}}]
[{"$f":"IF(入力シート!#REF!=\"\",\"\",入力シート!#REF!)","v":{"$error":"#REF!"}},{"$f":"IF(入力シート!#REF!=\"\",\"\",入力シート!#REF!)","v":{"$error":"#REF!"}},{"$f":"IF(入力シート!#REF!=\"\",\"\",DBCS(入力シート!#REF!))","v":{"$error":"#REF!"}},{"$f":"IF(入力シート!#REF!=\"\",\"\",DBCS(入力シート!#REF!))","v":{"$error":"#REF!"}},{"$f":"ASC(IF(入力シート!#REF!=\"\",\"\",UPPER(入力シート!#REF!)))","v":{"$error":"#REF!"}},{"$f":"IF(入力シート!#REF!=\"\",\"\",PROPER(入力シート!#REF!))","v":{"$error":"#REF!"}},{"$f":"IF(入力シート!#REF!=\"\",\"\",入力シート!#REF!)","v":{"$error":"#REF!"}},{"$f":"IF(入力シート!#REF!=\"\",\"\",TEXT(入力シート!#REF!,\"yyyy/mm/dd\"))","v":{"$error":"#REF!"}},{"$f":"IF(入力シート!#REF!=\"\",\"\",入力シート!#REF!)","v":{"$error":"#REF!"}},{"$f":"IF(入力シート!#REF!=\"\",\"\",入力シート!#REF!)","v":{"$error":"#REF!"}},{"$f":"IF(入力シート!#REF!=\"\",\"\",入力シート!#REF!)","v":{"$error":"#REF!"}},{"$f":"IF(入力シート!#REF!=\"\",\"\",入力シート!#REF!)","v":{"$error":"#REF!"}},{"$f":"IF(入力シート!#REF!=\"\",\"\",入力シート!#REF!)","v":{"$error":"#REF!"}},{"$f":"IF(入力シート!#REF!=\"\",\"\",入力シート!#REF!)","v":{"$error":"#REF!"}},null,{"$f":"IF(入力シート!#REF!=\"\",\"\",入力シート!#REF!)","v":{"$error":"#REF!"}},{"$f":"IF(入力シート!#REF!=\"\",\"\",入力シート!#REF!)","v":{"$error":"#REF!"}},{"$f":"IF(入力シート!#REF!=\"\",\"\",入力シート!#REF!)","v":{"$error":"#REF!"}},{"$f":"IF(入力シート!#REF!=\"\",\"\",入力シート!#REF!)","v":{"$error":"#REF!"}},{"$f":"IF(入力シート!#REF!=\"\",\"\",入力シート!#REF!)","v":{"$error":"#REF!"}},{"$f":"IF(入力シート!#REF!=\"\",\"\",入力シート!#REF!)","v":{"$error":"#REF!"}},{"$f":"IF(入力シート!#REF!=\"\",\"\",入力シート!#REF!)","v":{"$error":"#REF!"}},{"$f":"IF(入力シート!#REF!=\"\",\"\",入力シート!#REF!)","v":{"$error":"#REF!"}},{"$f":"IF(入力シート!#REF!=\"\",\"\",入力シート!#REF!)","v":{"$error":"#REF!"}},{"$f":"IF(入力シート!#REF!=\"\",\"\",入力シート!#REF!)","v":{"$error":"#REF!"}},{"$f":"IF(入力シート!#REF!=\"\",\"\",入力シート!#REF!)","v":{"$error":"#REF!"}},null,null,{"$f":"IF(入力シート!H362=\"\",\"\",\"〇\")","v":""},{"$f":"IF(入力シート!#REF!=\"\",\"\",入力シート!#REF!)","v":{"$error":"#REF!"}},{"$f":"IF(入力シート!#REF!=\"\",\"\",入力シート!#REF!)","v":{"$error":"#REF!"}},{"$f":"IF(入力シート!#REF!=\"\",\"\",入力シート!#REF!)","v":{"$error":"#REF!"}},{"$f":"IF(入力シート!#REF!=\"\",\"\",入力シート!#REF!)","v":{"$error":"#REF!"}}]
[{"$f":"IF(入力シート!#REF!=\"\",\"\",入力シート!#REF!)","v":{"$error":"#REF!"}},{"$f":"IF(入力シート!#REF!=\"\",\"\",入力シート!#REF!)","v":{"$error":"#REF!"}},{"$f":"IF(入力シート!#REF!=\"\",\"\",DBCS(入力シート!#REF!))","v":{"$error":"#REF!"}},{"$f":"IF(入力シート!#REF!=\"\",\"\",DBCS(入力シート!#REF!))","v":{"$error":"#REF!"}},{"$f":"ASC(IF(入力シート!#REF!=\"\",\"\",UPPER(入力シート!#REF!)))","v":{"$error":"#REF!"}},{"$f":"IF(入力シート!#REF!=\"\",\"\",PROPER(入力シート!#REF!))","v":{"$error":"#REF!"}},{"$f":"IF(入力シート!#REF!=\"\",\"\",入力シート!#REF!)","v":{"$error":"#REF!"}},{"$f":"IF(入力シート!#REF!=\"\",\"\",TEXT(入力シート!#REF!,\"yyyy/mm/dd\"))","v":{"$error":"#REF!"}},{"$f":"IF(入力シート!#REF!=\"\",\"\",入力シート!#REF!)","v":{"$error":"#REF!"}},{"$f":"IF(入力シート!#REF!=\"\",\"\",入力シート!#REF!)","v":{"$error":"#REF!"}},{"$f":"IF(入力シート!#REF!=\"\",\"\",入力シート!#REF!)","v":{"$error":"#REF!"}},{"$f":"IF(入力シート!#REF!=\"\",\"\",入力シート!#REF!)","v":{"$error":"#REF!"}},{"$f":"IF(入力シート!#REF!=\"\",\"\",入力シート!#REF!)","v":{"$error":"#REF!"}},{"$f":"IF(入力シート!#REF!=\"\",\"\",入力シート!#REF!)","v":{"$error":"#REF!"}},null,{"$f":"IF(入力シート!#REF!=\"\",\"\",入力シート!#REF!)","v":{"$error":"#REF!"}},{"$f":"IF(入力シート!#REF!=\"\",\"\",入力シート!#REF!)","v":{"$error":"#REF!"}},{"$f":"IF(入力シート!#REF!=\"\",\"\",入力シート!#REF!)","v":{"$error":"#REF!"}},{"$f":"IF(入力シート!#REF!=\"\",\"\",入力シート!#REF!)","v":{"$error":"#REF!"}},{"$f":"IF(入力シート!#REF!=\"\",\"\",入力シート!#REF!)","v":{"$error":"#REF!"}},{"$f":"IF(入力シート!#REF!=\"\",\"\",入力シート!#REF!)","v":{"$error":"#REF!"}},{"$f":"IF(入力シート!#REF!=\"\",\"\",入力シート!#REF!)","v":{"$error":"#REF!"}},{"$f":"IF(入力シート!#REF!=\"\",\"\",入力シート!#REF!)","v":{"$error":"#REF!"}},{"$f":"IF(入力シート!#REF!=\"\",\"\",入力シート!#REF!)","v":{"$error":"#REF!"}},{"$f":"IF(入力シート!#REF!=\"\",\"\",入力シート!#REF!)","v":{"$error":"#REF!"}},{"$f":"IF(入力シート!#REF!=\"\",\"\",入力シート!#REF!)","v":{"$error":"#REF!"}},null,null,{"$f":"IF(入力シート!H363=\"\",\"\",\"〇\")","v":""},{"$f":"IF(入力シート!#REF!=\"\",\"\",入力シート!#REF!)","v":{"$error":"#REF!"}},{"$f":"IF(入力シート!#REF!=\"\",\"\",入力シート!#REF!)","v":{"$error":"#REF!"}},{"$f":"IF(入力シート!#REF!=\"\",\"\",入力シート!#REF!)","v":{"$error":"#REF!"}},{"$f":"IF(入力シート!#REF!=\"\",\"\",入力シート!#REF!)","v":{"$error":"#REF!"}}]
[{"$f":"IF(入力シート!#REF!=\"\",\"\",入力シート!#REF!)","v":{"$error":"#REF!"}},{"$f":"IF(入力シート!#REF!=\"\",\"\",入力シート!#REF!)","v":{"$error":"#REF!"}},{"$f":"IF(入力シート!#REF!=\"\",\"\",DBCS(入力シート!#REF!))","v":{"$error":"#REF!"}},{"$f":"IF(入力シート!#REF!=\"\",\"\",DBCS(入力シート!#REF!))","v":{"$error":"#REF!"}},{"$f":"ASC(IF(入力シート!#REF!=\"\",\"\",UPPER(入力シート!#REF!)))","v":{"$error":"#REF!"}},{"$f":"IF(入力シート!#REF!=\"\",\"\",PROPER(入力シート!#REF!))","v":{"$error":"#REF!"}},{"$f":"IF(入力シート!#REF!=\"\",\"\",入力シート!#REF!)","v":{"$error":"#REF!"}},{"$f":"IF(入力シート!#REF!=\"\",\"\",TEXT(入力シート!#REF!,\"yyyy/mm/dd\"))","v":{"$error":"#REF!"}},{"$f":"IF(入力シート!#REF!=\"\",\"\",入力シート!#REF!)","v":{"$error":"#REF!"}},{"$f":"IF(入力シート!#REF!=\"\",\"\",入力シート!#REF!)","v":{"$error":"#REF!"}},{"$f":"IF(入力シート!#REF!=\"\",\"\",入力シート!#REF!)","v":{"$error":"#REF!"}},{"$f":"IF(入力シート!#REF!=\"\",\"\",入力シート!#REF!)","v":{"$error":"#REF!"}},{"$f":"IF(入力シート!#REF!=\"\",\"\",入力シート!#REF!)","v":{"$error":"#REF!"}},{"$f":"IF(入力シート!#REF!=\"\",\"\",入力シート!#REF!)","v":{"$error":"#REF!"}},null,{"$f":"IF(入力シート!#REF!=\"\",\"\",入力シート!#REF!)","v":{"$error":"#REF!"}},{"$f":"IF(入力シート!#REF!=\"\",\"\",入力シート!#REF!)","v":{"$error":"#REF!"}},{"$f":"IF(入力シート!#REF!=\"\",\"\",入力シート!#REF!)","v":{"$error":"#REF!"}},{"$f":"IF(入力シート!#REF!=\"\",\"\",入力シート!#REF!)","v":{"$error":"#REF!"}},{"$f":"IF(入力シート!#REF!=\"\",\"\",入力シート!#REF!)","v":{"$error":"#REF!"}},{"$f":"IF(入力シート!#REF!=\"\",\"\",入力シート!#REF!)","v":{"$error":"#REF!"}},{"$f":"IF(入力シート!#REF!=\"\",\"\",入力シート!#REF!)","v":{"$error":"#REF!"}},{"$f":"IF(入力シート!#REF!=\"\",\"\",入力シート!#REF!)","v":{"$error":"#REF!"}},{"$f":"IF(入力シート!#REF!=\"\",\"\",入力シート!#REF!)","v":{"$error":"#REF!"}},{"$f":"IF(入力シート!#REF!=\"\",\"\",入力シート!#REF!)","v":{"$error":"#REF!"}},{"$f":"IF(入力シート!#REF!=\"\",\"\",入力シート!#REF!)","v":{"$error":"#REF!"}},null,null,{"$f":"IF(入力シート!H364=\"\",\"\",\"〇\")","v":""},{"$f":"IF(入力シート!#REF!=\"\",\"\",入力シート!#REF!)","v":{"$error":"#REF!"}},{"$f":"IF(入力シート!#REF!=\"\",\"\",入力シート!#REF!)","v":{"$error":"#REF!"}},{"$f":"IF(入力シート!#REF!=\"\",\"\",入力シート!#REF!)","v":{"$error":"#REF!"}},{"$f":"IF(入力シート!#REF!=\"\",\"\",入力シート!#REF!)","v":{"$error":"#REF!"}}]
[{"$f":"IF(入力シート!#REF!=\"\",\"\",入力シート!#REF!)","v":{"$error":"#REF!"}},{"$f":"IF(入力シート!#REF!=\"\",\"\",入力シート!#REF!)","v":{"$error":"#REF!"}},{"$f":"IF(入力シート!#REF!=\"\",\"\",DBCS(入力シート!#REF!))","v":{"$error":"#REF!"}},{"$f":"IF(入力シート!#REF!=\"\",\"\",DBCS(入力シート!#REF!))","v":{"$error":"#REF!"}},{"$f":"ASC(IF(入力シート!#REF!=\"\",\"\",UPPER(入力シート!#REF!)))","v":{"$error":"#REF!"}},{"$f":"IF(入力シート!#REF!=\"\",\"\",PROPER(入力シート!#REF!))","v":{"$error":"#REF!"}},{"$f":"IF(入力シート!#REF!=\"\",\"\",入力シート!#REF!)","v":{"$error":"#REF!"}},{"$f":"IF(入力シート!#REF!=\"\",\"\",TEXT(入力シート!#REF!,\"yyyy/mm/dd\"))","v":{"$error":"#REF!"}},{"$f":"IF(入力シート!#REF!=\"\",\"\",入力シート!#REF!)","v":{"$error":"#REF!"}},{"$f":"IF(入力シート!#REF!=\"\",\"\",入力シート!#REF!)","v":{"$error":"#REF!"}},{"$f":"IF(入力シート!#REF!=\"\",\"\",入力シート!#REF!)","v":{"$error":"#REF!"}},{"$f":"IF(入力シート!#REF!=\"\",\"\",入力シート!#REF!)","v":{"$error":"#REF!"}},{"$f":"IF(入力シート!#REF!=\"\",\"\",入力シート!#REF!)","v":{"$error":"#REF!"}},{"$f":"IF(入力シート!#REF!=\"\",\"\",入力シート!#REF!)","v":{"$error":"#REF!"}},null,{"$f":"IF(入力シート!#REF!=\"\",\"\",入力シート!#REF!)","v":{"$error":"#REF!"}},{"$f":"IF(入力シート!#REF!=\"\",\"\",入力シート!#REF!)","v":{"$error":"#REF!"}},{"$f":"IF(入力シート!#REF!=\"\",\"\",入力シート!#REF!)","v":{"$error":"#REF!"}},{"$f":"IF(入力シート!#REF!=\"\",\"\",入力シート!#REF!)","v":{"$error":"#REF!"}},{"$f":"IF(入力シート!#REF!=\"\",\"\",入力シート!#REF!)","v":{"$error":"#REF!"}},{"$f":"IF(入力シート!#REF!=\"\",\"\",入力シート!#REF!)","v":{"$error":"#REF!"}},{"$f":"IF(入力シート!#REF!=\"\",\"\",入力シート!#REF!)","v":{"$error":"#REF!"}},{"$f":"IF(入力シート!#REF!=\"\",\"\",入力シート!#REF!)","v":{"$error":"#REF!"}},{"$f":"IF(入力シート!#REF!=\"\",\"\",入力シート!#REF!)","v":{"$error":"#REF!"}},{"$f":"IF(入力シート!#REF!=\"\",\"\",入力シート!#REF!)","v":{"$error":"#REF!"}},{"$f":"IF(入力シート!#REF!=\"\",\"\",入力シート!#REF!)","v":{"$error":"#REF!"}},null,null,{"$f":"IF(入力シート!H365=\"\",\"\",\"〇\")","v":""},{"$f":"IF(入力シート!#REF!=\"\",\"\",入力シート!#REF!)","v":{"$error":"#REF!"}},{"$f":"IF(入力シート!#REF!=\"\",\"\",入力シート!#REF!)","v":{"$error":"#REF!"}},{"$f":"IF(入力シート!#REF!=\"\",\"\",入力シート!#REF!)","v":{"$error":"#REF!"}},{"$f":"IF(入力シート!#REF!=\"\",\"\",入力シート!#REF!)","v":{"$error":"#REF!"}}]
[{"$f":"IF(入力シート!#REF!=\"\",\"\",入力シート!#REF!)","v":{"$error":"#REF!"}},{"$f":"IF(入力シート!#REF!=\"\",\"\",入力シート!#REF!)","v":{"$error":"#REF!"}},{"$f":"IF(入力シート!#REF!=\"\",\"\",DBCS(入力シート!#REF!))","v":{"$error":"#REF!"}},{"$f":"IF(入力シート!#REF!=\"\",\"\",DBCS(入力シート!#REF!))","v":{"$error":"#REF!"}},{"$f":"ASC(IF(入力シート!#REF!=\"\",\"\",UPPER(入力シート!#REF!)))","v":{"$error":"#REF!"}},{"$f":"IF(入力シート!#REF!=\"\",\"\",PROPER(入力シート!#REF!))","v":{"$error":"#REF!"}},{"$f":"IF(入力シート!#REF!=\"\",\"\",入力シート!#REF!)","v":{"$error":"#REF!"}},{"$f":"IF(入力シート!#REF!=\"\",\"\",TEXT(入力シート!#REF!,\"yyyy/mm/dd\"))","v":{"$error":"#REF!"}},{"$f":"IF(入力シート!#REF!=\"\",\"\",入力シート!#REF!)","v":{"$error":"#REF!"}},{"$f":"IF(入力シート!#REF!=\"\",\"\",入力シート!#REF!)","v":{"$error":"#REF!"}},{"$f":"IF(入力シート!#REF!=\"\",\"\",入力シート!#REF!)","v":{"$error":"#REF!"}},{"$f":"IF(入力シート!#REF!=\"\",\"\",入力シート!#REF!)","v":{"$error":"#REF!"}},{"$f":"IF(入力シート!#REF!=\"\",\"\",入力シート!#REF!)","v":{"$error":"#REF!"}},{"$f":"IF(入力シート!#REF!=\"\",\"\",入力シート!#REF!)","v":{"$error":"#REF!"}},null,{"$f":"IF(入力シート!#REF!=\"\",\"\",入力シート!#REF!)","v":{"$error":"#REF!"}},{"$f":"IF(入力シート!#REF!=\"\",\"\",入力シート!#REF!)","v":{"$error":"#REF!"}},{"$f":"IF(入力シート!#REF!=\"\",\"\",入力シート!#REF!)","v":{"$error":"#REF!"}},{"$f":"IF(入力シート!#REF!=\"\",\"\",入力シート!#REF!)","v":{"$error":"#REF!"}},{"$f":"IF(入力シート!#REF!=\"\",\"\",入力シート!#REF!)","v":{"$error":"#REF!"}},{"$f":"IF(入力シート!#REF!=\"\",\"\",入力シート!#REF!)","v":{"$error":"#REF!"}},{"$f":"IF(入力シート!#REF!=\"\",\"\",入力シート!#REF!)","v":{"$error":"#REF!"}},{"$f":"IF(入力シート!#REF!=\"\",\"\",入力シート!#REF!)","v":{"$error":"#REF!"}},{"$f":"IF(入力シート!#REF!=\"\",\"\",入力シート!#REF!)","v":{"$error":"#REF!"}},{"$f":"IF(入力シート!#REF!=\"\",\"\",入力シート!#REF!)","v":{"$error":"#REF!"}},{"$f":"IF(入力シート!#REF!=\"\",\"\",入力シート!#REF!)","v":{"$error":"#REF!"}},null,null,{"$f":"IF(入力シート!H366=\"\",\"\",\"〇\")","v":""},{"$f":"IF(入力シート!#REF!=\"\",\"\",入力シート!#REF!)","v":{"$error":"#REF!"}},{"$f":"IF(入力シート!#REF!=\"\",\"\",入力シート!#REF!)","v":{"$error":"#REF!"}},{"$f":"IF(入力シート!#REF!=\"\",\"\",入力シート!#REF!)","v":{"$error":"#REF!"}},{"$f":"IF(入力シート!#REF!=\"\",\"\",入力シート!#REF!)","v":{"$error":"#REF!"}}]
[{"$f":"IF(入力シート!#REF!=\"\",\"\",入力シート!#REF!)","v":{"$error":"#REF!"}},{"$f":"IF(入力シート!#REF!=\"\",\"\",入力シート!#REF!)","v":{"$error":"#REF!"}},{"$f":"IF(入力シート!#REF!=\"\",\"\",DBCS(入力シート!#REF!))","v":{"$error":"#REF!"}},{"$f":"IF(入力シート!#REF!=\"\",\"\",DBCS(入力シート!#REF!))","v":{"$error":"#REF!"}},{"$f":"ASC(IF(入力シート!#REF!=\"\",\"\",UPPER(入力シート!#REF!)))","v":{"$error":"#REF!"}},{"$f":"IF(入力シート!#REF!=\"\",\"\",PROPER(入力シート!#REF!))","v":{"$error":"#REF!"}},{"$f":"IF(入力シート!#REF!=\"\",\"\",入力シート!#REF!)","v":{"$error":"#REF!"}},{"$f":"IF(入力シート!#REF!=\"\",\"\",TEXT(入力シート!#REF!,\"yyyy/mm/dd\"))","v":{"$error":"#REF!"}},{"$f":"IF(入力シート!#REF!=\"\",\"\",入力シート!#REF!)","v":{"$error":"#REF!"}},{"$f":"IF(入力シート!#REF!=\"\",\"\",入力シート!#REF!)","v":{"$error":"#REF!"}},{"$f":"IF(入力シート!#REF!=\"\",\"\",入力シート!#REF!)","v":{"$error":"#REF!"}},{"$f":"IF(入力シート!#REF!=\"\",\"\",入力シート!#REF!)","v":{"$error":"#REF!"}},{"$f":"IF(入力シート!#REF!=\"\",\"\",入力シート!#REF!)","v":{"$error":"#REF!"}},{"$f":"IF(入力シート!#REF!=\"\",\"\",入力シート!#REF!)","v":{"$error":"#REF!"}},null,{"$f":"IF(入力シート!#REF!=\"\",\"\",入力シート!#REF!)","v":{"$error":"#REF!"}},{"$f":"IF(入力シート!#REF!=\"\",\"\",入力シート!#REF!)","v":{"$error":"#REF!"}},{"$f":"IF(入力シート!#REF!=\"\",\"\",入力シート!#REF!)","v":{"$error":"#REF!"}},{"$f":"IF(入力シート!#REF!=\"\",\"\",入力シート!#REF!)","v":{"$error":"#REF!"}},{"$f":"IF(入力シート!#REF!=\"\",\"\",入力シート!#REF!)","v":{"$error":"#REF!"}},{"$f":"IF(入力シート!#REF!=\"\",\"\",入力シート!#REF!)","v":{"$error":"#REF!"}},{"$f":"IF(入力シート!#REF!=\"\",\"\",入力シート!#REF!)","v":{"$error":"#REF!"}},{"$f":"IF(入力シート!#REF!=\"\",\"\",入力シート!#REF!)","v":{"$error":"#REF!"}},{"$f":"IF(入力シート!#REF!=\"\",\"\",入力シート!#REF!)","v":{"$error":"#REF!"}},{"$f":"IF(入力シート!#REF!=\"\",\"\",入力シート!#REF!)","v":{"$error":"#REF!"}},{"$f":"IF(入力シート!#REF!=\"\",\"\",入力シート!#REF!)","v":{"$error":"#REF!"}},null,null,{"$f":"IF(入力シート!H367=\"\",\"\",\"〇\")","v":""},{"$f":"IF(入力シート!#REF!=\"\",\"\",入力シート!#REF!)","v":{"$error":"#REF!"}},{"$f":"IF(入力シート!#REF!=\"\",\"\",入力シート!#REF!)","v":{"$error":"#REF!"}},{"$f":"IF(入力シート!#REF!=\"\",\"\",入力シート!#REF!)","v":{"$error":"#REF!"}},{"$f":"IF(入力シート!#REF!=\"\",\"\",入力シート!#REF!)","v":{"$error":"#REF!"}}]
[{"$f":"IF(入力シート!#REF!=\"\",\"\",入力シート!#REF!)","v":{"$error":"#REF!"}},{"$f":"IF(入力シート!#REF!=\"\",\"\",入力シート!#REF!)","v":{"$error":"#REF!"}},{"$f":"IF(入力シート!#REF!=\"\",\"\",DBCS(入力シート!#REF!))","v":{"$error":"#REF!"}},{"$f":"IF(入力シート!#REF!=\"\",\"\",DBCS(入力シート!#REF!))","v":{"$error":"#REF!"}},{"$f":"ASC(IF(入力シート!#REF!=\"\",\"\",UPPER(入力シート!#REF!)))","v":{"$error":"#REF!"}},{"$f":"IF(入力シート!#REF!=\"\",\"\",PROPER(入力シート!#REF!))","v":{"$error":"#REF!"}},{"$f":"IF(入力シート!#REF!=\"\",\"\",入力シート!#REF!)","v":{"$error":"#REF!"}},{"$f":"IF(入力シート!#REF!=\"\",\"\",TEXT(入力シート!#REF!,\"yyyy/mm/dd\"))","v":{"$error":"#REF!"}},{"$f":"IF(入力シート!#REF!=\"\",\"\",入力シート!#REF!)","v":{"$error":"#REF!"}},{"$f":"IF(入力シート!#REF!=\"\",\"\",入力シート!#REF!)","v":{"$error":"#REF!"}},{"$f":"IF(入力シート!#REF!=\"\",\"\",入力シート!#REF!)","v":{"$error":"#REF!"}},{"$f":"IF(入力シート!#REF!=\"\",\"\",入力シート!#REF!)","v":{"$error":"#REF!"}},{"$f":"IF(入力シート!#REF!=\"\",\"\",入力シート!#REF!)","v":{"$error":"#REF!"}},{"$f":"IF(入力シート!#REF!=\"\",\"\",入力シート!#REF!)","v":{"$error":"#REF!"}},null,{"$f":"IF(入力シート!#REF!=\"\",\"\",入力シート!#REF!)","v":{"$error":"#REF!"}},{"$f":"IF(入力シート!#REF!=\"\",\"\",入力シート!#REF!)","v":{"$error":"#REF!"}},{"$f":"IF(入力シート!#REF!=\"\",\"\",入力シート!#REF!)","v":{"$error":"#REF!"}},{"$f":"IF(入力シート!#REF!=\"\",\"\",入力シート!#REF!)","v":{"$error":"#REF!"}},{"$f":"IF(入力シート!#REF!=\"\",\"\",入力シート!#REF!)","v":{"$error":"#REF!"}},{"$f":"IF(入力シート!#REF!=\"\",\"\",入力シート!#REF!)","v":{"$error":"#REF!"}},{"$f":"IF(入力シート!#REF!=\"\",\"\",入力シート!#REF!)","v":{"$error":"#REF!"}},{"$f":"IF(入力シート!#REF!=\"\",\"\",入力シート!#REF!)","v":{"$error":"#REF!"}},{"$f":"IF(入力シート!#REF!=\"\",\"\",入力シート!#REF!)","v":{"$error":"#REF!"}},{"$f":"IF(入力シート!#REF!=\"\",\"\",入力シート!#REF!)","v":{"$error":"#REF!"}},{"$f":"IF(入力シート!#REF!=\"\",\"\",入力シート!#REF!)","v":{"$error":"#REF!"}},null,null,{"$f":"IF(入力シート!H368=\"\",\"\",\"〇\")","v":""},{"$f":"IF(入力シート!#REF!=\"\",\"\",入力シート!#REF!)","v":{"$error":"#REF!"}},{"$f":"IF(入力シート!#REF!=\"\",\"\",入力シート!#REF!)","v":{"$error":"#REF!"}},{"$f":"IF(入力シート!#REF!=\"\",\"\",入力シート!#REF!)","v":{"$error":"#REF!"}},{"$f":"IF(入力シート!#REF!=\"\",\"\",入力シート!#REF!)","v":{"$error":"#REF!"}}]
[{"$f":"IF(入力シート!#REF!=\"\",\"\",入力シート!#REF!)","v":{"$error":"#REF!"}},{"$f":"IF(入力シート!#REF!=\"\",\"\",入力シート!#REF!)","v":{"$error":"#REF!"}},{"$f":"IF(入力シート!#REF!=\"\",\"\",DBCS(入力シート!#REF!))","v":{"$error":"#REF!"}},{"$f":"IF(入力シート!#REF!=\"\",\"\",DBCS(入力シート!#REF!))","v":{"$error":"#REF!"}},{"$f":"ASC(IF(入力シート!#REF!=\"\",\"\",UPPER(入力シート!#REF!)))","v":{"$error":"#REF!"}},{"$f":"IF(入力シート!#REF!=\"\",\"\",PROPER(入力シート!#REF!))","v":{"$error":"#REF!"}},{"$f":"IF(入力シート!#REF!=\"\",\"\",入力シート!#REF!)","v":{"$error":"#REF!"}},{"$f":"IF(入力シート!#REF!=\"\",\"\",TEXT(入力シート!#REF!,\"yyyy/mm/dd\"))","v":{"$error":"#REF!"}},{"$f":"IF(入力シート!#REF!=\"\",\"\",入力シート!#REF!)","v":{"$error":"#REF!"}},{"$f":"IF(入力シート!#REF!=\"\",\"\",入力シート!#REF!)","v":{"$error":"#REF!"}},{"$f":"IF(入力シート!#REF!=\"\",\"\",入力シート!#REF!)","v":{"$error":"#REF!"}},{"$f":"IF(入力シート!#REF!=\"\",\"\",入力シート!#REF!)","v":{"$error":"#REF!"}},{"$f":"IF(入力シート!#REF!=\"\",\"\",入力シート!#REF!)","v":{"$error":"#REF!"}},{"$f":"IF(入力シート!#REF!=\"\",\"\",入力シート!#REF!)","v":{"$error":"#REF!"}},null,{"$f":"IF(入力シート!#REF!=\"\",\"\",入力シート!#REF!)","v":{"$error":"#REF!"}},{"$f":"IF(入力シート!#REF!=\"\",\"\",入力シート!#REF!)","v":{"$error":"#REF!"}},{"$f":"IF(入力シート!#REF!=\"\",\"\",入力シート!#REF!)","v":{"$error":"#REF!"}},{"$f":"IF(入力シート!#REF!=\"\",\"\",入力シート!#REF!)","v":{"$error":"#REF!"}},{"$f":"IF(入力シート!#REF!=\"\",\"\",入力シート!#REF!)","v":{"$error":"#REF!"}},{"$f":"IF(入力シート!#REF!=\"\",\"\",入力シート!#REF!)","v":{"$error":"#REF!"}},{"$f":"IF(入力シート!#REF!=\"\",\"\",入力シート!#REF!)","v":{"$error":"#REF!"}},{"$f":"IF(入力シート!#REF!=\"\",\"\",入力シート!#REF!)","v":{"$error":"#REF!"}},{"$f":"IF(入力シート!#REF!=\"\",\"\",入力シート!#REF!)","v":{"$error":"#REF!"}},{"$f":"IF(入力シート!#REF!=\"\",\"\",入力シート!#REF!)","v":{"$error":"#REF!"}},{"$f":"IF(入力シート!#REF!=\"\",\"\",入力シート!#REF!)","v":{"$error":"#REF!"}},null,null,{"$f":"IF(入力シート!H369=\"\",\"\",\"〇\")","v":""},{"$f":"IF(入力シート!#REF!=\"\",\"\",入力シート!#REF!)","v":{"$error":"#REF!"}},{"$f":"IF(入力シート!#REF!=\"\",\"\",入力シート!#REF!)","v":{"$error":"#REF!"}},{"$f":"IF(入力シート!#REF!=\"\",\"\",入力シート!#REF!)","v":{"$error":"#REF!"}},{"$f":"IF(入力シート!#REF!=\"\",\"\",入力シート!#REF!)","v":{"$error":"#REF!"}}]
[{"$f":"IF(入力シート!#REF!=\"\",\"\",入力シート!#REF!)","v":{"$error":"#REF!"}},{"$f":"IF(入力シート!#REF!=\"\",\"\",入力シート!#REF!)","v":{"$error":"#REF!"}},{"$f":"IF(入力シート!#REF!=\"\",\"\",DBCS(入力シート!#REF!))","v":{"$error":"#REF!"}},{"$f":"IF(入力シート!#REF!=\"\",\"\",DBCS(入力シート!#REF!))","v":{"$error":"#REF!"}},{"$f":"ASC(IF(入力シート!#REF!=\"\",\"\",UPPER(入力シート!#REF!)))","v":{"$error":"#REF!"}},{"$f":"IF(入力シート!#REF!=\"\",\"\",PROPER(入力シート!#REF!))","v":{"$error":"#REF!"}},{"$f":"IF(入力シート!#REF!=\"\",\"\",入力シート!#REF!)","v":{"$error":"#REF!"}},{"$f":"IF(入力シート!#REF!=\"\",\"\",TEXT(入力シート!#REF!,\"yyyy/mm/dd\"))","v":{"$error":"#REF!"}},{"$f":"IF(入力シート!#REF!=\"\",\"\",入力シート!#REF!)","v":{"$error":"#REF!"}},{"$f":"IF(入力シート!#REF!=\"\",\"\",入力シート!#REF!)","v":{"$error":"#REF!"}},{"$f":"IF(入力シート!#REF!=\"\",\"\",入力シート!#REF!)","v":{"$error":"#REF!"}},{"$f":"IF(入力シート!#REF!=\"\",\"\",入力シート!#REF!)","v":{"$error":"#REF!"}},{"$f":"IF(入力シート!#REF!=\"\",\"\",入力シート!#REF!)","v":{"$error":"#REF!"}},{"$f":"IF(入力シート!#REF!=\"\",\"\",入力シート!#REF!)","v":{"$error":"#REF!"}},null,{"$f":"IF(入力シート!#REF!=\"\",\"\",入力シート!#REF!)","v":{"$error":"#REF!"}},{"$f":"IF(入力シート!#REF!=\"\",\"\",入力シート!#REF!)","v":{"$error":"#REF!"}},{"$f":"IF(入力シート!#REF!=\"\",\"\",入力シート!#REF!)","v":{"$error":"#REF!"}},{"$f":"IF(入力シート!#REF!=\"\",\"\",入力シート!#REF!)","v":{"$error":"#REF!"}},{"$f":"IF(入力シート!#REF!=\"\",\"\",入力シート!#REF!)","v":{"$error":"#REF!"}},{"$f":"IF(入力シート!#REF!=\"\",\"\",入力シート!#REF!)","v":{"$error":"#REF!"}},{"$f":"IF(入力シート!#REF!=\"\",\"\",入力シート!#REF!)","v":{"$error":"#REF!"}},{"$f":"IF(入力シート!#REF!=\"\",\"\",入力シート!#REF!)","v":{"$error":"#REF!"}},{"$f":"IF(入力シート!#REF!=\"\",\"\",入力シート!#REF!)","v":{"$error":"#REF!"}},{"$f":"IF(入力シート!#REF!=\"\",\"\",入力シート!#REF!)","v":{"$error":"#REF!"}},{"$f":"IF(入力シート!#REF!=\"\",\"\",入力シート!#REF!)","v":{"$error":"#REF!"}},null,null,{"$f":"IF(入力シート!H370=\"\",\"\",\"〇\")","v":""},{"$f":"IF(入力シート!#REF!=\"\",\"\",入力シート!#REF!)","v":{"$error":"#REF!"}},{"$f":"IF(入力シート!#REF!=\"\",\"\",入力シート!#REF!)","v":{"$error":"#REF!"}},{"$f":"IF(入力シート!#REF!=\"\",\"\",入力シート!#REF!)","v":{"$error":"#REF!"}},{"$f":"IF(入力シート!#REF!=\"\",\"\",入力シート!#REF!)","v":{"$error":"#REF!"}}]
[{"$f":"IF(入力シート!#REF!=\"\",\"\",入力シート!#REF!)","v":{"$error":"#REF!"}},{"$f":"IF(入力シート!#REF!=\"\",\"\",入力シート!#REF!)","v":{"$error":"#REF!"}},{"$f":"IF(入力シート!#REF!=\"\",\"\",DBCS(入力シート!#REF!))","v":{"$error":"#REF!"}},{"$f":"IF(入力シート!#REF!=\"\",\"\",DBCS(入力シート!#REF!))","v":{"$error":"#REF!"}},{"$f":"ASC(IF(入力シート!#REF!=\"\",\"\",UPPER(入力シート!#REF!)))","v":{"$error":"#REF!"}},{"$f":"IF(入力シート!#REF!=\"\",\"\",PROPER(入力シート!#REF!))","v":{"$error":"#REF!"}},{"$f":"IF(入力シート!#REF!=\"\",\"\",入力シート!#REF!)","v":{"$error":"#REF!"}},{"$f":"IF(入力シート!#REF!=\"\",\"\",TEXT(入力シート!#REF!,\"yyyy/mm/dd\"))","v":{"$error":"#REF!"}},{"$f":"IF(入力シート!#REF!=\"\",\"\",入力シート!#REF!)","v":{"$error":"#REF!"}},{"$f":"IF(入力シート!#REF!=\"\",\"\",入力シート!#REF!)","v":{"$error":"#REF!"}},{"$f":"IF(入力シート!#REF!=\"\",\"\",入力シート!#REF!)","v":{"$error":"#REF!"}},{"$f":"IF(入力シート!#REF!=\"\",\"\",入力シート!#REF!)","v":{"$error":"#REF!"}},{"$f":"IF(入力シート!#REF!=\"\",\"\",入力シート!#REF!)","v":{"$error":"#REF!"}},{"$f":"IF(入力シート!#REF!=\"\",\"\",入力シート!#REF!)","v":{"$error":"#REF!"}},null,{"$f":"IF(入力シート!#REF!=\"\",\"\",入力シート!#REF!)","v":{"$error":"#REF!"}},{"$f":"IF(入力シート!#REF!=\"\",\"\",入力シート!#REF!)","v":{"$error":"#REF!"}},{"$f":"IF(入力シート!#REF!=\"\",\"\",入力シート!#REF!)","v":{"$error":"#REF!"}},{"$f":"IF(入力シート!#REF!=\"\",\"\",入力シート!#REF!)","v":{"$error":"#REF!"}},{"$f":"IF(入力シート!#REF!=\"\",\"\",入力シート!#REF!)","v":{"$error":"#REF!"}},{"$f":"IF(入力シート!#REF!=\"\",\"\",入力シート!#REF!)","v":{"$error":"#REF!"}},{"$f":"IF(入力シート!#REF!=\"\",\"\",入力シート!#REF!)","v":{"$error":"#REF!"}},{"$f":"IF(入力シート!#REF!=\"\",\"\",入力シート!#REF!)","v":{"$error":"#REF!"}},{"$f":"IF(入力シート!#REF!=\"\",\"\",入力シート!#REF!)","v":{"$error":"#REF!"}},{"$f":"IF(入力シート!#REF!=\"\",\"\",入力シート!#REF!)","v":{"$error":"#REF!"}},{"$f":"IF(入力シート!#REF!=\"\",\"\",入力シート!#REF!)","v":{"$error":"#REF!"}},null,null,{"$f":"IF(入力シート!H371=\"\",\"\",\"〇\")","v":""},{"$f":"IF(入力シート!#REF!=\"\",\"\",入力シート!#REF!)","v":{"$error":"#REF!"}},{"$f":"IF(入力シート!#REF!=\"\",\"\",入力シート!#REF!)","v":{"$error":"#REF!"}},{"$f":"IF(入力シート!#REF!=\"\",\"\",入力シート!#REF!)","v":{"$error":"#REF!"}},{"$f":"IF(入力シート!#REF!=\"\",\"\",入力シート!#REF!)","v":{"$error":"#REF!"}}]
[{"$f":"IF(入力シート!#REF!=\"\",\"\",入力シート!#REF!)","v":{"$error":"#REF!"}},{"$f":"IF(入力シート!#REF!=\"\",\"\",入力シート!#REF!)","v":{"$error":"#REF!"}},{"$f":"IF(入力シート!#REF!=\"\",\"\",DBCS(入力シート!#REF!))","v":{"$error":"#REF!"}},{"$f":"IF(入力シート!#REF!=\"\",\"\",DBCS(入力シート!#REF!))","v":{"$error":"#REF!"}},{"$f":"ASC(IF(入力シート!#REF!=\"\",\"\",UPPER(入力シート!#REF!)))","v":{"$error":"#REF!"}},{"$f":"IF(入力シート!#REF!=\"\",\"\",PROPER(入力シート!#REF!))","v":{"$error":"#REF!"}},{"$f":"IF(入力シート!#REF!=\"\",\"\",入力シート!#REF!)","v":{"$error":"#REF!"}},{"$f":"IF(入力シート!#REF!=\"\",\"\",TEXT(入力シート!#REF!,\"yyyy/mm/dd\"))","v":{"$error":"#REF!"}},{"$f":"IF(入力シート!#REF!=\"\",\"\",入力シート!#REF!)","v":{"$error":"#REF!"}},{"$f":"IF(入力シート!#REF!=\"\",\"\",入力シート!#REF!)","v":{"$error":"#REF!"}},{"$f":"IF(入力シート!#REF!=\"\",\"\",入力シート!#REF!)","v":{"$error":"#REF!"}},{"$f":"IF(入力シート!#REF!=\"\",\"\",入力シート!#REF!)","v":{"$error":"#REF!"}},{"$f":"IF(入力シート!#REF!=\"\",\"\",入力シート!#REF!)","v":{"$error":"#REF!"}},{"$f":"IF(入力シート!#REF!=\"\",\"\",入力シート!#REF!)","v":{"$error":"#REF!"}},null,{"$f":"IF(入力シート!#REF!=\"\",\"\",入力シート!#REF!)","v":{"$error":"#REF!"}},{"$f":"IF(入力シート!#REF!=\"\",\"\",入力シート!#REF!)","v":{"$error":"#REF!"}},{"$f":"IF(入力シート!#REF!=\"\",\"\",入力シート!#REF!)","v":{"$error":"#REF!"}},{"$f":"IF(入力シート!#REF!=\"\",\"\",入力シート!#REF!)","v":{"$error":"#REF!"}},{"$f":"IF(入力シート!#REF!=\"\",\"\",入力シート!#REF!)","v":{"$error":"#REF!"}},{"$f":"IF(入力シート!#REF!=\"\",\"\",入力シート!#REF!)","v":{"$error":"#REF!"}},{"$f":"IF(入力シート!#REF!=\"\",\"\",入力シート!#REF!)","v":{"$error":"#REF!"}},{"$f":"IF(入力シート!#REF!=\"\",\"\",入力シート!#REF!)","v":{"$error":"#REF!"}},{"$f":"IF(入力シート!#REF!=\"\",\"\",入力シート!#REF!)","v":{"$error":"#REF!"}},{"$f":"IF(入力シート!#REF!=\"\",\"\",入力シート!#REF!)","v":{"$error":"#REF!"}},{"$f":"IF(入力シート!#REF!=\"\",\"\",入力シート!#REF!)","v":{"$error":"#REF!"}},null,null,{"$f":"IF(入力シート!H372=\"\",\"\",\"〇\")","v":""},{"$f":"IF(入力シート!#REF!=\"\",\"\",入力シート!#REF!)","v":{"$error":"#REF!"}},{"$f":"IF(入力シート!#REF!=\"\",\"\",入力シート!#REF!)","v":{"$error":"#REF!"}},{"$f":"IF(入力シート!#REF!=\"\",\"\",入力シート!#REF!)","v":{"$error":"#REF!"}},{"$f":"IF(入力シート!#REF!=\"\",\"\",入力シート!#REF!)","v":{"$error":"#REF!"}}]
[{"$f":"IF(入力シート!#REF!=\"\",\"\",入力シート!#REF!)","v":{"$error":"#REF!"}},{"$f":"IF(入力シート!#REF!=\"\",\"\",入力シート!#REF!)","v":{"$error":"#REF!"}},{"$f":"IF(入力シート!#REF!=\"\",\"\",DBCS(入力シート!#REF!))","v":{"$error":"#REF!"}},{"$f":"IF(入力シート!#REF!=\"\",\"\",DBCS(入力シート!#REF!))","v":{"$error":"#REF!"}},{"$f":"ASC(IF(入力シート!#REF!=\"\",\"\",UPPER(入力シート!#REF!)))","v":{"$error":"#REF!"}},{"$f":"IF(入力シート!#REF!=\"\",\"\",PROPER(入力シート!#REF!))","v":{"$error":"#REF!"}},{"$f":"IF(入力シート!#REF!=\"\",\"\",入力シート!#REF!)","v":{"$error":"#REF!"}},{"$f":"IF(入力シート!#REF!=\"\",\"\",TEXT(入力シート!#REF!,\"yyyy/mm/dd\"))","v":{"$error":"#REF!"}},{"$f":"IF(入力シート!#REF!=\"\",\"\",入力シート!#REF!)","v":{"$error":"#REF!"}},{"$f":"IF(入力シート!#REF!=\"\",\"\",入力シート!#REF!)","v":{"$error":"#REF!"}},{"$f":"IF(入力シート!#REF!=\"\",\"\",入力シート!#REF!)","v":{"$error":"#REF!"}},{"$f":"IF(入力シート!#REF!=\"\",\"\",入力シート!#REF!)","v":{"$error":"#REF!"}},{"$f":"IF(入力シート!#REF!=\"\",\"\",入力シート!#REF!)","v":{"$error":"#REF!"}},{"$f":"IF(入力シート!#REF!=\"\",\"\",入力シート!#REF!)","v":{"$error":"#REF!"}},null,{"$f":"IF(入力シート!#REF!=\"\",\"\",入力シート!#REF!)","v":{"$error":"#REF!"}},{"$f":"IF(入力シート!#REF!=\"\",\"\",入力シート!#REF!)","v":{"$error":"#REF!"}},{"$f":"IF(入力シート!#REF!=\"\",\"\",入力シート!#REF!)","v":{"$error":"#REF!"}},{"$f":"IF(入力シート!#REF!=\"\",\"\",入力シート!#REF!)","v":{"$error":"#REF!"}},{"$f":"IF(入力シート!#REF!=\"\",\"\",入力シート!#REF!)","v":{"$error":"#REF!"}},{"$f":"IF(入力シート!#REF!=\"\",\"\",入力シート!#REF!)","v":{"$error":"#REF!"}},{"$f":"IF(入力シート!#REF!=\"\",\"\",入力シート!#REF!)","v":{"$error":"#REF!"}},{"$f":"IF(入力シート!#REF!=\"\",\"\",入力シート!#REF!)","v":{"$error":"#REF!"}},{"$f":"IF(入力シート!#REF!=\"\",\"\",入力シート!#REF!)","v":{"$error":"#REF!"}},{"$f":"IF(入力シート!#REF!=\"\",\"\",入力シート!#REF!)","v":{"$error":"#REF!"}},{"$f":"IF(入力シート!#REF!=\"\",\"\",入力シート!#REF!)","v":{"$error":"#REF!"}},null,null,{"$f":"IF(入力シート!H373=\"\",\"\",\"〇\")","v":""},{"$f":"IF(入力シート!#REF!=\"\",\"\",入力シート!#REF!)","v":{"$error":"#REF!"}},{"$f":"IF(入力シート!#REF!=\"\",\"\",入力シート!#REF!)","v":{"$error":"#REF!"}},{"$f":"IF(入力シート!#REF!=\"\",\"\",入力シート!#REF!)","v":{"$error":"#REF!"}},{"$f":"IF(入力シート!#REF!=\"\",\"\",入力シート!#REF!)","v":{"$error":"#REF!"}}]
[{"$f":"IF(入力シート!#REF!=\"\",\"\",入力シート!#REF!)","v":{"$error":"#REF!"}},{"$f":"IF(入力シート!#REF!=\"\",\"\",入力シート!#REF!)","v":{"$error":"#REF!"}},{"$f":"IF(入力シート!#REF!=\"\",\"\",DBCS(入力シート!#REF!))","v":{"$error":"#REF!"}},{"$f":"IF(入力シート!#REF!=\"\",\"\",DBCS(入力シート!#REF!))","v":{"$error":"#REF!"}},{"$f":"ASC(IF(入力シート!#REF!=\"\",\"\",UPPER(入力シート!#REF!)))","v":{"$error":"#REF!"}},{"$f":"IF(入力シート!#REF!=\"\",\"\",PROPER(入力シート!#REF!))","v":{"$error":"#REF!"}},{"$f":"IF(入力シート!#REF!=\"\",\"\",入力シート!#REF!)","v":{"$error":"#REF!"}},{"$f":"IF(入力シート!#REF!=\"\",\"\",TEXT(入力シート!#REF!,\"yyyy/mm/dd\"))","v":{"$error":"#REF!"}},{"$f":"IF(入力シート!#REF!=\"\",\"\",入力シート!#REF!)","v":{"$error":"#REF!"}},{"$f":"IF(入力シート!#REF!=\"\",\"\",入力シート!#REF!)","v":{"$error":"#REF!"}},{"$f":"IF(入力シート!#REF!=\"\",\"\",入力シート!#REF!)","v":{"$error":"#REF!"}},{"$f":"IF(入力シート!#REF!=\"\",\"\",入力シート!#REF!)","v":{"$error":"#REF!"}},{"$f":"IF(入力シート!#REF!=\"\",\"\",入力シート!#REF!)","v":{"$error":"#REF!"}},{"$f":"IF(入力シート!#REF!=\"\",\"\",入力シート!#REF!)","v":{"$error":"#REF!"}},null,{"$f":"IF(入力シート!#REF!=\"\",\"\",入力シート!#REF!)","v":{"$error":"#REF!"}},{"$f":"IF(入力シート!#REF!=\"\",\"\",入力シート!#REF!)","v":{"$error":"#REF!"}},{"$f":"IF(入力シート!#REF!=\"\",\"\",入力シート!#REF!)","v":{"$error":"#REF!"}},{"$f":"IF(入力シート!#REF!=\"\",\"\",入力シート!#REF!)","v":{"$error":"#REF!"}},{"$f":"IF(入力シート!#REF!=\"\",\"\",入力シート!#REF!)","v":{"$error":"#REF!"}},{"$f":"IF(入力シート!#REF!=\"\",\"\",入力シート!#REF!)","v":{"$error":"#REF!"}},{"$f":"IF(入力シート!#REF!=\"\",\"\",入力シート!#REF!)","v":{"$error":"#REF!"}},{"$f":"IF(入力シート!#REF!=\"\",\"\",入力シート!#REF!)","v":{"$error":"#REF!"}},{"$f":"IF(入力シート!#REF!=\"\",\"\",入力シート!#REF!)","v":{"$error":"#REF!"}},{"$f":"IF(入力シート!#REF!=\"\",\"\",入力シート!#REF!)","v":{"$error":"#REF!"}},{"$f":"IF(入力シート!#REF!=\"\",\"\",入力シート!#REF!)","v":{"$error":"#REF!"}},null,null,{"$f":"IF(入力シート!H374=\"\",\"\",\"〇\")","v":""},{"$f":"IF(入力シート!#REF!=\"\",\"\",入力シート!#REF!)","v":{"$error":"#REF!"}},{"$f":"IF(入力シート!#REF!=\"\",\"\",入力シート!#REF!)","v":{"$error":"#REF!"}},{"$f":"IF(入力シート!#REF!=\"\",\"\",入力シート!#REF!)","v":{"$error":"#REF!"}},{"$f":"IF(入力シート!#REF!=\"\",\"\",入力シート!#REF!)","v":{"$error":"#REF!"}}]
[{"$f":"IF(入力シート!#REF!=\"\",\"\",入力シート!#REF!)","v":{"$error":"#REF!"}},{"$f":"IF(入力シート!#REF!=\"\",\"\",入力シート!#REF!)","v":{"$error":"#REF!"}},{"$f":"IF(入力シート!#REF!=\"\",\"\",DBCS(入力シート!#REF!))","v":{"$error":"#REF!"}},{"$f":"IF(入力シート!#REF!=\"\",\"\",DBCS(入力シート!#REF!))","v":{"$error":"#REF!"}},{"$f":"ASC(IF(入力シート!#REF!=\"\",\"\",UPPER(入力シート!#REF!)))","v":{"$error":"#REF!"}},{"$f":"IF(入力シート!#REF!=\"\",\"\",PROPER(入力シート!#REF!))","v":{"$error":"#REF!"}},{"$f":"IF(入力シート!#REF!=\"\",\"\",入力シート!#REF!)","v":{"$error":"#REF!"}},{"$f":"IF(入力シート!#REF!=\"\",\"\",TEXT(入力シート!#REF!,\"yyyy/mm/dd\"))","v":{"$error":"#REF!"}},{"$f":"IF(入力シート!#REF!=\"\",\"\",入力シート!#REF!)","v":{"$error":"#REF!"}},{"$f":"IF(入力シート!#REF!=\"\",\"\",入力シート!#REF!)","v":{"$error":"#REF!"}},{"$f":"IF(入力シート!#REF!=\"\",\"\",入力シート!#REF!)","v":{"$error":"#REF!"}},{"$f":"IF(入力シート!#REF!=\"\",\"\",入力シート!#REF!)","v":{"$error":"#REF!"}},{"$f":"IF(入力シート!#REF!=\"\",\"\",入力シート!#REF!)","v":{"$error":"#REF!"}},{"$f":"IF(入力シート!#REF!=\"\",\"\",入力シート!#REF!)","v":{"$error":"#REF!"}},null,{"$f":"IF(入力シート!#REF!=\"\",\"\",入力シート!#REF!)","v":{"$error":"#REF!"}},{"$f":"IF(入力シート!#REF!=\"\",\"\",入力シート!#REF!)","v":{"$error":"#REF!"}},{"$f":"IF(入力シート!#REF!=\"\",\"\",入力シート!#REF!)","v":{"$error":"#REF!"}},{"$f":"IF(入力シート!#REF!=\"\",\"\",入力シート!#REF!)","v":{"$error":"#REF!"}},{"$f":"IF(入力シート!#REF!=\"\",\"\",入力シート!#REF!)","v":{"$error":"#REF!"}},{"$f":"IF(入力シート!#REF!=\"\",\"\",入力シート!#REF!)","v":{"$error":"#REF!"}},{"$f":"IF(入力シート!#REF!=\"\",\"\",入力シート!#REF!)","v":{"$error":"#REF!"}},{"$f":"IF(入力シート!#REF!=\"\",\"\",入力シート!#REF!)","v":{"$error":"#REF!"}},{"$f":"IF(入力シート!#REF!=\"\",\"\",入力シート!#REF!)","v":{"$error":"#REF!"}},{"$f":"IF(入力シート!#REF!=\"\",\"\",入力シート!#REF!)","v":{"$error":"#REF!"}},{"$f":"IF(入力シート!#REF!=\"\",\"\",入力シート!#REF!)","v":{"$error":"#REF!"}},null,null,{"$f":"IF(入力シート!H375=\"\",\"\",\"〇\")","v":""},{"$f":"IF(入力シート!#REF!=\"\",\"\",入力シート!#REF!)","v":{"$error":"#REF!"}},{"$f":"IF(入力シート!#REF!=\"\",\"\",入力シート!#REF!)","v":{"$error":"#REF!"}},{"$f":"IF(入力シート!#REF!=\"\",\"\",入力シート!#REF!)","v":{"$error":"#REF!"}},{"$f":"IF(入力シート!#REF!=\"\",\"\",入力シート!#REF!)","v":{"$error":"#REF!"}}]
[{"$f":"IF(入力シート!#REF!=\"\",\"\",入力シート!#REF!)","v":{"$error":"#REF!"}},{"$f":"IF(入力シート!#REF!=\"\",\"\",入力シート!#REF!)","v":{"$error":"#REF!"}},{"$f":"IF(入力シート!#REF!=\"\",\"\",DBCS(入力シート!#REF!))","v":{"$error":"#REF!"}},{"$f":"IF(入力シート!#REF!=\"\",\"\",DBCS(入力シート!#REF!))","v":{"$error":"#REF!"}},{"$f":"ASC(IF(入力シート!#REF!=\"\",\"\",UPPER(入力シート!#REF!)))","v":{"$error":"#REF!"}},{"$f":"IF(入力シート!#REF!=\"\",\"\",PROPER(入力シート!#REF!))","v":{"$error":"#REF!"}},{"$f":"IF(入力シート!#REF!=\"\",\"\",入力シート!#REF!)","v":{"$error":"#REF!"}},{"$f":"IF(入力シート!#REF!=\"\",\"\",TEXT(入力シート!#REF!,\"yyyy/mm/dd\"))","v":{"$error":"#REF!"}},{"$f":"IF(入力シート!#REF!=\"\",\"\",入力シート!#REF!)","v":{"$error":"#REF!"}},{"$f":"IF(入力シート!#REF!=\"\",\"\",入力シート!#REF!)","v":{"$error":"#REF!"}},{"$f":"IF(入力シート!#REF!=\"\",\"\",入力シート!#REF!)","v":{"$error":"#REF!"}},{"$f":"IF(入力シート!#REF!=\"\",\"\",入力シート!#REF!)","v":{"$error":"#REF!"}},{"$f":"IF(入力シート!#REF!=\"\",\"\",入力シート!#REF!)","v":{"$error":"#REF!"}},{"$f":"IF(入力シート!#REF!=\"\",\"\",入力シート!#REF!)","v":{"$error":"#REF!"}},null,{"$f":"IF(入力シート!#REF!=\"\",\"\",入力シート!#REF!)","v":{"$error":"#REF!"}},{"$f":"IF(入力シート!#REF!=\"\",\"\",入力シート!#REF!)","v":{"$error":"#REF!"}},{"$f":"IF(入力シート!#REF!=\"\",\"\",入力シート!#REF!)","v":{"$error":"#REF!"}},{"$f":"IF(入力シート!#REF!=\"\",\"\",入力シート!#REF!)","v":{"$error":"#REF!"}},{"$f":"IF(入力シート!#REF!=\"\",\"\",入力シート!#REF!)","v":{"$error":"#REF!"}},{"$f":"IF(入力シート!#REF!=\"\",\"\",入力シート!#REF!)","v":{"$error":"#REF!"}},{"$f":"IF(入力シート!#REF!=\"\",\"\",入力シート!#REF!)","v":{"$error":"#REF!"}},{"$f":"IF(入力シート!#REF!=\"\",\"\",入力シート!#REF!)","v":{"$error":"#REF!"}},{"$f":"IF(入力シート!#REF!=\"\",\"\",入力シート!#REF!)","v":{"$error":"#REF!"}},{"$f":"IF(入力シート!#REF!=\"\",\"\",入力シート!#REF!)","v":{"$error":"#REF!"}},{"$f":"IF(入力シート!#REF!=\"\",\"\",入力シート!#REF!)","v":{"$error":"#REF!"}},null,null,{"$f":"IF(入力シート!H376=\"\",\"\",\"〇\")","v":""},{"$f":"IF(入力シート!#REF!=\"\",\"\",入力シート!#REF!)","v":{"$error":"#REF!"}},{"$f":"IF(入力シート!#REF!=\"\",\"\",入力シート!#REF!)","v":{"$error":"#REF!"}},{"$f":"IF(入力シート!#REF!=\"\",\"\",入力シート!#REF!)","v":{"$error":"#REF!"}},{"$f":"IF(入力シート!#REF!=\"\",\"\",入力シート!#REF!)","v":{"$error":"#REF!"}}]
[{"$f":"IF(入力シート!#REF!=\"\",\"\",入力シート!#REF!)","v":{"$error":"#REF!"}},{"$f":"IF(入力シート!#REF!=\"\",\"\",入力シート!#REF!)","v":{"$error":"#REF!"}},{"$f":"IF(入力シート!#REF!=\"\",\"\",DBCS(入力シート!#REF!))","v":{"$error":"#REF!"}},{"$f":"IF(入力シート!#REF!=\"\",\"\",DBCS(入力シート!#REF!))","v":{"$error":"#REF!"}},{"$f":"ASC(IF(入力シート!#REF!=\"\",\"\",UPPER(入力シート!#REF!)))","v":{"$error":"#REF!"}},{"$f":"IF(入力シート!#REF!=\"\",\"\",PROPER(入力シート!#REF!))","v":{"$error":"#REF!"}},{"$f":"IF(入力シート!#REF!=\"\",\"\",入力シート!#REF!)","v":{"$error":"#REF!"}},{"$f":"IF(入力シート!#REF!=\"\",\"\",TEXT(入力シート!#REF!,\"yyyy/mm/dd\"))","v":{"$error":"#REF!"}},{"$f":"IF(入力シート!#REF!=\"\",\"\",入力シート!#REF!)","v":{"$error":"#REF!"}},{"$f":"IF(入力シート!#REF!=\"\",\"\",入力シート!#REF!)","v":{"$error":"#REF!"}},{"$f":"IF(入力シート!#REF!=\"\",\"\",入力シート!#REF!)","v":{"$error":"#REF!"}},{"$f":"IF(入力シート!#REF!=\"\",\"\",入力シート!#REF!)","v":{"$error":"#REF!"}},{"$f":"IF(入力シート!#REF!=\"\",\"\",入力シート!#REF!)","v":{"$error":"#REF!"}},{"$f":"IF(入力シート!#REF!=\"\",\"\",入力シート!#REF!)","v":{"$error":"#REF!"}},null,{"$f":"IF(入力シート!#REF!=\"\",\"\",入力シート!#REF!)","v":{"$error":"#REF!"}},{"$f":"IF(入力シート!#REF!=\"\",\"\",入力シート!#REF!)","v":{"$error":"#REF!"}},{"$f":"IF(入力シート!#REF!=\"\",\"\",入力シート!#REF!)","v":{"$error":"#REF!"}},{"$f":"IF(入力シート!#REF!=\"\",\"\",入力シート!#REF!)","v":{"$error":"#REF!"}},{"$f":"IF(入力シート!#REF!=\"\",\"\",入力シート!#REF!)","v":{"$error":"#REF!"}},{"$f":"IF(入力シート!#REF!=\"\",\"\",入力シート!#REF!)","v":{"$error":"#REF!"}},{"$f":"IF(入力シート!#REF!=\"\",\"\",入力シート!#REF!)","v":{"$error":"#REF!"}},{"$f":"IF(入力シート!#REF!=\"\",\"\",入力シート!#REF!)","v":{"$error":"#REF!"}},{"$f":"IF(入力シート!#REF!=\"\",\"\",入力シート!#REF!)","v":{"$error":"#REF!"}},{"$f":"IF(入力シート!#REF!=\"\",\"\",入力シート!#REF!)","v":{"$error":"#REF!"}},{"$f":"IF(入力シート!#REF!=\"\",\"\",入力シート!#REF!)","v":{"$error":"#REF!"}},null,null,{"$f":"IF(入力シート!H377=\"\",\"\",\"〇\")","v":""},{"$f":"IF(入力シート!#REF!=\"\",\"\",入力シート!#REF!)","v":{"$error":"#REF!"}},{"$f":"IF(入力シート!#REF!=\"\",\"\",入力シート!#REF!)","v":{"$error":"#REF!"}},{"$f":"IF(入力シート!#REF!=\"\",\"\",入力シート!#REF!)","v":{"$error":"#REF!"}},{"$f":"IF(入力シート!#REF!=\"\",\"\",入力シート!#REF!)","v":{"$error":"#REF!"}}]
[{"$f":"IF(入力シート!#REF!=\"\",\"\",入力シート!#REF!)","v":{"$error":"#REF!"}},{"$f":"IF(入力シート!#REF!=\"\",\"\",入力シート!#REF!)","v":{"$error":"#REF!"}},{"$f":"IF(入力シート!#REF!=\"\",\"\",DBCS(入力シート!#REF!))","v":{"$error":"#REF!"}},{"$f":"IF(入力シート!#REF!=\"\",\"\",DBCS(入力シート!#REF!))","v":{"$error":"#REF!"}},{"$f":"ASC(IF(入力シート!#REF!=\"\",\"\",UPPER(入力シート!#REF!)))","v":{"$error":"#REF!"}},{"$f":"IF(入力シート!#REF!=\"\",\"\",PROPER(入力シート!#REF!))","v":{"$error":"#REF!"}},{"$f":"IF(入力シート!#REF!=\"\",\"\",入力シート!#REF!)","v":{"$error":"#REF!"}},{"$f":"IF(入力シート!#REF!=\"\",\"\",TEXT(入力シート!#REF!,\"yyyy/mm/dd\"))","v":{"$error":"#REF!"}},{"$f":"IF(入力シート!#REF!=\"\",\"\",入力シート!#REF!)","v":{"$error":"#REF!"}},{"$f":"IF(入力シート!#REF!=\"\",\"\",入力シート!#REF!)","v":{"$error":"#REF!"}},{"$f":"IF(入力シート!#REF!=\"\",\"\",入力シート!#REF!)","v":{"$error":"#REF!"}},{"$f":"IF(入力シート!#REF!=\"\",\"\",入力シート!#REF!)","v":{"$error":"#REF!"}},{"$f":"IF(入力シート!#REF!=\"\",\"\",入力シート!#REF!)","v":{"$error":"#REF!"}},{"$f":"IF(入力シート!#REF!=\"\",\"\",入力シート!#REF!)","v":{"$error":"#REF!"}},null,{"$f":"IF(入力シート!#REF!=\"\",\"\",入力シート!#REF!)","v":{"$error":"#REF!"}},{"$f":"IF(入力シート!#REF!=\"\",\"\",入力シート!#REF!)","v":{"$error":"#REF!"}},{"$f":"IF(入力シート!#REF!=\"\",\"\",入力シート!#REF!)","v":{"$error":"#REF!"}},{"$f":"IF(入力シート!#REF!=\"\",\"\",入力シート!#REF!)","v":{"$error":"#REF!"}},{"$f":"IF(入力シート!#REF!=\"\",\"\",入力シート!#REF!)","v":{"$error":"#REF!"}},{"$f":"IF(入力シート!#REF!=\"\",\"\",入力シート!#REF!)","v":{"$error":"#REF!"}},{"$f":"IF(入力シート!#REF!=\"\",\"\",入力シート!#REF!)","v":{"$error":"#REF!"}},{"$f":"IF(入力シート!#REF!=\"\",\"\",入力シート!#REF!)","v":{"$error":"#REF!"}},{"$f":"IF(入力シート!#REF!=\"\",\"\",入力シート!#REF!)","v":{"$error":"#REF!"}},{"$f":"IF(入力シート!#REF!=\"\",\"\",入力シート!#REF!)","v":{"$error":"#REF!"}},{"$f":"IF(入力シート!#REF!=\"\",\"\",入力シート!#REF!)","v":{"$error":"#REF!"}},null,null,{"$f":"IF(入力シート!H378=\"\",\"\",\"〇\")","v":""},{"$f":"IF(入力シート!#REF!=\"\",\"\",入力シート!#REF!)","v":{"$error":"#REF!"}},{"$f":"IF(入力シート!#REF!=\"\",\"\",入力シート!#REF!)","v":{"$error":"#REF!"}},{"$f":"IF(入力シート!#REF!=\"\",\"\",入力シート!#REF!)","v":{"$error":"#REF!"}},{"$f":"IF(入力シート!#REF!=\"\",\"\",入力シート!#REF!)","v":{"$error":"#REF!"}}]
[{"$f":"IF(入力シート!#REF!=\"\",\"\",入力シート!#REF!)","v":{"$error":"#REF!"}},{"$f":"IF(入力シート!#REF!=\"\",\"\",入力シート!#REF!)","v":{"$error":"#REF!"}},{"$f":"IF(入力シート!#REF!=\"\",\"\",DBCS(入力シート!#REF!))","v":{"$error":"#REF!"}},{"$f":"IF(入力シート!#REF!=\"\",\"\",DBCS(入力シート!#REF!))","v":{"$error":"#REF!"}},{"$f":"ASC(IF(入力シート!#REF!=\"\",\"\",UPPER(入力シート!#REF!)))","v":{"$error":"#REF!"}},{"$f":"IF(入力シート!#REF!=\"\",\"\",PROPER(入力シート!#REF!))","v":{"$error":"#REF!"}},{"$f":"IF(入力シート!#REF!=\"\",\"\",入力シート!#REF!)","v":{"$error":"#REF!"}},{"$f":"IF(入力シート!#REF!=\"\",\"\",TEXT(入力シート!#REF!,\"yyyy/mm/dd\"))","v":{"$error":"#REF!"}},{"$f":"IF(入力シート!#REF!=\"\",\"\",入力シート!#REF!)","v":{"$error":"#REF!"}},{"$f":"IF(入力シート!#REF!=\"\",\"\",入力シート!#REF!)","v":{"$error":"#REF!"}},{"$f":"IF(入力シート!#REF!=\"\",\"\",入力シート!#REF!)","v":{"$error":"#REF!"}},{"$f":"IF(入力シート!#REF!=\"\",\"\",入力シート!#REF!)","v":{"$error":"#REF!"}},{"$f":"IF(入力シート!#REF!=\"\",\"\",入力シート!#REF!)","v":{"$error":"#REF!"}},{"$f":"IF(入力シート!#REF!=\"\",\"\",入力シート!#REF!)","v":{"$error":"#REF!"}},null,{"$f":"IF(入力シート!#REF!=\"\",\"\",入力シート!#REF!)","v":{"$error":"#REF!"}},{"$f":"IF(入力シート!#REF!=\"\",\"\",入力シート!#REF!)","v":{"$error":"#REF!"}},{"$f":"IF(入力シート!#REF!=\"\",\"\",入力シート!#REF!)","v":{"$error":"#REF!"}},{"$f":"IF(入力シート!#REF!=\"\",\"\",入力シート!#REF!)","v":{"$error":"#REF!"}},{"$f":"IF(入力シート!#REF!=\"\",\"\",入力シート!#REF!)","v":{"$error":"#REF!"}},{"$f":"IF(入力シート!#REF!=\"\",\"\",入力シート!#REF!)","v":{"$error":"#REF!"}},{"$f":"IF(入力シート!#REF!=\"\",\"\",入力シート!#REF!)","v":{"$error":"#REF!"}},{"$f":"IF(入力シート!#REF!=\"\",\"\",入力シート!#REF!)","v":{"$error":"#REF!"}},{"$f":"IF(入力シート!#REF!=\"\",\"\",入力シート!#REF!)","v":{"$error":"#REF!"}},{"$f":"IF(入力シート!#REF!=\"\",\"\",入力シート!#REF!)","v":{"$error":"#REF!"}},{"$f":"IF(入力シート!#REF!=\"\",\"\",入力シート!#REF!)","v":{"$error":"#REF!"}},null,null,{"$f":"IF(入力シート!H379=\"\",\"\",\"〇\")","v":""},{"$f":"IF(入力シート!#REF!=\"\",\"\",入力シート!#REF!)","v":{"$error":"#REF!"}},{"$f":"IF(入力シート!#REF!=\"\",\"\",入力シート!#REF!)","v":{"$error":"#REF!"}},{"$f":"IF(入力シート!#REF!=\"\",\"\",入力シート!#REF!)","v":{"$error":"#REF!"}},{"$f":"IF(入力シート!#REF!=\"\",\"\",入力シート!#REF!)","v":{"$error":"#REF!"}}]
[{"$f":"IF(入力シート!#REF!=\"\",\"\",入力シート!#REF!)","v":{"$error":"#REF!"}},{"$f":"IF(入力シート!#REF!=\"\",\"\",入力シート!#REF!)","v":{"$error":"#REF!"}},{"$f":"IF(入力シート!#REF!=\"\",\"\",DBCS(入力シート!#REF!))","v":{"$error":"#REF!"}},{"$f":"IF(入力シート!#REF!=\"\",\"\",DBCS(入力シート!#REF!))","v":{"$error":"#REF!"}},{"$f":"ASC(IF(入力シート!#REF!=\"\",\"\",UPPER(入力シート!#REF!)))","v":{"$error":"#REF!"}},{"$f":"IF(入力シート!#REF!=\"\",\"\",PROPER(入力シート!#REF!))","v":{"$error":"#REF!"}},{"$f":"IF(入力シート!#REF!=\"\",\"\",入力シート!#REF!)","v":{"$error":"#REF!"}},{"$f":"IF(入力シート!#REF!=\"\",\"\",TEXT(入力シート!#REF!,\"yyyy/mm/dd\"))","v":{"$error":"#REF!"}},{"$f":"IF(入力シート!#REF!=\"\",\"\",入力シート!#REF!)","v":{"$error":"#REF!"}},{"$f":"IF(入力シート!#REF!=\"\",\"\",入力シート!#REF!)","v":{"$error":"#REF!"}},{"$f":"IF(入力シート!#REF!=\"\",\"\",入力シート!#REF!)","v":{"$error":"#REF!"}},{"$f":"IF(入力シート!#REF!=\"\",\"\",入力シート!#REF!)","v":{"$error":"#REF!"}},{"$f":"IF(入力シート!#REF!=\"\",\"\",入力シート!#REF!)","v":{"$error":"#REF!"}},{"$f":"IF(入力シート!#REF!=\"\",\"\",入力シート!#REF!)","v":{"$error":"#REF!"}},null,{"$f":"IF(入力シート!#REF!=\"\",\"\",入力シート!#REF!)","v":{"$error":"#REF!"}},{"$f":"IF(入力シート!#REF!=\"\",\"\",入力シート!#REF!)","v":{"$error":"#REF!"}},{"$f":"IF(入力シート!#REF!=\"\",\"\",入力シート!#REF!)","v":{"$error":"#REF!"}},{"$f":"IF(入力シート!#REF!=\"\",\"\",入力シート!#REF!)","v":{"$error":"#REF!"}},{"$f":"IF(入力シート!#REF!=\"\",\"\",入力シート!#REF!)","v":{"$error":"#REF!"}},{"$f":"IF(入力シート!#REF!=\"\",\"\",入力シート!#REF!)","v":{"$error":"#REF!"}},{"$f":"IF(入力シート!#REF!=\"\",\"\",入力シート!#REF!)","v":{"$error":"#REF!"}},{"$f":"IF(入力シート!#REF!=\"\",\"\",入力シート!#REF!)","v":{"$error":"#REF!"}},{"$f":"IF(入力シート!#REF!=\"\",\"\",入力シート!#REF!)","v":{"$error":"#REF!"}},{"$f":"IF(入力シート!#REF!=\"\",\"\",入力シート!#REF!)","v":{"$error":"#REF!"}},{"$f":"IF(入力シート!#REF!=\"\",\"\",入力シート!#REF!)","v":{"$error":"#REF!"}},null,null,{"$f":"IF(入力シート!H380=\"\",\"\",\"〇\")","v":""},{"$f":"IF(入力シート!#REF!=\"\",\"\",入力シート!#REF!)","v":{"$error":"#REF!"}},{"$f":"IF(入力シート!#REF!=\"\",\"\",入力シート!#REF!)","v":{"$error":"#REF!"}},{"$f":"IF(入力シート!#REF!=\"\",\"\",入力シート!#REF!)","v":{"$error":"#REF!"}},{"$f":"IF(入力シート!#REF!=\"\",\"\",入力シート!#REF!)","v":{"$error":"#REF!"}}]
[{"$f":"IF(入力シート!#REF!=\"\",\"\",入力シート!#REF!)","v":{"$error":"#REF!"}},{"$f":"IF(入力シート!#REF!=\"\",\"\",入力シート!#REF!)","v":{"$error":"#REF!"}},{"$f":"IF(入力シート!#REF!=\"\",\"\",DBCS(入力シート!#REF!))","v":{"$error":"#REF!"}},{"$f":"IF(入力シート!#REF!=\"\",\"\",DBCS(入力シート!#REF!))","v":{"$error":"#REF!"}},{"$f":"ASC(IF(入力シート!#REF!=\"\",\"\",UPPER(入力シート!#REF!)))","v":{"$error":"#REF!"}},{"$f":"IF(入力シート!#REF!=\"\",\"\",PROPER(入力シート!#REF!))","v":{"$error":"#REF!"}},{"$f":"IF(入力シート!#REF!=\"\",\"\",入力シート!#REF!)","v":{"$error":"#REF!"}},{"$f":"IF(入力シート!#REF!=\"\",\"\",TEXT(入力シート!#REF!,\"yyyy/mm/dd\"))","v":{"$error":"#REF!"}},{"$f":"IF(入力シート!#REF!=\"\",\"\",入力シート!#REF!)","v":{"$error":"#REF!"}},{"$f":"IF(入力シート!#REF!=\"\",\"\",入力シート!#REF!)","v":{"$error":"#REF!"}},{"$f":"IF(入力シート!#REF!=\"\",\"\",入力シート!#REF!)","v":{"$error":"#REF!"}},{"$f":"IF(入力シート!#REF!=\"\",\"\",入力シート!#REF!)","v":{"$error":"#REF!"}},{"$f":"IF(入力シート!#REF!=\"\",\"\",入力シート!#REF!)","v":{"$error":"#REF!"}},{"$f":"IF(入力シート!#REF!=\"\",\"\",入力シート!#REF!)","v":{"$error":"#REF!"}},null,{"$f":"IF(入力シート!#REF!=\"\",\"\",入力シート!#REF!)","v":{"$error":"#REF!"}},{"$f":"IF(入力シート!#REF!=\"\",\"\",入力シート!#REF!)","v":{"$error":"#REF!"}},{"$f":"IF(入力シート!#REF!=\"\",\"\",入力シート!#REF!)","v":{"$error":"#REF!"}},{"$f":"IF(入力シート!#REF!=\"\",\"\",入力シート!#REF!)","v":{"$error":"#REF!"}},{"$f":"IF(入力シート!#REF!=\"\",\"\",入力シート!#REF!)","v":{"$error":"#REF!"}},{"$f":"IF(入力シート!#REF!=\"\",\"\",入力シート!#REF!)","v":{"$error":"#REF!"}},{"$f":"IF(入力シート!#REF!=\"\",\"\",入力シート!#REF!)","v":{"$error":"#REF!"}},{"$f":"IF(入力シート!#REF!=\"\",\"\",入力シート!#REF!)","v":{"$error":"#REF!"}},{"$f":"IF(入力シート!#REF!=\"\",\"\",入力シート!#REF!)","v":{"$error":"#REF!"}},{"$f":"IF(入力シート!#REF!=\"\",\"\",入力シート!#REF!)","v":{"$error":"#REF!"}},{"$f":"IF(入力シート!#REF!=\"\",\"\",入力シート!#REF!)","v":{"$error":"#REF!"}},null,null,{"$f":"IF(入力シート!H381=\"\",\"\",\"〇\")","v":""},{"$f":"IF(入力シート!#REF!=\"\",\"\",入力シート!#REF!)","v":{"$error":"#REF!"}},{"$f":"IF(入力シート!#REF!=\"\",\"\",入力シート!#REF!)","v":{"$error":"#REF!"}},{"$f":"IF(入力シート!#REF!=\"\",\"\",入力シート!#REF!)","v":{"$error":"#REF!"}},{"$f":"IF(入力シート!#REF!=\"\",\"\",入力シート!#REF!)","v":{"$error":"#REF!"}}]
[{"$f":"IF(入力シート!#REF!=\"\",\"\",入力シート!#REF!)","v":{"$error":"#REF!"}},{"$f":"IF(入力シート!#REF!=\"\",\"\",入力シート!#REF!)","v":{"$error":"#REF!"}},{"$f":"IF(入力シート!#REF!=\"\",\"\",DBCS(入力シート!#REF!))","v":{"$error":"#REF!"}},{"$f":"IF(入力シート!#REF!=\"\",\"\",DBCS(入力シート!#REF!))","v":{"$error":"#REF!"}},{"$f":"ASC(IF(入力シート!#REF!=\"\",\"\",UPPER(入力シート!#REF!)))","v":{"$error":"#REF!"}},{"$f":"IF(入力シート!#REF!=\"\",\"\",PROPER(入力シート!#REF!))","v":{"$error":"#REF!"}},{"$f":"IF(入力シート!#REF!=\"\",\"\",入力シート!#REF!)","v":{"$error":"#REF!"}},{"$f":"IF(入力シート!#REF!=\"\",\"\",TEXT(入力シート!#REF!,\"yyyy/mm/dd\"))","v":{"$error":"#REF!"}},{"$f":"IF(入力シート!#REF!=\"\",\"\",入力シート!#REF!)","v":{"$error":"#REF!"}},{"$f":"IF(入力シート!#REF!=\"\",\"\",入力シート!#REF!)","v":{"$error":"#REF!"}},{"$f":"IF(入力シート!#REF!=\"\",\"\",入力シート!#REF!)","v":{"$error":"#REF!"}},{"$f":"IF(入力シート!#REF!=\"\",\"\",入力シート!#REF!)","v":{"$error":"#REF!"}},{"$f":"IF(入力シート!#REF!=\"\",\"\",入力シート!#REF!)","v":{"$error":"#REF!"}},{"$f":"IF(入力シート!#REF!=\"\",\"\",入力シート!#REF!)","v":{"$error":"#REF!"}},null,{"$f":"IF(入力シート!#REF!=\"\",\"\",入力シート!#REF!)","v":{"$error":"#REF!"}},{"$f":"IF(入力シート!#REF!=\"\",\"\",入力シート!#REF!)","v":{"$error":"#REF!"}},{"$f":"IF(入力シート!#REF!=\"\",\"\",入力シート!#REF!)","v":{"$error":"#REF!"}},{"$f":"IF(入力シート!#REF!=\"\",\"\",入力シート!#REF!)","v":{"$error":"#REF!"}},{"$f":"IF(入力シート!#REF!=\"\",\"\",入力シート!#REF!)","v":{"$error":"#REF!"}},{"$f":"IF(入力シート!#REF!=\"\",\"\",入力シート!#REF!)","v":{"$error":"#REF!"}},{"$f":"IF(入力シート!#REF!=\"\",\"\",入力シート!#REF!)","v":{"$error":"#REF!"}},{"$f":"IF(入力シート!#REF!=\"\",\"\",入力シート!#REF!)","v":{"$error":"#REF!"}},{"$f":"IF(入力シート!#REF!=\"\",\"\",入力シート!#REF!)","v":{"$error":"#REF!"}},{"$f":"IF(入力シート!#REF!=\"\",\"\",入力シート!#REF!)","v":{"$error":"#REF!"}},{"$f":"IF(入力シート!#REF!=\"\",\"\",入力シート!#REF!)","v":{"$error":"#REF!"}},null,null,{"$f":"IF(入力シート!H382=\"\",\"\",\"〇\")","v":""},{"$f":"IF(入力シート!#REF!=\"\",\"\",入力シート!#REF!)","v":{"$error":"#REF!"}},{"$f":"IF(入力シート!#REF!=\"\",\"\",入力シート!#REF!)","v":{"$error":"#REF!"}},{"$f":"IF(入力シート!#REF!=\"\",\"\",入力シート!#REF!)","v":{"$error":"#REF!"}},{"$f":"IF(入力シート!#REF!=\"\",\"\",入力シート!#REF!)","v":{"$error":"#REF!"}}]
[{"$f":"IF(入力シート!#REF!=\"\",\"\",入力シート!#REF!)","v":{"$error":"#REF!"}},{"$f":"IF(入力シート!#REF!=\"\",\"\",入力シート!#REF!)","v":{"$error":"#REF!"}},{"$f":"IF(入力シート!#REF!=\"\",\"\",DBCS(入力シート!#REF!))","v":{"$error":"#REF!"}},{"$f":"IF(入力シート!#REF!=\"\",\"\",DBCS(入力シート!#REF!))","v":{"$error":"#REF!"}},{"$f":"ASC(IF(入力シート!#REF!=\"\",\"\",UPPER(入力シート!#REF!)))","v":{"$error":"#REF!"}},{"$f":"IF(入力シート!#REF!=\"\",\"\",PROPER(入力シート!#REF!))","v":{"$error":"#REF!"}},{"$f":"IF(入力シート!#REF!=\"\",\"\",入力シート!#REF!)","v":{"$error":"#REF!"}},{"$f":"IF(入力シート!#REF!=\"\",\"\",TEXT(入力シート!#REF!,\"yyyy/mm/dd\"))","v":{"$error":"#REF!"}},{"$f":"IF(入力シート!#REF!=\"\",\"\",入力シート!#REF!)","v":{"$error":"#REF!"}},{"$f":"IF(入力シート!#REF!=\"\",\"\",入力シート!#REF!)","v":{"$error":"#REF!"}},{"$f":"IF(入力シート!#REF!=\"\",\"\",入力シート!#REF!)","v":{"$error":"#REF!"}},{"$f":"IF(入力シート!#REF!=\"\",\"\",入力シート!#REF!)","v":{"$error":"#REF!"}},{"$f":"IF(入力シート!#REF!=\"\",\"\",入力シート!#REF!)","v":{"$error":"#REF!"}},{"$f":"IF(入力シート!#REF!=\"\",\"\",入力シート!#REF!)","v":{"$error":"#REF!"}},null,{"$f":"IF(入力シート!#REF!=\"\",\"\",入力シート!#REF!)","v":{"$error":"#REF!"}},{"$f":"IF(入力シート!#REF!=\"\",\"\",入力シート!#REF!)","v":{"$error":"#REF!"}},{"$f":"IF(入力シート!#REF!=\"\",\"\",入力シート!#REF!)","v":{"$error":"#REF!"}},{"$f":"IF(入力シート!#REF!=\"\",\"\",入力シート!#REF!)","v":{"$error":"#REF!"}},{"$f":"IF(入力シート!#REF!=\"\",\"\",入力シート!#REF!)","v":{"$error":"#REF!"}},{"$f":"IF(入力シート!#REF!=\"\",\"\",入力シート!#REF!)","v":{"$error":"#REF!"}},{"$f":"IF(入力シート!#REF!=\"\",\"\",入力シート!#REF!)","v":{"$error":"#REF!"}},{"$f":"IF(入力シート!#REF!=\"\",\"\",入力シート!#REF!)","v":{"$error":"#REF!"}},{"$f":"IF(入力シート!#REF!=\"\",\"\",入力シート!#REF!)","v":{"$error":"#REF!"}},{"$f":"IF(入力シート!#REF!=\"\",\"\",入力シート!#REF!)","v":{"$error":"#REF!"}},{"$f":"IF(入力シート!#REF!=\"\",\"\",入力シート!#REF!)","v":{"$error":"#REF!"}},null,null,{"$f":"IF(入力シート!H383=\"\",\"\",\"〇\")","v":""},{"$f":"IF(入力シート!#REF!=\"\",\"\",入力シート!#REF!)","v":{"$error":"#REF!"}},{"$f":"IF(入力シート!#REF!=\"\",\"\",入力シート!#REF!)","v":{"$error":"#REF!"}},{"$f":"IF(入力シート!#REF!=\"\",\"\",入力シート!#REF!)","v":{"$error":"#REF!"}},{"$f":"IF(入力シート!#REF!=\"\",\"\",入力シート!#REF!)","v":{"$error":"#REF!"}}]
[{"$f":"IF(入力シート!#REF!=\"\",\"\",入力シート!#REF!)","v":{"$error":"#REF!"}},{"$f":"IF(入力シート!#REF!=\"\",\"\",入力シート!#REF!)","v":{"$error":"#REF!"}},{"$f":"IF(入力シート!#REF!=\"\",\"\",DBCS(入力シート!#REF!))","v":{"$error":"#REF!"}},{"$f":"IF(入力シート!#REF!=\"\",\"\",DBCS(入力シート!#REF!))","v":{"$error":"#REF!"}},{"$f":"ASC(IF(入力シート!#REF!=\"\",\"\",UPPER(入力シート!#REF!)))","v":{"$error":"#REF!"}},{"$f":"IF(入力シート!#REF!=\"\",\"\",PROPER(入力シート!#REF!))","v":{"$error":"#REF!"}},{"$f":"IF(入力シート!#REF!=\"\",\"\",入力シート!#REF!)","v":{"$error":"#REF!"}},{"$f":"IF(入力シート!#REF!=\"\",\"\",TEXT(入力シート!#REF!,\"yyyy/mm/dd\"))","v":{"$error":"#REF!"}},{"$f":"IF(入力シート!#REF!=\"\",\"\",入力シート!#REF!)","v":{"$error":"#REF!"}},{"$f":"IF(入力シート!#REF!=\"\",\"\",入力シート!#REF!)","v":{"$error":"#REF!"}},{"$f":"IF(入力シート!#REF!=\"\",\"\",入力シート!#REF!)","v":{"$error":"#REF!"}},{"$f":"IF(入力シート!#REF!=\"\",\"\",入力シート!#REF!)","v":{"$error":"#REF!"}},{"$f":"IF(入力シート!#REF!=\"\",\"\",入力シート!#REF!)","v":{"$error":"#REF!"}},{"$f":"IF(入力シート!#REF!=\"\",\"\",入力シート!#REF!)","v":{"$error":"#REF!"}},null,{"$f":"IF(入力シート!#REF!=\"\",\"\",入力シート!#REF!)","v":{"$error":"#REF!"}},{"$f":"IF(入力シート!#REF!=\"\",\"\",入力シート!#REF!)","v":{"$error":"#REF!"}},{"$f":"IF(入力シート!#REF!=\"\",\"\",入力シート!#REF!)","v":{"$error":"#REF!"}},{"$f":"IF(入力シート!#REF!=\"\",\"\",入力シート!#REF!)","v":{"$error":"#REF!"}},{"$f":"IF(入力シート!#REF!=\"\",\"\",入力シート!#REF!)","v":{"$error":"#REF!"}},{"$f":"IF(入力シート!#REF!=\"\",\"\",入力シート!#REF!)","v":{"$error":"#REF!"}},{"$f":"IF(入力シート!#REF!=\"\",\"\",入力シート!#REF!)","v":{"$error":"#REF!"}},{"$f":"IF(入力シート!#REF!=\"\",\"\",入力シート!#REF!)","v":{"$error":"#REF!"}},{"$f":"IF(入力シート!#REF!=\"\",\"\",入力シート!#REF!)","v":{"$error":"#REF!"}},{"$f":"IF(入力シート!#REF!=\"\",\"\",入力シート!#REF!)","v":{"$error":"#REF!"}},{"$f":"IF(入力シート!#REF!=\"\",\"\",入力シート!#REF!)","v":{"$error":"#REF!"}},null,null,{"$f":"IF(入力シート!H384=\"\",\"\",\"〇\")","v":""},{"$f":"IF(入力シート!#REF!=\"\",\"\",入力シート!#REF!)","v":{"$error":"#REF!"}},{"$f":"IF(入力シート!#REF!=\"\",\"\",入力シート!#REF!)","v":{"$error":"#REF!"}},{"$f":"IF(入力シート!#REF!=\"\",\"\",入力シート!#REF!)","v":{"$error":"#REF!"}},{"$f":"IF(入力シート!#REF!=\"\",\"\",入力シート!#REF!)","v":{"$error":"#REF!"}}]

{"sheet":"リスト","index":3,"n_rows":218,"n_cols":4,"rows_kept":218,"cut":false,"hidden":true,"merged":[]}
["T/F11(視覚障がい)","北海道","日本","主顧問"]
["T/F12(視覚障がい)","青森県","アイスランド","副顧問"]
["T/F13(視覚障がい)","岩手県","アイルランド","部長（大学）"]
["T/F14(視覚障がい)","宮城県","アゼルバイジャン","監督（大学）"]
["クラス分けないが視覚障がい","秋田県","アフガニスタン","主将（大学）"]
["T/F20(知的障がい)","山形県","アメリカ","主務 （大学）"]
["クラス分けないが知的障がい","福島県","アラブ首長国連邦","マネージャー（大学）"]
["T/F35(脳原性まひ・立位)","茨城県","アルジェリア","トレーナー（大学）"]
["T/F36(脳原性まひ・立位)","栃木県","アルゼンチン"]
["T/F37(脳原性まひ・立位)","群馬県","アルバ"]
["T/F38(脳原性まひ・立位)","埼玉県","アルバニア"]
["クラス分けないが脳原性まひ・立位","千葉県","アルメニア"]
["T/F40(低身長)","東京都","アンギラ"]
["T/F41(低身長)","神奈川県","アンゴラ"]
["T/F42(下肢機能障がい)","新潟県","アンティグア・バーブーダ"]
["T/F43(下肢機能障がい)","富山県","アンドラ"]
["T/F44(下肢機能障がい)","石川県","イエメン"]
["クラス分けないが下肢機能障がい","福井県","イスラエル"]
["T61(義足使用・立位)","山梨県","イタリア"]
["T62(義足使用・立位)","長野県","イラク"]
["T63(義足使用・立位)","岐阜県","イラン"]
["T64(義足使用・立位)","静岡県","インド"]
["クラス分けないが義足使用","愛知県","インドネシア"]
["T45(上肢機能障がい)","三重県","ウガンダ"]
["F45(上肢機能障がい)","滋賀県","ウクライナ"]
["T46(上肢機能障がい)","京都府","ウズベキスタン"]
["F46(上肢機能障がい)","大阪府","ウルグアイ"]
["T47(上肢機能障がい)","兵庫県","英領バージン諸島"]
["F47(上肢機能障がい)","奈良県","エクアドル"]
["T48(上肢機能障がい)","和歌山県","エジプト"]
["F48(上肢機能障がい)","鳥取県","エストニア"]
["T49(上肢機能障がい)","島根県","エチオピア"]
["F49(上肢機能障がい)","岡山県","エリトリア"]
["クラス分けないが上肢機能障がい","広島県","エルサルバドル"]
["車いす使用","山口県","オーストラリア"]
[null,"徳島県","オーストリア"]
[null,"香川県","オマーン"]
[null,"愛媛県","オランダ"]
[null,"高知県","ガーナ"]
[null,"福岡県","カボベルデ"]
[null,"佐賀県","ガイアナ"]
[null,"長崎県","カザフスタン"]
[null,"熊本県","カタール"]
[null,"大分県","カナダ"]
[null,"宮崎県","ガボン"]
[null,"鹿児島県","カメルーン"]
[null,"沖縄県","ガンビア"]
[null,null,"カンボジア"]
[null,null,"朝鮮民主主義人民共和国"]
[null,null,"北マリアナ諸島"]
[null,null,"ギニア"]
[null,null,"ギニアビサウ"]
[null,null,"キプロス"]
[null,null,"キューバ"]
[null,null,"ギリシャ"]
[null,null,"キリバス"]
[null,null,"キルギスタン"]
[null,null,"グアテマラ"]
[null,null,"グアム"]
[null,null,"クウェート"]
[null,null,"クック諸島"]
[null,null,"ジョージア"]
[null,null,"イギリス"]
[null,null,"グレナダ"]
[null,null,"クロアチア"]
[null,null,"ケイマン諸島"]
[null,null,"ニュージーランド"]
[null,null,"ネパール"]
[null,null,"ケニア"]
[null,null,"コートジボアール"]
[null,null,"コスタリカ"]
[null,null,"コモロ"]
[null,null,"コロンビア"]
[null,null,"コンゴ"]
[null,null,"コンゴ民主共和国"]
[null,null,"サウジアラビア"]
[null,null,"サモア"]
[null,null,"サントメプリンシペ"]
[null,null,"ザンビア"]
[null,null,"サンマリノ"]
[null,null,"シエラレオネ"]
[null,null,"ジブチ"]
[null,null,"ジブラルタル"]
[null,null,"ジャマイカ"]
[null,null,"シリア"]
[null,null,"シンガポール"]
[null,null,"ジンバブエ"]
[null,null,"スイス"]
[null,null,"スウェーデン"]
[null,null,"スーダン"]
[null,null,"スペイン"]
[null,null,"スリナム"]
[null,null,"スリランカ"]
[null,null,"スロバキア"]
[null,null,"スロベニア"]
[null,null,"スワジランド"]
[null,null,"パレスチナ"]
[null,null,"セーシェル"]
[null,null,"赤道ギニア"]
[null,null,"セネガル"]
[null,null,"セルビア"]
[null,null,"セントクリストファーネビス"]
[null,null,"セントビンセント"]
[null,null,"セントルシア"]
[null,null,"ソマリア"]
[null,null,"ソロモン諸島"]
[null,null,"タークス・カイコス諸島"]
[null,null,"タイ"]
[null,null,"韓国"]
[null,null,"チャイニーズ　タイペイ"]
[null,null,"タジキスタン"]
[null,null,"タンザニア"]
[null,null,"チェコ"]
[null,null,"チャド"]
[null,null,"中央アフリカ"]
[null,null,"中国"]
[null,null,"チュニジア"]
[null,null,"チリ"]
[null,null,"ツバル"]
[null,null,"デンマーク"]
[null,null,"ドイツ"]
[null,null,"トーゴ"]
[null,null,"ドミニカ共和国"]
[null,null,"ドミニカ"]
[null,null,"トリニダード・トバゴ"]
[null,null,"トルクメニスタン"]
[null,null,"トルコ"]
[null,null,"トンガ"]
[null,null,"ナイジェリア"]
[null,null,"ナウル"]
[null,null,"ナミビア"]
[null,null,"ニウエ"]
[null,null,"ニカラグア"]
[null,null,"ニジェール"]
[null,null,"ヨルダン"]
[null,null,"ラオス"]
[null,null,"ノーフォーク島"]
[null,null,"ノルウエー"]
[null,null,"バーレーン"]
[null,null,"ハイチ"]
[null,null,"パキスタン"]
[null,null,"バチカン市国"]
[null,null,"パナマ"]
[null,null,"バヌアツ"]
[null,null,"バハマ"]
[null,null,"パプアニューギニア"]
[null,null,"バミューダ"]
[null,null,"パラオ"]
[null,null,"パラグアイ"]
[null,null,"バルバドス"]
[null,null,"ハンガリー"]
[null,null,"バングラデシュ"]
[null,null,"東ティモール"]
[null,null,"フィジー"]
[null,null,"フィリピン"]
[null,null,"フィンランド"]
[null,null,"ブータン"]
[null,null,"プエルトリコ"]
[null,null,"ブラジル"]
[null,null,"フランス"]
[null,null,"仏領ポリネシア"]
[null,null,"ブルガリア"]
[null,null,"ブルキナファソ"]
[null,null,"ブルネイ"]
[null,null,"ブルンジ"]
[null,null,"米領サモア"]
[null,null,"米領バージン諸島"]
[null,null,"ベトナム"]
[null,null,"ベニン"]
[null,null,"ベネズエラ"]
[null,null,"ベラルーシ"]
[null,null,"ベリーズ"]
[null,null,"ペルー"]
[null,null,"ベルギー"]
[null,null,"ポーランド"]
[null,null,"ボスニア・ヘルツェゴビナ"]
[null,null,"ボツワナ"]
[null,null,"ボリビア"]
[null,null,"ポルトガル"]
[null,null,"中国・香港"]
[null,null,"ホンジュラス"]
[null,null,"マーシャル諸島"]
[null,null,"マカオ"]
[null,null,"マケドニア"]
[null,null,"マダガスカル"]
[null,null,"マラウイ"]
[null,null,"マリ"]
[null,null,"マルタ"]
[null,null,"マレーシア"]
[null,null,"ミクロネシア連邦"]
[null,null,"南アフリカ"]
[null,null,"南スーダン"]
[null,null,"ミャンマー"]
[null,null,"メキシコ"]
[null,null,"モーリシャス"]
[null,null,"モーリタニア"]
[null,null,"モザンビーク"]
[null,null,"モナコ"]
[null,null,"モルディブ"]
[null,null,"モルドバ"]
[null,null,"モロッコ"]
[null,null,"モンゴル"]
[null,null,"モンテネグロ"]
[null,null,"モントセラト"]
[null,null,"ラトビア"]
[null,null,"リトアニア"]
[null,null,"リビア"]
[null,null,"リヒテンシュタイン"]
[null,null,"リベリア"]
[null,null,"ルーマニア"]
[null,null,"ルクセンブルグ"]
[null,null,"ルワンダ"]
[null,null,"レソト"]
[null,null,"レバノン"]
[null,null,"ロシア"]
[null,null,"コソボ"]
[null,null,"日本含む二重国籍　"]
[null,null,"日本含まない二重国籍"]

{"sheet":"(おまけ)アップロードCSV書式説明","index":4,"n_rows":53,"n_cols":7,"rows_kept":53,"cut":false,"hidden":true,"merged":[]}
["新規一括追加用アップロードCSVファイルの入力項目について"]
[]
[]
[null,"項目名","必須項目","入力条件"]
["1列目","氏名（姓）","○"]
["2列目","氏名（名）","○"]
["3列目","フリガナ（姓）","○","全角カナ"]
["4列目","フリガナ（名）","○","全角カナ"]
["5列目","英字（姓）"]
["6列目","英字（名）"]
["7列目","性別","○","男は”MALE”、女は”FEMALE”",null,"画面上の表記","入力書式"]
["8列目","生年月日","○","書式はyyyy/mm/dd（2007/09/20）",null,"小学1","E5_PRIMARY_SCHOOL_1"]
["9列目","郵便番号",null,null,null,"小学2","E5_PRIMARY_SCHOOL_2"]
["10列目","都道府県",null,null,null,"小学3","E5_PRIMARY_SCHOOL_3"]
["11列目","市区町村",null,null,null,"小学4","E5_PRIMARY_SCHOOL_4"]
["12列目","番地・建物名",null,null,null,"小学5","E5_PRIMARY_SCHOOL_5"]
["13列目","携帯電話番号",null,null,null,"小学6","E5_PRIMARY_SCHOOL_6"]
["14列目","国籍","◯","日本は”JPN\"",null,"中学1","E5_JUNIOR_HIGH_SCHOOL_1"]
["15列目","学年",null,"＊ここは使用していない",null,"中学2","E5_JUNIOR_HIGH_SCHOOL_2"]
["16列目","卒業高校名",null,null,null,"中学3","E5_JUNIOR_HIGH_SCHOOL_3"]
["17列目","卒業中学名",null,null,null,"高校1","E5_HIGH_SCHOOL_1"]
["18列目","E-mail配信希望",null,null,null,"高校2","E5_HIGH_SCHOOL_2"]
["19列目","勤務先名",null,null,null,"高校3","E5_HIGH_SCHOOL_3"]
["20列目","勤務先郵便番号",null,null,null,"定通制1","E5_PART_TIME_CORRESPONDENCE_1"]
["21列目","勤務先都道府県",null,null,null,"定通制2","E5_PART_TIME_CORRESPONDENCE_2"]
["22列目","勤務先市区町村 / 番地 / 建物名",null,null,null,"定通制3","E5_PART_TIME_CORRESPONDENCE_3"]
["23列目","在籍学校名",null,null,null,"定通制4","E5_PART_TIME_CORRESPONDENCE_4"]
["24列目","在籍学校都道府県",null,null,null,"通信制単位制","E5_CORRESPONDENCE_CREDIT"]
["25列目","障がいのクラス",null,null,null,"大学1","E5_COLLEGE_1"]
["26列目","会員基本情報備考",null,null,null,"大学2","E5_COLLEGE_2"]
["27列目","実施している種目",null,null,null,"大学3","E5_COLLEGE_3"]
["28列目","興味がある種目",null,null,null,"大学4","E5_COLLEGE_4"]
["29列目","属性","○","競技者は\"PLAYER\"",null,"大学5","E5_COLLEGE_5"]
["30列目","学年",null,"学年はここを使用します。表記は右の表の通り","→","大学6","E5_COLLEGE_6"]
["31列目","登録番号",null,null,null,"大学M1","E5_MASTER_1"]
["32列目","指導者チェック",null,null,null,"大学M2","E5_MASTER_2"]
["33列目","役職名",null,null,null,"大学M3","E5_MASTER_3"]
[null,null,null,null,null,"大学M4","E5_MASTER_4"]
[null,null,null,null,null,"大学D1","E5_DOCTOR_1"]
[null,null,null,null,null,"大学D2","E5_DOCTOR_2"]
[null,null,null,null,null,"大学D3","E5_DOCTOR_3"]
[null,null,null,null,null,"大学D4","E5_DOCTOR_4"]
[null,null,null,null,null,"大学D5","E5_DOCTOR_5"]
[null,null,null,null,null,"大学D6","E5_DOCTOR_6"]
[null,null,null,null,null,"高専1","E5_SPECIAL_SCHOOL_1"]
[null,null,null,null,null,"高専2","E5_SPECIAL_SCHOOL_2"]
[null,null,null,null,null,"高専3","E5_SPECIAL_SCHOOL_3"]
[null,null,null,null,null,"高専4","E5_SPECIAL_SCHOOL_4"]
[null,null,null,null,null,"高専5","E5_SPECIAL_SCHOOL_5"]
[null,null,null,null,null,"高専S1","E5_SPECIAL_SCHOOL_S1"]
[null,null,null,null,null,"高専S2","E5_SPECIAL_SCHOOL_S2"]
[null,null,null,null,null,"高専S3","E5_SPECIAL_SCHOOL_S3"]
[null,null,null,null,null,"高専S4","E5_SPECIAL_SCHOOL_S4"]

{"sheet":"列挙値","index":5,"n_rows":219,"n_cols":6,"rows_kept":219,"cut":false,"hidden":true,"merged":[]}
[]
["日本","JPN",null,null,"小学1","E5_PRIMARY_SCHOOL_1"]
["アイスランド","ISL",null,null,"小学2","E5_PRIMARY_SCHOOL_2"]
["アイルランド","IRL",null,null,"小学3","E5_PRIMARY_SCHOOL_3"]
["アゼルバイジャン","AZE",null,null,"小学4","E5_PRIMARY_SCHOOL_4"]
["アフガニスタン","AFG",null,null,"小学5","E5_PRIMARY_SCHOOL_5"]
["アメリカ","USA",null,null,"小学6","E5_PRIMARY_SCHOOL_6"]
["アラブ首長国連邦","UAE",null,null,"中学1","E5_JUNIOR_HIGH_SCHOOL_1"]
["アルジェリア","ALG",null,null,"中学2","E5_JUNIOR_HIGH_SCHOOL_2"]
["アルゼンチン","ARG",null,null,"中学3","E5_JUNIOR_HIGH_SCHOOL_3"]
["アルバ","ARU",null,null,"高校1","E5_HIGH_SCHOOL_1"]
["アルバニア","ALB",null,null,"高校2","E5_HIGH_SCHOOL_2"]
["アルメニア","ARM",null,null,"高校3","E5_HIGH_SCHOOL_3"]
["アンギラ","AIA",null,null,"定通制1","E5_PART_TIME_CORRESPONDENCE_1"]
["アンゴラ","ANG",null,null,"定通制2","E5_PART_TIME_CORRESPONDENCE_2"]
["アンティグア・バーブーダ","ANT",null,null,"定通制3","E5_PART_TIME_CORRESPONDENCE_3"]
["アンドラ","AND",null,null,"定通制4","E5_PART_TIME_CORRESPONDENCE_4"]
["イエメン","YEM",null,null,"通信制単位制","E5_CORRESPONDENCE_CREDIT"]
["イスラエル","ISR",null,null,"大学1","E5_COLLEGE_1"]
["イタリア","ITA",null,null,"大学2","E5_COLLEGE_2"]
["イラク","IRQ",null,null,"大学3","E5_COLLEGE_3"]
["イラン","IRI",null,null,"大学4","E5_COLLEGE_4"]
["インド","IND",null,null,"大学5","E5_COLLEGE_5"]
["インドネシア","INA",null,null,"大学6","E5_COLLEGE_6"]
["ウガンダ","UGA",null,null,"大学M1","E5_MASTER_1"]
["ウクライナ","UKR",null,null,"大学M2","E5_MASTER_2"]
["ウズベキスタン","UZB",null,null,"大学M3","E5_MASTER_3"]
["ウルグアイ","URU",null,null,"大学M4","E5_MASTER_4"]
["英領バージン諸島","IVB",null,null,"大学D1","E5_DOCTOR_1"]
["エクアドル","ECU",null,null,"大学D2","E5_DOCTOR_2"]
["エジプト","EGY",null,null,"大学D3","E5_DOCTOR_3"]
["エストニア","EST",null,null,"大学D4","E5_DOCTOR_4"]
["エチオピア","ETH",null,null,"大学D5","E5_DOCTOR_5"]
["エリトリア","ERI",null,null,"大学D6","E5_DOCTOR_6"]
["エルサルバドル","ESA",null,null,"高専1","E5_SPECIAL_SCHOOL_1"]
["オーストラリア","AUS",null,null,"高専2","E5_SPECIAL_SCHOOL_2"]
["オーストリア","AUT",null,null,"高専3","E5_SPECIAL_SCHOOL_3"]
["オマーン","OMA",null,null,"高専4","E5_SPECIAL_SCHOOL_4"]
["オランダ","NED",null,null,"高専5","E5_SPECIAL_SCHOOL_5"]
["ガーナ","GHA",null,null,"高専S1","E5_SPECIAL_SCHOOL_S1"]
["カボベルデ","CPV",null,null,"高専S2","E5_SPECIAL_SCHOOL_S2"]
["ガイアナ","GUY",null,null,"高専S3","E5_SPECIAL_SCHOOL_S3"]
["カザフスタン","KAZ",null,null,"高専S4","E5_SPECIAL_SCHOOL_S4"]
["カタール","QAT"]
["カナダ","CAN"]
["ガボン","GAB"]
["カメルーン","CMR"]
["ガンビア","GAM"]
["カンボジア","CAM"]
["朝鮮民主主義人民共和国","PRK"]
["北マリアナ諸島","NMI"]
["ギニア","GUI"]
["ギニアビサウ","GBS"]
["キプロス","CYP"]
["キューバ","CUB"]
["ギリシャ","GRE"]
["キリバス","KIR"]
["キルギスタン","KGZ"]
["グアテマラ","GUA"]
["グアム","GUM"]
["クウェート","KUW"]
["クック諸島","COK"]
["ジョージア","GEO"]
["イギリス","GBR"]
["グレナダ","GRN"]
["クロアチア","CRO"]
["ケイマン諸島","CAY"]
["ニュージーランド","NZL"]
["ネパール","NEP"]
["ケニア","KEN"]
["コートジボアール","CIV"]
["コスタリカ","CRC"]
["コモロ","COM"]
["コロンビア","COL"]
["コンゴ","CGO"]
["コンゴ民主共和国","COD"]
["サウジアラビア","KSA"]
["サモア","SAM"]
["サントメプリンシペ","STP"]
["ザンビア","ZAM"]
["サンマリノ","SMR"]
["シエラレオネ","SLE"]
["ジブチ","DJI"]
["ジブラルタル","GIB"]
["ジャマイカ","JAM"]
["シリア","SYR"]
["シンガポール","SGP"]
["ジンバブエ","ZIM"]
["スイス","SUI"]
["スウェーデン","SWE"]
["スーダン","SUD"]
["スペイン","ESP"]
["スリナム","SUR"]
["スリランカ","SRI"]
["スロバキア","SVK"]
["スロベニア","SLO"]
["スワジランド","SWZ"]
["パレスチナ","PLE"]
["セーシェル","SEY"]
["赤道ギニア","GEQ"]
["セネガル","SEN"]
["セルビア","SRB"]
["セントクリストファーネビス","SKN"]
["セントビンセント","VIN"]
["セントルシア","LCA"]
["ソマリア","SOM"]
["ソロモン諸島","SOL"]
["タークス・カイコス諸島","TKS"]
["タイ","THA"]
["韓国","KOR"]
["チャイニーズ　タイペイ","TPE"]
["タジキスタン","TJK"]
["タンザニア","TAN"]
["チェコ","CZE"]
["チャド","CHA"]
["中央アフリカ","CAF"]
["中国","CHN"]
["チュニジア","TUN"]
["チリ","CHI"]
["ツバル","TUV"]
["デンマーク","DEN"]
["ドイツ","GER"]
["トーゴ","TOG"]
["ドミニカ共和国","DOM"]
["ドミニカ","DMA"]
["トリニダード・トバゴ","TTO"]
["トルクメニスタン","TKM"]
["トルコ","TUR"]
["トンガ","TGA"]
["ナイジェリア","NGR"]
["ナウル","NRU"]
["ナミビア","NAM"]
["ニウエ","NIU"]
["ニカラグア","NCA"]
["ニジェール","NIG"]
["ヨルダン","JOR"]
["ラオス","LAO"]
["ノーフォーク島","NFI"]
["ノルウエー","NOR"]
["バーレーン","BRN"]
["ハイチ","HAI"]
["パキスタン","PAK"]
["バチカン市国","VAT"]
["パナマ","PAN"]
["バヌアツ","VAN"]
["バハマ","BAH"]
["パプアニューギニア","PNG"]
["バミューダ","BER"]
["パラオ","PLW"]
["パラグアイ","PAR"]
["バルバドス","BAR"]
["ハンガリー","HUN"]
["バングラデシュ","BAN"]
["東ティモール","TLS"]
["フィジー","FIJ"]
["フィリピン","PHI"]
["フィンランド","FIN"]
["ブータン","BHU"]
["プエルトリコ","PUR"]
["ブラジル","BRA"]
["フランス","FRA"]
["仏領ポリネシア","PYF"]
["ブルガリア","BUL"]
["ブルキナファソ","BUR"]
["ブルネイ","BRU"]
["ブルンジ","BDI"]
["米領サモア","ASA"]
["米領バージン諸島","ISV"]
["ベトナム","VIE"]
["ベニン","BEN"]
["ベネズエラ","VEN"]
["ベラルーシ","BLR"]
["ベリーズ","BIZ"]
["ペルー","PER"]
["ベルギー","BEL"]
["ポーランド","POL"]
["ボスニア・ヘルツェゴビナ","BIH"]
["ボツワナ","BOT"]
["ボリビア","BOL"]
["ポルトガル","POR"]
["中国・香港","HKG"]
["ホンジュラス","HON"]
["マーシャル諸島","MHL"]
["マカオ","MAC"]
["マケドニア","MKD"]
["マダガスカル","MAD"]
["マラウイ","MAW"]
["マリ","MLI"]
["マルタ","MLT"]
["マレーシア","MAS"]
["ミクロネシア連邦","FSM"]
["南アフリカ","RSA"]
["南スーダン","SSD"]
["ミャンマー","MYA"]
["メキシコ","MEX"]
["モーリシャス","MRI"]
["モーリタニア","MTN"]
["モザンビーク","MOZ"]
["モナコ","MON"]
["モルディブ","MDV"]
["モルドバ","MDA"]
["モロッコ","MAR"]
["モンゴル","MGL"]
["モンテネグロ","MNE"]
["モントセラト","MNT"]
["ラトビア","LAT"]
["リトアニア","LTU"]
["リビア","LBA"]
["リヒテンシュタイン","LIE"]
["リベリア","LBR"]
["ルーマニア","ROU"]
["ルクセンブルグ","LUX"]
["ルワンダ","RWA"]
["レソト","LES"]
["レバノン","LBN"]
["ロシア","RUS"]
["コソボ","KOS"]
["日本含む二重国籍　","DUAL1"]
["日本含まない二重国籍"," DUAL2"]