Workbook

Sheet 見本
B2: 第７７回 滋賀県中学校駅伝競走大会 参加申込用紙 【女子】
B4: ブ ロ ッ ク 名 | I4: 第 | K4: 1 | N4: ブロック | R4: 予選順位 | AC4: 1 | AF4: 位
B5: ブロック予選タイム | I5: 43 | W5: 分 | Y5: 12 | AB5: 秒 | AN5: ここは記録処理に使用します。さわらないでください。
B6: フリガナ | I6: シガ | S6: チュウガッコウ | V6: 駅伝アスリートビブス | AD6: 1
B7: チーム名 (学校名) | I7: 滋賀 | S7: 中学校 | AT7: 女 子 12Km(7・8ブロック11.9Km)
B8: 監 督 名 | I8: ひこにゃん | V8: 監督連絡先 (携帯) | Z8: 090-XXXX-XXXX | AT8: ﾌﾞﾛｯｸ | AU8: 予選順位 | AV8: 県大会№ | AW8: 学校名 | AX8: 記 録
B9: 役 員 名 | I9: ひこにゃん、チャッフィー | AO9: =AD7 -> 0 | AT9: =$K$4 -> 1 | AU9: =$AC$4 -> 1 | AV9: =$AD$7 -> 0 | AW9: =$I$7 -> 滋賀 | AX9: =$I$5 -> 43 | AY9: ’ | AZ9: =$Y$5 -> 12 | BA9: ”
B10: 競 技 者 名 | N10: フリガナ(カタカナ) | Z10: 学 年 | AC10: ( 記 入 不 要 ) | AO10: =I7 -> 滋賀 | AR10: =I6 -> シガ
B11: 姓 | H11: 名 | N11: セイ | T11: メイ | AO11: 選手名 | AP11: フリガナ | AQ11: 学年 | AR11: 区間
B12: 滋賀 | H12: 華子 | N12: シガ | T12: ハナコ | Z12: 3 | AO12: =B12&" "&H12 -> 滋賀 華子 | AP12: =BA12 -> シガ ハナコ | AQ12: =Z12 -> 3 | AT12: =$AD$7 -> 0 | AU12: =$I$7 -> 滋賀 | AV12: =B12 -> 滋賀 | AW12: =H12 -> 華子 | AX12: =N12 -> シガ | AY12: =T12 -> ハナコ | AZ12: =Z12 -> 3 | BA12: =N12&" "&T12 -> シガ ハナコ
B13: 滋賀 | H13: 花 | N13: シガ | T13: ハナ | Z13: 2 | AO13: =B13&" "&H13 -> 滋賀 花 | AP13: =BA13 -> シガ ハナ | AQ13: =Z13 -> 2 | AT13: =$AD$7 -> 0 | AU13: =$I$7 -> 滋賀 | AV13: =B13 -> 滋賀 | AW13: =H13 -> 花 | AX13: =N13 -> シガ | AY13: =T13 -> ハナ | AZ13: =Z13 -> 2 | BA13: =N13&" "&T13 -> シガ ハナ
B14: わるにゃんこ | H14: 将軍 | N14: ワルニャンコ | T14: ショウグン | Z14: 1 | AO14: =B14&" "&H14 -> わるにゃんこ 将軍 | AP14: =BA14 -> ワルニャンコ ショウグン | AQ14: =Z14 -> 1 | AT14: =$AD$7 -> 0 | AU14: =$I$7 -> 滋賀 | AV14: =B14 -> わるにゃんこ | AW14: =H14 -> 将軍 | AX14: =N14 -> ワルニャンコ | AY14: =T14 -> ショウグン | AZ14: =Z14 -> 1 | BA14: =N14&" "&T14 -> ワルニャンコ ショウグン
B15: 今津 | H15: 結 | N15: イマヅ | T15: ユイ | Z15: 2 | AO15: =B15&" "&H15 -> 今津 結 | AP15: =BA15 -> イマヅ ユイ | AQ15: =Z15 -> 2 | AT15: =$AD$7 -> 0 | AU15: =$I$7 -> 滋賀 | AV15: =B15 -> 今津 | AW15: =H15 -> 結 | AX15: =N15 -> イマヅ | AY15: =T15 -> ユイ | AZ15: =Z15 -> 2 | BA15: =N15&" "&T15 -> イマヅ ユイ
B16: 粟津 | H16: 京子 | N16: アワヅ | T16: キョウコ | Z16: 1 | AO16: =B16&" "&H16 -> 粟津 京子 | AP16: =BA16 -> アワヅ キョウコ | AQ16: =Z16 -> 1 | AT16: =$AD$7 -> 0 | AU16: =$I$7 -> 滋賀 | AV16: =B16 -> 粟津 | AW16: =H16 -> 京子 | AX16: =N16 -> アワヅ | AY16: =T16 -> キョウコ | AZ16: =Z16 -> 1 | BA16: =N16&" "&T16 -> アワヅ キョウコ
B17: 湖北 | H17: 美桜 | N17: コホク | T17: ミオ | Z17: 3 | AO17: =B17&" "&H17 -> 湖北 美桜 | AP17: =BA17 -> コホク ミオ | AQ17: =Z17 -> 3 | AT17: =$AD$7 -> 0 | AU17: =$I$7 -> 滋賀 | AV17: =B17 -> 湖北 | AW17: =H17 -> 美桜 | AX17: =N17 -> コホク | AY17: =T17 -> ミオ | AZ17: =Z17 -> 3 | BA17: =N17&" "&T17 -> コホク ミオ
B18: 水口 | H18: 春奈 | N18: ミナクチ | T18: ハルナ | Z18: 3 | AO18: =B18&" "&H18 -> 水口 春奈 | AP18: =BA18 -> ミナクチ ハルナ | AQ18: =Z18 -> 3 | AT18: =$AD$7 -> 0 | AU18: =$I$7 -> 滋賀 | AV18: =B18 -> 水口 | AW18: =H18 -> 春奈 | AX18: =N18 -> ミナクチ | AY18: =T18 -> ハルナ | AZ18: =Z18 -> 3 | BA18: =N18&" "&T18 -> ミナクチ ハルナ
B19: 長浜北 | H19: 景子 | N19: ナガハマキタ | T19: ケイコ | Z19: 2 | AO19: =B19&" "&H19 -> 長浜北 景子 | AP19: =BA19 -> ナガハマキタ ケイコ | AQ19: =Z19 -> 2 | AT19: =$AD$7 -> 0 | AU19: =$I$7 -> 滋賀 | AV19: =B19 -> 長浜北 | AW19: =H19 -> 景子 | AX19: =N19 -> ナガハマキタ | AY19: =T19 -> ケイコ | AZ19: =Z19 -> 2 | BA19: =N19&" "&T19 -> ナガハマキタ ケイコ
B22: 上記の者は参加資格に該当する生徒であり、出場を認めます。
F23: 令和 | H23: 8 | J23: 年 | K23: 11 | M23: 月 | P23: 日
G24: =I7 -> 滋賀 | R24: 中学校長 | V24: キャッフィー | AI24: 印 | AO24: ここは記録処理に使用します。さわらないでください。
B28: ＊この申込用紙は、１１月９日(月)１７：００必着 ２部(１部はコピーで)
C29: 〒524-0016 | I29: 滋賀県守山市荒見町２３５ 守山市立守山北中学校内
I30: 滋賀県中体連陸上競技専門部 委員長 川那辺 享一 宛
C31: また、１１月６日(金)中にメールを touroku@shigatf.com 町釋(能登川中) まで送信して下さい。 ﾌｧｲﾙ名は｢性別｣｢駅伝ｱｽﾘｰﾄﾋﾞﾌﾞｽ(半角)ﾞ｣｢学校名｣でお願いします。(例 男18水口)

Sheet 女子「参加申込用紙」
B2: 第７７回 滋賀県中学校駅伝競走大会 参加申込用紙 【女子】
B4: ブ ロ ッ ク 名 | I4: 第 | N4: ブロック | R4: 予選順位 | AF4: 位
B5: ブロック予選タイム | W5: 分 | AB5: 秒 | AN5: ここは記録処理に使用します。さわらないでください。
B6: フリガナ | S6: チュウガッコウ | V6: 駅伝アスリートビブス
B7: チーム名 (学校名) | S7: 中学校 | AT7: 女 子 12Km(7・8ブロック11.9Km)
B8: 監 督 名 | V8: 監督連絡先 (携帯) | AT8: ﾌﾞﾛｯｸ | AU8: 予選順位 | AV8: 県大会№ | AW8: 学校名 | AX8: 記 録
B9: 役 員 名 | AO9: =AD6 -> 0 | AT9: =$K$4 -> 0 | AU9: =$AC$4 -> 0 | AV9: =$AD$7 -> 0 | AW9: =$I$7 -> 0 | AX9: =$I$5 -> 0 | AY9: ’ | AZ9: =$Y$5 -> 0 | BA9: ”
B10: 競 技 者 名 | N10: フリガナ(カタカナ) | Z10: 学 年 | AC10: ( 記 入 不 要 ) | AO10: =I7 -> 0 | AR10: =I6 -> 0
B11: 姓 | H11: 名 | N11: セイ | T11: メイ | AO11: 選手名 | AP11: フリガナ | AQ11: 学年 | AR11: 区間
AO12: =B12&" "&H12 | AP12: =BA12 | AQ12: =Z12 -> 0 | AT12: =$AD$7 -> 0 | AU12: =$I$7 -> 0 | AV12: =B12 -> 0 | AW12: =H12 -> 0 | AX12: =N12 -> 0 | AY12: =T12 -> 0 | AZ12: =Z12 -> 0 | BA12: =N12&" "&T12
AO13: =B13&" "&H13 | AP13: =BA13 | AQ13: =Z13 -> 0 | AT13: =$AD$7 -> 0 | AU13: =$I$7 -> 0 | AV13: =B13 -> 0 | AW13: =H13 -> 0 | AX13: =N13 -> 0 | AY13: =T13 -> 0 | AZ13: =Z13 -> 0 | BA13: =N13&" "&T13
AO14: =B14&" "&H14 | AP14: =BA14 | AQ14: =Z14 -> 0 | AT14: =$AD$7 -> 0 | AU14: =$I$7 -> 0 | AV14: =B14 -> 0 | AW14: =H14 -> 0 | AX14: =N14 -> 0 | AY14: =T14 -> 0 | AZ14: =Z14 -> 0 | BA14: =N14&" "&T14
AO15: =B15&" "&H15 | AP15: =BA15 | AQ15: =Z15 -> 0 | AT15: =$AD$7 -> 0 | AU15: =$I$7 -> 0 | AV15: =B15 -> 0 | AW15: =H15 -> 0 | AX15: =N15 -> 0 | AY15: =T15 -> 0 | AZ15: =Z15 -> 0 | BA15: =N15&" "&T15
AO16: =B16&" "&H16 | AP16: =BA16 | AQ16: =Z16 -> 0 | AT16: =$AD$7 -> 0 | AU16: =$I$7 -> 0 | AV16: =B16 -> 0 | AW16: =H16 -> 0 | AX16: =N16 -> 0 | AY16: =T16 -> 0 | AZ16: =Z16 -> 0 | BA16: =N16&" "&T16
AO17: =B17&" "&H17 | AP17: =BA17 | AQ17: =Z17 -> 0 | AT17: =$AD$7 -> 0 | AU17: =$I$7 -> 0 | AV17: =B17 -> 0 | AW17: =H17 -> 0 | AX17: =N17 -> 0 | AY17: =T17 -> 0 | AZ17: =Z17 -> 0 | BA17: =N17&" "&T17
AO18: =B18&" "&H18 | AP18: =BA18 | AQ18: =Z18 -> 0 | AT18: =$AD$7 -> 0 | AU18: =$I$7 -> 0 | AV18: =B18 -> 0 | AW18: =H18 -> 0 | AX18: =N18 -> 0 | AY18: =T18 -> 0 | AZ18: =Z18 -> 0 | BA18: =N18&" "&T18
AO19: =B19&" "&H19 | AP19: =BA19 | AQ19: =Z19 -> 0 | AT19: =$AD$7 -> 0 | AU19: =$I$7 -> 0 | AV19: =B19 -> 0 | AW19: =H19 -> 0 | AX19: =N19 -> 0 | AY19: =T19 -> 0 | AZ19: =Z19 -> 0 | BA19: =N19&" "&T19
B22: 上記の者は参加資格に該当する生徒であり、出場を認めます。
F23: 令和 | H23: 8 | J23: 年 | K23: 11 | M23: 月 | P23: 日
G24: =I7 -> 0 | R24: 中学校長 | AI24: 印 | AO24: ここは記録処理に使用します。さわらないでください。
B28: ＊この申込用紙は、１１月９日(月)１７：００必着 ２部(１部はコピーで)
C29: 〒524-0016 | I29: 滋賀県守山市荒見町２３５ 守山市立守山北中学校内
I30: 滋賀県中体連陸上競技専門部 委員長 川那辺 享一 宛
C31: また、１１月６日(金)中にメールを touroku@shigatf.com 町釋(能登川中) まで送信して下さい。 ﾌｧｲﾙ名は｢性別｣｢駅伝ｱｽﾘｰﾄﾋﾞﾌﾞｽ(半角)ﾞ｣｢学校名｣でお願いします。(例 男18水口)

Sheet syozoku
A1: 所属コード | B1: 所属地コード | C1: 所属名 | D1: 所属名カナ | E1: 所属名略称 | F1: 所属名正式名称 | G1: 所属名英字
A2: =team!B2 -> 200 | B2: 25 | C2: =女子「参加申込用紙」!I7 -> 0 | D2: =女子「参加申込用紙」!I6 -> 0 | E2: =C2 -> 0 | F2: =E2 -> 0

Sheet kyogisha
A1: 競技者NO | B1: 所属コード1 | C1: 所属コード2 | D1: ナンバー | E1: ナンバー2 | F1: 競技者名 | G1: 競技者名カナ | H1: 競技者名略称 | I1: 競技者名英字 | J1: 国籍 | K1: 性別 | L1: 学年 | M1: 生年 | N1: 月日 | O1: 個人所属地名 | P1: 陸連コード | Q1: 参加競技-競技コード1 | R1: 参加競技-自己記録1 | S1: 参加競技-オープン参加FLG1 | T1: 参加競技-記録FLG1 | U1: 参加競技-PB記録1 | V1: 参加競技-記録FLG_PB1 | W1: 参加競技-SB記録1 | X1: 参加競技-記録FLG_SB1 | Y1: 参加競技-競技コード2 | Z1: 参加競技-自己記録2 | AA1: 参加競技-オープン参加FLG2 | AB1: 参加競技-記録FLG2 | AC1: 参加競技-PB記録2 | AD1: 参加競技-記録FLG_PB2 | AE1: 参加競技-SB記録2 | AF1: 参加競技-記録FLG_SB2 | AG1: 参加競技-競技コード3 | AH1: 参加競技-自己記録3 | AI1: 参加競技-オープン参加FLG3 | AJ1: 参加競技-記録FLG3 | AK1: 参加競技-PB記録3 | AL1: 参加競技-記録FLG_PB3 | AM1: 参加競技-SB記録3 | AN1: 参加競技-記録FLG_SB3 | AO1: 参加競技-競技コード4 | AP1: 参加競技-自己記録4 | AQ1: 参加競技-オープン参加FLG4 | AR1: 参加競技-記録FLG4 | AS1: 参加競技-PB記録4 | AT1: 参加競技-記録FLG_PB4 | AU1: 参加競技-SB記録4 | AV1: 参加競技-記録FLG_SB4 | AW1: 参加競技-競技コード5 | AX1: 参加競技-自己記録5 | AY1: 参加競技-オープン参加FLG5 | AZ1: 参加競技-記録FLG5 | BA1: 参加競技-PB記録5 | BB1: 参加競技-記録FLG_PB5 | BC1: 参加競技-SB記録5 | BD1: 参加競技-記録FLG_SB5
A2: 1 | B2: =200+女子「参加申込用紙」!$AD$7 -> 200 | E2: =女子「参加申込用紙」!AD7*100+A2 -> 1 | F2: =IF(女子「参加申込用紙」!B12="","",女子「参加申込用紙」!B12&" "&女子「参加申込用紙」!H12) | G2: =IF(女子「参加申込用紙」!N12="","",女子「参加申込用紙」!N12&" "&女子「参加申込用紙」!T12) | H2: =F2 | J2: =IF(F2="","","JPN") | K2: =IF(F2="","",2) | L2: =IF(女子「参加申込用紙」!Z12="","",女子「参加申込用紙」!Z12) | O2: =IF(F2="","","滋 賀") | Q2: =K2
A3: 2 | B3: =200+女子「参加申込用紙」!$AD$7 -> 200 | E3: =女子「参加申込用紙」!AD7*100+A3 -> 2 | F3: =IF(女子「参加申込用紙」!B13="","",女子「参加申込用紙」!B13&" "&女子「参加申込用紙」!H13) | G3: =IF(女子「参加申込用紙」!N13="","",女子「参加申込用紙」!N13&" "&女子「参加申込用紙」!T13) | H3: =F3 | J3: =IF(F3="","","JPN") | K3: =IF(F3="","",2) | L3: =IF(女子「参加申込用紙」!Z13="","",女子「参加申込用紙」!Z13) | O3: =IF(F3="","","滋 賀") | Q3: =K3
A4: 3 | B4: =200+女子「参加申込用紙」!$AD$7 -> 200 | E4: =女子「参加申込用紙」!AD7*100+A4 -> 3 | F4: =IF(女子「参加申込用紙」!B14="","",女子「参加申込用紙」!B14&" "&女子「参加申込用紙」!H14) | G4: =IF(女子「参加申込用紙」!N14="","",女子「参加申込用紙」!N14&" "&女子「参加申込用紙」!T14) | H4: =F4 | J4: =IF(F4="","","JPN") | K4: =IF(F4="","",2) | L4: =IF(女子「参加申込用紙」!Z14="","",女子「参加申込用紙」!Z14) | O4: =IF(F4="","","滋 賀") | Q4: =K4
A5: 4 | B5: =200+女子「参加申込用紙」!$AD$7 -> 200 | E5: =女子「参加申込用紙」!AD7*100+A5 -> 4 | F5: =IF(女子「参加申込用紙」!B15="","",女子「参加申込用紙」!B15&" "&女子「参加申込用紙」!H15) | G5: =IF(女子「参加申込用紙」!N15="","",女子「参加申込用紙」!N15&" "&女子「参加申込用紙」!T15) | H5: =F5 | J5: =IF(F5="","","JPN") | K5: =IF(F5="","",2) | L5: =IF(女子「参加申込用紙」!Z15="","",女子「参加申込用紙」!Z15) | O5: =IF(F5="","","滋 賀") | Q5: =K5
A6: 5 | B6: =200+女子「参加申込用紙」!$AD$7 -> 200 | E6: =女子「参加申込用紙」!AD7*100+A6 -> 5 | F6: =IF(女子「参加申込用紙」!B16="","",女子「参加申込用紙」!B16&" "&女子「参加申込用紙」!H16) | G6: =IF(女子「参加申込用紙」!N16="","",女子「参加申込用紙」!N16&" "&女子「参加申込用紙」!T16) | H6: =F6 | J6: =IF(F6="","","JPN") | K6: =IF(F6="","",2) | L6: =IF(女子「参加申込用紙」!Z16="","",女子「参加申込用紙」!Z16) | O6: =IF(F6="","","滋 賀") | Q6: =K6
A7: =IF(F7="","",A6+1) | B7: =IF(F7="","",200+女子「参加申込用紙」!$AD$7) | E7: =IF(F7="","",女子「参加申込用紙」!AD7*100+A7) | F7: =IF(女子「参加申込用紙」!B17="","",女子「参加申込用紙」!B17&" "&女子「参加申込用紙」!H17) | G7: =IF(女子「参加申込用紙」!N17="","",女子「参加申込用紙」!N17&" "&女子「参加申込用紙」!T17) | H7: =F7 | J7: =IF(F7="","","JPN") | K7: =IF(F7="","",2) | L7: =IF(女子「参加申込用紙」!Z17="","",女子「参加申込用紙」!Z17) | O7: =IF(F7="","","滋 賀") | Q7: =K7
A8: =IF(F8="","",A7+1) | B8: =IF(F8="","",200+女子「参加申込用紙」!$AD$7) | E8: =IF(F8="","",女子「参加申込用紙」!AD7*100+A8) | F8: =IF(女子「参加申込用紙」!B18="","",女子「参加申込用紙」!B18&" "&女子「参加申込用紙」!H18) | G8: =IF(女子「参加申込用紙」!N18="","",女子「参加申込用紙」!N18&" "&女子「参加申込用紙」!T18) | H8: =F8 | J8: =IF(F8="","","JPN") | K8: =IF(F8="","",2) | L8: =IF(女子「参加申込用紙」!Z18="","",女子「参加申込用紙」!Z18) | O8: =IF(F8="","","滋 賀") | Q8: =K8
A9: =IF(F9="","",A8+1) | B9: =IF(F9="","",200+女子「参加申込用紙」!$AD$7) | E9: =IF(F9="","",女子「参加申込用紙」!AD7*100+A9) | F9: =IF(女子「参加申込用紙」!B19="","",女子「参加申込用紙」!B19&" "&女子「参加申込用紙」!H19) | G9: =IF(女子「参加申込用紙」!N19="","",女子「参加申込用紙」!N19&" "&女子「参加申込用紙」!T19) | H9: =F9 | J9: =IF(F9="","","JPN") | K9: =IF(F9="","",2) | L9: =IF(女子「参加申込用紙」!Z19="","",女子「参加申込用紙」!Z19) | O9: =IF(F9="","","滋 賀") | Q9: =K9

Sheet team
A1: チームNO | B1: 所属コード | C1: チーム名 | D1: チーム名カナ | E1: チーム名略称 | F1: チーム正式名称 | G1: チーム名英字 | H1: 国籍 | I1: ID | J1: 競技者NO | K1: 競技者名 | L1: 参加競技-競技コード | M1: 参加競技-自己記録 | N1: 参加競技-オープン参加FLG | O1: 参加競技-記録FLG | P1: 参加競技-PB記録 | Q1: 参加競技-記録FLG_PB | R1: 参加競技-SB記録 | S1: 参加競技-記録FLG_SB
A2: =女子「参加申込用紙」!$AD$7 -> 0 | B2: =200+女子「参加申込用紙」!$AD$7 -> 200 | C2: =女子「参加申込用紙」!$I$7 -> 0 | D2: =女子「参加申込用紙」!I6 -> 0 | E2: =C2 -> 0 | F2: =C2 -> 0 | H2: =IF(C2=0,"","JPN") | I2: 1 | J2: =kyogisha!A2 -> 1 | K2: =IF(女子「参加申込用紙」!B12="","",女子「参加申込用紙」!B12&" "&女子「参加申込用紙」!H12) | L2: =kyogisha!Q2
A3: =女子「参加申込用紙」!$AD$7 -> 0 | B3: =200+女子「参加申込用紙」!$AD$7 -> 200 | C3: =女子「参加申込用紙」!$I$7 -> 0 | D3: =女子「参加申込用紙」!I7 -> 0 | E3: =C3 -> 0 | F3: =C3 -> 0 | H3: =IF(C3=0,"","JPN") | I3: 2 | J3: =kyogisha!A3 -> 2 | K3: =IF(女子「参加申込用紙」!B13="","",女子「参加申込用紙」!B13&" "&女子「参加申込用紙」!H13) | L3: =kyogisha!Q3
A4: =女子「参加申込用紙」!$AD$7 -> 0 | B4: =200+女子「参加申込用紙」!$AD$7 -> 200 | C4: =女子「参加申込用紙」!$I$7 -> 0 | D4: =女子「参加申込用紙」!I8 -> 0 | E4: =C4 -> 0 | F4: =C4 -> 0 | H4: =IF(C4=0,"","JPN") | I4: 3 | J4: =kyogisha!A4 -> 3 | K4: =IF(女子「参加申込用紙」!B14="","",女子「参加申込用紙」!B14&" "&女子「参加申込用紙」!H14) | L4: =kyogisha!Q4
A5: =女子「参加申込用紙」!$AD$7 -> 0 | B5: =200+女子「参加申込用紙」!$AD$7 -> 200 | C5: =女子「参加申込用紙」!$I$7 -> 0 | D5: =女子「参加申込用紙」!I9 -> 0 | E5: =C5 -> 0 | F5: =C5 -> 0 | H5: =IF(C5=0,"","JPN") | I5: 4 | J5: =kyogisha!A5 -> 4 | K5: =IF(女子「参加申込用紙」!B15="","",女子「参加申込用紙」!B15&" "&女子「参加申込用紙」!H15) | L5: =kyogisha!Q5
A6: =女子「参加申込用紙」!$AD$7 -> 0 | B6: =200+女子「参加申込用紙」!$AD$7 -> 200 | C6: =女子「参加申込用紙」!$I$7 -> 0 | D6: =女子「参加申込用紙」!I10 -> 0 | E6: =C6 -> 0 | F6: =C6 -> 0 | H6: =IF(C6=0,"","JPN") | I6: 5 | J6: =kyogisha!A6 -> 5 | K6: =IF(女子「参加申込用紙」!B16="","",女子「参加申込用紙」!B16&" "&女子「参加申込用紙」!H16) | L6: =kyogisha!Q6
A7: =IF(J7="","",女子「参加申込用紙」!$AD$7) | B7: =IF(J7="","",200+女子「参加申込用紙」!$AD$7) | C7: =IF(J7="","",女子「参加申込用紙」!$I$7) | D7: =IF(K7="","",女子「参加申込用紙」!$I$6) | E7: =C7 | F7: =C7 | H7: =IF(C7="","","JPN") | I7: =IF(J7="","",I6+1) | J7: =kyogisha!A7 | K7: =IF(女子「参加申込用紙」!B17="","",女子「参加申込用紙」!B17&" "&女子「参加申込用紙」!H17) | L7: =kyogisha!Q7
A8: =IF(J8="","",女子「参加申込用紙」!$AD$7) | B8: =IF(J8="","",200+女子「参加申込用紙」!$AD$7) | C8: =IF(J8="","",女子「参加申込用紙」!$I$7) | D8: =IF(K8="","",女子「参加申込用紙」!$I$6) | E8: =C8 | F8: =C8 | H8: =IF(C8="","","JPN") | I8: =IF(J8="","",I7+1) | J8: =kyogisha!A8 | K8: =IF(女子「参加申込用紙」!B18="","",女子「参加申込用紙」!B18&" "&女子「参加申込用紙」!H18) | L8: =kyogisha!Q8
A9: =IF(J9="","",女子「参加申込用紙」!$AD$7) | B9: =IF(J9="","",200+女子「参加申込用紙」!$AD$7) | C9: =IF(J9="","",女子「参加申込用紙」!$I$7) | D9: =IF(K9="","",女子「参加申込用紙」!$I$6) | E9: =C9 | F9: =C9 | H9: =IF(C9="","","JPN") | I9: =IF(J9="","",I8+1) | J9: =kyogisha!A9 | K9: =IF(女子「参加申込用紙」!B19="","",女子「参加申込用紙」!B19&" "&女子「参加申込用紙」!H19) | L9: =kyogisha!Q9

Sheet Sheet3
C5: また、１１月１０日(金)中にメールを touroku@shigatf.com 杉本(甲西中) まで送信して下さい。 （ﾌｧｲﾙ名は｢性別｣｢駅伝ﾅﾝﾊﾞｰｶｰﾄﾞ｣｢ﾁｰﾑ名｣でお願いします。)
C7: また、１１月１０日(金)中にメールを touroku@shigatf.com 杉本(甲西中) まで送信して下さい。 （ﾌｧｲﾙ名は｢性別｣｢駅伝ﾅﾝﾊﾞｰｶｰﾄﾞ｣｢学校名｣でお願いします。)
