{"text_format":"1","workbook":"xlsx","n_sheets":5,"sheets":["最初にお読みください！","入力シート","出力シート","(おまけ)アップロードCSV書式説明","列挙値"],"not_rendered":{"charts":0,"images":7,"macros":1,"external_links":0,"defined_names":1,"comments":0,"pivot_tables":0},"unopened":[],"bounds":{"document_bytes":16777216,"sheet_cells":100000,"rows_first":2000,"rows_last":500,"rows_between":2000,"halvings":0,"cell_chars":16384,"cell_head_chars":4096},"cells_cut":0,"cells_raw":0,"read":"whole","date_system":"1900"}

{"sheet":"最初にお読みください！","index":0,"n_rows":25,"n_cols":10,"rows_kept":25,"cut":false,"hidden":false,"merged":[[24,9,27,11]]}
[]
[]
[]
[]
[]
[]
[]
[]
[]
[]
["入力シート"]
[]
[]
[]
[]
[]
["出力シート"]
[]
[]
[]
[]
[]
[]
[]
[null,null,null,null,null,null,null,null,"　","こんなエクセルが\nデスクトップにできたら完了"]

{"sheet":"入力シート","index":1,"n_rows":203,"n_cols":12,"rows_kept":203,"cut":false,"hidden":false,"merged":[]}
[null,"氏名（姓）","氏名（名）","フリガナ（姓）","フリガナ（名）","英字（姓）","英字（名）","性別","生年月日","国籍","学年","県登録番号"]
[null,"必須","必須","必須","必須",null,null,"必須","必須"]
["サンプル","陸連","太郎","リクレン","タロウ","RIKUREN","Taro","男","2008-09-20","日本","中学2",333]
[1]
[2]
[3]
[4]
[5]
[6]
[7]
[8]
[9]
[10]
[11]
[12]
[13]
[14]
[15]
[16]
[17]
[18]
[19]
[20]
[21]
[22]
[23]
[24]
[25]
[26]
[27]
[28]
[29]
[30]
[31]
[32]
[33]
[34]
[35]
[36]
[37]
[38]
[39]
[40]
[41]
[42]
[43]
[44]
[45]
[46]
[47]
[48]
[49]
[50]
[51]
[52]
[53]
[54]
[55]
[56]
[57]
[58]
[59]
[60]
[61]
[62]
[63]
[64]
[65]
[66]
[67]
[68]
[69]
[70]
[71]
[72]
[73]
[74]
[75]
[76]
[77]
[78]
[79]
[80]
[81]
[82]
[83]
[84]
[85]
[86]
[87]
[88]
[89]
[90]
[91]
[92]
[93]
[94]
[95]
[96]
[97]
[98]
[99]
[100]
[101]
[102]
[103]
[104]
[105]
[106]
[107]
[108]
[109]
[110]
[111]
[112]
[113]
[114]
[115]
[116]
[117]
[118]
[119]
[120]
[121]
[122]
[123]
[124]
[125]
[126]
[127]
[128]
[129]
[130]
[131]
[132]
[133]
[134]
[135]
[136]
[137]
[138]
[139]
[140]
[141]
[142]
[143]
[144]
[145]
[146]
[147]
[148]
[149]
[150]
[151]
[152]
[153]
[154]
[155]
[156]
[157]
[158]
[159]
[160]
[161]
[162]
[163]
[164]
[165]
[166]
[167]
[168]
[169]
[170]
[171]
[172]
[173]
[174]
[175]
[176]
[177]
[178]
[179]
[180]
[181]
[182]
[183]
[184]
[185]
[186]
[187]
[188]
[189]
[190]
[191]
[192]
[193]
[194]
[195]
[196]
[197]
[198]
[199]
[200]

{"sheet":"出力シート","index":2,"n_rows":216,"n_cols":33,"rows_kept":216,"cut":false,"hidden":false,"merged":[]}
["氏名（姓）","氏名（名）","フリガナ（姓）","フリガナ（名）","英字（姓）","英字（名）","性別","生年月日","郵便番号","都道府県","市区町村","番地・建物名","携帯電話番号","国籍","学年","卒業高校名","卒業中学名","E-mail配信希望","勤務先名","勤務先郵便番号","勤務先都道府県","勤務先市区町村 / 番地 / 建物名","在籍学校名","在籍学校都道府県","障がいのクラス","会員基本情報備考","実施している種目","興味がある種目","属性","学年","登録番号","指導者チェック","役職名"]
[{"$f":"IF(入力シート!B4=\"\",\"\",入力シート!B4)","v":""},{"$f":"IF(入力シート!C4=\"\",\"\",入力シート!C4)","v":""},{"$f":"IF(入力シート!D4=\"\",\"\",DBCS(入力シート!D4))","v":""},{"$f":"IF(入力シート!E4=\"\",\"\",DBCS(入力シート!E4))","v":""},{"$f":"ASC(IF(入力シート!F4=\"\",\"\",UPPER(入力シート!F4)))","v":""},{"$f":"IF(入力シート!G4=\"\",\"\",PROPER(入力シート!G4))","v":""},{"$f":"IF(入力シート!H4=\"\",\"\",入力シート!H4&\"性\")","v":""},{"$f":"IF(入力シート!I4=\"\",\"\",TEXT(入力シート!I4,\"yyyy/mm/dd\"))","v":""},null,null,null,null,null,{"$f":"IF(入力シート!J4=\"\",\"\",入力シート!J4)","v":""},{"$f":"IF(入力シート!K4=\"\",\"\",入力シート!K4)","v":""},null,null,null,null,null,null,null,null,null,null,null,null,null,{"$f":"IF(入力シート!H4=\"\",\"\",\"競技者\")","v":""},{"$f":"IF(入力シート!K4=\"\",\"\",入力シート!K4)","v":""},{"$f":"IF(入力シート!L4=\"\",\"\",入力シート!L4)","v":""}]
[{"$f":"IF(入力シート!B5=\"\",\"\",入力シート!B5)","v":""},{"$f":"IF(入力シート!C5=\"\",\"\",入力シート!C5)","v":""},{"$f":"IF(入力シート!D5=\"\",\"\",DBCS(入力シート!D5))","v":""},{"$f":"IF(入力シート!E5=\"\",\"\",DBCS(入力シート!E5))","v":""},{"$f":"ASC(IF(入力シート!F5=\"\",\"\",UPPER(入力シート!F5)))","v":""},{"$f":"IF(入力シート!G5=\"\",\"\",PROPER(入力シート!G5))","v":""},{"$f":"IF(入力シート!H5=\"\",\"\",入力シート!H5&\"性\")","v":""},{"$f":"IF(入力シート!I5=\"\",\"\",TEXT(入力シート!I5,\"yyyy/mm/dd\"))","v":""},null,null,null,null,null,{"$f":"IF(入力シート!J5=\"\",\"\",入力シート!J5)","v":""},{"$f":"IF(入力シート!K5=\"\",\"\",入力シート!K5)","v":""},null,null,null,null,null,null,null,null,null,null,null,null,null,{"$f":"IF(入力シート!H5=\"\",\"\",\"競技者\")","v":""},{"$f":"IF(入力シート!K5=\"\",\"\",入力シート!K5)","v":""},{"$f":"IF(入力シート!L5=\"\",\"\",入力シート!L5)","v":""}]
[{"$f":"IF(入力シート!B6=\"\",\"\",入力シート!B6)","v":""},{"$f":"IF(入力シート!C6=\"\",\"\",入力シート!C6)","v":""},{"$f":"IF(入力シート!D6=\"\",\"\",DBCS(入力シート!D6))","v":""},{"$f":"IF(入力シート!E6=\"\",\"\",DBCS(入力シート!E6))","v":""},{"$f":"ASC(IF(入力シート!F6=\"\",\"\",UPPER(入力シート!F6)))","v":""},{"$f":"IF(入力シート!G6=\"\",\"\",PROPER(入力シート!G6))","v":""},{"$f":"IF(入力シート!H6=\"\",\"\",入力シート!H6&\"性\")","v":""},{"$f":"IF(入力シート!I6=\"\",\"\",TEXT(入力シート!I6,\"yyyy/mm/dd\"))","v":""},null,null,null,null,null,{"$f":"IF(入力シート!J6=\"\",\"\",入力シート!J6)","v":""},{"$f":"IF(入力シート!K6=\"\",\"\",入力シート!K6)","v":""},null,null,null,null,null,null,null,null,null,null,null,null,null,{"$f":"IF(入力シート!H6=\"\",\"\",\"競技者\")","v":""},{"$f":"IF(入力シート!K6=\"\",\"\",入力シート!K6)","v":""},{"$f":"IF(入力シート!L6=\"\",\"\",入力シート!L6)","v":""}]
[{"$f":"IF(入力シート!B7=\"\",\"\",入力シート!B7)","v":""},{"$f":"IF(入力シート!C7=\"\",\"\",入力シート!C7)","v":""},{"$f":"IF(入力シート!D7=\"\",\"\",DBCS(入力シート!D7))","v":""},{"$f":"IF(入力シート!E7=\"\",\"\",DBCS(入力シート!E7))","v":""},{"$f":"ASC(IF(入力シート!F7=\"\",\"\",UPPER(入力シート!F7)))","v":""},{"$f":"IF(入力シート!G7=\"\",\"\",PROPER(入力シート!G7))","v":""},{"$f":"IF(入力シート!H7=\"\",\"\",入力シート!H7&\"性\")","v":""},{"$f":"IF(入力シート!I7=\"\",\"\",TEXT(入力シート!I7,\"yyyy/mm/dd\"))","v":""},null,null,null,null,null,{"$f":"IF(入力シート!J7=\"\",\"\",入力シート!J7)","v":""},{"$f":"IF(入力シート!K7=\"\",\"\",入力シート!K7)","v":""},null,null,null,null,null,null,null,null,null,null,null,null,null,{"$f":"IF(入力シート!H7=\"\",\"\",\"競技者\")","v":""},{"$f":"IF(入力シート!K7=\"\",\"\",入力シート!K7)","v":""},{"$f":"IF(入力シート!L7=\"\",\"\",入力シート!L7)","v":""}]
[{"$f":"IF(入力シート!B8=\"\",\"\",入力シート!B8)","v":""},{"$f":"IF(入力シート!C8=\"\",\"\",入力シート!C8)","v":""},{"$f":"IF(入力シート!D8=\"\",\"\",DBCS(入力シート!D8))","v":""},{"$f":"IF(入力シート!E8=\"\",\"\",DBCS(入力シート!E8))","v":""},{"$f":"ASC(IF(入力シート!F8=\"\",\"\",UPPER(入力シート!F8)))","v":""},{"$f":"IF(入力シート!G8=\"\",\"\",PROPER(入力シート!G8))","v":""},{"$f":"IF(入力シート!H8=\"\",\"\",入力シート!H8&\"性\")","v":""},{"$f":"IF(入力シート!I8=\"\",\"\",TEXT(入力シート!I8,\"yyyy/mm/dd\"))","v":""},null,null,null,null,null,{"$f":"IF(入力シート!J8=\"\",\"\",入力シート!J8)","v":""},{"$f":"IF(入力シート!K8=\"\",\"\",入力シート!K8)","v":""},null,null,null,null,null,null,null,null,null,null,null,null,null,{"$f":"IF(入力シート!H8=\"\",\"\",\"競技者\")","v":""},{"$f":"IF(入力シート!K8=\"\",\"\",入力シート!K8)","v":""},{"$f":"IF(入力シート!L8=\"\",\"\",入力シート!L8)","v":""}]
[{"$f":"IF(入力シート!B9=\"\",\"\",入力シート!B9)","v":""},{"$f":"IF(入力シート!C9=\"\",\"\",入力シート!C9)","v":""},{"$f":"IF(入力シート!D9=\"\",\"\",DBCS(入力シート!D9))","v":""},{"$f":"IF(入力シート!E9=\"\",\"\",DBCS(入力シート!E9))","v":""},{"$f":"ASC(IF(入力シート!F9=\"\",\"\",UPPER(入力シート!F9)))","v":""},{"$f":"IF(入力シート!G9=\"\",\"\",PROPER(入力シート!G9))","v":""},{"$f":"IF(入力シート!H9=\"\",\"\",入力シート!H9&\"性\")","v":""},{"$f":"IF(入力シート!I9=\"\",\"\",TEXT(入力シート!I9,\"yyyy/mm/dd\"))","v":""},null,null,null,null,null,{"$f":"IF(入力シート!J9=\"\",\"\",入力シート!J9)","v":""},{"$f":"IF(入力シート!K9=\"\",\"\",入力シート!K9)","v":""},null,null,null,null,null,null,null,null,null,null,null,null,null,{"$f":"IF(入力シート!H9=\"\",\"\",\"競技者\")","v":""},{"$f":"IF(入力シート!K9=\"\",\"\",入力シート!K9)","v":""},{"$f":"IF(入力シート!L9=\"\",\"\",入力シート!L9)","v":""}]
[{"$f":"IF(入力シート!B10=\"\",\"\",入力シート!B10)","v":""},{"$f":"IF(入力シート!C10=\"\",\"\",入力シート!C10)","v":""},{"$f":"IF(入力シート!D10=\"\",\"\",DBCS(入力シート!D10))","v":""},{"$f":"IF(入力シート!E10=\"\",\"\",DBCS(入力シート!E10))","v":""},{"$f":"ASC(IF(入力シート!F10=\"\",\"\",UPPER(入力シート!F10)))","v":""},{"$f":"IF(入力シート!G10=\"\",\"\",PROPER(入力シート!G10))","v":""},{"$f":"IF(入力シート!H10=\"\",\"\",入力シート!H10&\"性\")","v":""},{"$f":"IF(入力シート!I10=\"\",\"\",TEXT(入力シート!I10,\"yyyy/mm/dd\"))","v":""},null,null,null,null,null,{"$f":"IF(入力シート!J10=\"\",\"\",入力シート!J10)","v":""},{"$f":"IF(入力シート!K10=\"\",\"\",入力シート!K10)","v":""},null,null,null,null,null,null,null,null,null,null,null,null,null,{"$f":"IF(入力シート!H10=\"\",\"\",\"競技者\")","v":""},{"$f":"IF(入力シート!K10=\"\",\"\",入力シート!K10)","v":""},{"$f":"IF(入力シート!L10=\"\",\"\",入力シート!L10)","v":""}]
[{"$f":"IF(入力シート!B11=\"\",\"\",入力シート!B11)","v":""},{"$f":"IF(入力シート!C11=\"\",\"\",入力シート!C11)","v":""},{"$f":"IF(入力シート!D11=\"\",\"\",DBCS(入力シート!D11))","v":""},{"$f":"IF(入力シート!E11=\"\",\"\",DBCS(入力シート!E11))","v":""},{"$f":"ASC(IF(入力シート!F11=\"\",\"\",UPPER(入力シート!F11)))","v":""},{"$f":"IF(入力シート!G11=\"\",\"\",PROPER(入力シート!G11))","v":""},{"$f":"IF(入力シート!H11=\"\",\"\",入力シート!H11&\"性\")","v":""},{"$f":"IF(入力シート!I11=\"\",\"\",TEXT(入力シート!I11,\"yyyy/mm/dd\"))","v":""},null,null,null,null,null,{"$f":"IF(入力シート!J11=\"\",\"\",入力シート!J11)","v":""},{"$f":"IF(入力シート!K11=\"\",\"\",入力シート!K11)","v":""},null,null,null,null,null,null,null,null,null,null,null,null,null,{"$f":"IF(入力シート!H11=\"\",\"\",\"競技者\")","v":""},{"$f":"IF(入力シート!K11=\"\",\"\",入力シート!K11)","v":""},{"$f":"IF(入力シート!L11=\"\",\"\",入力シート!L11)","v":""}]
[{"$f":"IF(入力シート!B12=\"\",\"\",入力シート!B12)","v":""},{"$f":"IF(入力シート!C12=\"\",\"\",入力シート!C12)","v":""},{"$f":"IF(入力シート!D12=\"\",\"\",DBCS(入力シート!D12))","v":""},{"$f":"IF(入力シート!E12=\"\",\"\",DBCS(入力シート!E12))","v":""},{"$f":"ASC(IF(入力シート!F12=\"\",\"\",UPPER(入力シート!F12)))","v":""},{"$f":"IF(入力シート!G12=\"\",\"\",PROPER(入力シート!G12))","v":""},{"$f":"IF(入力シート!H12=\"\",\"\",入力シート!H12&\"性\")","v":""},{"$f":"IF(入力シート!I12=\"\",\"\",TEXT(入力シート!I12,\"yyyy/mm/dd\"))","v":""},null,null,null,null,null,{"$f":"IF(入力シート!J12=\"\",\"\",入力シート!J12)","v":""},{"$f":"IF(入力シート!K12=\"\",\"\",入力シート!K12)","v":""},null,null,null,null,null,null,null,null,null,null,null,null,null,{"$f":"IF(入力シート!H12=\"\",\"\",\"競技者\")","v":""},{"$f":"IF(入力シート!K12=\"\",\"\",入力シート!K12)","v":""},{"$f":"IF(入力シート!L12=\"\",\"\",入力シート!L12)","v":""}]
[{"$f":"IF(入力シート!B13=\"\",\"\",入力シート!B13)","v":""},{"$f":"IF(入力シート!C13=\"\",\"\",入力シート!C13)","v":""},{"$f":"IF(入力シート!D13=\"\",\"\",DBCS(入力シート!D13))","v":""},{"$f":"IF(入力シート!E13=\"\",\"\",DBCS(入力シート!E13))","v":""},{"$f":"ASC(IF(入力シート!F13=\"\",\"\",UPPER(入力シート!F13)))","v":""},{"$f":"IF(入力シート!G13=\"\",\"\",PROPER(入力シート!G13))","v":""},{"$f":"IF(入力シート!H13=\"\",\"\",入力シート!H13&\"性\")","v":""},{"$f":"IF(入力シート!I13=\"\",\"\",TEXT(入力シート!I13,\"yyyy/mm/dd\"))","v":""},null,null,null,null,null,{"$f":"IF(入力シート!J13=\"\",\"\",入力シート!J13)","v":""},{"$f":"IF(入力シート!K13=\"\",\"\",入力シート!K13)","v":""},null,null,null,null,null,null,null,null,null,null,null,null,null,{"$f":"IF(入力シート!H13=\"\",\"\",\"競技者\")","v":""},{"$f":"IF(入力シート!K13=\"\",\"\",入力シート!K13)","v":""},{"$f":"IF(入力シート!L13=\"\",\"\",入力シート!L13)","v":""}]
[{"$f":"IF(入力シート!B14=\"\",\"\",入力シート!B14)","v":""},{"$f":"IF(入力シート!C14=\"\",\"\",入力シート!C14)","v":""},{"$f":"IF(入力シート!D14=\"\",\"\",DBCS(入力シート!D14))","v":""},{"$f":"IF(入力シート!E14=\"\",\"\",DBCS(入力シート!E14))","v":""},{"$f":"ASC(IF(入力シート!F14=\"\",\"\",UPPER(入力シート!F14)))","v":""},{"$f":"IF(入力シート!G14=\"\",\"\",PROPER(入力シート!G14))","v":""},{"$f":"IF(入力シート!H14=\"\",\"\",入力シート!H14&\"性\")","v":""},{"$f":"IF(入力シート!I14=\"\",\"\",TEXT(入力シート!I14,\"yyyy/mm/dd\"))","v":""},null,null,null,null,null,{"$f":"IF(入力シート!J14=\"\",\"\",入力シート!J14)","v":""},{"$f":"IF(入力シート!K14=\"\",\"\",入力シート!K14)","v":""},null,null,null,null,null,null,null,null,null,null,null,null,null,{"$f":"IF(入力シート!H14=\"\",\"\",\"競技者\")","v":""},{"$f":"IF(入力シート!K14=\"\",\"\",入力シート!K14)","v":""},{"$f":"IF(入力シート!L14=\"\",\"\",入力シート!L14)","v":""}]
[{"$f":"IF(入力シート!B15=\"\",\"\",入力シート!B15)","v":""},{"$f":"IF(入力シート!C15=\"\",\"\",入力シート!C15)","v":""},{"$f":"IF(入力シート!D15=\"\",\"\",DBCS(入力シート!D15))","v":""},{"$f":"IF(入力シート!E15=\"\",\"\",DBCS(入力シート!E15))","v":""},{"$f":"ASC(IF(入力シート!F15=\"\",\"\",UPPER(入力シート!F15)))","v":""},{"$f":"IF(入力シート!G15=\"\",\"\",PROPER(入力シート!G15))","v":""},{"$f":"IF(入力シート!H15=\"\",\"\",入力シート!H15&\"性\")","v":""},{"$f":"IF(入力シート!I15=\"\",\"\",TEXT(入力シート!I15,\"yyyy/mm/dd\"))","v":""},null,null,null,null,null,{"$f":"IF(入力シート!J15=\"\",\"\",入力シート!J15)","v":""},{"$f":"IF(入力シート!K15=\"\",\"\",入力シート!K15)","v":""},null,null,null,null,null,null,null,null,null,null,null,null,null,{"$f":"IF(入力シート!H15=\"\",\"\",\"競技者\")","v":""},{"$f":"IF(入力シート!K15=\"\",\"\",入力シート!K15)","v":""},{"$f":"IF(入力シート!L15=\"\",\"\",入力シート!L15)","v":""}]
[{"$f":"IF(入力シート!B16=\"\",\"\",入力シート!B16)","v":""},{"$f":"IF(入力シート!C16=\"\",\"\",入力シート!C16)","v":""},{"$f":"IF(入力シート!D16=\"\",\"\",DBCS(入力シート!D16))","v":""},{"$f":"IF(入力シート!E16=\"\",\"\",DBCS(入力シート!E16))","v":""},{"$f":"ASC(IF(入力シート!F16=\"\",\"\",UPPER(入力シート!F16)))","v":""},{"$f":"IF(入力シート!G16=\"\",\"\",PROPER(入力シート!G16))","v":""},{"$f":"IF(入力シート!H16=\"\",\"\",入力シート!H16&\"性\")","v":""},{"$f":"IF(入力シート!I16=\"\",\"\",TEXT(入力シート!I16,\"yyyy/mm/dd\"))","v":""},null,null,null,null,null,{"$f":"IF(入力シート!J16=\"\",\"\",入力シート!J16)","v":""},{"$f":"IF(入力シート!K16=\"\",\"\",入力シート!K16)","v":""},null,null,null,null,null,null,null,null,null,null,null,null,null,{"$f":"IF(入力シート!H16=\"\",\"\",\"競技者\")","v":""},{"$f":"IF(入力シート!K16=\"\",\"\",入力シート!K16)","v":""},{"$f":"IF(入力シート!L16=\"\",\"\",入力シート!L16)","v":""}]
[{"$f":"IF(入力シート!B17=\"\",\"\",入力シート!B17)","v":""},{"$f":"IF(入力シート!C17=\"\",\"\",入力シート!C17)","v":""},{"$f":"IF(入力シート!D17=\"\",\"\",DBCS(入力シート!D17))","v":""},{"$f":"IF(入力シート!E17=\"\",\"\",DBCS(入力シート!E17))","v":""},{"$f":"ASC(IF(入力シート!F17=\"\",\"\",UPPER(入力シート!F17)))","v":""},{"$f":"IF(入力シート!G17=\"\",\"\",PROPER(入力シート!G17))","v":""},{"$f":"IF(入力シート!H17=\"\",\"\",入力シート!H17&\"性\")","v":""},{"$f":"IF(入力シート!I17=\"\",\"\",TEXT(入力シート!I17,\"yyyy/mm/dd\"))","v":""},null,null,null,null,null,{"$f":"IF(入力シート!J17=\"\",\"\",入力シート!J17)","v":""},{"$f":"IF(入力シート!K17=\"\",\"\",入力シート!K17)","v":""},null,null,null,null,null,null,null,null,null,null,null,null,null,{"$f":"IF(入力シート!H17=\"\",\"\",\"競技者\")","v":""},{"$f":"IF(入力シート!K17=\"\",\"\",入力シート!K17)","v":""},{"$f":"IF(入力シート!L17=\"\",\"\",入力シート!L17)","v":""}]
[{"$f":"IF(入力シート!B18=\"\",\"\",入力シート!B18)","v":""},{"$f":"IF(入力シート!C18=\"\",\"\",入力シート!C18)","v":""},{"$f":"IF(入力シート!D18=\"\",\"\",DBCS(入力シート!D18))","v":""},{"$f":"IF(入力シート!E18=\"\",\"\",DBCS(入力シート!E18))","v":""},{"$f":"ASC(IF(入力シート!F18=\"\",\"\",UPPER(入力シート!F18)))","v":""},{"$f":"IF(入力シート!G18=\"\",\"\",PROPER(入力シート!G18))","v":""},{"$f":"IF(入力シート!H18=\"\",\"\",入力シート!H18&\"性\")","v":""},{"$f":"IF(入力シート!I18=\"\",\"\",TEXT(入力シート!I18,\"yyyy/mm/dd\"))","v":""},null,null,null,null,null,{"$f":"IF(入力シート!J18=\"\",\"\",入力シート!J18)","v":""},{"$f":"IF(入力シート!K18=\"\",\"\",入力シート!K18)","v":""},null,null,null,null,null,null,null,null,null,null,null,null,null,{"$f":"IF(入力シート!H18=\"\",\"\",\"競技者\")","v":""},{"$f":"IF(入力シート!K18=\"\",\"\",入力シート!K18)","v":""},{"$f":"IF(入力シート!L18=\"\",\"\",入力シート!L18)","v":""}]
[{"$f":"IF(入力シート!B19=\"\",\"\",入力シート!B19)","v":""},{"$f":"IF(入力シート!C19=\"\",\"\",入力シート!C19)","v":""},{"$f":"IF(入力シート!D19=\"\",\"\",DBCS(入力シート!D19))","v":""},{"$f":"IF(入力シート!E19=\"\",\"\",DBCS(入力シート!E19))","v":""},{"$f":"ASC(IF(入力シート!F19=\"\",\"\",UPPER(入力シート!F19)))","v":""},{"$f":"IF(入力シート!G19=\"\",\"\",PROPER(入力シート!G19))","v":""},{"$f":"IF(入力シート!H19=\"\",\"\",入力シート!H19&\"性\")","v":""},{"$f":"IF(入力シート!I19=\"\",\"\",TEXT(入力シート!I19,\"yyyy/mm/dd\"))","v":""},null,null,null,null,null,{"$f":"IF(入力シート!J19=\"\",\"\",入力シート!J19)","v":""},{"$f":"IF(入力シート!K19=\"\",\"\",入力シート!K19)","v":""},null,null,null,null,null,null,null,null,null,null,null,null,null,{"$f":"IF(入力シート!H19=\"\",\"\",\"競技者\")","v":""},{"$f":"IF(入力シート!K19=\"\",\"\",入力シート!K19)","v":""},{"$f":"IF(入力シート!L19=\"\",\"\",入力シート!L19)","v":""}]
[{"$f":"IF(入力シート!B20=\"\",\"\",入力シート!B20)","v":""},{"$f":"IF(入力シート!C20=\"\",\"\",入力シート!C20)","v":""},{"$f":"IF(入力シート!D20=\"\",\"\",DBCS(入力シート!D20))","v":""},{"$f":"IF(入力シート!E20=\"\",\"\",DBCS(入力シート!E20))","v":""},{"$f":"ASC(IF(入力シート!F20=\"\",\"\",UPPER(入力シート!F20)))","v":""},{"$f":"IF(入力シート!G20=\"\",\"\",PROPER(入力シート!G20))","v":""},{"$f":"IF(入力シート!H20=\"\",\"\",入力シート!H20&\"性\")","v":""},{"$f":"IF(入力シート!I20=\"\",\"\",TEXT(入力シート!I20,\"yyyy/mm/dd\"))","v":""},null,null,null,null,null,{"$f":"IF(入力シート!J20=\"\",\"\",入力シート!J20)","v":""},{"$f":"IF(入力シート!K20=\"\",\"\",入力シート!K20)","v":""},null,null,null,null,null,null,null,null,null,null,null,null,null,{"$f":"IF(入力シート!H20=\"\",\"\",\"競技者\")","v":""},{"$f":"IF(入力シート!K20=\"\",\"\",入力シート!K20)","v":""},{"$f":"IF(入力シート!L20=\"\",\"\",入力シート!L20)","v":""}]
[{"$f":"IF(入力シート!B21=\"\",\"\",入力シート!B21)","v":""},{"$f":"IF(入力シート!C21=\"\",\"\",入力シート!C21)","v":""},{"$f":"IF(入力シート!D21=\"\",\"\",DBCS(入力シート!D21))","v":""},{"$f":"IF(入力シート!E21=\"\",\"\",DBCS(入力シート!E21))","v":""},{"$f":"ASC(IF(入力シート!F21=\"\",\"\",UPPER(入力シート!F21)))","v":""},{"$f":"IF(入力シート!G21=\"\",\"\",PROPER(入力シート!G21))","v":""},{"$f":"IF(入力シート!H21=\"\",\"\",入力シート!H21&\"性\")","v":""},{"$f":"IF(入力シート!I21=\"\",\"\",TEXT(入力シート!I21,\"yyyy/mm/dd\"))","v":""},null,null,null,null,null,{"$f":"IF(入力シート!J21=\"\",\"\",入力シート!J21)","v":""},{"$f":"IF(入力シート!K21=\"\",\"\",入力シート!K21)","v":""},null,null,null,null,null,null,null,null,null,null,null,null,null,{"$f":"IF(入力シート!H21=\"\",\"\",\"競技者\")","v":""},{"$f":"IF(入力シート!K21=\"\",\"\",入力シート!K21)","v":""},{"$f":"IF(入力シート!L21=\"\",\"\",入力シート!L21)","v":""}]
[{"$f":"IF(入力シート!B22=\"\",\"\",入力シート!B22)","v":""},{"$f":"IF(入力シート!C22=\"\",\"\",入力シート!C22)","v":""},{"$f":"IF(入力シート!D22=\"\",\"\",DBCS(入力シート!D22))","v":""},{"$f":"IF(入力シート!E22=\"\",\"\",DBCS(入力シート!E22))","v":""},{"$f":"ASC(IF(入力シート!F22=\"\",\"\",UPPER(入力シート!F22)))","v":""},{"$f":"IF(入力シート!G22=\"\",\"\",PROPER(入力シート!G22))","v":""},{"$f":"IF(入力シート!H22=\"\",\"\",入力シート!H22&\"性\")","v":""},{"$f":"IF(入力シート!I22=\"\",\"\",TEXT(入力シート!I22,\"yyyy/mm/dd\"))","v":""},null,null,null,null,null,{"$f":"IF(入力シート!J22=\"\",\"\",入力シート!J22)","v":""},{"$f":"IF(入力シート!K22=\"\",\"\",入力シート!K22)","v":""},null,null,null,null,null,null,null,null,null,null,null,null,null,{"$f":"IF(入力シート!H22=\"\",\"\",\"競技者\")","v":""},{"$f":"IF(入力シート!K22=\"\",\"\",入力シート!K22)","v":""},{"$f":"IF(入力シート!L22=\"\",\"\",入力シート!L22)","v":""}]
[{"$f":"IF(入力シート!B23=\"\",\"\",入力シート!B23)","v":""},{"$f":"IF(入力シート!C23=\"\",\"\",入力シート!C23)","v":""},{"$f":"IF(入力シート!D23=\"\",\"\",DBCS(入力シート!D23))","v":""},{"$f":"IF(入力シート!E23=\"\",\"\",DBCS(入力シート!E23))","v":""},{"$f":"ASC(IF(入力シート!F23=\"\",\"\",UPPER(入力シート!F23)))","v":""},{"$f":"IF(入力シート!G23=\"\",\"\",PROPER(入力シート!G23))","v":""},{"$f":"IF(入力シート!H23=\"\",\"\",入力シート!H23&\"性\")","v":""},{"$f":"IF(入力シート!I23=\"\",\"\",TEXT(入力シート!I23,\"yyyy/mm/dd\"))","v":""},null,null,null,null,null,{"$f":"IF(入力シート!J23=\"\",\"\",入力シート!J23)","v":""},{"$f":"IF(入力シート!K23=\"\",\"\",入力シート!K23)","v":""},null,null,null,null,null,null,null,null,null,null,null,null,null,{"$f":"IF(入力シート!H23=\"\",\"\",\"競技者\")","v":""},{"$f":"IF(入力シート!K23=\"\",\"\",入力シート!K23)","v":""},{"$f":"IF(入力シート!L23=\"\",\"\",入力シート!L23)","v":""}]
[{"$f":"IF(入力シート!B24=\"\",\"\",入力シート!B24)","v":""},{"$f":"IF(入力シート!C24=\"\",\"\",入力シート!C24)","v":""},{"$f":"IF(入力シート!D24=\"\",\"\",DBCS(入力シート!D24))","v":""},{"$f":"IF(入力シート!E24=\"\",\"\",DBCS(入力シート!E24))","v":""},{"$f":"ASC(IF(入力シート!F24=\"\",\"\",UPPER(入力シート!F24)))","v":""},{"$f":"IF(入力シート!G24=\"\",\"\",PROPER(入力シート!G24))","v":""},{"$f":"IF(入力シート!H24=\"\",\"\",入力シート!H24&\"性\")","v":""},{"$f":"IF(入力シート!I24=\"\",\"\",TEXT(入力シート!I24,\"yyyy/mm/dd\"))","v":""},null,null,null,null,null,{"$f":"IF(入力シート!J24=\"\",\"\",入力シート!J24)","v":""},{"$f":"IF(入力シート!K24=\"\",\"\",入力シート!K24)","v":""},null,null,null,null,null,null,null,null,null,null,null,null,null,{"$f":"IF(入力シート!H24=\"\",\"\",\"競技者\")","v":""},{"$f":"IF(入力シート!K24=\"\",\"\",入力シート!K24)","v":""},{"$f":"IF(入力シート!L24=\"\",\"\",入力シート!L24)","v":""}]
[{"$f":"IF(入力シート!B25=\"\",\"\",入力シート!B25)","v":""},{"$f":"IF(入力シート!C25=\"\",\"\",入力シート!C25)","v":""},{"$f":"IF(入力シート!D25=\"\",\"\",DBCS(入力シート!D25))","v":""},{"$f":"IF(入力シート!E25=\"\",\"\",DBCS(入力シート!E25))","v":""},{"$f":"ASC(IF(入力シート!F25=\"\",\"\",UPPER(入力シート!F25)))","v":""},{"$f":"IF(入力シート!G25=\"\",\"\",PROPER(入力シート!G25))","v":""},{"$f":"IF(入力シート!H25=\"\",\"\",入力シート!H25&\"性\")","v":""},{"$f":"IF(入力シート!I25=\"\",\"\",TEXT(入力シート!I25,\"yyyy/mm/dd\"))","v":""},null,null,null,null,null,{"$f":"IF(入力シート!J25=\"\",\"\",入力シート!J25)","v":""},{"$f":"IF(入力シート!K25=\"\",\"\",入力シート!K25)","v":""},null,null,null,null,null,null,null,null,null,null,null,null,null,{"$f":"IF(入力シート!H25=\"\",\"\",\"競技者\")","v":""},{"$f":"IF(入力シート!K25=\"\",\"\",入力シート!K25)","v":""},{"$f":"IF(入力シート!L25=\"\",\"\",入力シート!L25)","v":""}]
[{"$f":"IF(入力シート!B26=\"\",\"\",入力シート!B26)","v":""},{"$f":"IF(入力シート!C26=\"\",\"\",入力シート!C26)","v":""},{"$f":"IF(入力シート!D26=\"\",\"\",DBCS(入力シート!D26))","v":""},{"$f":"IF(入力シート!E26=\"\",\"\",DBCS(入力シート!E26))","v":""},{"$f":"ASC(IF(入力シート!F26=\"\",\"\",UPPER(入力シート!F26)))","v":""},{"$f":"IF(入力シート!G26=\"\",\"\",PROPER(入力シート!G26))","v":""},{"$f":"IF(入力シート!H26=\"\",\"\",入力シート!H26&\"性\")","v":""},{"$f":"IF(入力シート!I26=\"\",\"\",TEXT(入力シート!I26,\"yyyy/mm/dd\"))","v":""},null,null,null,null,null,{"$f":"IF(入力シート!J26=\"\",\"\",入力シート!J26)","v":""},{"$f":"IF(入力シート!K26=\"\",\"\",入力シート!K26)","v":""},null,null,null,null,null,null,null,null,null,null,null,null,null,{"$f":"IF(入力シート!H26=\"\",\"\",\"競技者\")","v":""},{"$f":"IF(入力シート!K26=\"\",\"\",入力シート!K26)","v":""},{"$f":"IF(入力シート!L26=\"\",\"\",入力シート!L26)","v":""}]
[{"$f":"IF(入力シート!B27=\"\",\"\",入力シート!B27)","v":""},{"$f":"IF(入力シート!C27=\"\",\"\",入力シート!C27)","v":""},{"$f":"IF(入力シート!D27=\"\",\"\",DBCS(入力シート!D27))","v":""},{"$f":"IF(入力シート!E27=\"\",\"\",DBCS(入力シート!E27))","v":""},{"$f":"ASC(IF(入力シート!F27=\"\",\"\",UPPER(入力シート!F27)))","v":""},{"$f":"IF(入力シート!G27=\"\",\"\",PROPER(入力シート!G27))","v":""},{"$f":"IF(入力シート!H27=\"\",\"\",入力シート!H27&\"性\")","v":""},{"$f":"IF(入力シート!I27=\"\",\"\",TEXT(入力シート!I27,\"yyyy/mm/dd\"))","v":""},null,null,null,null,null,{"$f":"IF(入力シート!J27=\"\",\"\",入力シート!J27)","v":""},{"$f":"IF(入力シート!K27=\"\",\"\",入力シート!K27)","v":""},null,null,null,null,null,null,null,null,null,null,null,null,null,{"$f":"IF(入力シート!H27=\"\",\"\",\"競技者\")","v":""},{"$f":"IF(入力シート!K27=\"\",\"\",入力シート!K27)","v":""},{"$f":"IF(入力シート!L27=\"\",\"\",入力シート!L27)","v":""}]
[{"$f":"IF(入力シート!B28=\"\",\"\",入力シート!B28)","v":""},{"$f":"IF(入力シート!C28=\"\",\"\",入力シート!C28)","v":""},{"$f":"IF(入力シート!D28=\"\",\"\",DBCS(入力シート!D28))","v":""},{"$f":"IF(入力シート!E28=\"\",\"\",DBCS(入力シート!E28))","v":""},{"$f":"ASC(IF(入力シート!F28=\"\",\"\",UPPER(入力シート!F28)))","v":""},{"$f":"IF(入力シート!G28=\"\",\"\",PROPER(入力シート!G28))","v":""},{"$f":"IF(入力シート!H28=\"\",\"\",入力シート!H28&\"性\")","v":""},{"$f":"IF(入力シート!I28=\"\",\"\",TEXT(入力シート!I28,\"yyyy/mm/dd\"))","v":""},null,null,null,null,null,{"$f":"IF(入力シート!J28=\"\",\"\",入力シート!J28)","v":""},{"$f":"IF(入力シート!K28=\"\",\"\",入力シート!K28)","v":""},null,null,null,null,null,null,null,null,null,null,null,null,null,{"$f":"IF(入力シート!H28=\"\",\"\",\"競技者\")","v":""},{"$f":"IF(入力シート!K28=\"\",\"\",入力シート!K28)","v":""},{"$f":"IF(入力シート!L28=\"\",\"\",入力シート!L28)","v":""}]
[{"$f":"IF(入力シート!B29=\"\",\"\",入力シート!B29)","v":""},{"$f":"IF(入力シート!C29=\"\",\"\",入力シート!C29)","v":""},{"$f":"IF(入力シート!D29=\"\",\"\",DBCS(入力シート!D29))","v":""},{"$f":"IF(入力シート!E29=\"\",\"\",DBCS(入力シート!E29))","v":""},{"$f":"ASC(IF(入力シート!F29=\"\",\"\",UPPER(入力シート!F29)))","v":""},{"$f":"IF(入力シート!G29=\"\",\"\",PROPER(入力シート!G29))","v":""},{"$f":"IF(入力シート!H29=\"\",\"\",入力シート!H29&\"性\")","v":""},{"$f":"IF(入力シート!I29=\"\",\"\",TEXT(入力シート!I29,\"yyyy/mm/dd\"))","v":""},null,null,null,null,null,{"$f":"IF(入力シート!J29=\"\",\"\",入力シート!J29)","v":""},{"$f":"IF(入力シート!K29=\"\",\"\",入力シート!K29)","v":""},null,null,null,null,null,null,null,null,null,null,null,null,null,{"$f":"IF(入力シート!H29=\"\",\"\",\"競技者\")","v":""},{"$f":"IF(入力シート!K29=\"\",\"\",入力シート!K29)","v":""},{"$f":"IF(入力シート!L29=\"\",\"\",入力シート!L29)","v":""}]
[{"$f":"IF(入力シート!B30=\"\",\"\",入力シート!B30)","v":""},{"$f":"IF(入力シート!C30=\"\",\"\",入力シート!C30)","v":""},{"$f":"IF(入力シート!D30=\"\",\"\",DBCS(入力シート!D30))","v":""},{"$f":"IF(入力シート!E30=\"\",\"\",DBCS(入力シート!E30))","v":""},{"$f":"ASC(IF(入力シート!F30=\"\",\"\",UPPER(入力シート!F30)))","v":""},{"$f":"IF(入力シート!G30=\"\",\"\",PROPER(入力シート!G30))","v":""},{"$f":"IF(入力シート!H30=\"\",\"\",入力シート!H30&\"性\")","v":""},{"$f":"IF(入力シート!I30=\"\",\"\",TEXT(入力シート!I30,\"yyyy/mm/dd\"))","v":""},null,null,null,null,null,{"$f":"IF(入力シート!J30=\"\",\"\",入力シート!J30)","v":""},{"$f":"IF(入力シート!K30=\"\",\"\",入力シート!K30)","v":""},null,null,null,null,null,null,null,null,null,null,null,null,null,{"$f":"IF(入力シート!H30=\"\",\"\",\"競技者\")","v":""},{"$f":"IF(入力シート!K30=\"\",\"\",入力シート!K30)","v":""},{"$f":"IF(入力シート!L30=\"\",\"\",入力シート!L30)","v":""}]
[{"$f":"IF(入力シート!B31=\"\",\"\",入力シート!B31)","v":""},{"$f":"IF(入力シート!C31=\"\",\"\",入力シート!C31)","v":""},{"$f":"IF(入力シート!D31=\"\",\"\",DBCS(入力シート!D31))","v":""},{"$f":"IF(入力シート!E31=\"\",\"\",DBCS(入力シート!E31))","v":""},{"$f":"ASC(IF(入力シート!F31=\"\",\"\",UPPER(入力シート!F31)))","v":""},{"$f":"IF(入力シート!G31=\"\",\"\",PROPER(入力シート!G31))","v":""},{"$f":"IF(入力シート!H31=\"\",\"\",入力シート!H31&\"性\")","v":""},{"$f":"IF(入力シート!I31=\"\",\"\",TEXT(入力シート!I31,\"yyyy/mm/dd\"))","v":""},null,null,null,null,null,{"$f":"IF(入力シート!J31=\"\",\"\",入力シート!J31)","v":""},{"$f":"IF(入力シート!K31=\"\",\"\",入力シート!K31)","v":""},null,null,null,null,null,null,null,null,null,null,null,null,null,{"$f":"IF(入力シート!H31=\"\",\"\",\"競技者\")","v":""},{"$f":"IF(入力シート!K31=\"\",\"\",入力シート!K31)","v":""},{"$f":"IF(入力シート!L31=\"\",\"\",入力シート!L31)","v":""}]
[{"$f":"IF(入力シート!B32=\"\",\"\",入力シート!B32)","v":""},{"$f":"IF(入力シート!C32=\"\",\"\",入力シート!C32)","v":""},{"$f":"IF(入力シート!D32=\"\",\"\",DBCS(入力シート!D32))","v":""},{"$f":"IF(入力シート!E32=\"\",\"\",DBCS(入力シート!E32))","v":""},{"$f":"ASC(IF(入力シート!F32=\"\",\"\",UPPER(入力シート!F32)))","v":""},{"$f":"IF(入力シート!G32=\"\",\"\",PROPER(入力シート!G32))","v":""},{"$f":"IF(入力シート!H32=\"\",\"\",入力シート!H32&\"性\")","v":""},{"$f":"IF(入力シート!I32=\"\",\"\",TEXT(入力シート!I32,\"yyyy/mm/dd\"))","v":""},null,null,null,null,null,{"$f":"IF(入力シート!J32=\"\",\"\",入力シート!J32)","v":""},{"$f":"IF(入力シート!K32=\"\",\"\",入力シート!K32)","v":""},null,null,null,null,null,null,null,null,null,null,null,null,null,{"$f":"IF(入力シート!H32=\"\",\"\",\"競技者\")","v":""},{"$f":"IF(入力シート!K32=\"\",\"\",入力シート!K32)","v":""},{"$f":"IF(入力シート!L32=\"\",\"\",入力シート!L32)","v":""}]
[{"$f":"IF(入力シート!B33=\"\",\"\",入力シート!B33)","v":""},{"$f":"IF(入力シート!C33=\"\",\"\",入力シート!C33)","v":""},{"$f":"IF(入力シート!D33=\"\",\"\",DBCS(入力シート!D33))","v":""},{"$f":"IF(入力シート!E33=\"\",\"\",DBCS(入力シート!E33))","v":""},{"$f":"ASC(IF(入力シート!F33=\"\",\"\",UPPER(入力シート!F33)))","v":""},{"$f":"IF(入力シート!G33=\"\",\"\",PROPER(入力シート!G33))","v":""},{"$f":"IF(入力シート!H33=\"\",\"\",入力シート!H33&\"性\")","v":""},{"$f":"IF(入力シート!I33=\"\",\"\",TEXT(入力シート!I33,\"yyyy/mm/dd\"))","v":""},null,null,null,null,null,{"$f":"IF(入力シート!J33=\"\",\"\",入力シート!J33)","v":""},{"$f":"IF(入力シート!K33=\"\",\"\",入力シート!K33)","v":""},null,null,null,null,null,null,null,null,null,null,null,null,null,{"$f":"IF(入力シート!H33=\"\",\"\",\"競技者\")","v":""},{"$f":"IF(入力シート!K33=\"\",\"\",入力シート!K33)","v":""},{"$f":"IF(入力シート!L33=\"\",\"\",入力シート!L33)","v":""}]
[{"$f":"IF(入力シート!B34=\"\",\"\",入力シート!B34)","v":""},{"$f":"IF(入力シート!C34=\"\",\"\",入力シート!C34)","v":""},{"$f":"IF(入力シート!D34=\"\",\"\",DBCS(入力シート!D34))","v":""},{"$f":"IF(入力シート!E34=\"\",\"\",DBCS(入力シート!E34))","v":""},{"$f":"ASC(IF(入力シート!F34=\"\",\"\",UPPER(入力シート!F34)))","v":""},{"$f":"IF(入力シート!G34=\"\",\"\",PROPER(入力シート!G34))","v":""},{"$f":"IF(入力シート!H34=\"\",\"\",入力シート!H34&\"性\")","v":""},{"$f":"IF(入力シート!I34=\"\",\"\",TEXT(入力シート!I34,\"yyyy/mm/dd\"))","v":""},null,null,null,null,null,{"$f":"IF(入力シート!J34=\"\",\"\",入力シート!J34)","v":""},{"$f":"IF(入力シート!K34=\"\",\"\",入力シート!K34)","v":""},null,null,null,null,null,null,null,null,null,null,null,null,null,{"$f":"IF(入力シート!H34=\"\",\"\",\"競技者\")","v":""},{"$f":"IF(入力シート!K34=\"\",\"\",入力シート!K34)","v":""},{"$f":"IF(入力シート!L34=\"\",\"\",入力シート!L34)","v":""}]
[{"$f":"IF(入力シート!B35=\"\",\"\",入力シート!B35)","v":""},{"$f":"IF(入力シート!C35=\"\",\"\",入力シート!C35)","v":""},{"$f":"IF(入力シート!D35=\"\",\"\",DBCS(入力シート!D35))","v":""},{"$f":"IF(入力シート!E35=\"\",\"\",DBCS(入力シート!E35))","v":""},{"$f":"ASC(IF(入力シート!F35=\"\",\"\",UPPER(入力シート!F35)))","v":""},{"$f":"IF(入力シート!G35=\"\",\"\",PROPER(入力シート!G35))","v":""},{"$f":"IF(入力シート!H35=\"\",\"\",入力シート!H35&\"性\")","v":""},{"$f":"IF(入力シート!I35=\"\",\"\",TEXT(入力シート!I35,\"yyyy/mm/dd\"))","v":""},null,null,null,null,null,{"$f":"IF(入力シート!J35=\"\",\"\",入力シート!J35)","v":""},{"$f":"IF(入力シート!K35=\"\",\"\",入力シート!K35)","v":""},null,null,null,null,null,null,null,null,null,null,null,null,null,{"$f":"IF(入力シート!H35=\"\",\"\",\"競技者\")","v":""},{"$f":"IF(入力シート!K35=\"\",\"\",入力シート!K35)","v":""},{"$f":"IF(入力シート!L35=\"\",\"\",入力シート!L35)","v":""}]
[{"$f":"IF(入力シート!B36=\"\",\"\",入力シート!B36)","v":""},{"$f":"IF(入力シート!C36=\"\",\"\",入力シート!C36)","v":""},{"$f":"IF(入力シート!D36=\"\",\"\",DBCS(入力シート!D36))","v":""},{"$f":"IF(入力シート!E36=\"\",\"\",DBCS(入力シート!E36))","v":""},{"$f":"ASC(IF(入力シート!F36=\"\",\"\",UPPER(入力シート!F36)))","v":""},{"$f":"IF(入力シート!G36=\"\",\"\",PROPER(入力シート!G36))","v":""},{"$f":"IF(入力シート!H36=\"\",\"\",入力シート!H36&\"性\")","v":""},{"$f":"IF(入力シート!I36=\"\",\"\",TEXT(入力シート!I36,\"yyyy/mm/dd\"))","v":""},null,null,null,null,null,{"$f":"IF(入力シート!J36=\"\",\"\",入力シート!J36)","v":""},{"$f":"IF(入力シート!K36=\"\",\"\",入力シート!K36)","v":""},null,null,null,null,null,null,null,null,null,null,null,null,null,{"$f":"IF(入力シート!H36=\"\",\"\",\"競技者\")","v":""},{"$f":"IF(入力シート!K36=\"\",\"\",入力シート!K36)","v":""},{"$f":"IF(入力シート!L36=\"\",\"\",入力シート!L36)","v":""}]
[{"$f":"IF(入力シート!B37=\"\",\"\",入力シート!B37)","v":""},{"$f":"IF(入力シート!C37=\"\",\"\",入力シート!C37)","v":""},{"$f":"IF(入力シート!D37=\"\",\"\",DBCS(入力シート!D37))","v":""},{"$f":"IF(入力シート!E37=\"\",\"\",DBCS(入力シート!E37))","v":""},{"$f":"ASC(IF(入力シート!F37=\"\",\"\",UPPER(入力シート!F37)))","v":""},{"$f":"IF(入力シート!G37=\"\",\"\",PROPER(入力シート!G37))","v":""},{"$f":"IF(入力シート!H37=\"\",\"\",入力シート!H37&\"性\")","v":""},{"$f":"IF(入力シート!I37=\"\",\"\",TEXT(入力シート!I37,\"yyyy/mm/dd\"))","v":""},null,null,null,null,null,{"$f":"IF(入力シート!J37=\"\",\"\",入力シート!J37)","v":""},{"$f":"IF(入力シート!K37=\"\",\"\",入力シート!K37)","v":""},null,null,null,null,null,null,null,null,null,null,null,null,null,{"$f":"IF(入力シート!H37=\"\",\"\",\"競技者\")","v":""},{"$f":"IF(入力シート!K37=\"\",\"\",入力シート!K37)","v":""},{"$f":"IF(入力シート!L37=\"\",\"\",入力シート!L37)","v":""}]
[{"$f":"IF(入力シート!B38=\"\",\"\",入力シート!B38)","v":""},{"$f":"IF(入力シート!C38=\"\",\"\",入力シート!C38)","v":""},{"$f":"IF(入力シート!D38=\"\",\"\",DBCS(入力シート!D38))","v":""},{"$f":"IF(入力シート!E38=\"\",\"\",DBCS(入力シート!E38))","v":""},{"$f":"ASC(IF(入力シート!F38=\"\",\"\",UPPER(入力シート!F38)))","v":""},{"$f":"IF(入力シート!G38=\"\",\"\",PROPER(入力シート!G38))","v":""},{"$f":"IF(入力シート!H38=\"\",\"\",入力シート!H38&\"性\")","v":""},{"$f":"IF(入力シート!I38=\"\",\"\",TEXT(入力シート!I38,\"yyyy/mm/dd\"))","v":""},null,null,null,null,null,{"$f":"IF(入力シート!J38=\"\",\"\",入力シート!J38)","v":""},{"$f":"IF(入力シート!K38=\"\",\"\",入力シート!K38)","v":""},null,null,null,null,null,null,null,null,null,null,null,null,null,{"$f":"IF(入力シート!H38=\"\",\"\",\"競技者\")","v":""},{"$f":"IF(入力シート!K38=\"\",\"\",入力シート!K38)","v":""},{"$f":"IF(入力シート!L38=\"\",\"\",入力シート!L38)","v":""}]
[{"$f":"IF(入力シート!B39=\"\",\"\",入力シート!B39)","v":""},{"$f":"IF(入力シート!C39=\"\",\"\",入力シート!C39)","v":""},{"$f":"IF(入力シート!D39=\"\",\"\",DBCS(入力シート!D39))","v":""},{"$f":"IF(入力シート!E39=\"\",\"\",DBCS(入力シート!E39))","v":""},{"$f":"ASC(IF(入力シート!F39=\"\",\"\",UPPER(入力シート!F39)))","v":""},{"$f":"IF(入力シート!G39=\"\",\"\",PROPER(入力シート!G39))","v":""},{"$f":"IF(入力シート!H39=\"\",\"\",入力シート!H39&\"性\")","v":""},{"$f":"IF(入力シート!I39=\"\",\"\",TEXT(入力シート!I39,\"yyyy/mm/dd\"))","v":""},null,null,null,null,null,{"$f":"IF(入力シート!J39=\"\",\"\",入力シート!J39)","v":""},{"$f":"IF(入力シート!K39=\"\",\"\",入力シート!K39)","v":""},null,null,null,null,null,null,null,null,null,null,null,null,null,{"$f":"IF(入力シート!H39=\"\",\"\",\"競技者\")","v":""},{"$f":"IF(入力シート!K39=\"\",\"\",入力シート!K39)","v":""},{"$f":"IF(入力シート!L39=\"\",\"\",入力シート!L39)","v":""}]
[{"$f":"IF(入力シート!B40=\"\",\"\",入力シート!B40)","v":""},{"$f":"IF(入力シート!C40=\"\",\"\",入力シート!C40)","v":""},{"$f":"IF(入力シート!D40=\"\",\"\",DBCS(入力シート!D40))","v":""},{"$f":"IF(入力シート!E40=\"\",\"\",DBCS(入力シート!E40))","v":""},{"$f":"ASC(IF(入力シート!F40=\"\",\"\",UPPER(入力シート!F40)))","v":""},{"$f":"IF(入力シート!G40=\"\",\"\",PROPER(入力シート!G40))","v":""},{"$f":"IF(入力シート!H40=\"\",\"\",入力シート!H40&\"性\")","v":""},{"$f":"IF(入力シート!I40=\"\",\"\",TEXT(入力シート!I40,\"yyyy/mm/dd\"))","v":""},null,null,null,null,null,{"$f":"IF(入力シート!J40=\"\",\"\",入力シート!J40)","v":""},{"$f":"IF(入力シート!K40=\"\",\"\",入力シート!K40)","v":""},null,null,null,null,null,null,null,null,null,null,null,null,null,{"$f":"IF(入力シート!H40=\"\",\"\",\"競技者\")","v":""},{"$f":"IF(入力シート!K40=\"\",\"\",入力シート!K40)","v":""},{"$f":"IF(入力シート!L40=\"\",\"\",入力シート!L40)","v":""}]
[{"$f":"IF(入力シート!B41=\"\",\"\",入力シート!B41)","v":""},{"$f":"IF(入力シート!C41=\"\",\"\",入力シート!C41)","v":""},{"$f":"IF(入力シート!D41=\"\",\"\",DBCS(入力シート!D41))","v":""},{"$f":"IF(入力シート!E41=\"\",\"\",DBCS(入力シート!E41))","v":""},{"$f":"ASC(IF(入力シート!F41=\"\",\"\",UPPER(入力シート!F41)))","v":""},{"$f":"IF(入力シート!G41=\"\",\"\",PROPER(入力シート!G41))","v":""},{"$f":"IF(入力シート!H41=\"\",\"\",入力シート!H41&\"性\")","v":""},{"$f":"IF(入力シート!I41=\"\",\"\",TEXT(入力シート!I41,\"yyyy/mm/dd\"))","v":""},null,null,null,null,null,{"$f":"IF(入力シート!J41=\"\",\"\",入力シート!J41)","v":""},{"$f":"IF(入力シート!K41=\"\",\"\",入力シート!K41)","v":""},null,null,null,null,null,null,null,null,null,null,null,null,null,{"$f":"IF(入力シート!H41=\"\",\"\",\"競技者\")","v":""},{"$f":"IF(入力シート!K41=\"\",\"\",入力シート!K41)","v":""},{"$f":"IF(入力シート!L41=\"\",\"\",入力シート!L41)","v":""}]
[{"$f":"IF(入力シート!B42=\"\",\"\",入力シート!B42)","v":""},{"$f":"IF(入力シート!C42=\"\",\"\",入力シート!C42)","v":""},{"$f":"IF(入力シート!D42=\"\",\"\",DBCS(入力シート!D42))","v":""},{"$f":"IF(入力シート!E42=\"\",\"\",DBCS(入力シート!E42))","v":""},{"$f":"ASC(IF(入力シート!F42=\"\",\"\",UPPER(入力シート!F42)))","v":""},{"$f":"IF(入力シート!G42=\"\",\"\",PROPER(入力シート!G42))","v":""},{"$f":"IF(入力シート!H42=\"\",\"\",入力シート!H42&\"性\")","v":""},{"$f":"IF(入力シート!I42=\"\",\"\",TEXT(入力シート!I42,\"yyyy/mm/dd\"))","v":""},null,null,null,null,null,{"$f":"IF(入力シート!J42=\"\",\"\",入力シート!J42)","v":""},{"$f":"IF(入力シート!K42=\"\",\"\",入力シート!K42)","v":""},null,null,null,null,null,null,null,null,null,null,null,null,null,{"$f":"IF(入力シート!H42=\"\",\"\",\"競技者\")","v":""},{"$f":"IF(入力シート!K42=\"\",\"\",入力シート!K42)","v":""},{"$f":"IF(入力シート!L42=\"\",\"\",入力シート!L42)","v":""}]
[{"$f":"IF(入力シート!B43=\"\",\"\",入力シート!B43)","v":""},{"$f":"IF(入力シート!C43=\"\",\"\",入力シート!C43)","v":""},{"$f":"IF(入力シート!D43=\"\",\"\",DBCS(入力シート!D43))","v":""},{"$f":"IF(入力シート!E43=\"\",\"\",DBCS(入力シート!E43))","v":""},{"$f":"ASC(IF(入力シート!F43=\"\",\"\",UPPER(入力シート!F43)))","v":""},{"$f":"IF(入力シート!G43=\"\",\"\",PROPER(入力シート!G43))","v":""},{"$f":"IF(入力シート!H43=\"\",\"\",入力シート!H43&\"性\")","v":""},{"$f":"IF(入力シート!I43=\"\",\"\",TEXT(入力シート!I43,\"yyyy/mm/dd\"))","v":""},null,null,null,null,null,{"$f":"IF(入力シート!J43=\"\",\"\",入力シート!J43)","v":""},{"$f":"IF(入力シート!K43=\"\",\"\",入力シート!K43)","v":""},null,null,null,null,null,null,null,null,null,null,null,null,null,{"$f":"IF(入力シート!H43=\"\",\"\",\"競技者\")","v":""},{"$f":"IF(入力シート!K43=\"\",\"\",入力シート!K43)","v":""},{"$f":"IF(入力シート!L43=\"\",\"\",入力シート!L43)","v":""}]
[{"$f":"IF(入力シート!B44=\"\",\"\",入力シート!B44)","v":""},{"$f":"IF(入力シート!C44=\"\",\"\",入力シート!C44)","v":""},{"$f":"IF(入力シート!D44=\"\",\"\",DBCS(入力シート!D44))","v":""},{"$f":"IF(入力シート!E44=\"\",\"\",DBCS(入力シート!E44))","v":""},{"$f":"ASC(IF(入力シート!F44=\"\",\"\",UPPER(入力シート!F44)))","v":""},{"$f":"IF(入力シート!G44=\"\",\"\",PROPER(入力シート!G44))","v":""},{"$f":"IF(入力シート!H44=\"\",\"\",入力シート!H44&\"性\")","v":""},{"$f":"IF(入力シート!I44=\"\",\"\",TEXT(入力シート!I44,\"yyyy/mm/dd\"))","v":""},null,null,null,null,null,{"$f":"IF(入力シート!J44=\"\",\"\",入力シート!J44)","v":""},{"$f":"IF(入力シート!K44=\"\",\"\",入力シート!K44)","v":""},null,null,null,null,null,null,null,null,null,null,null,null,null,{"$f":"IF(入力シート!H44=\"\",\"\",\"競技者\")","v":""},{"$f":"IF(入力シート!K44=\"\",\"\",入力シート!K44)","v":""},{"$f":"IF(入力シート!L44=\"\",\"\",入力シート!L44)","v":""}]
[{"$f":"IF(入力シート!B45=\"\",\"\",入力シート!B45)","v":""},{"$f":"IF(入力シート!C45=\"\",\"\",入力シート!C45)","v":""},{"$f":"IF(入力シート!D45=\"\",\"\",DBCS(入力シート!D45))","v":""},{"$f":"IF(入力シート!E45=\"\",\"\",DBCS(入力シート!E45))","v":""},{"$f":"ASC(IF(入力シート!F45=\"\",\"\",UPPER(入力シート!F45)))","v":""},{"$f":"IF(入力シート!G45=\"\",\"\",PROPER(入力シート!G45))","v":""},{"$f":"IF(入力シート!H45=\"\",\"\",入力シート!H45&\"性\")","v":""},{"$f":"IF(入力シート!I45=\"\",\"\",TEXT(入力シート!I45,\"yyyy/mm/dd\"))","v":""},null,null,null,null,null,{"$f":"IF(入力シート!J45=\"\",\"\",入力シート!J45)","v":""},{"$f":"IF(入力シート!K45=\"\",\"\",入力シート!K45)","v":""},null,null,null,null,null,null,null,null,null,null,null,null,null,{"$f":"IF(入力シート!H45=\"\",\"\",\"競技者\")","v":""},{"$f":"IF(入力シート!K45=\"\",\"\",入力シート!K45)","v":""},{"$f":"IF(入力シート!L45=\"\",\"\",入力シート!L45)","v":""}]
[{"$f":"IF(入力シート!B46=\"\",\"\",入力シート!B46)","v":""},{"$f":"IF(入力シート!C46=\"\",\"\",入力シート!C46)","v":""},{"$f":"IF(入力シート!D46=\"\",\"\",DBCS(入力シート!D46))","v":""},{"$f":"IF(入力シート!E46=\"\",\"\",DBCS(入力シート!E46))","v":""},{"$f":"ASC(IF(入力シート!F46=\"\",\"\",UPPER(入力シート!F46)))","v":""},{"$f":"IF(入力シート!G46=\"\",\"\",PROPER(入力シート!G46))","v":""},{"$f":"IF(入力シート!H46=\"\",\"\",入力シート!H46&\"性\")","v":""},{"$f":"IF(入力シート!I46=\"\",\"\",TEXT(入力シート!I46,\"yyyy/mm/dd\"))","v":""},null,null,null,null,null,{"$f":"IF(入力シート!J46=\"\",\"\",入力シート!J46)","v":""},{"$f":"IF(入力シート!K46=\"\",\"\",入力シート!K46)","v":""},null,null,null,null,null,null,null,null,null,null,null,null,null,{"$f":"IF(入力シート!H46=\"\",\"\",\"競技者\")","v":""},{"$f":"IF(入力シート!K46=\"\",\"\",入力シート!K46)","v":""},{"$f":"IF(入力シート!L46=\"\",\"\",入力シート!L46)","v":""}]
[{"$f":"IF(入力シート!B47=\"\",\"\",入力シート!B47)","v":""},{"$f":"IF(入力シート!C47=\"\",\"\",入力シート!C47)","v":""},{"$f":"IF(入力シート!D47=\"\",\"\",DBCS(入力シート!D47))","v":""},{"$f":"IF(入力シート!E47=\"\",\"\",DBCS(入力シート!E47))","v":""},{"$f":"ASC(IF(入力シート!F47=\"\",\"\",UPPER(入力シート!F47)))","v":""},{"$f":"IF(入力シート!G47=\"\",\"\",PROPER(入力シート!G47))","v":""},{"$f":"IF(入力シート!H47=\"\",\"\",入力シート!H47&\"性\")","v":""},{"$f":"IF(入力シート!I47=\"\",\"\",TEXT(入力シート!I47,\"yyyy/mm/dd\"))","v":""},null,null,null,null,null,{"$f":"IF(入力シート!J47=\"\",\"\",入力シート!J47)","v":""},{"$f":"IF(入力シート!K47=\"\",\"\",入力シート!K47)","v":""},null,null,null,null,null,null,null,null,null,null,null,null,null,{"$f":"IF(入力シート!H47=\"\",\"\",\"競技者\")","v":""},{"$f":"IF(入力シート!K47=\"\",\"\",入力シート!K47)","v":""},{"$f":"IF(入力シート!L47=\"\",\"\",入力シート!L47)","v":""}]
[{"$f":"IF(入力シート!B48=\"\",\"\",入力シート!B48)","v":""},{"$f":"IF(入力シート!C48=\"\",\"\",入力シート!C48)","v":""},{"$f":"IF(入力シート!D48=\"\",\"\",DBCS(入力シート!D48))","v":""},{"$f":"IF(入力シート!E48=\"\",\"\",DBCS(入力シート!E48))","v":""},{"$f":"ASC(IF(入力シート!F48=\"\",\"\",UPPER(入力シート!F48)))","v":""},{"$f":"IF(入力シート!G48=\"\",\"\",PROPER(入力シート!G48))","v":""},{"$f":"IF(入力シート!H48=\"\",\"\",入力シート!H48&\"性\")","v":""},{"$f":"IF(入力シート!I48=\"\",\"\",TEXT(入力シート!I48,\"yyyy/mm/dd\"))","v":""},null,null,null,null,null,{"$f":"IF(入力シート!J48=\"\",\"\",入力シート!J48)","v":""},{"$f":"IF(入力シート!K48=\"\",\"\",入力シート!K48)","v":""},null,null,null,null,null,null,null,null,null,null,null,null,null,{"$f":"IF(入力シート!H48=\"\",\"\",\"競技者\")","v":""},{"$f":"IF(入力シート!K48=\"\",\"\",入力シート!K48)","v":""},{"$f":"IF(入力シート!L48=\"\",\"\",入力シート!L48)","v":""}]
[{"$f":"IF(入力シート!B49=\"\",\"\",入力シート!B49)","v":""},{"$f":"IF(入力シート!C49=\"\",\"\",入力シート!C49)","v":""},{"$f":"IF(入力シート!D49=\"\",\"\",DBCS(入力シート!D49))","v":""},{"$f":"IF(入力シート!E49=\"\",\"\",DBCS(入力シート!E49))","v":""},{"$f":"ASC(IF(入力シート!F49=\"\",\"\",UPPER(入力シート!F49)))","v":""},{"$f":"IF(入力シート!G49=\"\",\"\",PROPER(入力シート!G49))","v":""},{"$f":"IF(入力シート!H49=\"\",\"\",入力シート!H49&\"性\")","v":""},{"$f":"IF(入力シート!I49=\"\",\"\",TEXT(入力シート!I49,\"yyyy/mm/dd\"))","v":""},null,null,null,null,null,{"$f":"IF(入力シート!J49=\"\",\"\",入力シート!J49)","v":""},{"$f":"IF(入力シート!K49=\"\",\"\",入力シート!K49)","v":""},null,null,null,null,null,null,null,null,null,null,null,null,null,{"$f":"IF(入力シート!H49=\"\",\"\",\"競技者\")","v":""},{"$f":"IF(入力シート!K49=\"\",\"\",入力シート!K49)","v":""},{"$f":"IF(入力シート!L49=\"\",\"\",入力シート!L49)","v":""}]
[{"$f":"IF(入力シート!B50=\"\",\"\",入力シート!B50)","v":""},{"$f":"IF(入力シート!C50=\"\",\"\",入力シート!C50)","v":""},{"$f":"IF(入力シート!D50=\"\",\"\",DBCS(入力シート!D50))","v":""},{"$f":"IF(入力シート!E50=\"\",\"\",DBCS(入力シート!E50))","v":""},{"$f":"ASC(IF(入力シート!F50=\"\",\"\",UPPER(入力シート!F50)))","v":""},{"$f":"IF(入力シート!G50=\"\",\"\",PROPER(入力シート!G50))","v":""},{"$f":"IF(入力シート!H50=\"\",\"\",入力シート!H50&\"性\")","v":""},{"$f":"IF(入力シート!I50=\"\",\"\",TEXT(入力シート!I50,\"yyyy/mm/dd\"))","v":""},null,null,null,null,null,{"$f":"IF(入力シート!J50=\"\",\"\",入力シート!J50)","v":""},{"$f":"IF(入力シート!K50=\"\",\"\",入力シート!K50)","v":""},null,null,null,null,null,null,null,null,null,null,null,null,null,{"$f":"IF(入力シート!H50=\"\",\"\",\"競技者\")","v":""},{"$f":"IF(入力シート!K50=\"\",\"\",入力シート!K50)","v":""},{"$f":"IF(入力シート!L50=\"\",\"\",入力シート!L50)","v":""}]
[{"$f":"IF(入力シート!B51=\"\",\"\",入力シート!B51)","v":""},{"$f":"IF(入力シート!C51=\"\",\"\",入力シート!C51)","v":""},{"$f":"IF(入力シート!D51=\"\",\"\",DBCS(入力シート!D51))","v":""},{"$f":"IF(入力シート!E51=\"\",\"\",DBCS(入力シート!E51))","v":""},{"$f":"ASC(IF(入力シート!F51=\"\",\"\",UPPER(入力シート!F51)))","v":""},{"$f":"IF(入力シート!G51=\"\",\"\",PROPER(入力シート!G51))","v":""},{"$f":"IF(入力シート!H51=\"\",\"\",入力シート!H51&\"性\")","v":""},{"$f":"IF(入力シート!I51=\"\",\"\",TEXT(入力シート!I51,\"yyyy/mm/dd\"))","v":""},null,null,null,null,null,{"$f":"IF(入力シート!J51=\"\",\"\",入力シート!J51)","v":""},{"$f":"IF(入力シート!K51=\"\",\"\",入力シート!K51)","v":""},null,null,null,null,null,null,null,null,null,null,null,null,null,{"$f":"IF(入力シート!H51=\"\",\"\",\"競技者\")","v":""},{"$f":"IF(入力シート!K51=\"\",\"\",入力シート!K51)","v":""},{"$f":"IF(入力シート!L51=\"\",\"\",入力シート!L51)","v":""}]
[{"$f":"IF(入力シート!B52=\"\",\"\",入力シート!B52)","v":""},{"$f":"IF(入力シート!C52=\"\",\"\",入力シート!C52)","v":""},{"$f":"IF(入力シート!D52=\"\",\"\",DBCS(入力シート!D52))","v":""},{"$f":"IF(入力シート!E52=\"\",\"\",DBCS(入力シート!E52))","v":""},{"$f":"ASC(IF(入力シート!F52=\"\",\"\",UPPER(入力シート!F52)))","v":""},{"$f":"IF(入力シート!G52=\"\",\"\",PROPER(入力シート!G52))","v":""},{"$f":"IF(入力シート!H52=\"\",\"\",入力シート!H52&\"性\")","v":""},{"$f":"IF(入力シート!I52=\"\",\"\",TEXT(入力シート!I52,\"yyyy/mm/dd\"))","v":""},null,null,null,null,null,{"$f":"IF(入力シート!J52=\"\",\"\",入力シート!J52)","v":""},{"$f":"IF(入力シート!K52=\"\",\"\",入力シート!K52)","v":""},null,null,null,null,null,null,null,null,null,null,null,null,null,{"$f":"IF(入力シート!H52=\"\",\"\",\"競技者\")","v":""},{"$f":"IF(入力シート!K52=\"\",\"\",入力シート!K52)","v":""},{"$f":"IF(入力シート!L52=\"\",\"\",入力シート!L52)","v":""}]
[{"$f":"IF(入力シート!B53=\"\",\"\",入力シート!B53)","v":""},{"$f":"IF(入力シート!C53=\"\",\"\",入力シート!C53)","v":""},{"$f":"IF(入力シート!D53=\"\",\"\",DBCS(入力シート!D53))","v":""},{"$f":"IF(入力シート!E53=\"\",\"\",DBCS(入力シート!E53))","v":""},{"$f":"ASC(IF(入力シート!F53=\"\",\"\",UPPER(入力シート!F53)))","v":""},{"$f":"IF(入力シート!G53=\"\",\"\",PROPER(入力シート!G53))","v":""},{"$f":"IF(入力シート!H53=\"\",\"\",入力シート!H53&\"性\")","v":""},{"$f":"IF(入力シート!I53=\"\",\"\",TEXT(入力シート!I53,\"yyyy/mm/dd\"))","v":""},null,null,null,null,null,{"$f":"IF(入力シート!J53=\"\",\"\",入力シート!J53)","v":""},{"$f":"IF(入力シート!K53=\"\",\"\",入力シート!K53)","v":""},null,null,null,null,null,null,null,null,null,null,null,null,null,{"$f":"IF(入力シート!H53=\"\",\"\",\"競技者\")","v":""},{"$f":"IF(入力シート!K53=\"\",\"\",入力シート!K53)","v":""},{"$f":"IF(入力シート!L53=\"\",\"\",入力シート!L53)","v":""}]
[{"$f":"IF(入力シート!B54=\"\",\"\",入力シート!B54)","v":""},{"$f":"IF(入力シート!C54=\"\",\"\",入力シート!C54)","v":""},{"$f":"IF(入力シート!D54=\"\",\"\",DBCS(入力シート!D54))","v":""},{"$f":"IF(入力シート!E54=\"\",\"\",DBCS(入力シート!E54))","v":""},{"$f":"ASC(IF(入力シート!F54=\"\",\"\",UPPER(入力シート!F54)))","v":""},{"$f":"IF(入力シート!G54=\"\",\"\",PROPER(入力シート!G54))","v":""},{"$f":"IF(入力シート!H54=\"\",\"\",入力シート!H54&\"性\")","v":""},{"$f":"IF(入力シート!I54=\"\",\"\",TEXT(入力シート!I54,\"yyyy/mm/dd\"))","v":""},null,null,null,null,null,{"$f":"IF(入力シート!J54=\"\",\"\",入力シート!J54)","v":""},{"$f":"IF(入力シート!K54=\"\",\"\",入力シート!K54)","v":""},null,null,null,null,null,null,null,null,null,null,null,null,null,{"$f":"IF(入力シート!H54=\"\",\"\",\"競技者\")","v":""},{"$f":"IF(入力シート!K54=\"\",\"\",入力シート!K54)","v":""},{"$f":"IF(入力シート!L54=\"\",\"\",入力シート!L54)","v":""}]
[{"$f":"IF(入力シート!B55=\"\",\"\",入力シート!B55)","v":""},{"$f":"IF(入力シート!C55=\"\",\"\",入力シート!C55)","v":""},{"$f":"IF(入力シート!D55=\"\",\"\",DBCS(入力シート!D55))","v":""},{"$f":"IF(入力シート!E55=\"\",\"\",DBCS(入力シート!E55))","v":""},{"$f":"ASC(IF(入力シート!F55=\"\",\"\",UPPER(入力シート!F55)))","v":""},{"$f":"IF(入力シート!G55=\"\",\"\",PROPER(入力シート!G55))","v":""},{"$f":"IF(入力シート!H55=\"\",\"\",入力シート!H55&\"性\")","v":""},{"$f":"IF(入力シート!I55=\"\",\"\",TEXT(入力シート!I55,\"yyyy/mm/dd\"))","v":""},null,null,null,null,null,{"$f":"IF(入力シート!J55=\"\",\"\",入力シート!J55)","v":""},{"$f":"IF(入力シート!K55=\"\",\"\",入力シート!K55)","v":""},null,null,null,null,null,null,null,null,null,null,null,null,null,{"$f":"IF(入力シート!H55=\"\",\"\",\"競技者\")","v":""},{"$f":"IF(入力シート!K55=\"\",\"\",入力シート!K55)","v":""},{"$f":"IF(入力シート!L55=\"\",\"\",入力シート!L55)","v":""}]
[{"$f":"IF(入力シート!B56=\"\",\"\",入力シート!B56)","v":""},{"$f":"IF(入力シート!C56=\"\",\"\",入力シート!C56)","v":""},{"$f":"IF(入力シート!D56=\"\",\"\",DBCS(入力シート!D56))","v":""},{"$f":"IF(入力シート!E56=\"\",\"\",DBCS(入力シート!E56))","v":""},{"$f":"ASC(IF(入力シート!F56=\"\",\"\",UPPER(入力シート!F56)))","v":""},{"$f":"IF(入力シート!G56=\"\",\"\",PROPER(入力シート!G56))","v":""},{"$f":"IF(入力シート!H56=\"\",\"\",入力シート!H56&\"性\")","v":""},{"$f":"IF(入力シート!I56=\"\",\"\",TEXT(入力シート!I56,\"yyyy/mm/dd\"))","v":""},null,null,null,null,null,{"$f":"IF(入力シート!J56=\"\",\"\",入力シート!J56)","v":""},{"$f":"IF(入力シート!K56=\"\",\"\",入力シート!K56)","v":""},null,null,null,null,null,null,null,null,null,null,null,null,null,{"$f":"IF(入力シート!H56=\"\",\"\",\"競技者\")","v":""},{"$f":"IF(入力シート!K56=\"\",\"\",入力シート!K56)","v":""},{"$f":"IF(入力シート!L56=\"\",\"\",入力シート!L56)","v":""}]
[{"$f":"IF(入力シート!B57=\"\",\"\",入力シート!B57)","v":""},{"$f":"IF(入力シート!C57=\"\",\"\",入力シート!C57)","v":""},{"$f":"IF(入力シート!D57=\"\",\"\",DBCS(入力シート!D57))","v":""},{"$f":"IF(入力シート!E57=\"\",\"\",DBCS(入力シート!E57))","v":""},{"$f":"ASC(IF(入力シート!F57=\"\",\"\",UPPER(入力シート!F57)))","v":""},{"$f":"IF(入力シート!G57=\"\",\"\",PROPER(入力シート!G57))","v":""},{"$f":"IF(入力シート!H57=\"\",\"\",入力シート!H57&\"性\")","v":""},{"$f":"IF(入力シート!I57=\"\",\"\",TEXT(入力シート!I57,\"yyyy/mm/dd\"))","v":""},null,null,null,null,null,{"$f":"IF(入力シート!J57=\"\",\"\",入力シート!J57)","v":""},{"$f":"IF(入力シート!K57=\"\",\"\",入力シート!K57)","v":""},null,null,null,null,null,null,null,null,null,null,null,null,null,{"$f":"IF(入力シート!H57=\"\",\"\",\"競技者\")","v":""},{"$f":"IF(入力シート!K57=\"\",\"\",入力シート!K57)","v":""},{"$f":"IF(入力シート!L57=\"\",\"\",入力シート!L57)","v":""}]
[{"$f":"IF(入力シート!B58=\"\",\"\",入力シート!B58)","v":""},{"$f":"IF(入力シート!C58=\"\",\"\",入力シート!C58)","v":""},{"$f":"IF(入力シート!D58=\"\",\"\",DBCS(入力シート!D58))","v":""},{"$f":"IF(入力シート!E58=\"\",\"\",DBCS(入力シート!E58))","v":""},{"$f":"ASC(IF(入力シート!F58=\"\",\"\",UPPER(入力シート!F58)))","v":""},{"$f":"IF(入力シート!G58=\"\",\"\",PROPER(入力シート!G58))","v":""},{"$f":"IF(入力シート!H58=\"\",\"\",入力シート!H58&\"性\")","v":""},{"$f":"IF(入力シート!I58=\"\",\"\",TEXT(入力シート!I58,\"yyyy/mm/dd\"))","v":""},null,null,null,null,null,{"$f":"IF(入力シート!J58=\"\",\"\",入力シート!J58)","v":""},{"$f":"IF(入力シート!K58=\"\",\"\",入力シート!K58)","v":""},null,null,null,null,null,null,null,null,null,null,null,null,null,{"$f":"IF(入力シート!H58=\"\",\"\",\"競技者\")","v":""},{"$f":"IF(入力シート!K58=\"\",\"\",入力シート!K58)","v":""},{"$f":"IF(入力シート!L58=\"\",\"\",入力シート!L58)","v":""}]
[{"$f":"IF(入力シート!B59=\"\",\"\",入力シート!B59)","v":""},{"$f":"IF(入力シート!C59=\"\",\"\",入力シート!C59)","v":""},{"$f":"IF(入力シート!D59=\"\",\"\",DBCS(入力シート!D59))","v":""},{"$f":"IF(入力シート!E59=\"\",\"\",DBCS(入力シート!E59))","v":""},{"$f":"ASC(IF(入力シート!F59=\"\",\"\",UPPER(入力シート!F59)))","v":""},{"$f":"IF(入力シート!G59=\"\",\"\",PROPER(入力シート!G59))","v":""},{"$f":"IF(入力シート!H59=\"\",\"\",入力シート!H59&\"性\")","v":""},{"$f":"IF(入力シート!I59=\"\",\"\",TEXT(入力シート!I59,\"yyyy/mm/dd\"))","v":""},null,null,null,null,null,{"$f":"IF(入力シート!J59=\"\",\"\",入力シート!J59)","v":""},{"$f":"IF(入力シート!K59=\"\",\"\",入力シート!K59)","v":""},null,null,null,null,null,null,null,null,null,null,null,null,null,{"$f":"IF(入力シート!H59=\"\",\"\",\"競技者\")","v":""},{"$f":"IF(入力シート!K59=\"\",\"\",入力シート!K59)","v":""},{"$f":"IF(入力シート!L59=\"\",\"\",入力シート!L59)","v":""}]
[{"$f":"IF(入力シート!B60=\"\",\"\",入力シート!B60)","v":""},{"$f":"IF(入力シート!C60=\"\",\"\",入力シート!C60)","v":""},{"$f":"IF(入力シート!D60=\"\",\"\",DBCS(入力シート!D60))","v":""},{"$f":"IF(入力シート!E60=\"\",\"\",DBCS(入力シート!E60))","v":""},{"$f":"ASC(IF(入力シート!F60=\"\",\"\",UPPER(入力シート!F60)))","v":""},{"$f":"IF(入力シート!G60=\"\",\"\",PROPER(入力シート!G60))","v":""},{"$f":"IF(入力シート!H60=\"\",\"\",入力シート!H60&\"性\")","v":""},{"$f":"IF(入力シート!I60=\"\",\"\",TEXT(入力シート!I60,\"yyyy/mm/dd\"))","v":""},null,null,null,null,null,{"$f":"IF(入力シート!J60=\"\",\"\",入力シート!J60)","v":""},{"$f":"IF(入力シート!K60=\"\",\"\",入力シート!K60)","v":""},null,null,null,null,null,null,null,null,null,null,null,null,null,{"$f":"IF(入力シート!H60=\"\",\"\",\"競技者\")","v":""},{"$f":"IF(入力シート!K60=\"\",\"\",入力シート!K60)","v":""},{"$f":"IF(入力シート!L60=\"\",\"\",入力シート!L60)","v":""}]
[{"$f":"IF(入力シート!B61=\"\",\"\",入力シート!B61)","v":""},{"$f":"IF(入力シート!C61=\"\",\"\",入力シート!C61)","v":""},{"$f":"IF(入力シート!D61=\"\",\"\",DBCS(入力シート!D61))","v":""},{"$f":"IF(入力シート!E61=\"\",\"\",DBCS(入力シート!E61))","v":""},{"$f":"ASC(IF(入力シート!F61=\"\",\"\",UPPER(入力シート!F61)))","v":""},{"$f":"IF(入力シート!G61=\"\",\"\",PROPER(入力シート!G61))","v":""},{"$f":"IF(入力シート!H61=\"\",\"\",入力シート!H61&\"性\")","v":""},{"$f":"IF(入力シート!I61=\"\",\"\",TEXT(入力シート!I61,\"yyyy/mm/dd\"))","v":""},null,null,null,null,null,{"$f":"IF(入力シート!J61=\"\",\"\",入力シート!J61)","v":""},{"$f":"IF(入力シート!K61=\"\",\"\",入力シート!K61)","v":""},null,null,null,null,null,null,null,null,null,null,null,null,null,{"$f":"IF(入力シート!H61=\"\",\"\",\"競技者\")","v":""},{"$f":"IF(入力シート!K61=\"\",\"\",入力シート!K61)","v":""},{"$f":"IF(入力シート!L61=\"\",\"\",入力シート!L61)","v":""}]
[{"$f":"IF(入力シート!B62=\"\",\"\",入力シート!B62)","v":""},{"$f":"IF(入力シート!C62=\"\",\"\",入力シート!C62)","v":""},{"$f":"IF(入力シート!D62=\"\",\"\",DBCS(入力シート!D62))","v":""},{"$f":"IF(入力シート!E62=\"\",\"\",DBCS(入力シート!E62))","v":""},{"$f":"ASC(IF(入力シート!F62=\"\",\"\",UPPER(入力シート!F62)))","v":""},{"$f":"IF(入力シート!G62=\"\",\"\",PROPER(入力シート!G62))","v":""},{"$f":"IF(入力シート!H62=\"\",\"\",入力シート!H62&\"性\")","v":""},{"$f":"IF(入力シート!I62=\"\",\"\",TEXT(入力シート!I62,\"yyyy/mm/dd\"))","v":""},null,null,null,null,null,{"$f":"IF(入力シート!J62=\"\",\"\",入力シート!J62)","v":""},{"$f":"IF(入力シート!K62=\"\",\"\",入力シート!K62)","v":""},null,null,null,null,null,null,null,null,null,null,null,null,null,{"$f":"IF(入力シート!H62=\"\",\"\",\"競技者\")","v":""},{"$f":"IF(入力シート!K62=\"\",\"\",入力シート!K62)","v":""},{"$f":"IF(入力シート!L62=\"\",\"\",入力シート!L62)","v":""}]
[{"$f":"IF(入力シート!B63=\"\",\"\",入力シート!B63)","v":""},{"$f":"IF(入力シート!C63=\"\",\"\",入力シート!C63)","v":""},{"$f":"IF(入力シート!D63=\"\",\"\",DBCS(入力シート!D63))","v":""},{"$f":"IF(入力シート!E63=\"\",\"\",DBCS(入力シート!E63))","v":""},{"$f":"ASC(IF(入力シート!F63=\"\",\"\",UPPER(入力シート!F63)))","v":""},{"$f":"IF(入力シート!G63=\"\",\"\",PROPER(入力シート!G63))","v":""},{"$f":"IF(入力シート!H63=\"\",\"\",入力シート!H63&\"性\")","v":""},{"$f":"IF(入力シート!I63=\"\",\"\",TEXT(入力シート!I63,\"yyyy/mm/dd\"))","v":""},null,null,null,null,null,{"$f":"IF(入力シート!J63=\"\",\"\",入力シート!J63)","v":""},{"$f":"IF(入力シート!K63=\"\",\"\",入力シート!K63)","v":""},null,null,null,null,null,null,null,null,null,null,null,null,null,{"$f":"IF(入力シート!H63=\"\",\"\",\"競技者\")","v":""},{"$f":"IF(入力シート!K63=\"\",\"\",入力シート!K63)","v":""},{"$f":"IF(入力シート!L63=\"\",\"\",入力シート!L63)","v":""}]
[{"$f":"IF(入力シート!B64=\"\",\"\",入力シート!B64)","v":""},{"$f":"IF(入力シート!C64=\"\",\"\",入力シート!C64)","v":""},{"$f":"IF(入力シート!D64=\"\",\"\",DBCS(入力シート!D64))","v":""},{"$f":"IF(入力シート!E64=\"\",\"\",DBCS(入力シート!E64))","v":""},{"$f":"ASC(IF(入力シート!F64=\"\",\"\",UPPER(入力シート!F64)))","v":""},{"$f":"IF(入力シート!G64=\"\",\"\",PROPER(入力シート!G64))","v":""},{"$f":"IF(入力シート!H64=\"\",\"\",入力シート!H64&\"性\")","v":""},{"$f":"IF(入力シート!I64=\"\",\"\",TEXT(入力シート!I64,\"yyyy/mm/dd\"))","v":""},null,null,null,null,null,{"$f":"IF(入力シート!J64=\"\",\"\",入力シート!J64)","v":""},{"$f":"IF(入力シート!K64=\"\",\"\",入力シート!K64)","v":""},null,null,null,null,null,null,null,null,null,null,null,null,null,{"$f":"IF(入力シート!H64=\"\",\"\",\"競技者\")","v":""},{"$f":"IF(入力シート!K64=\"\",\"\",入力シート!K64)","v":""},{"$f":"IF(入力シート!L64=\"\",\"\",入力シート!L64)","v":""}]
[{"$f":"IF(入力シート!B65=\"\",\"\",入力シート!B65)","v":""},{"$f":"IF(入力シート!C65=\"\",\"\",入力シート!C65)","v":""},{"$f":"IF(入力シート!D65=\"\",\"\",DBCS(入力シート!D65))","v":""},{"$f":"IF(入力シート!E65=\"\",\"\",DBCS(入力シート!E65))","v":""},{"$f":"ASC(IF(入力シート!F65=\"\",\"\",UPPER(入力シート!F65)))","v":""},{"$f":"IF(入力シート!G65=\"\",\"\",PROPER(入力シート!G65))","v":""},{"$f":"IF(入力シート!H65=\"\",\"\",入力シート!H65&\"性\")","v":""},{"$f":"IF(入力シート!I65=\"\",\"\",TEXT(入力シート!I65,\"yyyy/mm/dd\"))","v":""},null,null,null,null,null,{"$f":"IF(入力シート!J65=\"\",\"\",入力シート!J65)","v":""},{"$f":"IF(入力シート!K65=\"\",\"\",入力シート!K65)","v":""},null,null,null,null,null,null,null,null,null,null,null,null,null,{"$f":"IF(入力シート!H65=\"\",\"\",\"競技者\")","v":""},{"$f":"IF(入力シート!K65=\"\",\"\",入力シート!K65)","v":""},{"$f":"IF(入力シート!L65=\"\",\"\",入力シート!L65)","v":""}]
[{"$f":"IF(入力シート!B66=\"\",\"\",入力シート!B66)","v":""},{"$f":"IF(入力シート!C66=\"\",\"\",入力シート!C66)","v":""},{"$f":"IF(入力シート!D66=\"\",\"\",DBCS(入力シート!D66))","v":""},{"$f":"IF(入力シート!E66=\"\",\"\",DBCS(入力シート!E66))","v":""},{"$f":"ASC(IF(入力シート!F66=\"\",\"\",UPPER(入力シート!F66)))","v":""},{"$f":"IF(入力シート!G66=\"\",\"\",PROPER(入力シート!G66))","v":""},{"$f":"IF(入力シート!H66=\"\",\"\",入力シート!H66&\"性\")","v":""},{"$f":"IF(入力シート!I66=\"\",\"\",TEXT(入力シート!I66,\"yyyy/mm/dd\"))","v":""},null,null,null,null,null,{"$f":"IF(入力シート!J66=\"\",\"\",入力シート!J66)","v":""},{"$f":"IF(入力シート!K66=\"\",\"\",入力シート!K66)","v":""},null,null,null,null,null,null,null,null,null,null,null,null,null,{"$f":"IF(入力シート!H66=\"\",\"\",\"競技者\")","v":""},{"$f":"IF(入力シート!K66=\"\",\"\",入力シート!K66)","v":""},{"$f":"IF(入力シート!L66=\"\",\"\",入力シート!L66)","v":""}]
[{"$f":"IF(入力シート!B67=\"\",\"\",入力シート!B67)","v":""},{"$f":"IF(入力シート!C67=\"\",\"\",入力シート!C67)","v":""},{"$f":"IF(入力シート!D67=\"\",\"\",DBCS(入力シート!D67))","v":""},{"$f":"IF(入力シート!E67=\"\",\"\",DBCS(入力シート!E67))","v":""},{"$f":"ASC(IF(入力シート!F67=\"\",\"\",UPPER(入力シート!F67)))","v":""},{"$f":"IF(入力シート!G67=\"\",\"\",PROPER(入力シート!G67))","v":""},{"$f":"IF(入力シート!H67=\"\",\"\",入力シート!H67&\"性\")","v":""},{"$f":"IF(入力シート!I67=\"\",\"\",TEXT(入力シート!I67,\"yyyy/mm/dd\"))","v":""},null,null,null,null,null,{"$f":"IF(入力シート!J67=\"\",\"\",入力シート!J67)","v":""},{"$f":"IF(入力シート!K67=\"\",\"\",入力シート!K67)","v":""},null,null,null,null,null,null,null,null,null,null,null,null,null,{"$f":"IF(入力シート!H67=\"\",\"\",\"競技者\")","v":""},{"$f":"IF(入力シート!K67=\"\",\"\",入力シート!K67)","v":""},{"$f":"IF(入力シート!L67=\"\",\"\",入力シート!L67)","v":""}]
[{"$f":"IF(入力シート!B68=\"\",\"\",入力シート!B68)","v":""},{"$f":"IF(入力シート!C68=\"\",\"\",入力シート!C68)","v":""},{"$f":"IF(入力シート!D68=\"\",\"\",DBCS(入力シート!D68))","v":""},{"$f":"IF(入力シート!E68=\"\",\"\",DBCS(入力シート!E68))","v":""},{"$f":"ASC(IF(入力シート!F68=\"\",\"\",UPPER(入力シート!F68)))","v":""},{"$f":"IF(入力シート!G68=\"\",\"\",PROPER(入力シート!G68))","v":""},{"$f":"IF(入力シート!H68=\"\",\"\",入力シート!H68&\"性\")","v":""},{"$f":"IF(入力シート!I68=\"\",\"\",TEXT(入力シート!I68,\"yyyy/mm/dd\"))","v":""},null,null,null,null,null,{"$f":"IF(入力シート!J68=\"\",\"\",入力シート!J68)","v":""},{"$f":"IF(入力シート!K68=\"\",\"\",入力シート!K68)","v":""},null,null,null,null,null,null,null,null,null,null,null,null,null,{"$f":"IF(入力シート!H68=\"\",\"\",\"競技者\")","v":""},{"$f":"IF(入力シート!K68=\"\",\"\",入力シート!K68)","v":""},{"$f":"IF(入力シート!L68=\"\",\"\",入力シート!L68)","v":""}]
[{"$f":"IF(入力シート!B69=\"\",\"\",入力シート!B69)","v":""},{"$f":"IF(入力シート!C69=\"\",\"\",入力シート!C69)","v":""},{"$f":"IF(入力シート!D69=\"\",\"\",DBCS(入力シート!D69))","v":""},{"$f":"IF(入力シート!E69=\"\",\"\",DBCS(入力シート!E69))","v":""},{"$f":"ASC(IF(入力シート!F69=\"\",\"\",UPPER(入力シート!F69)))","v":""},{"$f":"IF(入力シート!G69=\"\",\"\",PROPER(入力シート!G69))","v":""},{"$f":"IF(入力シート!H69=\"\",\"\",入力シート!H69&\"性\")","v":""},{"$f":"IF(入力シート!I69=\"\",\"\",TEXT(入力シート!I69,\"yyyy/mm/dd\"))","v":""},null,null,null,null,null,{"$f":"IF(入力シート!J69=\"\",\"\",入力シート!J69)","v":""},{"$f":"IF(入力シート!K69=\"\",\"\",入力シート!K69)","v":""},null,null,null,null,null,null,null,null,null,null,null,null,null,{"$f":"IF(入力シート!H69=\"\",\"\",\"競技者\")","v":""},{"$f":"IF(入力シート!K69=\"\",\"\",入力シート!K69)","v":""},{"$f":"IF(入力シート!L69=\"\",\"\",入力シート!L69)","v":""}]
[{"$f":"IF(入力シート!B70=\"\",\"\",入力シート!B70)","v":""},{"$f":"IF(入力シート!C70=\"\",\"\",入力シート!C70)","v":""},{"$f":"IF(入力シート!D70=\"\",\"\",DBCS(入力シート!D70))","v":""},{"$f":"IF(入力シート!E70=\"\",\"\",DBCS(入力シート!E70))","v":""},{"$f":"ASC(IF(入力シート!F70=\"\",\"\",UPPER(入力シート!F70)))","v":""},{"$f":"IF(入力シート!G70=\"\",\"\",PROPER(入力シート!G70))","v":""},{"$f":"IF(入力シート!H70=\"\",\"\",入力シート!H70&\"性\")","v":""},{"$f":"IF(入力シート!I70=\"\",\"\",TEXT(入力シート!I70,\"yyyy/mm/dd\"))","v":""},null,null,null,null,null,{"$f":"IF(入力シート!J70=\"\",\"\",入力シート!J70)","v":""},{"$f":"IF(入力シート!K70=\"\",\"\",入力シート!K70)","v":""},null,null,null,null,null,null,null,null,null,null,null,null,null,{"$f":"IF(入力シート!H70=\"\",\"\",\"競技者\")","v":""},{"$f":"IF(入力シート!K70=\"\",\"\",入力シート!K70)","v":""},{"$f":"IF(入力シート!L70=\"\",\"\",入力シート!L70)","v":""}]
[{"$f":"IF(入力シート!B71=\"\",\"\",入力シート!B71)","v":""},{"$f":"IF(入力シート!C71=\"\",\"\",入力シート!C71)","v":""},{"$f":"IF(入力シート!D71=\"\",\"\",DBCS(入力シート!D71))","v":""},{"$f":"IF(入力シート!E71=\"\",\"\",DBCS(入力シート!E71))","v":""},{"$f":"ASC(IF(入力シート!F71=\"\",\"\",UPPER(入力シート!F71)))","v":""},{"$f":"IF(入力シート!G71=\"\",\"\",PROPER(入力シート!G71))","v":""},{"$f":"IF(入力シート!H71=\"\",\"\",入力シート!H71&\"性\")","v":""},{"$f":"IF(入力シート!I71=\"\",\"\",TEXT(入力シート!I71,\"yyyy/mm/dd\"))","v":""},null,null,null,null,null,{"$f":"IF(入力シート!J71=\"\",\"\",入力シート!J71)","v":""},{"$f":"IF(入力シート!K71=\"\",\"\",入力シート!K71)","v":""},null,null,null,null,null,null,null,null,null,null,null,null,null,{"$f":"IF(入力シート!H71=\"\",\"\",\"競技者\")","v":""},{"$f":"IF(入力シート!K71=\"\",\"\",入力シート!K71)","v":""},{"$f":"IF(入力シート!L71=\"\",\"\",入力シート!L71)","v":""}]
[{"$f":"IF(入力シート!B72=\"\",\"\",入力シート!B72)","v":""},{"$f":"IF(入力シート!C72=\"\",\"\",入力シート!C72)","v":""},{"$f":"IF(入力シート!D72=\"\",\"\",DBCS(入力シート!D72))","v":""},{"$f":"IF(入力シート!E72=\"\",\"\",DBCS(入力シート!E72))","v":""},{"$f":"ASC(IF(入力シート!F72=\"\",\"\",UPPER(入力シート!F72)))","v":""},{"$f":"IF(入力シート!G72=\"\",\"\",PROPER(入力シート!G72))","v":""},{"$f":"IF(入力シート!H72=\"\",\"\",入力シート!H72&\"性\")","v":""},{"$f":"IF(入力シート!I72=\"\",\"\",TEXT(入力シート!I72,\"yyyy/mm/dd\"))","v":""},null,null,null,null,null,{"$f":"IF(入力シート!J72=\"\",\"\",入力シート!J72)","v":""},{"$f":"IF(入力シート!K72=\"\",\"\",入力シート!K72)","v":""},null,null,null,null,null,null,null,null,null,null,null,null,null,{"$f":"IF(入力シート!H72=\"\",\"\",\"競技者\")","v":""},{"$f":"IF(入力シート!K72=\"\",\"\",入力シート!K72)","v":""},{"$f":"IF(入力シート!L72=\"\",\"\",入力シート!L72)","v":""}]
[{"$f":"IF(入力シート!B73=\"\",\"\",入力シート!B73)","v":""},{"$f":"IF(入力シート!C73=\"\",\"\",入力シート!C73)","v":""},{"$f":"IF(入力シート!D73=\"\",\"\",DBCS(入力シート!D73))","v":""},{"$f":"IF(入力シート!E73=\"\",\"\",DBCS(入力シート!E73))","v":""},{"$f":"ASC(IF(入力シート!F73=\"\",\"\",UPPER(入力シート!F73)))","v":""},{"$f":"IF(入力シート!G73=\"\",\"\",PROPER(入力シート!G73))","v":""},{"$f":"IF(入力シート!H73=\"\",\"\",入力シート!H73&\"性\")","v":""},{"$f":"IF(入力シート!I73=\"\",\"\",TEXT(入力シート!I73,\"yyyy/mm/dd\"))","v":""},null,null,null,null,null,{"$f":"IF(入力シート!J73=\"\",\"\",入力シート!J73)","v":""},{"$f":"IF(入力シート!K73=\"\",\"\",入力シート!K73)","v":""},null,null,null,null,null,null,null,null,null,null,null,null,null,{"$f":"IF(入力シート!H73=\"\",\"\",\"競技者\")","v":""},{"$f":"IF(入力シート!K73=\"\",\"\",入力シート!K73)","v":""},{"$f":"IF(入力シート!L73=\"\",\"\",入力シート!L73)","v":""}]
[{"$f":"IF(入力シート!B74=\"\",\"\",入力シート!B74)","v":""},{"$f":"IF(入力シート!C74=\"\",\"\",入力シート!C74)","v":""},{"$f":"IF(入力シート!D74=\"\",\"\",DBCS(入力シート!D74))","v":""},{"$f":"IF(入力シート!E74=\"\",\"\",DBCS(入力シート!E74))","v":""},{"$f":"ASC(IF(入力シート!F74=\"\",\"\",UPPER(入力シート!F74)))","v":""},{"$f":"IF(入力シート!G74=\"\",\"\",PROPER(入力シート!G74))","v":""},{"$f":"IF(入力シート!H74=\"\",\"\",入力シート!H74&\"性\")","v":""},{"$f":"IF(入力シート!I74=\"\",\"\",TEXT(入力シート!I74,\"yyyy/mm/dd\"))","v":""},null,null,null,null,null,{"$f":"IF(入力シート!J74=\"\",\"\",入力シート!J74)","v":""},{"$f":"IF(入力シート!K74=\"\",\"\",入力シート!K74)","v":""},null,null,null,null,null,null,null,null,null,null,null,null,null,{"$f":"IF(入力シート!H74=\"\",\"\",\"競技者\")","v":""},{"$f":"IF(入力シート!K74=\"\",\"\",入力シート!K74)","v":""},{"$f":"IF(入力シート!L74=\"\",\"\",入力シート!L74)","v":""}]
[{"$f":"IF(入力シート!B75=\"\",\"\",入力シート!B75)","v":""},{"$f":"IF(入力シート!C75=\"\",\"\",入力シート!C75)","v":""},{"$f":"IF(入力シート!D75=\"\",\"\",DBCS(入力シート!D75))","v":""},{"$f":"IF(入力シート!E75=\"\",\"\",DBCS(入力シート!E75))","v":""},{"$f":"ASC(IF(入力シート!F75=\"\",\"\",UPPER(入力シート!F75)))","v":""},{"$f":"IF(入力シート!G75=\"\",\"\",PROPER(入力シート!G75))","v":""},{"$f":"IF(入力シート!H75=\"\",\"\",入力シート!H75&\"性\")","v":""},{"$f":"IF(入力シート!I75=\"\",\"\",TEXT(入力シート!I75,\"yyyy/mm/dd\"))","v":""},null,null,null,null,null,{"$f":"IF(入力シート!J75=\"\",\"\",入力シート!J75)","v":""},{"$f":"IF(入力シート!K75=\"\",\"\",入力シート!K75)","v":""},null,null,null,null,null,null,null,null,null,null,null,null,null,{"$f":"IF(入力シート!H75=\"\",\"\",\"競技者\")","v":""},{"$f":"IF(入力シート!K75=\"\",\"\",入力シート!K75)","v":""},{"$f":"IF(入力シート!L75=\"\",\"\",入力シート!L75)","v":""}]
[{"$f":"IF(入力シート!B76=\"\",\"\",入力シート!B76)","v":""},{"$f":"IF(入力シート!C76=\"\",\"\",入力シート!C76)","v":""},{"$f":"IF(入力シート!D76=\"\",\"\",DBCS(入力シート!D76))","v":""},{"$f":"IF(入力シート!E76=\"\",\"\",DBCS(入力シート!E76))","v":""},{"$f":"ASC(IF(入力シート!F76=\"\",\"\",UPPER(入力シート!F76)))","v":""},{"$f":"IF(入力シート!G76=\"\",\"\",PROPER(入力シート!G76))","v":""},{"$f":"IF(入力シート!H76=\"\",\"\",入力シート!H76&\"性\")","v":""},{"$f":"IF(入力シート!I76=\"\",\"\",TEXT(入力シート!I76,\"yyyy/mm/dd\"))","v":""},null,null,null,null,null,{"$f":"IF(入力シート!J76=\"\",\"\",入力シート!J76)","v":""},{"$f":"IF(入力シート!K76=\"\",\"\",入力シート!K76)","v":""},null,null,null,null,null,null,null,null,null,null,null,null,null,{"$f":"IF(入力シート!H76=\"\",\"\",\"競技者\")","v":""},{"$f":"IF(入力シート!K76=\"\",\"\",入力シート!K76)","v":""},{"$f":"IF(入力シート!L76=\"\",\"\",入力シート!L76)","v":""}]
[{"$f":"IF(入力シート!B77=\"\",\"\",入力シート!B77)","v":""},{"$f":"IF(入力シート!C77=\"\",\"\",入力シート!C77)","v":""},{"$f":"IF(入力シート!D77=\"\",\"\",DBCS(入力シート!D77))","v":""},{"$f":"IF(入力シート!E77=\"\",\"\",DBCS(入力シート!E77))","v":""},{"$f":"ASC(IF(入力シート!F77=\"\",\"\",UPPER(入力シート!F77)))","v":""},{"$f":"IF(入力シート!G77=\"\",\"\",PROPER(入力シート!G77))","v":""},{"$f":"IF(入力シート!H77=\"\",\"\",入力シート!H77&\"性\")","v":""},{"$f":"IF(入力シート!I77=\"\",\"\",TEXT(入力シート!I77,\"yyyy/mm/dd\"))","v":""},null,null,null,null,null,{"$f":"IF(入力シート!J77=\"\",\"\",入力シート!J77)","v":""},{"$f":"IF(入力シート!K77=\"\",\"\",入力シート!K77)","v":""},null,null,null,null,null,null,null,null,null,null,null,null,null,{"$f":"IF(入力シート!H77=\"\",\"\",\"競技者\")","v":""},{"$f":"IF(入力シート!K77=\"\",\"\",入力シート!K77)","v":""},{"$f":"IF(入力シート!L77=\"\",\"\",入力シート!L77)","v":""}]
[{"$f":"IF(入力シート!B78=\"\",\"\",入力シート!B78)","v":""},{"$f":"IF(入力シート!C78=\"\",\"\",入力シート!C78)","v":""},{"$f":"IF(入力シート!D78=\"\",\"\",DBCS(入力シート!D78))","v":""},{"$f":"IF(入力シート!E78=\"\",\"\",DBCS(入力シート!E78))","v":""},{"$f":"ASC(IF(入力シート!F78=\"\",\"\",UPPER(入力シート!F78)))","v":""},{"$f":"IF(入力シート!G78=\"\",\"\",PROPER(入力シート!G78))","v":""},{"$f":"IF(入力シート!H78=\"\",\"\",入力シート!H78&\"性\")","v":""},{"$f":"IF(入力シート!I78=\"\",\"\",TEXT(入力シート!I78,\"yyyy/mm/dd\"))","v":""},null,null,null,null,null,{"$f":"IF(入力シート!J78=\"\",\"\",入力シート!J78)","v":""},{"$f":"IF(入力シート!K78=\"\",\"\",入力シート!K78)","v":""},null,null,null,null,null,null,null,null,null,null,null,null,null,{"$f":"IF(入力シート!H78=\"\",\"\",\"競技者\")","v":""},{"$f":"IF(入力シート!K78=\"\",\"\",入力シート!K78)","v":""},{"$f":"IF(入力シート!L78=\"\",\"\",入力シート!L78)","v":""}]
[{"$f":"IF(入力シート!B79=\"\",\"\",入力シート!B79)","v":""},{"$f":"IF(入力シート!C79=\"\",\"\",入力シート!C79)","v":""},{"$f":"IF(入力シート!D79=\"\",\"\",DBCS(入力シート!D79))","v":""},{"$f":"IF(入力シート!E79=\"\",\"\",DBCS(入力シート!E79))","v":""},{"$f":"ASC(IF(入力シート!F79=\"\",\"\",UPPER(入力シート!F79)))","v":""},{"$f":"IF(入力シート!G79=\"\",\"\",PROPER(入力シート!G79))","v":""},{"$f":"IF(入力シート!H79=\"\",\"\",入力シート!H79&\"性\")","v":""},{"$f":"IF(入力シート!I79=\"\",\"\",TEXT(入力シート!I79,\"yyyy/mm/dd\"))","v":""},null,null,null,null,null,{"$f":"IF(入力シート!J79=\"\",\"\",入力シート!J79)","v":""},{"$f":"IF(入力シート!K79=\"\",\"\",入力シート!K79)","v":""},null,null,null,null,null,null,null,null,null,null,null,null,null,{"$f":"IF(入力シート!H79=\"\",\"\",\"競技者\")","v":""},{"$f":"IF(入力シート!K79=\"\",\"\",入力シート!K79)","v":""},{"$f":"IF(入力シート!L79=\"\",\"\",入力シート!L79)","v":""}]
[{"$f":"IF(入力シート!B80=\"\",\"\",入力シート!B80)","v":""},{"$f":"IF(入力シート!C80=\"\",\"\",入力シート!C80)","v":""},{"$f":"IF(入力シート!D80=\"\",\"\",DBCS(入力シート!D80))","v":""},{"$f":"IF(入力シート!E80=\"\",\"\",DBCS(入力シート!E80))","v":""},{"$f":"ASC(IF(入力シート!F80=\"\",\"\",UPPER(入力シート!F80)))","v":""},{"$f":"IF(入力シート!G80=\"\",\"\",PROPER(入力シート!G80))","v":""},{"$f":"IF(入力シート!H80=\"\",\"\",入力シート!H80&\"性\")","v":""},{"$f":"IF(入力シート!I80=\"\",\"\",TEXT(入力シート!I80,\"yyyy/mm/dd\"))","v":""},null,null,null,null,null,{"$f":"IF(入力シート!J80=\"\",\"\",入力シート!J80)","v":""},{"$f":"IF(入力シート!K80=\"\",\"\",入力シート!K80)","v":""},null,null,null,null,null,null,null,null,null,null,null,null,null,{"$f":"IF(入力シート!H80=\"\",\"\",\"競技者\")","v":""},{"$f":"IF(入力シート!K80=\"\",\"\",入力シート!K80)","v":""},{"$f":"IF(入力シート!L80=\"\",\"\",入力シート!L80)","v":""}]
[{"$f":"IF(入力シート!B81=\"\",\"\",入力シート!B81)","v":""},{"$f":"IF(入力シート!C81=\"\",\"\",入力シート!C81)","v":""},{"$f":"IF(入力シート!D81=\"\",\"\",DBCS(入力シート!D81))","v":""},{"$f":"IF(入力シート!E81=\"\",\"\",DBCS(入力シート!E81))","v":""},{"$f":"ASC(IF(入力シート!F81=\"\",\"\",UPPER(入力シート!F81)))","v":""},{"$f":"IF(入力シート!G81=\"\",\"\",PROPER(入力シート!G81))","v":""},{"$f":"IF(入力シート!H81=\"\",\"\",入力シート!H81&\"性\")","v":""},{"$f":"IF(入力シート!I81=\"\",\"\",TEXT(入力シート!I81,\"yyyy/mm/dd\"))","v":""},null,null,null,null,null,{"$f":"IF(入力シート!J81=\"\",\"\",入力シート!J81)","v":""},{"$f":"IF(入力シート!K81=\"\",\"\",入力シート!K81)","v":""},null,null,null,null,null,null,null,null,null,null,null,null,null,{"$f":"IF(入力シート!H81=\"\",\"\",\"競技者\")","v":""},{"$f":"IF(入力シート!K81=\"\",\"\",入力シート!K81)","v":""},{"$f":"IF(入力シート!L81=\"\",\"\",入力シート!L81)","v":""}]
[{"$f":"IF(入力シート!B82=\"\",\"\",入力シート!B82)","v":""},{"$f":"IF(入力シート!C82=\"\",\"\",入力シート!C82)","v":""},{"$f":"IF(入力シート!D82=\"\",\"\",DBCS(入力シート!D82))","v":""},{"$f":"IF(入力シート!E82=\"\",\"\",DBCS(入力シート!E82))","v":""},{"$f":"ASC(IF(入力シート!F82=\"\",\"\",UPPER(入力シート!F82)))","v":""},{"$f":"IF(入力シート!G82=\"\",\"\",PROPER(入力シート!G82))","v":""},{"$f":"IF(入力シート!H82=\"\",\"\",入力シート!H82&\"性\")","v":""},{"$f":"IF(入力シート!I82=\"\",\"\",TEXT(入力シート!I82,\"yyyy/mm/dd\"))","v":""},null,null,null,null,null,{"$f":"IF(入力シート!J82=\"\",\"\",入力シート!J82)","v":""},{"$f":"IF(入力シート!K82=\"\",\"\",入力シート!K82)","v":""},null,null,null,null,null,null,null,null,null,null,null,null,null,{"$f":"IF(入力シート!H82=\"\",\"\",\"競技者\")","v":""},{"$f":"IF(入力シート!K82=\"\",\"\",入力シート!K82)","v":""},{"$f":"IF(入力シート!L82=\"\",\"\",入力シート!L82)","v":""}]
[{"$f":"IF(入力シート!B83=\"\",\"\",入力シート!B83)","v":""},{"$f":"IF(入力シート!C83=\"\",\"\",入力シート!C83)","v":""},{"$f":"IF(入力シート!D83=\"\",\"\",DBCS(入力シート!D83))","v":""},{"$f":"IF(入力シート!E83=\"\",\"\",DBCS(入力シート!E83))","v":""},{"$f":"ASC(IF(入力シート!F83=\"\",\"\",UPPER(入力シート!F83)))","v":""},{"$f":"IF(入力シート!G83=\"\",\"\",PROPER(入力シート!G83))","v":""},{"$f":"IF(入力シート!H83=\"\",\"\",入力シート!H83&\"性\")","v":""},{"$f":"IF(入力シート!I83=\"\",\"\",TEXT(入力シート!I83,\"yyyy/mm/dd\"))","v":""},null,null,null,null,null,{"$f":"IF(入力シート!J83=\"\",\"\",入力シート!J83)","v":""},{"$f":"IF(入力シート!K83=\"\",\"\",入力シート!K83)","v":""},null,null,null,null,null,null,null,null,null,null,null,null,null,{"$f":"IF(入力シート!H83=\"\",\"\",\"競技者\")","v":""},{"$f":"IF(入力シート!K83=\"\",\"\",入力シート!K83)","v":""},{"$f":"IF(入力シート!L83=\"\",\"\",入力シート!L83)","v":""}]
[{"$f":"IF(入力シート!B84=\"\",\"\",入力シート!B84)","v":""},{"$f":"IF(入力シート!C84=\"\",\"\",入力シート!C84)","v":""},{"$f":"IF(入力シート!D84=\"\",\"\",DBCS(入力シート!D84))","v":""},{"$f":"IF(入力シート!E84=\"\",\"\",DBCS(入力シート!E84))","v":""},{"$f":"ASC(IF(入力シート!F84=\"\",\"\",UPPER(入力シート!F84)))","v":""},{"$f":"IF(入力シート!G84=\"\",\"\",PROPER(入力シート!G84))","v":""},{"$f":"IF(入力シート!H84=\"\",\"\",入力シート!H84&\"性\")","v":""},{"$f":"IF(入力シート!I84=\"\",\"\",TEXT(入力シート!I84,\"yyyy/mm/dd\"))","v":""},null,null,null,null,null,{"$f":"IF(入力シート!J84=\"\",\"\",入力シート!J84)","v":""},{"$f":"IF(入力シート!K84=\"\",\"\",入力シート!K84)","v":""},null,null,null,null,null,null,null,null,null,null,null,null,null,{"$f":"IF(入力シート!H84=\"\",\"\",\"競技者\")","v":""},{"$f":"IF(入力シート!K84=\"\",\"\",入力シート!K84)","v":""},{"$f":"IF(入力シート!L84=\"\",\"\",入力シート!L84)","v":""}]
[{"$f":"IF(入力シート!B85=\"\",\"\",入力シート!B85)","v":""},{"$f":"IF(入力シート!C85=\"\",\"\",入力シート!C85)","v":""},{"$f":"IF(入力シート!D85=\"\",\"\",DBCS(入力シート!D85))","v":""},{"$f":"IF(入力シート!E85=\"\",\"\",DBCS(入力シート!E85))","v":""},{"$f":"ASC(IF(入力シート!F85=\"\",\"\",UPPER(入力シート!F85)))","v":""},{"$f":"IF(入力シート!G85=\"\",\"\",PROPER(入力シート!G85))","v":""},{"$f":"IF(入力シート!H85=\"\",\"\",入力シート!H85&\"性\")","v":""},{"$f":"IF(入力シート!I85=\"\",\"\",TEXT(入力シート!I85,\"yyyy/mm/dd\"))","v":""},null,null,null,null,null,{"$f":"IF(入力シート!J85=\"\",\"\",入力シート!J85)","v":""},{"$f":"IF(入力シート!K85=\"\",\"\",入力シート!K85)","v":""},null,null,null,null,null,null,null,null,null,null,null,null,null,{"$f":"IF(入力シート!H85=\"\",\"\",\"競技者\")","v":""},{"$f":"IF(入力シート!K85=\"\",\"\",入力シート!K85)","v":""},{"$f":"IF(入力シート!L85=\"\",\"\",入力シート!L85)","v":""}]
[{"$f":"IF(入力シート!B86=\"\",\"\",入力シート!B86)","v":""},{"$f":"IF(入力シート!C86=\"\",\"\",入力シート!C86)","v":""},{"$f":"IF(入力シート!D86=\"\",\"\",DBCS(入力シート!D86))","v":""},{"$f":"IF(入力シート!E86=\"\",\"\",DBCS(入力シート!E86))","v":""},{"$f":"ASC(IF(入力シート!F86=\"\",\"\",UPPER(入力シート!F86)))","v":""},{"$f":"IF(入力シート!G86=\"\",\"\",PROPER(入力シート!G86))","v":""},{"$f":"IF(入力シート!H86=\"\",\"\",入力シート!H86&\"性\")","v":""},{"$f":"IF(入力シート!I86=\"\",\"\",TEXT(入力シート!I86,\"yyyy/mm/dd\"))","v":""},null,null,null,null,null,{"$f":"IF(入力シート!J86=\"\",\"\",入力シート!J86)","v":""},{"$f":"IF(入力シート!K86=\"\",\"\",入力シート!K86)","v":""},null,null,null,null,null,null,null,null,null,null,null,null,null,{"$f":"IF(入力シート!H86=\"\",\"\",\"競技者\")","v":""},{"$f":"IF(入力シート!K86=\"\",\"\",入力シート!K86)","v":""},{"$f":"IF(入力シート!L86=\"\",\"\",入力シート!L86)","v":""}]
[{"$f":"IF(入力シート!B87=\"\",\"\",入力シート!B87)","v":""},{"$f":"IF(入力シート!C87=\"\",\"\",入力シート!C87)","v":""},{"$f":"IF(入力シート!D87=\"\",\"\",DBCS(入力シート!D87))","v":""},{"$f":"IF(入力シート!E87=\"\",\"\",DBCS(入力シート!E87))","v":""},{"$f":"ASC(IF(入力シート!F87=\"\",\"\",UPPER(入力シート!F87)))","v":""},{"$f":"IF(入力シート!G87=\"\",\"\",PROPER(入力シート!G87))","v":""},{"$f":"IF(入力シート!H87=\"\",\"\",入力シート!H87&\"性\")","v":""},{"$f":"IF(入力シート!I87=\"\",\"\",TEXT(入力シート!I87,\"yyyy/mm/dd\"))","v":""},null,null,null,null,null,{"$f":"IF(入力シート!J87=\"\",\"\",入力シート!J87)","v":""},{"$f":"IF(入力シート!K87=\"\",\"\",入力シート!K87)","v":""},null,null,null,null,null,null,null,null,null,null,null,null,null,{"$f":"IF(入力シート!H87=\"\",\"\",\"競技者\")","v":""},{"$f":"IF(入力シート!K87=\"\",\"\",入力シート!K87)","v":""},{"$f":"IF(入力シート!L87=\"\",\"\",入力シート!L87)","v":""}]
[{"$f":"IF(入力シート!B88=\"\",\"\",入力シート!B88)","v":""},{"$f":"IF(入力シート!C88=\"\",\"\",入力シート!C88)","v":""},{"$f":"IF(入力シート!D88=\"\",\"\",DBCS(入力シート!D88))","v":""},{"$f":"IF(入力シート!E88=\"\",\"\",DBCS(入力シート!E88))","v":""},{"$f":"ASC(IF(入力シート!F88=\"\",\"\",UPPER(入力シート!F88)))","v":""},{"$f":"IF(入力シート!G88=\"\",\"\",PROPER(入力シート!G88))","v":""},{"$f":"IF(入力シート!H88=\"\",\"\",入力シート!H88&\"性\")","v":""},{"$f":"IF(入力シート!I88=\"\",\"\",TEXT(入力シート!I88,\"yyyy/mm/dd\"))","v":""},null,null,null,null,null,{"$f":"IF(入力シート!J88=\"\",\"\",入力シート!J88)","v":""},{"$f":"IF(入力シート!K88=\"\",\"\",入力シート!K88)","v":""},null,null,null,null,null,null,null,null,null,null,null,null,null,{"$f":"IF(入力シート!H88=\"\",\"\",\"競技者\")","v":""},{"$f":"IF(入力シート!K88=\"\",\"\",入力シート!K88)","v":""},{"$f":"IF(入力シート!L88=\"\",\"\",入力シート!L88)","v":""}]
[{"$f":"IF(入力シート!B89=\"\",\"\",入力シート!B89)","v":""},{"$f":"IF(入力シート!C89=\"\",\"\",入力シート!C89)","v":""},{"$f":"IF(入力シート!D89=\"\",\"\",DBCS(入力シート!D89))","v":""},{"$f":"IF(入力シート!E89=\"\",\"\",DBCS(入力シート!E89))","v":""},{"$f":"ASC(IF(入力シート!F89=\"\",\"\",UPPER(入力シート!F89)))","v":""},{"$f":"IF(入力シート!G89=\"\",\"\",PROPER(入力シート!G89))","v":""},{"$f":"IF(入力シート!H89=\"\",\"\",入力シート!H89&\"性\")","v":""},{"$f":"IF(入力シート!I89=\"\",\"\",TEXT(入力シート!I89,\"yyyy/mm/dd\"))","v":""},null,null,null,null,null,{"$f":"IF(入力シート!J89=\"\",\"\",入力シート!J89)","v":""},{"$f":"IF(入力シート!K89=\"\",\"\",入力シート!K89)","v":""},null,null,null,null,null,null,null,null,null,null,null,null,null,{"$f":"IF(入力シート!H89=\"\",\"\",\"競技者\")","v":""},{"$f":"IF(入力シート!K89=\"\",\"\",入力シート!K89)","v":""},{"$f":"IF(入力シート!L89=\"\",\"\",入力シート!L89)","v":""}]
[{"$f":"IF(入力シート!B90=\"\",\"\",入力シート!B90)","v":""},{"$f":"IF(入力シート!C90=\"\",\"\",入力シート!C90)","v":""},{"$f":"IF(入力シート!D90=\"\",\"\",DBCS(入力シート!D90))","v":""},{"$f":"IF(入力シート!E90=\"\",\"\",DBCS(入力シート!E90))","v":""},{"$f":"ASC(IF(入力シート!F90=\"\",\"\",UPPER(入力シート!F90)))","v":""},{"$f":"IF(入力シート!G90=\"\",\"\",PROPER(入力シート!G90))","v":""},{"$f":"IF(入力シート!H90=\"\",\"\",入力シート!H90&\"性\")","v":""},{"$f":"IF(入力シート!I90=\"\",\"\",TEXT(入力シート!I90,\"yyyy/mm/dd\"))","v":""},null,null,null,null,null,{"$f":"IF(入力シート!J90=\"\",\"\",入力シート!J90)","v":""},{"$f":"IF(入力シート!K90=\"\",\"\",入力シート!K90)","v":""},null,null,null,null,null,null,null,null,null,null,null,null,null,{"$f":"IF(入力シート!H90=\"\",\"\",\"競技者\")","v":""},{"$f":"IF(入力シート!K90=\"\",\"\",入力シート!K90)","v":""},{"$f":"IF(入力シート!L90=\"\",\"\",入力シート!L90)","v":""}]
[{"$f":"IF(入力シート!B91=\"\",\"\",入力シート!B91)","v":""},{"$f":"IF(入力シート!C91=\"\",\"\",入力シート!C91)","v":""},{"$f":"IF(入力シート!D91=\"\",\"\",DBCS(入力シート!D91))","v":""},{"$f":"IF(入力シート!E91=\"\",\"\",DBCS(入力シート!E91))","v":""},{"$f":"ASC(IF(入力シート!F91=\"\",\"\",UPPER(入力シート!F91)))","v":""},{"$f":"IF(入力シート!G91=\"\",\"\",PROPER(入力シート!G91))","v":""},{"$f":"IF(入力シート!H91=\"\",\"\",入力シート!H91&\"性\")","v":""},{"$f":"IF(入力シート!I91=\"\",\"\",TEXT(入力シート!I91,\"yyyy/mm/dd\"))","v":""},null,null,null,null,null,{"$f":"IF(入力シート!J91=\"\",\"\",入力シート!J91)","v":""},{"$f":"IF(入力シート!K91=\"\",\"\",入力シート!K91)","v":""},null,null,null,null,null,null,null,null,null,null,null,null,null,{"$f":"IF(入力シート!H91=\"\",\"\",\"競技者\")","v":""},{"$f":"IF(入力シート!K91=\"\",\"\",入力シート!K91)","v":""},{"$f":"IF(入力シート!L91=\"\",\"\",入力シート!L91)","v":""}]
[{"$f":"IF(入力シート!B92=\"\",\"\",入力シート!B92)","v":""},{"$f":"IF(入力シート!C92=\"\",\"\",入力シート!C92)","v":""},{"$f":"IF(入力シート!D92=\"\",\"\",DBCS(入力シート!D92))","v":""},{"$f":"IF(入力シート!E92=\"\",\"\",DBCS(入力シート!E92))","v":""},{"$f":"ASC(IF(入力シート!F92=\"\",\"\",UPPER(入力シート!F92)))","v":""},{"$f":"IF(入力シート!G92=\"\",\"\",PROPER(入力シート!G92))","v":""},{"$f":"IF(入力シート!H92=\"\",\"\",入力シート!H92&\"性\")","v":""},{"$f":"IF(入力シート!I92=\"\",\"\",TEXT(入力シート!I92,\"yyyy/mm/dd\"))","v":""},null,null,null,null,null,{"$f":"IF(入力シート!J92=\"\",\"\",入力シート!J92)","v":""},{"$f":"IF(入力シート!K92=\"\",\"\",入力シート!K92)","v":""},null,null,null,null,null,null,null,null,null,null,null,null,null,{"$f":"IF(入力シート!H92=\"\",\"\",\"競技者\")","v":""},{"$f":"IF(入力シート!K92=\"\",\"\",入力シート!K92)","v":""},{"$f":"IF(入力シート!L92=\"\",\"\",入力シート!L92)","v":""}]
[{"$f":"IF(入力シート!B93=\"\",\"\",入力シート!B93)","v":""},{"$f":"IF(入力シート!C93=\"\",\"\",入力シート!C93)","v":""},{"$f":"IF(入力シート!D93=\"\",\"\",DBCS(入力シート!D93))","v":""},{"$f":"IF(入力シート!E93=\"\",\"\",DBCS(入力シート!E93))","v":""},{"$f":"ASC(IF(入力シート!F93=\"\",\"\",UPPER(入力シート!F93)))","v":""},{"$f":"IF(入力シート!G93=\"\",\"\",PROPER(入力シート!G93))","v":""},{"$f":"IF(入力シート!H93=\"\",\"\",入力シート!H93&\"性\")","v":""},{"$f":"IF(入力シート!I93=\"\",\"\",TEXT(入力シート!I93,\"yyyy/mm/dd\"))","v":""},null,null,null,null,null,{"$f":"IF(入力シート!J93=\"\",\"\",入力シート!J93)","v":""},{"$f":"IF(入力シート!K93=\"\",\"\",入力シート!K93)","v":""},null,null,null,null,null,null,null,null,null,null,null,null,null,{"$f":"IF(入力シート!H93=\"\",\"\",\"競技者\")","v":""},{"$f":"IF(入力シート!K93=\"\",\"\",入力シート!K93)","v":""},{"$f":"IF(入力シート!L93=\"\",\"\",入力シート!L93)","v":""}]
[{"$f":"IF(入力シート!B94=\"\",\"\",入力シート!B94)","v":""},{"$f":"IF(入力シート!C94=\"\",\"\",入力シート!C94)","v":""},{"$f":"IF(入力シート!D94=\"\",\"\",DBCS(入力シート!D94))","v":""},{"$f":"IF(入力シート!E94=\"\",\"\",DBCS(入力シート!E94))","v":""},{"$f":"ASC(IF(入力シート!F94=\"\",\"\",UPPER(入力シート!F94)))","v":""},{"$f":"IF(入力シート!G94=\"\",\"\",PROPER(入力シート!G94))","v":""},{"$f":"IF(入力シート!H94=\"\",\"\",入力シート!H94&\"性\")","v":""},{"$f":"IF(入力シート!I94=\"\",\"\",TEXT(入力シート!I94,\"yyyy/mm/dd\"))","v":""},null,null,null,null,null,{"$f":"IF(入力シート!J94=\"\",\"\",入力シート!J94)","v":""},{"$f":"IF(入力シート!K94=\"\",\"\",入力シート!K94)","v":""},null,null,null,null,null,null,null,null,null,null,null,null,null,{"$f":"IF(入力シート!H94=\"\",\"\",\"競技者\")","v":""},{"$f":"IF(入力シート!K94=\"\",\"\",入力シート!K94)","v":""},{"$f":"IF(入力シート!L94=\"\",\"\",入力シート!L94)","v":""}]
[{"$f":"IF(入力シート!B95=\"\",\"\",入力シート!B95)","v":""},{"$f":"IF(入力シート!C95=\"\",\"\",入力シート!C95)","v":""},{"$f":"IF(入力シート!D95=\"\",\"\",DBCS(入力シート!D95))","v":""},{"$f":"IF(入力シート!E95=\"\",\"\",DBCS(入力シート!E95))","v":""},{"$f":"ASC(IF(入力シート!F95=\"\",\"\",UPPER(入力シート!F95)))","v":""},{"$f":"IF(入力シート!G95=\"\",\"\",PROPER(入力シート!G95))","v":""},{"$f":"IF(入力シート!H95=\"\",\"\",入力シート!H95&\"性\")","v":""},{"$f":"IF(入力シート!I95=\"\",\"\",TEXT(入力シート!I95,\"yyyy/mm/dd\"))","v":""},null,null,null,null,null,{"$f":"IF(入力シート!J95=\"\",\"\",入力シート!J95)","v":""},{"$f":"IF(入力シート!K95=\"\",\"\",入力シート!K95)","v":""},null,null,null,null,null,null,null,null,null,null,null,null,null,{"$f":"IF(入力シート!H95=\"\",\"\",\"競技者\")","v":""},{"$f":"IF(入力シート!K95=\"\",\"\",入力シート!K95)","v":""},{"$f":"IF(入力シート!L95=\"\",\"\",入力シート!L95)","v":""}]
[{"$f":"IF(入力シート!B96=\"\",\"\",入力シート!B96)","v":""},{"$f":"IF(入力シート!C96=\"\",\"\",入力シート!C96)","v":""},{"$f":"IF(入力シート!D96=\"\",\"\",DBCS(入力シート!D96))","v":""},{"$f":"IF(入力シート!E96=\"\",\"\",DBCS(入力シート!E96))","v":""},{"$f":"ASC(IF(入力シート!F96=\"\",\"\",UPPER(入力シート!F96)))","v":""},{"$f":"IF(入力シート!G96=\"\",\"\",PROPER(入力シート!G96))","v":""},{"$f":"IF(入力シート!H96=\"\",\"\",入力シート!H96&\"性\")","v":""},{"$f":"IF(入力シート!I96=\"\",\"\",TEXT(入力シート!I96,\"yyyy/mm/dd\"))","v":""},null,null,null,null,null,{"$f":"IF(入力シート!J96=\"\",\"\",入力シート!J96)","v":""},{"$f":"IF(入力シート!K96=\"\",\"\",入力シート!K96)","v":""},null,null,null,null,null,null,null,null,null,null,null,null,null,{"$f":"IF(入力シート!H96=\"\",\"\",\"競技者\")","v":""},{"$f":"IF(入力シート!K96=\"\",\"\",入力シート!K96)","v":""},{"$f":"IF(入力シート!L96=\"\",\"\",入力シート!L96)","v":""}]
[{"$f":"IF(入力シート!B97=\"\",\"\",入力シート!B97)","v":""},{"$f":"IF(入力シート!C97=\"\",\"\",入力シート!C97)","v":""},{"$f":"IF(入力シート!D97=\"\",\"\",DBCS(入力シート!D97))","v":""},{"$f":"IF(入力シート!E97=\"\",\"\",DBCS(入力シート!E97))","v":""},{"$f":"ASC(IF(入力シート!F97=\"\",\"\",UPPER(入力シート!F97)))","v":""},{"$f":"IF(入力シート!G97=\"\",\"\",PROPER(入力シート!G97))","v":""},{"$f":"IF(入力シート!H97=\"\",\"\",入力シート!H97&\"性\")","v":""},{"$f":"IF(入力シート!I97=\"\",\"\",TEXT(入力シート!I97,\"yyyy/mm/dd\"))","v":""},null,null,null,null,null,{"$f":"IF(入力シート!J97=\"\",\"\",入力シート!J97)","v":""},{"$f":"IF(入力シート!K97=\"\",\"\",入力シート!K97)","v":""},null,null,null,null,null,null,null,null,null,null,null,null,null,{"$f":"IF(入力シート!H97=\"\",\"\",\"競技者\")","v":""},{"$f":"IF(入力シート!K97=\"\",\"\",入力シート!K97)","v":""},{"$f":"IF(入力シート!L97=\"\",\"\",入力シート!L97)","v":""}]
[{"$f":"IF(入力シート!B98=\"\",\"\",入力シート!B98)","v":""},{"$f":"IF(入力シート!C98=\"\",\"\",入力シート!C98)","v":""},{"$f":"IF(入力シート!D98=\"\",\"\",DBCS(入力シート!D98))","v":""},{"$f":"IF(入力シート!E98=\"\",\"\",DBCS(入力シート!E98))","v":""},{"$f":"ASC(IF(入力シート!F98=\"\",\"\",UPPER(入力シート!F98)))","v":""},{"$f":"IF(入力シート!G98=\"\",\"\",PROPER(入力シート!G98))","v":""},{"$f":"IF(入力シート!H98=\"\",\"\",入力シート!H98&\"性\")","v":""},{"$f":"IF(入力シート!I98=\"\",\"\",TEXT(入力シート!I98,\"yyyy/mm/dd\"))","v":""},null,null,null,null,null,{"$f":"IF(入力シート!J98=\"\",\"\",入力シート!J98)","v":""},{"$f":"IF(入力シート!K98=\"\",\"\",入力シート!K98)","v":""},null,null,null,null,null,null,null,null,null,null,null,null,null,{"$f":"IF(入力シート!H98=\"\",\"\",\"競技者\")","v":""},{"$f":"IF(入力シート!K98=\"\",\"\",入力シート!K98)","v":""},{"$f":"IF(入力シート!L98=\"\",\"\",入力シート!L98)","v":""}]
[{"$f":"IF(入力シート!B99=\"\",\"\",入力シート!B99)","v":""},{"$f":"IF(入力シート!C99=\"\",\"\",入力シート!C99)","v":""},{"$f":"IF(入力シート!D99=\"\",\"\",DBCS(入力シート!D99))","v":""},{"$f":"IF(入力シート!E99=\"\",\"\",DBCS(入力シート!E99))","v":""},{"$f":"ASC(IF(入力シート!F99=\"\",\"\",UPPER(入力シート!F99)))","v":""},{"$f":"IF(入力シート!G99=\"\",\"\",PROPER(入力シート!G99))","v":""},{"$f":"IF(入力シート!H99=\"\",\"\",入力シート!H99&\"性\")","v":""},{"$f":"IF(入力シート!I99=\"\",\"\",TEXT(入力シート!I99,\"yyyy/mm/dd\"))","v":""},null,null,null,null,null,{"$f":"IF(入力シート!J99=\"\",\"\",入力シート!J99)","v":""},{"$f":"IF(入力シート!K99=\"\",\"\",入力シート!K99)","v":""},null,null,null,null,null,null,null,null,null,null,null,null,null,{"$f":"IF(入力シート!H99=\"\",\"\",\"競技者\")","v":""},{"$f":"IF(入力シート!K99=\"\",\"\",入力シート!K99)","v":""},{"$f":"IF(入力シート!L99=\"\",\"\",入力シート!L99)","v":""}]
[{"$f":"IF(入力シート!B100=\"\",\"\",入力シート!B100)","v":""},{"$f":"IF(入力シート!C100=\"\",\"\",入力シート!C100)","v":""},{"$f":"IF(入力シート!D100=\"\",\"\",DBCS(入力シート!D100))","v":""},{"$f":"IF(入力シート!E100=\"\",\"\",DBCS(入力シート!E100))","v":""},{"$f":"ASC(IF(入力シート!F100=\"\",\"\",UPPER(入力シート!F100)))","v":""},{"$f":"IF(入力シート!G100=\"\",\"\",PROPER(入力シート!G100))","v":""},{"$f":"IF(入力シート!H100=\"\",\"\",入力シート!H100&\"性\")","v":""},{"$f":"IF(入力シート!I100=\"\",\"\",TEXT(入力シート!I100,\"yyyy/mm/dd\"))","v":""},null,null,null,null,null,{"$f":"IF(入力シート!J100=\"\",\"\",入力シート!J100)","v":""},{"$f":"IF(入力シート!K100=\"\",\"\",入力シート!K100)","v":""},null,null,null,null,null,null,null,null,null,null,null,null,null,{"$f":"IF(入力シート!H100=\"\",\"\",\"競技者\")","v":""},{"$f":"IF(入力シート!K100=\"\",\"\",入力シート!K100)","v":""},{"$f":"IF(入力シート!L100=\"\",\"\",入力シート!L100)","v":""}]
[{"$f":"IF(入力シート!B101=\"\",\"\",入力シート!B101)","v":""},{"$f":"IF(入力シート!C101=\"\",\"\",入力シート!C101)","v":""},{"$f":"IF(入力シート!D101=\"\",\"\",DBCS(入力シート!D101))","v":""},{"$f":"IF(入力シート!E101=\"\",\"\",DBCS(入力シート!E101))","v":""},{"$f":"ASC(IF(入力シート!F101=\"\",\"\",UPPER(入力シート!F101)))","v":""},{"$f":"IF(入力シート!G101=\"\",\"\",PROPER(入力シート!G101))","v":""},{"$f":"IF(入力シート!H101=\"\",\"\",入力シート!H101&\"性\")","v":""},{"$f":"IF(入力シート!I101=\"\",\"\",TEXT(入力シート!I101,\"yyyy/mm/dd\"))","v":""},null,null,null,null,null,{"$f":"IF(入力シート!J101=\"\",\"\",入力シート!J101)","v":""},{"$f":"IF(入力シート!K101=\"\",\"\",入力シート!K101)","v":""},null,null,null,null,null,null,null,null,null,null,null,null,null,{"$f":"IF(入力シート!H101=\"\",\"\",\"競技者\")","v":""},{"$f":"IF(入力シート!K101=\"\",\"\",入力シート!K101)","v":""},{"$f":"IF(入力シート!L101=\"\",\"\",入力シート!L101)","v":""}]
[{"$f":"IF(入力シート!B102=\"\",\"\",入力シート!B102)","v":""},{"$f":"IF(入力シート!C102=\"\",\"\",入力シート!C102)","v":""},{"$f":"IF(入力シート!D102=\"\",\"\",DBCS(入力シート!D102))","v":""},{"$f":"IF(入力シート!E102=\"\",\"\",DBCS(入力シート!E102))","v":""},{"$f":"ASC(IF(入力シート!F102=\"\",\"\",UPPER(入力シート!F102)))","v":""},{"$f":"IF(入力シート!G102=\"\",\"\",PROPER(入力シート!G102))","v":""},{"$f":"IF(入力シート!H102=\"\",\"\",入力シート!H102&\"性\")","v":""},{"$f":"IF(入力シート!I102=\"\",\"\",TEXT(入力シート!I102,\"yyyy/mm/dd\"))","v":""},null,null,null,null,null,{"$f":"IF(入力シート!J102=\"\",\"\",入力シート!J102)","v":""},{"$f":"IF(入力シート!K102=\"\",\"\",入力シート!K102)","v":""},null,null,null,null,null,null,null,null,null,null,null,null,null,{"$f":"IF(入力シート!H102=\"\",\"\",\"競技者\")","v":""},{"$f":"IF(入力シート!K102=\"\",\"\",入力シート!K102)","v":""},{"$f":"IF(入力シート!L102=\"\",\"\",入力シート!L102)","v":""}]
[{"$f":"IF(入力シート!B103=\"\",\"\",入力シート!B103)","v":""},{"$f":"IF(入力シート!C103=\"\",\"\",入力シート!C103)","v":""},{"$f":"IF(入力シート!D103=\"\",\"\",DBCS(入力シート!D103))","v":""},{"$f":"IF(入力シート!E103=\"\",\"\",DBCS(入力シート!E103))","v":""},{"$f":"ASC(IF(入力シート!F103=\"\",\"\",UPPER(入力シート!F103)))","v":""},{"$f":"IF(入力シート!G103=\"\",\"\",PROPER(入力シート!G103))","v":""},{"$f":"IF(入力シート!H103=\"\",\"\",入力シート!H103&\"性\")","v":""},{"$f":"IF(入力シート!I103=\"\",\"\",TEXT(入力シート!I103,\"yyyy/mm/dd\"))","v":""},null,null,null,null,null,{"$f":"IF(入力シート!J103=\"\",\"\",入力シート!J103)","v":""},{"$f":"IF(入力シート!K103=\"\",\"\",入力シート!K103)","v":""},null,null,null,null,null,null,null,null,null,null,null,null,null,{"$f":"IF(入力シート!H103=\"\",\"\",\"競技者\")","v":""},{"$f":"IF(入力シート!K103=\"\",\"\",入力シート!K103)","v":""},{"$f":"IF(入力シート!L103=\"\",\"\",入力シート!L103)","v":""}]
[{"$f":"IF(入力シート!B104=\"\",\"\",入力シート!B104)","v":""},{"$f":"IF(入力シート!C104=\"\",\"\",入力シート!C104)","v":""},{"$f":"IF(入力シート!D104=\"\",\"\",DBCS(入力シート!D104))","v":""},{"$f":"IF(入力シート!E104=\"\",\"\",DBCS(入力シート!E104))","v":""},{"$f":"ASC(IF(入力シート!F104=\"\",\"\",UPPER(入力シート!F104)))","v":""},{"$f":"IF(入力シート!G104=\"\",\"\",PROPER(入力シート!G104))","v":""},{"$f":"IF(入力シート!H104=\"\",\"\",入力シート!H104&\"性\")","v":""},{"$f":"IF(入力シート!I104=\"\",\"\",TEXT(入力シート!I104,\"yyyy/mm/dd\"))","v":""},null,null,null,null,null,{"$f":"IF(入力シート!J104=\"\",\"\",入力シート!J104)","v":""},{"$f":"IF(入力シート!K104=\"\",\"\",入力シート!K104)","v":""},null,null,null,null,null,null,null,null,null,null,null,null,null,{"$f":"IF(入力シート!H104=\"\",\"\",\"競技者\")","v":""},{"$f":"IF(入力シート!K104=\"\",\"\",入力シート!K104)","v":""},{"$f":"IF(入力シート!L104=\"\",\"\",入力シート!L104)","v":""}]
[{"$f":"IF(入力シート!B105=\"\",\"\",入力シート!B105)","v":""},{"$f":"IF(入力シート!C105=\"\",\"\",入力シート!C105)","v":""},{"$f":"IF(入力シート!D105=\"\",\"\",DBCS(入力シート!D105))","v":""},{"$f":"IF(入力シート!E105=\"\",\"\",DBCS(入力シート!E105))","v":""},{"$f":"ASC(IF(入力シート!F105=\"\",\"\",UPPER(入力シート!F105)))","v":""},{"$f":"IF(入力シート!G105=\"\",\"\",PROPER(入力シート!G105))","v":""},{"$f":"IF(入力シート!H105=\"\",\"\",入力シート!H105&\"性\")","v":""},{"$f":"IF(入力シート!I105=\"\",\"\",TEXT(入力シート!I105,\"yyyy/mm/dd\"))","v":""},null,null,null,null,null,{"$f":"IF(入力シート!J105=\"\",\"\",入力シート!J105)","v":""},{"$f":"IF(入力シート!K105=\"\",\"\",入力シート!K105)","v":""},null,null,null,null,null,null,null,null,null,null,null,null,null,{"$f":"IF(入力シート!H105=\"\",\"\",\"競技者\")","v":""},{"$f":"IF(入力シート!K105=\"\",\"\",入力シート!K105)","v":""},{"$f":"IF(入力シート!L105=\"\",\"\",入力シート!L105)","v":""}]
[{"$f":"IF(入力シート!B106=\"\",\"\",入力シート!B106)","v":""},{"$f":"IF(入力シート!C106=\"\",\"\",入力シート!C106)","v":""},{"$f":"IF(入力シート!D106=\"\",\"\",DBCS(入力シート!D106))","v":""},{"$f":"IF(入力シート!E106=\"\",\"\",DBCS(入力シート!E106))","v":""},{"$f":"ASC(IF(入力シート!F106=\"\",\"\",UPPER(入力シート!F106)))","v":""},{"$f":"IF(入力シート!G106=\"\",\"\",PROPER(入力シート!G106))","v":""},{"$f":"IF(入力シート!H106=\"\",\"\",入力シート!H106&\"性\")","v":""},{"$f":"IF(入力シート!I106=\"\",\"\",TEXT(入力シート!I106,\"yyyy/mm/dd\"))","v":""},null,null,null,null,null,{"$f":"IF(入力シート!J106=\"\",\"\",入力シート!J106)","v":""},{"$f":"IF(入力シート!K106=\"\",\"\",入力シート!K106)","v":""},null,null,null,null,null,null,null,null,null,null,null,null,null,{"$f":"IF(入力シート!H106=\"\",\"\",\"競技者\")","v":""},{"$f":"IF(入力シート!K106=\"\",\"\",入力シート!K106)","v":""},{"$f":"IF(入力シート!L106=\"\",\"\",入力シート!L106)","v":""}]
[{"$f":"IF(入力シート!B107=\"\",\"\",入力シート!B107)","v":""},{"$f":"IF(入力シート!C107=\"\",\"\",入力シート!C107)","v":""},{"$f":"IF(入力シート!D107=\"\",\"\",DBCS(入力シート!D107))","v":""},{"$f":"IF(入力シート!E107=\"\",\"\",DBCS(入力シート!E107))","v":""},{"$f":"ASC(IF(入力シート!F107=\"\",\"\",UPPER(入力シート!F107)))","v":""},{"$f":"IF(入力シート!G107=\"\",\"\",PROPER(入力シート!G107))","v":""},{"$f":"IF(入力シート!H107=\"\",\"\",入力シート!H107&\"性\")","v":""},{"$f":"IF(入力シート!I107=\"\",\"\",TEXT(入力シート!I107,\"yyyy/mm/dd\"))","v":""},null,null,null,null,null,{"$f":"IF(入力シート!J107=\"\",\"\",入力シート!J107)","v":""},{"$f":"IF(入力シート!K107=\"\",\"\",入力シート!K107)","v":""},null,null,null,null,null,null,null,null,null,null,null,null,null,{"$f":"IF(入力シート!H107=\"\",\"\",\"競技者\")","v":""},{"$f":"IF(入力シート!K107=\"\",\"\",入力シート!K107)","v":""},{"$f":"IF(入力シート!L107=\"\",\"\",入力シート!L107)","v":""}]
[{"$f":"IF(入力シート!B108=\"\",\"\",入力シート!B108)","v":""},{"$f":"IF(入力シート!C108=\"\",\"\",入力シート!C108)","v":""},{"$f":"IF(入力シート!D108=\"\",\"\",DBCS(入力シート!D108))","v":""},{"$f":"IF(入力シート!E108=\"\",\"\",DBCS(入力シート!E108))","v":""},{"$f":"ASC(IF(入力シート!F108=\"\",\"\",UPPER(入力シート!F108)))","v":""},{"$f":"IF(入力シート!G108=\"\",\"\",PROPER(入力シート!G108))","v":""},{"$f":"IF(入力シート!H108=\"\",\"\",入力シート!H108&\"性\")","v":""},{"$f":"IF(入力シート!I108=\"\",\"\",TEXT(入力シート!I108,\"yyyy/mm/dd\"))","v":""},null,null,null,null,null,{"$f":"IF(入力シート!J108=\"\",\"\",入力シート!J108)","v":""},{"$f":"IF(入力シート!K108=\"\",\"\",入力シート!K108)","v":""},null,null,null,null,null,null,null,null,null,null,null,null,null,{"$f":"IF(入力シート!H108=\"\",\"\",\"競技者\")","v":""},{"$f":"IF(入力シート!K108=\"\",\"\",入力シート!K108)","v":""},{"$f":"IF(入力シート!L108=\"\",\"\",入力シート!L108)","v":""}]
[{"$f":"IF(入力シート!B109=\"\",\"\",入力シート!B109)","v":""},{"$f":"IF(入力シート!C109=\"\",\"\",入力シート!C109)","v":""},{"$f":"IF(入力シート!D109=\"\",\"\",DBCS(入力シート!D109))","v":""},{"$f":"IF(入力シート!E109=\"\",\"\",DBCS(入力シート!E109))","v":""},{"$f":"ASC(IF(入力シート!F109=\"\",\"\",UPPER(入力シート!F109)))","v":""},{"$f":"IF(入力シート!G109=\"\",\"\",PROPER(入力シート!G109))","v":""},{"$f":"IF(入力シート!H109=\"\",\"\",入力シート!H109&\"性\")","v":""},{"$f":"IF(入力シート!I109=\"\",\"\",TEXT(入力シート!I109,\"yyyy/mm/dd\"))","v":""},null,null,null,null,null,{"$f":"IF(入力シート!J109=\"\",\"\",入力シート!J109)","v":""},{"$f":"IF(入力シート!K109=\"\",\"\",入力シート!K109)","v":""},null,null,null,null,null,null,null,null,null,null,null,null,null,{"$f":"IF(入力シート!H109=\"\",\"\",\"競技者\")","v":""},{"$f":"IF(入力シート!K109=\"\",\"\",入力シート!K109)","v":""},{"$f":"IF(入力シート!L109=\"\",\"\",入力シート!L109)","v":""}]
[{"$f":"IF(入力シート!B110=\"\",\"\",入力シート!B110)","v":""},{"$f":"IF(入力シート!C110=\"\",\"\",入力シート!C110)","v":""},{"$f":"IF(入力シート!D110=\"\",\"\",DBCS(入力シート!D110))","v":""},{"$f":"IF(入力シート!E110=\"\",\"\",DBCS(入力シート!E110))","v":""},{"$f":"ASC(IF(入力シート!F110=\"\",\"\",UPPER(入力シート!F110)))","v":""},{"$f":"IF(入力シート!G110=\"\",\"\",PROPER(入力シート!G110))","v":""},{"$f":"IF(入力シート!H110=\"\",\"\",入力シート!H110&\"性\")","v":""},{"$f":"IF(入力シート!I110=\"\",\"\",TEXT(入力シート!I110,\"yyyy/mm/dd\"))","v":""},null,null,null,null,null,{"$f":"IF(入力シート!J110=\"\",\"\",入力シート!J110)","v":""},{"$f":"IF(入力シート!K110=\"\",\"\",入力シート!K110)","v":""},null,null,null,null,null,null,null,null,null,null,null,null,null,{"$f":"IF(入力シート!H110=\"\",\"\",\"競技者\")","v":""},{"$f":"IF(入力シート!K110=\"\",\"\",入力シート!K110)","v":""},{"$f":"IF(入力シート!L110=\"\",\"\",入力シート!L110)","v":""}]
[{"$f":"IF(入力シート!B111=\"\",\"\",入力シート!B111)","v":""},{"$f":"IF(入力シート!C111=\"\",\"\",入力シート!C111)","v":""},{"$f":"IF(入力シート!D111=\"\",\"\",DBCS(入力シート!D111))","v":""},{"$f":"IF(入力シート!E111=\"\",\"\",DBCS(入力シート!E111))","v":""},{"$f":"ASC(IF(入力シート!F111=\"\",\"\",UPPER(入力シート!F111)))","v":""},{"$f":"IF(入力シート!G111=\"\",\"\",PROPER(入力シート!G111))","v":""},{"$f":"IF(入力シート!H111=\"\",\"\",入力シート!H111&\"性\")","v":""},{"$f":"IF(入力シート!I111=\"\",\"\",TEXT(入力シート!I111,\"yyyy/mm/dd\"))","v":""},null,null,null,null,null,{"$f":"IF(入力シート!J111=\"\",\"\",入力シート!J111)","v":""},{"$f":"IF(入力シート!K111=\"\",\"\",入力シート!K111)","v":""},null,null,null,null,null,null,null,null,null,null,null,null,null,{"$f":"IF(入力シート!H111=\"\",\"\",\"競技者\")","v":""},{"$f":"IF(入力シート!K111=\"\",\"\",入力シート!K111)","v":""},{"$f":"IF(入力シート!L111=\"\",\"\",入力シート!L111)","v":""}]
[{"$f":"IF(入力シート!B112=\"\",\"\",入力シート!B112)","v":""},{"$f":"IF(入力シート!C112=\"\",\"\",入力シート!C112)","v":""},{"$f":"IF(入力シート!D112=\"\",\"\",DBCS(入力シート!D112))","v":""},{"$f":"IF(入力シート!E112=\"\",\"\",DBCS(入力シート!E112))","v":""},{"$f":"ASC(IF(入力シート!F112=\"\",\"\",UPPER(入力シート!F112)))","v":""},{"$f":"IF(入力シート!G112=\"\",\"\",PROPER(入力シート!G112))","v":""},{"$f":"IF(入力シート!H112=\"\",\"\",入力シート!H112&\"性\")","v":""},{"$f":"IF(入力シート!I112=\"\",\"\",TEXT(入力シート!I112,\"yyyy/mm/dd\"))","v":""},null,null,null,null,null,{"$f":"IF(入力シート!J112=\"\",\"\",入力シート!J112)","v":""},{"$f":"IF(入力シート!K112=\"\",\"\",入力シート!K112)","v":""},null,null,null,null,null,null,null,null,null,null,null,null,null,{"$f":"IF(入力シート!H112=\"\",\"\",\"競技者\")","v":""},{"$f":"IF(入力シート!K112=\"\",\"\",入力シート!K112)","v":""},{"$f":"IF(入力シート!L112=\"\",\"\",入力シート!L112)","v":""}]
[{"$f":"IF(入力シート!B113=\"\",\"\",入力シート!B113)","v":""},{"$f":"IF(入力シート!C113=\"\",\"\",入力シート!C113)","v":""},{"$f":"IF(入力シート!D113=\"\",\"\",DBCS(入力シート!D113))","v":""},{"$f":"IF(入力シート!E113=\"\",\"\",DBCS(入力シート!E113))","v":""},{"$f":"ASC(IF(入力シート!F113=\"\",\"\",UPPER(入力シート!F113)))","v":""},{"$f":"IF(入力シート!G113=\"\",\"\",PROPER(入力シート!G113))","v":""},{"$f":"IF(入力シート!H113=\"\",\"\",入力シート!H113&\"性\")","v":""},{"$f":"IF(入力シート!I113=\"\",\"\",TEXT(入力シート!I113,\"yyyy/mm/dd\"))","v":""},null,null,null,null,null,{"$f":"IF(入力シート!J113=\"\",\"\",入力シート!J113)","v":""},{"$f":"IF(入力シート!K113=\"\",\"\",入力シート!K113)","v":""},null,null,null,null,null,null,null,null,null,null,null,null,null,{"$f":"IF(入力シート!H113=\"\",\"\",\"競技者\")","v":""},{"$f":"IF(入力シート!K113=\"\",\"\",入力シート!K113)","v":""},{"$f":"IF(入力シート!L113=\"\",\"\",入力シート!L113)","v":""}]
[{"$f":"IF(入力シート!B114=\"\",\"\",入力シート!B114)","v":""},{"$f":"IF(入力シート!C114=\"\",\"\",入力シート!C114)","v":""},{"$f":"IF(入力シート!D114=\"\",\"\",DBCS(入力シート!D114))","v":""},{"$f":"IF(入力シート!E114=\"\",\"\",DBCS(入力シート!E114))","v":""},{"$f":"ASC(IF(入力シート!F114=\"\",\"\",UPPER(入力シート!F114)))","v":""},{"$f":"IF(入力シート!G114=\"\",\"\",PROPER(入力シート!G114))","v":""},{"$f":"IF(入力シート!H114=\"\",\"\",入力シート!H114&\"性\")","v":""},{"$f":"IF(入力シート!I114=\"\",\"\",TEXT(入力シート!I114,\"yyyy/mm/dd\"))","v":""},null,null,null,null,null,{"$f":"IF(入力シート!J114=\"\",\"\",入力シート!J114)","v":""},{"$f":"IF(入力シート!K114=\"\",\"\",入力シート!K114)","v":""},null,null,null,null,null,null,null,null,null,null,null,null,null,{"$f":"IF(入力シート!H114=\"\",\"\",\"競技者\")","v":""},{"$f":"IF(入力シート!K114=\"\",\"\",入力シート!K114)","v":""},{"$f":"IF(入力シート!L114=\"\",\"\",入力シート!L114)","v":""}]
[{"$f":"IF(入力シート!B115=\"\",\"\",入力シート!B115)","v":""},{"$f":"IF(入力シート!C115=\"\",\"\",入力シート!C115)","v":""},{"$f":"IF(入力シート!D115=\"\",\"\",DBCS(入力シート!D115))","v":""},{"$f":"IF(入力シート!E115=\"\",\"\",DBCS(入力シート!E115))","v":""},{"$f":"ASC(IF(入力シート!F115=\"\",\"\",UPPER(入力シート!F115)))","v":""},{"$f":"IF(入力シート!G115=\"\",\"\",PROPER(入力シート!G115))","v":""},{"$f":"IF(入力シート!H115=\"\",\"\",入力シート!H115&\"性\")","v":""},{"$f":"IF(入力シート!I115=\"\",\"\",TEXT(入力シート!I115,\"yyyy/mm/dd\"))","v":""},null,null,null,null,null,{"$f":"IF(入力シート!J115=\"\",\"\",入力シート!J115)","v":""},{"$f":"IF(入力シート!K115=\"\",\"\",入力シート!K115)","v":""},null,null,null,null,null,null,null,null,null,null,null,null,null,{"$f":"IF(入力シート!H115=\"\",\"\",\"競技者\")","v":""},{"$f":"IF(入力シート!K115=\"\",\"\",入力シート!K115)","v":""},{"$f":"IF(入力シート!L115=\"\",\"\",入力シート!L115)","v":""}]
[{"$f":"IF(入力シート!B116=\"\",\"\",入力シート!B116)","v":""},{"$f":"IF(入力シート!C116=\"\",\"\",入力シート!C116)","v":""},{"$f":"IF(入力シート!D116=\"\",\"\",DBCS(入力シート!D116))","v":""},{"$f":"IF(入力シート!E116=\"\",\"\",DBCS(入力シート!E116))","v":""},{"$f":"ASC(IF(入力シート!F116=\"\",\"\",UPPER(入力シート!F116)))","v":""},{"$f":"IF(入力シート!G116=\"\",\"\",PROPER(入力シート!G116))","v":""},{"$f":"IF(入力シート!H116=\"\",\"\",入力シート!H116&\"性\")","v":""},{"$f":"IF(入力シート!I116=\"\",\"\",TEXT(入力シート!I116,\"yyyy/mm/dd\"))","v":""},null,null,null,null,null,{"$f":"IF(入力シート!J116=\"\",\"\",入力シート!J116)","v":""},{"$f":"IF(入力シート!K116=\"\",\"\",入力シート!K116)","v":""},null,null,null,null,null,null,null,null,null,null,null,null,null,{"$f":"IF(入力シート!H116=\"\",\"\",\"競技者\")","v":""},{"$f":"IF(入力シート!K116=\"\",\"\",入力シート!K116)","v":""},{"$f":"IF(入力シート!L116=\"\",\"\",入力シート!L116)","v":""}]
[{"$f":"IF(入力シート!B117=\"\",\"\",入力シート!B117)","v":""},{"$f":"IF(入力シート!C117=\"\",\"\",入力シート!C117)","v":""},{"$f":"IF(入力シート!D117=\"\",\"\",DBCS(入力シート!D117))","v":""},{"$f":"IF(入力シート!E117=\"\",\"\",DBCS(入力シート!E117))","v":""},{"$f":"ASC(IF(入力シート!F117=\"\",\"\",UPPER(入力シート!F117)))","v":""},{"$f":"IF(入力シート!G117=\"\",\"\",PROPER(入力シート!G117))","v":""},{"$f":"IF(入力シート!H117=\"\",\"\",入力シート!H117&\"性\")","v":""},{"$f":"IF(入力シート!I117=\"\",\"\",TEXT(入力シート!I117,\"yyyy/mm/dd\"))","v":""},null,null,null,null,null,{"$f":"IF(入力シート!J117=\"\",\"\",入力シート!J117)","v":""},{"$f":"IF(入力シート!K117=\"\",\"\",入力シート!K117)","v":""},null,null,null,null,null,null,null,null,null,null,null,null,null,{"$f":"IF(入力シート!H117=\"\",\"\",\"競技者\")","v":""},{"$f":"IF(入力シート!K117=\"\",\"\",入力シート!K117)","v":""},{"$f":"IF(入力シート!L117=\"\",\"\",入力シート!L117)","v":""}]
[{"$f":"IF(入力シート!B118=\"\",\"\",入力シート!B118)","v":""},{"$f":"IF(入力シート!C118=\"\",\"\",入力シート!C118)","v":""},{"$f":"IF(入力シート!D118=\"\",\"\",DBCS(入力シート!D118))","v":""},{"$f":"IF(入力シート!E118=\"\",\"\",DBCS(入力シート!E118))","v":""},{"$f":"ASC(IF(入力シート!F118=\"\",\"\",UPPER(入力シート!F118)))","v":""},{"$f":"IF(入力シート!G118=\"\",\"\",PROPER(入力シート!G118))","v":""},{"$f":"IF(入力シート!H118=\"\",\"\",入力シート!H118&\"性\")","v":""},{"$f":"IF(入力シート!I118=\"\",\"\",TEXT(入力シート!I118,\"yyyy/mm/dd\"))","v":""},null,null,null,null,null,{"$f":"IF(入力シート!J118=\"\",\"\",入力シート!J118)","v":""},{"$f":"IF(入力シート!K118=\"\",\"\",入力シート!K118)","v":""},null,null,null,null,null,null,null,null,null,null,null,null,null,{"$f":"IF(入力シート!H118=\"\",\"\",\"競技者\")","v":""},{"$f":"IF(入力シート!K118=\"\",\"\",入力シート!K118)","v":""},{"$f":"IF(入力シート!L118=\"\",\"\",入力シート!L118)","v":""}]
[{"$f":"IF(入力シート!B119=\"\",\"\",入力シート!B119)","v":""},{"$f":"IF(入力シート!C119=\"\",\"\",入力シート!C119)","v":""},{"$f":"IF(入力シート!D119=\"\",\"\",DBCS(入力シート!D119))","v":""},{"$f":"IF(入力シート!E119=\"\",\"\",DBCS(入力シート!E119))","v":""},{"$f":"ASC(IF(入力シート!F119=\"\",\"\",UPPER(入力シート!F119)))","v":""},{"$f":"IF(入力シート!G119=\"\",\"\",PROPER(入力シート!G119))","v":""},{"$f":"IF(入力シート!H119=\"\",\"\",入力シート!H119&\"性\")","v":""},{"$f":"IF(入力シート!I119=\"\",\"\",TEXT(入力シート!I119,\"yyyy/mm/dd\"))","v":""},null,null,null,null,null,{"$f":"IF(入力シート!J119=\"\",\"\",入力シート!J119)","v":""},{"$f":"IF(入力シート!K119=\"\",\"\",入力シート!K119)","v":""},null,null,null,null,null,null,null,null,null,null,null,null,null,{"$f":"IF(入力シート!H119=\"\",\"\",\"競技者\")","v":""},{"$f":"IF(入力シート!K119=\"\",\"\",入力シート!K119)","v":""},{"$f":"IF(入力シート!L119=\"\",\"\",入力シート!L119)","v":""}]
[{"$f":"IF(入力シート!B120=\"\",\"\",入力シート!B120)","v":""},{"$f":"IF(入力シート!C120=\"\",\"\",入力シート!C120)","v":""},{"$f":"IF(入力シート!D120=\"\",\"\",DBCS(入力シート!D120))","v":""},{"$f":"IF(入力シート!E120=\"\",\"\",DBCS(入力シート!E120))","v":""},{"$f":"ASC(IF(入力シート!F120=\"\",\"\",UPPER(入力シート!F120)))","v":""},{"$f":"IF(入力シート!G120=\"\",\"\",PROPER(入力シート!G120))","v":""},{"$f":"IF(入力シート!H120=\"\",\"\",入力シート!H120&\"性\")","v":""},{"$f":"IF(入力シート!I120=\"\",\"\",TEXT(入力シート!I120,\"yyyy/mm/dd\"))","v":""},null,null,null,null,null,{"$f":"IF(入力シート!J120=\"\",\"\",入力シート!J120)","v":""},{"$f":"IF(入力シート!K120=\"\",\"\",入力シート!K120)","v":""},null,null,null,null,null,null,null,null,null,null,null,null,null,{"$f":"IF(入力シート!H120=\"\",\"\",\"競技者\")","v":""},{"$f":"IF(入力シート!K120=\"\",\"\",入力シート!K120)","v":""},{"$f":"IF(入力シート!L120=\"\",\"\",入力シート!L120)","v":""}]
[{"$f":"IF(入力シート!B121=\"\",\"\",入力シート!B121)","v":""},{"$f":"IF(入力シート!C121=\"\",\"\",入力シート!C121)","v":""},{"$f":"IF(入力シート!D121=\"\",\"\",DBCS(入力シート!D121))","v":""},{"$f":"IF(入力シート!E121=\"\",\"\",DBCS(入力シート!E121))","v":""},{"$f":"ASC(IF(入力シート!F121=\"\",\"\",UPPER(入力シート!F121)))","v":""},{"$f":"IF(入力シート!G121=\"\",\"\",PROPER(入力シート!G121))","v":""},{"$f":"IF(入力シート!H121=\"\",\"\",入力シート!H121&\"性\")","v":""},{"$f":"IF(入力シート!I121=\"\",\"\",TEXT(入力シート!I121,\"yyyy/mm/dd\"))","v":""},null,null,null,null,null,{"$f":"IF(入力シート!J121=\"\",\"\",入力シート!J121)","v":""},{"$f":"IF(入力シート!K121=\"\",\"\",入力シート!K121)","v":""},null,null,null,null,null,null,null,null,null,null,null,null,null,{"$f":"IF(入力シート!H121=\"\",\"\",\"競技者\")","v":""},{"$f":"IF(入力シート!K121=\"\",\"\",入力シート!K121)","v":""},{"$f":"IF(入力シート!L121=\"\",\"\",入力シート!L121)","v":""}]
[{"$f":"IF(入力シート!B122=\"\",\"\",入力シート!B122)","v":""},{"$f":"IF(入力シート!C122=\"\",\"\",入力シート!C122)","v":""},{"$f":"IF(入力シート!D122=\"\",\"\",DBCS(入力シート!D122))","v":""},{"$f":"IF(入力シート!E122=\"\",\"\",DBCS(入力シート!E122))","v":""},{"$f":"ASC(IF(入力シート!F122=\"\",\"\",UPPER(入力シート!F122)))","v":""},{"$f":"IF(入力シート!G122=\"\",\"\",PROPER(入力シート!G122))","v":""},{"$f":"IF(入力シート!H122=\"\",\"\",入力シート!H122&\"性\")","v":""},{"$f":"IF(入力シート!I122=\"\",\"\",TEXT(入力シート!I122,\"yyyy/mm/dd\"))","v":""},null,null,null,null,null,{"$f":"IF(入力シート!J122=\"\",\"\",入力シート!J122)","v":""},{"$f":"IF(入力シート!K122=\"\",\"\",入力シート!K122)","v":""},null,null,null,null,null,null,null,null,null,null,null,null,null,{"$f":"IF(入力シート!H122=\"\",\"\",\"競技者\")","v":""},{"$f":"IF(入力シート!K122=\"\",\"\",入力シート!K122)","v":""},{"$f":"IF(入力シート!L122=\"\",\"\",入力シート!L122)","v":""}]
[{"$f":"IF(入力シート!B123=\"\",\"\",入力シート!B123)","v":""},{"$f":"IF(入力シート!C123=\"\",\"\",入力シート!C123)","v":""},{"$f":"IF(入力シート!D123=\"\",\"\",DBCS(入力シート!D123))","v":""},{"$f":"IF(入力シート!E123=\"\",\"\",DBCS(入力シート!E123))","v":""},{"$f":"ASC(IF(入力シート!F123=\"\",\"\",UPPER(入力シート!F123)))","v":""},{"$f":"IF(入力シート!G123=\"\",\"\",PROPER(入力シート!G123))","v":""},{"$f":"IF(入力シート!H123=\"\",\"\",入力シート!H123&\"性\")","v":""},{"$f":"IF(入力シート!I123=\"\",\"\",TEXT(入力シート!I123,\"yyyy/mm/dd\"))","v":""},null,null,null,null,null,{"$f":"IF(入力シート!J123=\"\",\"\",入力シート!J123)","v":""},{"$f":"IF(入力シート!K123=\"\",\"\",入力シート!K123)","v":""},null,null,null,null,null,null,null,null,null,null,null,null,null,{"$f":"IF(入力シート!H123=\"\",\"\",\"競技者\")","v":""},{"$f":"IF(入力シート!K123=\"\",\"\",入力シート!K123)","v":""},{"$f":"IF(入力シート!L123=\"\",\"\",入力シート!L123)","v":""}]
[{"$f":"IF(入力シート!B124=\"\",\"\",入力シート!B124)","v":""},{"$f":"IF(入力シート!C124=\"\",\"\",入力シート!C124)","v":""},{"$f":"IF(入力シート!D124=\"\",\"\",DBCS(入力シート!D124))","v":""},{"$f":"IF(入力シート!E124=\"\",\"\",DBCS(入力シート!E124))","v":""},{"$f":"ASC(IF(入力シート!F124=\"\",\"\",UPPER(入力シート!F124)))","v":""},{"$f":"IF(入力シート!G124=\"\",\"\",PROPER(入力シート!G124))","v":""},{"$f":"IF(入力シート!H124=\"\",\"\",入力シート!H124&\"性\")","v":""},{"$f":"IF(入力シート!I124=\"\",\"\",TEXT(入力シート!I124,\"yyyy/mm/dd\"))","v":""},null,null,null,null,null,{"$f":"IF(入力シート!J124=\"\",\"\",入力シート!J124)","v":""},{"$f":"IF(入力シート!K124=\"\",\"\",入力シート!K124)","v":""},null,null,null,null,null,null,null,null,null,null,null,null,null,{"$f":"IF(入力シート!H124=\"\",\"\",\"競技者\")","v":""},{"$f":"IF(入力シート!K124=\"\",\"\",入力シート!K124)","v":""},{"$f":"IF(入力シート!L124=\"\",\"\",入力シート!L124)","v":""}]
[{"$f":"IF(入力シート!B125=\"\",\"\",入力シート!B125)","v":""},{"$f":"IF(入力シート!C125=\"\",\"\",入力シート!C125)","v":""},{"$f":"IF(入力シート!D125=\"\",\"\",DBCS(入力シート!D125))","v":""},{"$f":"IF(入力シート!E125=\"\",\"\",DBCS(入力シート!E125))","v":""},{"$f":"ASC(IF(入力シート!F125=\"\",\"\",UPPER(入力シート!F125)))","v":""},{"$f":"IF(入力シート!G125=\"\",\"\",PROPER(入力シート!G125))","v":""},{"$f":"IF(入力シート!H125=\"\",\"\",入力シート!H125&\"性\")","v":""},{"$f":"IF(入力シート!I125=\"\",\"\",TEXT(入力シート!I125,\"yyyy/mm/dd\"))","v":""},null,null,null,null,null,{"$f":"IF(入力シート!J125=\"\",\"\",入力シート!J125)","v":""},{"$f":"IF(入力シート!K125=\"\",\"\",入力シート!K125)","v":""},null,null,null,null,null,null,null,null,null,null,null,null,null,{"$f":"IF(入力シート!H125=\"\",\"\",\"競技者\")","v":""},{"$f":"IF(入力シート!K125=\"\",\"\",入力シート!K125)","v":""},{"$f":"IF(入力シート!L125=\"\",\"\",入力シート!L125)","v":""}]
[{"$f":"IF(入力シート!B126=\"\",\"\",入力シート!B126)","v":""},{"$f":"IF(入力シート!C126=\"\",\"\",入力シート!C126)","v":""},{"$f":"IF(入力シート!D126=\"\",\"\",DBCS(入力シート!D126))","v":""},{"$f":"IF(入力シート!E126=\"\",\"\",DBCS(入力シート!E126))","v":""},{"$f":"ASC(IF(入力シート!F126=\"\",\"\",UPPER(入力シート!F126)))","v":""},{"$f":"IF(入力シート!G126=\"\",\"\",PROPER(入力シート!G126))","v":""},{"$f":"IF(入力シート!H126=\"\",\"\",入力シート!H126&\"性\")","v":""},{"$f":"IF(入力シート!I126=\"\",\"\",TEXT(入力シート!I126,\"yyyy/mm/dd\"))","v":""},null,null,null,null,null,{"$f":"IF(入力シート!J126=\"\",\"\",入力シート!J126)","v":""},{"$f":"IF(入力シート!K126=\"\",\"\",入力シート!K126)","v":""},null,null,null,null,null,null,null,null,null,null,null,null,null,{"$f":"IF(入力シート!H126=\"\",\"\",\"競技者\")","v":""},{"$f":"IF(入力シート!K126=\"\",\"\",入力シート!K126)","v":""},{"$f":"IF(入力シート!L126=\"\",\"\",入力シート!L126)","v":""}]
[{"$f":"IF(入力シート!B127=\"\",\"\",入力シート!B127)","v":""},{"$f":"IF(入力シート!C127=\"\",\"\",入力シート!C127)","v":""},{"$f":"IF(入力シート!D127=\"\",\"\",DBCS(入力シート!D127))","v":""},{"$f":"IF(入力シート!E127=\"\",\"\",DBCS(入力シート!E127))","v":""},{"$f":"ASC(IF(入力シート!F127=\"\",\"\",UPPER(入力シート!F127)))","v":""},{"$f":"IF(入力シート!G127=\"\",\"\",PROPER(入力シート!G127))","v":""},{"$f":"IF(入力シート!H127=\"\",\"\",入力シート!H127&\"性\")","v":""},{"$f":"IF(入力シート!I127=\"\",\"\",TEXT(入力シート!I127,\"yyyy/mm/dd\"))","v":""},null,null,null,null,null,{"$f":"IF(入力シート!J127=\"\",\"\",入力シート!J127)","v":""},{"$f":"IF(入力シート!K127=\"\",\"\",入力シート!K127)","v":""},null,null,null,null,null,null,null,null,null,null,null,null,null,{"$f":"IF(入力シート!H127=\"\",\"\",\"競技者\")","v":""},{"$f":"IF(入力シート!K127=\"\",\"\",入力シート!K127)","v":""},{"$f":"IF(入力シート!L127=\"\",\"\",入力シート!L127)","v":""}]
[{"$f":"IF(入力シート!B128=\"\",\"\",入力シート!B128)","v":""},{"$f":"IF(入力シート!C128=\"\",\"\",入力シート!C128)","v":""},{"$f":"IF(入力シート!D128=\"\",\"\",DBCS(入力シート!D128))","v":""},{"$f":"IF(入力シート!E128=\"\",\"\",DBCS(入力シート!E128))","v":""},{"$f":"ASC(IF(入力シート!F128=\"\",\"\",UPPER(入力シート!F128)))","v":""},{"$f":"IF(入力シート!G128=\"\",\"\",PROPER(入力シート!G128))","v":""},{"$f":"IF(入力シート!H128=\"\",\"\",入力シート!H128&\"性\")","v":""},{"$f":"IF(入力シート!I128=\"\",\"\",TEXT(入力シート!I128,\"yyyy/mm/dd\"))","v":""},null,null,null,null,null,{"$f":"IF(入力シート!J128=\"\",\"\",入力シート!J128)","v":""},{"$f":"IF(入力シート!K128=\"\",\"\",入力シート!K128)","v":""},null,null,null,null,null,null,null,null,null,null,null,null,null,{"$f":"IF(入力シート!H128=\"\",\"\",\"競技者\")","v":""},{"$f":"IF(入力シート!K128=\"\",\"\",入力シート!K128)","v":""},{"$f":"IF(入力シート!L128=\"\",\"\",入力シート!L128)","v":""}]
[{"$f":"IF(入力シート!B129=\"\",\"\",入力シート!B129)","v":""},{"$f":"IF(入力シート!C129=\"\",\"\",入力シート!C129)","v":""},{"$f":"IF(入力シート!D129=\"\",\"\",DBCS(入力シート!D129))","v":""},{"$f":"IF(入力シート!E129=\"\",\"\",DBCS(入力シート!E129))","v":""},{"$f":"ASC(IF(入力シート!F129=\"\",\"\",UPPER(入力シート!F129)))","v":""},{"$f":"IF(入力シート!G129=\"\",\"\",PROPER(入力シート!G129))","v":""},{"$f":"IF(入力シート!H129=\"\",\"\",入力シート!H129&\"性\")","v":""},{"$f":"IF(入力シート!I129=\"\",\"\",TEXT(入力シート!I129,\"yyyy/mm/dd\"))","v":""},null,null,null,null,null,{"$f":"IF(入力シート!J129=\"\",\"\",入力シート!J129)","v":""},{"$f":"IF(入力シート!K129=\"\",\"\",入力シート!K129)","v":""},null,null,null,null,null,null,null,null,null,null,null,null,null,{"$f":"IF(入力シート!H129=\"\",\"\",\"競技者\")","v":""},{"$f":"IF(入力シート!K129=\"\",\"\",入力シート!K129)","v":""},{"$f":"IF(入力シート!L129=\"\",\"\",入力シート!L129)","v":""}]
[{"$f":"IF(入力シート!B130=\"\",\"\",入力シート!B130)","v":""},{"$f":"IF(入力シート!C130=\"\",\"\",入力シート!C130)","v":""},{"$f":"IF(入力シート!D130=\"\",\"\",DBCS(入力シート!D130))","v":""},{"$f":"IF(入力シート!E130=\"\",\"\",DBCS(入力シート!E130))","v":""},{"$f":"ASC(IF(入力シート!F130=\"\",\"\",UPPER(入力シート!F130)))","v":""},{"$f":"IF(入力シート!G130=\"\",\"\",PROPER(入力シート!G130))","v":""},{"$f":"IF(入力シート!H130=\"\",\"\",入力シート!H130&\"性\")","v":""},{"$f":"IF(入力シート!I130=\"\",\"\",TEXT(入力シート!I130,\"yyyy/mm/dd\"))","v":""},null,null,null,null,null,{"$f":"IF(入力シート!J130=\"\",\"\",入力シート!J130)","v":""},{"$f":"IF(入力シート!K130=\"\",\"\",入力シート!K130)","v":""},null,null,null,null,null,null,null,null,null,null,null,null,null,{"$f":"IF(入力シート!H130=\"\",\"\",\"競技者\")","v":""},{"$f":"IF(入力シート!K130=\"\",\"\",入力シート!K130)","v":""},{"$f":"IF(入力シート!L130=\"\",\"\",入力シート!L130)","v":""}]
[{"$f":"IF(入力シート!B131=\"\",\"\",入力シート!B131)","v":""},{"$f":"IF(入力シート!C131=\"\",\"\",入力シート!C131)","v":""},{"$f":"IF(入力シート!D131=\"\",\"\",DBCS(入力シート!D131))","v":""},{"$f":"IF(入力シート!E131=\"\",\"\",DBCS(入力シート!E131))","v":""},{"$f":"ASC(IF(入力シート!F131=\"\",\"\",UPPER(入力シート!F131)))","v":""},{"$f":"IF(入力シート!G131=\"\",\"\",PROPER(入力シート!G131))","v":""},{"$f":"IF(入力シート!H131=\"\",\"\",入力シート!H131&\"性\")","v":""},{"$f":"IF(入力シート!I131=\"\",\"\",TEXT(入力シート!I131,\"yyyy/mm/dd\"))","v":""},null,null,null,null,null,{"$f":"IF(入力シート!J131=\"\",\"\",入力シート!J131)","v":""},{"$f":"IF(入力シート!K131=\"\",\"\",入力シート!K131)","v":""},null,null,null,null,null,null,null,null,null,null,null,null,null,{"$f":"IF(入力シート!H131=\"\",\"\",\"競技者\")","v":""},{"$f":"IF(入力シート!K131=\"\",\"\",入力シート!K131)","v":""},{"$f":"IF(入力シート!L131=\"\",\"\",入力シート!L131)","v":""}]
[{"$f":"IF(入力シート!B132=\"\",\"\",入力シート!B132)","v":""},{"$f":"IF(入力シート!C132=\"\",\"\",入力シート!C132)","v":""},{"$f":"IF(入力シート!D132=\"\",\"\",DBCS(入力シート!D132))","v":""},{"$f":"IF(入力シート!E132=\"\",\"\",DBCS(入力シート!E132))","v":""},{"$f":"ASC(IF(入力シート!F132=\"\",\"\",UPPER(入力シート!F132)))","v":""},{"$f":"IF(入力シート!G132=\"\",\"\",PROPER(入力シート!G132))","v":""},{"$f":"IF(入力シート!H132=\"\",\"\",入力シート!H132&\"性\")","v":""},{"$f":"IF(入力シート!I132=\"\",\"\",TEXT(入力シート!I132,\"yyyy/mm/dd\"))","v":""},null,null,null,null,null,{"$f":"IF(入力シート!J132=\"\",\"\",入力シート!J132)","v":""},{"$f":"IF(入力シート!K132=\"\",\"\",入力シート!K132)","v":""},null,null,null,null,null,null,null,null,null,null,null,null,null,{"$f":"IF(入力シート!H132=\"\",\"\",\"競技者\")","v":""},{"$f":"IF(入力シート!K132=\"\",\"\",入力シート!K132)","v":""},{"$f":"IF(入力シート!L132=\"\",\"\",入力シート!L132)","v":""}]
[{"$f":"IF(入力シート!B133=\"\",\"\",入力シート!B133)","v":""},{"$f":"IF(入力シート!C133=\"\",\"\",入力シート!C133)","v":""},{"$f":"IF(入力シート!D133=\"\",\"\",DBCS(入力シート!D133))","v":""},{"$f":"IF(入力シート!E133=\"\",\"\",DBCS(入力シート!E133))","v":""},{"$f":"ASC(IF(入力シート!F133=\"\",\"\",UPPER(入力シート!F133)))","v":""},{"$f":"IF(入力シート!G133=\"\",\"\",PROPER(入力シート!G133))","v":""},{"$f":"IF(入力シート!H133=\"\",\"\",入力シート!H133&\"性\")","v":""},{"$f":"IF(入力シート!I133=\"\",\"\",TEXT(入力シート!I133,\"yyyy/mm/dd\"))","v":""},null,null,null,null,null,{"$f":"IF(入力シート!J133=\"\",\"\",入力シート!J133)","v":""},{"$f":"IF(入力シート!K133=\"\",\"\",入力シート!K133)","v":""},null,null,null,null,null,null,null,null,null,null,null,null,null,{"$f":"IF(入力シート!H133=\"\",\"\",\"競技者\")","v":""},{"$f":"IF(入力シート!K133=\"\",\"\",入力シート!K133)","v":""},{"$f":"IF(入力シート!L133=\"\",\"\",入力シート!L133)","v":""}]
[{"$f":"IF(入力シート!B134=\"\",\"\",入力シート!B134)","v":""},{"$f":"IF(入力シート!C134=\"\",\"\",入力シート!C134)","v":""},{"$f":"IF(入力シート!D134=\"\",\"\",DBCS(入力シート!D134))","v":""},{"$f":"IF(入力シート!E134=\"\",\"\",DBCS(入力シート!E134))","v":""},{"$f":"ASC(IF(入力シート!F134=\"\",\"\",UPPER(入力シート!F134)))","v":""},{"$f":"IF(入力シート!G134=\"\",\"\",PROPER(入力シート!G134))","v":""},{"$f":"IF(入力シート!H134=\"\",\"\",入力シート!H134&\"性\")","v":""},{"$f":"IF(入力シート!I134=\"\",\"\",TEXT(入力シート!I134,\"yyyy/mm/dd\"))","v":""},null,null,null,null,null,{"$f":"IF(入力シート!J134=\"\",\"\",入力シート!J134)","v":""},{"$f":"IF(入力シート!K134=\"\",\"\",入力シート!K134)","v":""},null,null,null,null,null,null,null,null,null,null,null,null,null,{"$f":"IF(入力シート!H134=\"\",\"\",\"競技者\")","v":""},{"$f":"IF(入力シート!K134=\"\",\"\",入力シート!K134)","v":""},{"$f":"IF(入力シート!L134=\"\",\"\",入力シート!L134)","v":""}]
[{"$f":"IF(入力シート!B135=\"\",\"\",入力シート!B135)","v":""},{"$f":"IF(入力シート!C135=\"\",\"\",入力シート!C135)","v":""},{"$f":"IF(入力シート!D135=\"\",\"\",DBCS(入力シート!D135))","v":""},{"$f":"IF(入力シート!E135=\"\",\"\",DBCS(入力シート!E135))","v":""},{"$f":"ASC(IF(入力シート!F135=\"\",\"\",UPPER(入力シート!F135)))","v":""},{"$f":"IF(入力シート!G135=\"\",\"\",PROPER(入力シート!G135))","v":""},{"$f":"IF(入力シート!H135=\"\",\"\",入力シート!H135&\"性\")","v":""},{"$f":"IF(入力シート!I135=\"\",\"\",TEXT(入力シート!I135,\"yyyy/mm/dd\"))","v":""},null,null,null,null,null,{"$f":"IF(入力シート!J135=\"\",\"\",入力シート!J135)","v":""},{"$f":"IF(入力シート!K135=\"\",\"\",入力シート!K135)","v":""},null,null,null,null,null,null,null,null,null,null,null,null,null,{"$f":"IF(入力シート!H135=\"\",\"\",\"競技者\")","v":""},{"$f":"IF(入力シート!K135=\"\",\"\",入力シート!K135)","v":""},{"$f":"IF(入力シート!L135=\"\",\"\",入力シート!L135)","v":""}]
[{"$f":"IF(入力シート!B136=\"\",\"\",入力シート!B136)","v":""},{"$f":"IF(入力シート!C136=\"\",\"\",入力シート!C136)","v":""},{"$f":"IF(入力シート!D136=\"\",\"\",DBCS(入力シート!D136))","v":""},{"$f":"IF(入力シート!E136=\"\",\"\",DBCS(入力シート!E136))","v":""},{"$f":"ASC(IF(入力シート!F136=\"\",\"\",UPPER(入力シート!F136)))","v":""},{"$f":"IF(入力シート!G136=\"\",\"\",PROPER(入力シート!G136))","v":""},{"$f":"IF(入力シート!H136=\"\",\"\",入力シート!H136&\"性\")","v":""},{"$f":"IF(入力シート!I136=\"\",\"\",TEXT(入力シート!I136,\"yyyy/mm/dd\"))","v":""},null,null,null,null,null,{"$f":"IF(入力シート!J136=\"\",\"\",入力シート!J136)","v":""},{"$f":"IF(入力シート!K136=\"\",\"\",入力シート!K136)","v":""},null,null,null,null,null,null,null,null,null,null,null,null,null,{"$f":"IF(入力シート!H136=\"\",\"\",\"競技者\")","v":""},{"$f":"IF(入力シート!K136=\"\",\"\",入力シート!K136)","v":""},{"$f":"IF(入力シート!L136=\"\",\"\",入力シート!L136)","v":""}]
[{"$f":"IF(入力シート!B137=\"\",\"\",入力シート!B137)","v":""},{"$f":"IF(入力シート!C137=\"\",\"\",入力シート!C137)","v":""},{"$f":"IF(入力シート!D137=\"\",\"\",DBCS(入力シート!D137))","v":""},{"$f":"IF(入力シート!E137=\"\",\"\",DBCS(入力シート!E137))","v":""},{"$f":"ASC(IF(入力シート!F137=\"\",\"\",UPPER(入力シート!F137)))","v":""},{"$f":"IF(入力シート!G137=\"\",\"\",PROPER(入力シート!G137))","v":""},{"$f":"IF(入力シート!H137=\"\",\"\",入力シート!H137&\"性\")","v":""},{"$f":"IF(入力シート!I137=\"\",\"\",TEXT(入力シート!I137,\"yyyy/mm/dd\"))","v":""},null,null,null,null,null,{"$f":"IF(入力シート!J137=\"\",\"\",入力シート!J137)","v":""},{"$f":"IF(入力シート!K137=\"\",\"\",入力シート!K137)","v":""},null,null,null,null,null,null,null,null,null,null,null,null,null,{"$f":"IF(入力シート!H137=\"\",\"\",\"競技者\")","v":""},{"$f":"IF(入力シート!K137=\"\",\"\",入力シート!K137)","v":""},{"$f":"IF(入力シート!L137=\"\",\"\",入力シート!L137)","v":""}]
[{"$f":"IF(入力シート!B138=\"\",\"\",入力シート!B138)","v":""},{"$f":"IF(入力シート!C138=\"\",\"\",入力シート!C138)","v":""},{"$f":"IF(入力シート!D138=\"\",\"\",DBCS(入力シート!D138))","v":""},{"$f":"IF(入力シート!E138=\"\",\"\",DBCS(入力シート!E138))","v":""},{"$f":"ASC(IF(入力シート!F138=\"\",\"\",UPPER(入力シート!F138)))","v":""},{"$f":"IF(入力シート!G138=\"\",\"\",PROPER(入力シート!G138))","v":""},{"$f":"IF(入力シート!H138=\"\",\"\",入力シート!H138&\"性\")","v":""},{"$f":"IF(入力シート!I138=\"\",\"\",TEXT(入力シート!I138,\"yyyy/mm/dd\"))","v":""},null,null,null,null,null,{"$f":"IF(入力シート!J138=\"\",\"\",入力シート!J138)","v":""},{"$f":"IF(入力シート!K138=\"\",\"\",入力シート!K138)","v":""},null,null,null,null,null,null,null,null,null,null,null,null,null,{"$f":"IF(入力シート!H138=\"\",\"\",\"競技者\")","v":""},{"$f":"IF(入力シート!K138=\"\",\"\",入力シート!K138)","v":""},{"$f":"IF(入力シート!L138=\"\",\"\",入力シート!L138)","v":""}]
[{"$f":"IF(入力シート!B139=\"\",\"\",入力シート!B139)","v":""},{"$f":"IF(入力シート!C139=\"\",\"\",入力シート!C139)","v":""},{"$f":"IF(入力シート!D139=\"\",\"\",DBCS(入力シート!D139))","v":""},{"$f":"IF(入力シート!E139=\"\",\"\",DBCS(入力シート!E139))","v":""},{"$f":"ASC(IF(入力シート!F139=\"\",\"\",UPPER(入力シート!F139)))","v":""},{"$f":"IF(入力シート!G139=\"\",\"\",PROPER(入力シート!G139))","v":""},{"$f":"IF(入力シート!H139=\"\",\"\",入力シート!H139&\"性\")","v":""},{"$f":"IF(入力シート!I139=\"\",\"\",TEXT(入力シート!I139,\"yyyy/mm/dd\"))","v":""},null,null,null,null,null,{"$f":"IF(入力シート!J139=\"\",\"\",入力シート!J139)","v":""},{"$f":"IF(入力シート!K139=\"\",\"\",入力シート!K139)","v":""},null,null,null,null,null,null,null,null,null,null,null,null,null,{"$f":"IF(入力シート!H139=\"\",\"\",\"競技者\")","v":""},{"$f":"IF(入力シート!K139=\"\",\"\",入力シート!K139)","v":""},{"$f":"IF(入力シート!L139=\"\",\"\",入力シート!L139)","v":""}]
[{"$f":"IF(入力シート!B140=\"\",\"\",入力シート!B140)","v":""},{"$f":"IF(入力シート!C140=\"\",\"\",入力シート!C140)","v":""},{"$f":"IF(入力シート!D140=\"\",\"\",DBCS(入力シート!D140))","v":""},{"$f":"IF(入力シート!E140=\"\",\"\",DBCS(入力シート!E140))","v":""},{"$f":"ASC(IF(入力シート!F140=\"\",\"\",UPPER(入力シート!F140)))","v":""},{"$f":"IF(入力シート!G140=\"\",\"\",PROPER(入力シート!G140))","v":""},{"$f":"IF(入力シート!H140=\"\",\"\",入力シート!H140&\"性\")","v":""},{"$f":"IF(入力シート!I140=\"\",\"\",TEXT(入力シート!I140,\"yyyy/mm/dd\"))","v":""},null,null,null,null,null,{"$f":"IF(入力シート!J140=\"\",\"\",入力シート!J140)","v":""},{"$f":"IF(入力シート!K140=\"\",\"\",入力シート!K140)","v":""},null,null,null,null,null,null,null,null,null,null,null,null,null,{"$f":"IF(入力シート!H140=\"\",\"\",\"競技者\")","v":""},{"$f":"IF(入力シート!K140=\"\",\"\",入力シート!K140)","v":""},{"$f":"IF(入力シート!L140=\"\",\"\",入力シート!L140)","v":""}]
[{"$f":"IF(入力シート!B141=\"\",\"\",入力シート!B141)","v":""},{"$f":"IF(入力シート!C141=\"\",\"\",入力シート!C141)","v":""},{"$f":"IF(入力シート!D141=\"\",\"\",DBCS(入力シート!D141))","v":""},{"$f":"IF(入力シート!E141=\"\",\"\",DBCS(入力シート!E141))","v":""},{"$f":"ASC(IF(入力シート!F141=\"\",\"\",UPPER(入力シート!F141)))","v":""},{"$f":"IF(入力シート!G141=\"\",\"\",PROPER(入力シート!G141))","v":""},{"$f":"IF(入力シート!H141=\"\",\"\",入力シート!H141&\"性\")","v":""},{"$f":"IF(入力シート!I141=\"\",\"\",TEXT(入力シート!I141,\"yyyy/mm/dd\"))","v":""},null,null,null,null,null,{"$f":"IF(入力シート!J141=\"\",\"\",入力シート!J141)","v":""},{"$f":"IF(入力シート!K141=\"\",\"\",入力シート!K141)","v":""},null,null,null,null,null,null,null,null,null,null,null,null,null,{"$f":"IF(入力シート!H141=\"\",\"\",\"競技者\")","v":""},{"$f":"IF(入力シート!K141=\"\",\"\",入力シート!K141)","v":""},{"$f":"IF(入力シート!L141=\"\",\"\",入力シート!L141)","v":""}]
[{"$f":"IF(入力シート!B142=\"\",\"\",入力シート!B142)","v":""},{"$f":"IF(入力シート!C142=\"\",\"\",入力シート!C142)","v":""},{"$f":"IF(入力シート!D142=\"\",\"\",DBCS(入力シート!D142))","v":""},{"$f":"IF(入力シート!E142=\"\",\"\",DBCS(入力シート!E142))","v":""},{"$f":"ASC(IF(入力シート!F142=\"\",\"\",UPPER(入力シート!F142)))","v":""},{"$f":"IF(入力シート!G142=\"\",\"\",PROPER(入力シート!G142))","v":""},{"$f":"IF(入力シート!H142=\"\",\"\",入力シート!H142&\"性\")","v":""},{"$f":"IF(入力シート!I142=\"\",\"\",TEXT(入力シート!I142,\"yyyy/mm/dd\"))","v":""},null,null,null,null,null,{"$f":"IF(入力シート!J142=\"\",\"\",入力シート!J142)","v":""},{"$f":"IF(入力シート!K142=\"\",\"\",入力シート!K142)","v":""},null,null,null,null,null,null,null,null,null,null,null,null,null,{"$f":"IF(入力シート!H142=\"\",\"\",\"競技者\")","v":""},{"$f":"IF(入力シート!K142=\"\",\"\",入力シート!K142)","v":""},{"$f":"IF(入力シート!L142=\"\",\"\",入力シート!L142)","v":""}]
[{"$f":"IF(入力シート!B143=\"\",\"\",入力シート!B143)","v":""},{"$f":"IF(入力シート!C143=\"\",\"\",入力シート!C143)","v":""},{"$f":"IF(入力シート!D143=\"\",\"\",DBCS(入力シート!D143))","v":""},{"$f":"IF(入力シート!E143=\"\",\"\",DBCS(入力シート!E143))","v":""},{"$f":"ASC(IF(入力シート!F143=\"\",\"\",UPPER(入力シート!F143)))","v":""},{"$f":"IF(入力シート!G143=\"\",\"\",PROPER(入力シート!G143))","v":""},{"$f":"IF(入力シート!H143=\"\",\"\",入力シート!H143&\"性\")","v":""},{"$f":"IF(入力シート!I143=\"\",\"\",TEXT(入力シート!I143,\"yyyy/mm/dd\"))","v":""},null,null,null,null,null,{"$f":"IF(入力シート!J143=\"\",\"\",入力シート!J143)","v":""},{"$f":"IF(入力シート!K143=\"\",\"\",入力シート!K143)","v":""},null,null,null,null,null,null,null,null,null,null,null,null,null,{"$f":"IF(入力シート!H143=\"\",\"\",\"競技者\")","v":""},{"$f":"IF(入力シート!K143=\"\",\"\",入力シート!K143)","v":""},{"$f":"IF(入力シート!L143=\"\",\"\",入力シート!L143)","v":""}]
[{"$f":"IF(入力シート!B144=\"\",\"\",入力シート!B144)","v":""},{"$f":"IF(入力シート!C144=\"\",\"\",入力シート!C144)","v":""},{"$f":"IF(入力シート!D144=\"\",\"\",DBCS(入力シート!D144))","v":""},{"$f":"IF(入力シート!E144=\"\",\"\",DBCS(入力シート!E144))","v":""},{"$f":"ASC(IF(入力シート!F144=\"\",\"\",UPPER(入力シート!F144)))","v":""},{"$f":"IF(入力シート!G144=\"\",\"\",PROPER(入力シート!G144))","v":""},{"$f":"IF(入力シート!H144=\"\",\"\",入力シート!H144&\"性\")","v":""},{"$f":"IF(入力シート!I144=\"\",\"\",TEXT(入力シート!I144,\"yyyy/mm/dd\"))","v":""},null,null,null,null,null,{"$f":"IF(入力シート!J144=\"\",\"\",入力シート!J144)","v":""},{"$f":"IF(入力シート!K144=\"\",\"\",入力シート!K144)","v":""},null,null,null,null,null,null,null,null,null,null,null,null,null,{"$f":"IF(入力シート!H144=\"\",\"\",\"競技者\")","v":""},{"$f":"IF(入力シート!K144=\"\",\"\",入力シート!K144)","v":""},{"$f":"IF(入力シート!L144=\"\",\"\",入力シート!L144)","v":""}]
[{"$f":"IF(入力シート!B145=\"\",\"\",入力シート!B145)","v":""},{"$f":"IF(入力シート!C145=\"\",\"\",入力シート!C145)","v":""},{"$f":"IF(入力シート!D145=\"\",\"\",DBCS(入力シート!D145))","v":""},{"$f":"IF(入力シート!E145=\"\",\"\",DBCS(入力シート!E145))","v":""},{"$f":"ASC(IF(入力シート!F145=\"\",\"\",UPPER(入力シート!F145)))","v":""},{"$f":"IF(入力シート!G145=\"\",\"\",PROPER(入力シート!G145))","v":""},{"$f":"IF(入力シート!H145=\"\",\"\",入力シート!H145&\"性\")","v":""},{"$f":"IF(入力シート!I145=\"\",\"\",TEXT(入力シート!I145,\"yyyy/mm/dd\"))","v":""},null,null,null,null,null,{"$f":"IF(入力シート!J145=\"\",\"\",入力シート!J145)","v":""},{"$f":"IF(入力シート!K145=\"\",\"\",入力シート!K145)","v":""},null,null,null,null,null,null,null,null,null,null,null,null,null,{"$f":"IF(入力シート!H145=\"\",\"\",\"競技者\")","v":""},{"$f":"IF(入力シート!K145=\"\",\"\",入力シート!K145)","v":""},{"$f":"IF(入力シート!L145=\"\",\"\",入力シート!L145)","v":""}]
[{"$f":"IF(入力シート!B146=\"\",\"\",入力シート!B146)","v":""},{"$f":"IF(入力シート!C146=\"\",\"\",入力シート!C146)","v":""},{"$f":"IF(入力シート!D146=\"\",\"\",DBCS(入力シート!D146))","v":""},{"$f":"IF(入力シート!E146=\"\",\"\",DBCS(入力シート!E146))","v":""},{"$f":"ASC(IF(入力シート!F146=\"\",\"\",UPPER(入力シート!F146)))","v":""},{"$f":"IF(入力シート!G146=\"\",\"\",PROPER(入力シート!G146))","v":""},{"$f":"IF(入力シート!H146=\"\",\"\",入力シート!H146&\"性\")","v":""},{"$f":"IF(入力シート!I146=\"\",\"\",TEXT(入力シート!I146,\"yyyy/mm/dd\"))","v":""},null,null,null,null,null,{"$f":"IF(入力シート!J146=\"\",\"\",入力シート!J146)","v":""},{"$f":"IF(入力シート!K146=\"\",\"\",入力シート!K146)","v":""},null,null,null,null,null,null,null,null,null,null,null,null,null,{"$f":"IF(入力シート!H146=\"\",\"\",\"競技者\")","v":""},{"$f":"IF(入力シート!K146=\"\",\"\",入力シート!K146)","v":""},{"$f":"IF(入力シート!L146=\"\",\"\",入力シート!L146)","v":""}]
[{"$f":"IF(入力シート!B147=\"\",\"\",入力シート!B147)","v":""},{"$f":"IF(入力シート!C147=\"\",\"\",入力シート!C147)","v":""},{"$f":"IF(入力シート!D147=\"\",\"\",DBCS(入力シート!D147))","v":""},{"$f":"IF(入力シート!E147=\"\",\"\",DBCS(入力シート!E147))","v":""},{"$f":"ASC(IF(入力シート!F147=\"\",\"\",UPPER(入力シート!F147)))","v":""},{"$f":"IF(入力シート!G147=\"\",\"\",PROPER(入力シート!G147))","v":""},{"$f":"IF(入力シート!H147=\"\",\"\",入力シート!H147&\"性\")","v":""},{"$f":"IF(入力シート!I147=\"\",\"\",TEXT(入力シート!I147,\"yyyy/mm/dd\"))","v":""},null,null,null,null,null,{"$f":"IF(入力シート!J147=\"\",\"\",入力シート!J147)","v":""},{"$f":"IF(入力シート!K147=\"\",\"\",入力シート!K147)","v":""},null,null,null,null,null,null,null,null,null,null,null,null,null,{"$f":"IF(入力シート!H147=\"\",\"\",\"競技者\")","v":""},{"$f":"IF(入力シート!K147=\"\",\"\",入力シート!K147)","v":""},{"$f":"IF(入力シート!L147=\"\",\"\",入力シート!L147)","v":""}]
[{"$f":"IF(入力シート!B148=\"\",\"\",入力シート!B148)","v":""},{"$f":"IF(入力シート!C148=\"\",\"\",入力シート!C148)","v":""},{"$f":"IF(入力シート!D148=\"\",\"\",DBCS(入力シート!D148))","v":""},{"$f":"IF(入力シート!E148=\"\",\"\",DBCS(入力シート!E148))","v":""},{"$f":"ASC(IF(入力シート!F148=\"\",\"\",UPPER(入力シート!F148)))","v":""},{"$f":"IF(入力シート!G148=\"\",\"\",PROPER(入力シート!G148))","v":""},{"$f":"IF(入力シート!H148=\"\",\"\",入力シート!H148&\"性\")","v":""},{"$f":"IF(入力シート!I148=\"\",\"\",TEXT(入力シート!I148,\"yyyy/mm/dd\"))","v":""},null,null,null,null,null,{"$f":"IF(入力シート!J148=\"\",\"\",入力シート!J148)","v":""},{"$f":"IF(入力シート!K148=\"\",\"\",入力シート!K148)","v":""},null,null,null,null,null,null,null,null,null,null,null,null,null,{"$f":"IF(入力シート!H148=\"\",\"\",\"競技者\")","v":""},{"$f":"IF(入力シート!K148=\"\",\"\",入力シート!K148)","v":""},{"$f":"IF(入力シート!L148=\"\",\"\",入力シート!L148)","v":""}]
[{"$f":"IF(入力シート!B149=\"\",\"\",入力シート!B149)","v":""},{"$f":"IF(入力シート!C149=\"\",\"\",入力シート!C149)","v":""},{"$f":"IF(入力シート!D149=\"\",\"\",DBCS(入力シート!D149))","v":""},{"$f":"IF(入力シート!E149=\"\",\"\",DBCS(入力シート!E149))","v":""},{"$f":"ASC(IF(入力シート!F149=\"\",\"\",UPPER(入力シート!F149)))","v":""},{"$f":"IF(入力シート!G149=\"\",\"\",PROPER(入力シート!G149))","v":""},{"$f":"IF(入力シート!H149=\"\",\"\",入力シート!H149&\"性\")","v":""},{"$f":"IF(入力シート!I149=\"\",\"\",TEXT(入力シート!I149,\"yyyy/mm/dd\"))","v":""},null,null,null,null,null,{"$f":"IF(入力シート!J149=\"\",\"\",入力シート!J149)","v":""},{"$f":"IF(入力シート!K149=\"\",\"\",入力シート!K149)","v":""},null,null,null,null,null,null,null,null,null,null,null,null,null,{"$f":"IF(入力シート!H149=\"\",\"\",\"競技者\")","v":""},{"$f":"IF(入力シート!K149=\"\",\"\",入力シート!K149)","v":""},{"$f":"IF(入力シート!L149=\"\",\"\",入力シート!L149)","v":""}]
[{"$f":"IF(入力シート!B150=\"\",\"\",入力シート!B150)","v":""},{"$f":"IF(入力シート!C150=\"\",\"\",入力シート!C150)","v":""},{"$f":"IF(入力シート!D150=\"\",\"\",DBCS(入力シート!D150))","v":""},{"$f":"IF(入力シート!E150=\"\",\"\",DBCS(入力シート!E150))","v":""},{"$f":"ASC(IF(入力シート!F150=\"\",\"\",UPPER(入力シート!F150)))","v":""},{"$f":"IF(入力シート!G150=\"\",\"\",PROPER(入力シート!G150))","v":""},{"$f":"IF(入力シート!H150=\"\",\"\",入力シート!H150&\"性\")","v":""},{"$f":"IF(入力シート!I150=\"\",\"\",TEXT(入力シート!I150,\"yyyy/mm/dd\"))","v":""},null,null,null,null,null,{"$f":"IF(入力シート!J150=\"\",\"\",入力シート!J150)","v":""},{"$f":"IF(入力シート!K150=\"\",\"\",入力シート!K150)","v":""},null,null,null,null,null,null,null,null,null,null,null,null,null,{"$f":"IF(入力シート!H150=\"\",\"\",\"競技者\")","v":""},{"$f":"IF(入力シート!K150=\"\",\"\",入力シート!K150)","v":""},{"$f":"IF(入力シート!L150=\"\",\"\",入力シート!L150)","v":""}]
[{"$f":"IF(入力シート!B151=\"\",\"\",入力シート!B151)","v":""},{"$f":"IF(入力シート!C151=\"\",\"\",入力シート!C151)","v":""},{"$f":"IF(入力シート!D151=\"\",\"\",DBCS(入力シート!D151))","v":""},{"$f":"IF(入力シート!E151=\"\",\"\",DBCS(入力シート!E151))","v":""},{"$f":"ASC(IF(入力シート!F151=\"\",\"\",UPPER(入力シート!F151)))","v":""},{"$f":"IF(入力シート!G151=\"\",\"\",PROPER(入力シート!G151))","v":""},{"$f":"IF(入力シート!H151=\"\",\"\",入力シート!H151&\"性\")","v":""},{"$f":"IF(入力シート!I151=\"\",\"\",TEXT(入力シート!I151,\"yyyy/mm/dd\"))","v":""},null,null,null,null,null,{"$f":"IF(入力シート!J151=\"\",\"\",入力シート!J151)","v":""},{"$f":"IF(入力シート!K151=\"\",\"\",入力シート!K151)","v":""},null,null,null,null,null,null,null,null,null,null,null,null,null,{"$f":"IF(入力シート!H151=\"\",\"\",\"競技者\")","v":""},{"$f":"IF(入力シート!K151=\"\",\"\",入力シート!K151)","v":""},{"$f":"IF(入力シート!L151=\"\",\"\",入力シート!L151)","v":""}]
[{"$f":"IF(入力シート!B152=\"\",\"\",入力シート!B152)","v":""},{"$f":"IF(入力シート!C152=\"\",\"\",入力シート!C152)","v":""},{"$f":"IF(入力シート!D152=\"\",\"\",DBCS(入力シート!D152))","v":""},{"$f":"IF(入力シート!E152=\"\",\"\",DBCS(入力シート!E152))","v":""},{"$f":"ASC(IF(入力シート!F152=\"\",\"\",UPPER(入力シート!F152)))","v":""},{"$f":"IF(入力シート!G152=\"\",\"\",PROPER(入力シート!G152))","v":""},{"$f":"IF(入力シート!H152=\"\",\"\",入力シート!H152&\"性\")","v":""},{"$f":"IF(入力シート!I152=\"\",\"\",TEXT(入力シート!I152,\"yyyy/mm/dd\"))","v":""},null,null,null,null,null,{"$f":"IF(入力シート!J152=\"\",\"\",入力シート!J152)","v":""},{"$f":"IF(入力シート!K152=\"\",\"\",入力シート!K152)","v":""},null,null,null,null,null,null,null,null,null,null,null,null,null,{"$f":"IF(入力シート!H152=\"\",\"\",\"競技者\")","v":""},{"$f":"IF(入力シート!K152=\"\",\"\",入力シート!K152)","v":""},{"$f":"IF(入力シート!L152=\"\",\"\",入力シート!L152)","v":""}]
[{"$f":"IF(入力シート!B153=\"\",\"\",入力シート!B153)","v":""},{"$f":"IF(入力シート!C153=\"\",\"\",入力シート!C153)","v":""},{"$f":"IF(入力シート!D153=\"\",\"\",DBCS(入力シート!D153))","v":""},{"$f":"IF(入力シート!E153=\"\",\"\",DBCS(入力シート!E153))","v":""},{"$f":"ASC(IF(入力シート!F153=\"\",\"\",UPPER(入力シート!F153)))","v":""},{"$f":"IF(入力シート!G153=\"\",\"\",PROPER(入力シート!G153))","v":""},{"$f":"IF(入力シート!H153=\"\",\"\",入力シート!H153&\"性\")","v":""},{"$f":"IF(入力シート!I153=\"\",\"\",TEXT(入力シート!I153,\"yyyy/mm/dd\"))","v":""},null,null,null,null,null,{"$f":"IF(入力シート!J153=\"\",\"\",入力シート!J153)","v":""},{"$f":"IF(入力シート!K153=\"\",\"\",入力シート!K153)","v":""},null,null,null,null,null,null,null,null,null,null,null,null,null,{"$f":"IF(入力シート!H153=\"\",\"\",\"競技者\")","v":""},{"$f":"IF(入力シート!K153=\"\",\"\",入力シート!K153)","v":""},{"$f":"IF(入力シート!L153=\"\",\"\",入力シート!L153)","v":""}]
[{"$f":"IF(入力シート!B154=\"\",\"\",入力シート!B154)","v":""},{"$f":"IF(入力シート!C154=\"\",\"\",入力シート!C154)","v":""},{"$f":"IF(入力シート!D154=\"\",\"\",DBCS(入力シート!D154))","v":""},{"$f":"IF(入力シート!E154=\"\",\"\",DBCS(入力シート!E154))","v":""},{"$f":"ASC(IF(入力シート!F154=\"\",\"\",UPPER(入力シート!F154)))","v":""},{"$f":"IF(入力シート!G154=\"\",\"\",PROPER(入力シート!G154))","v":""},{"$f":"IF(入力シート!H154=\"\",\"\",入力シート!H154&\"性\")","v":""},{"$f":"IF(入力シート!I154=\"\",\"\",TEXT(入力シート!I154,\"yyyy/mm/dd\"))","v":""},null,null,null,null,null,{"$f":"IF(入力シート!J154=\"\",\"\",入力シート!J154)","v":""},{"$f":"IF(入力シート!K154=\"\",\"\",入力シート!K154)","v":""},null,null,null,null,null,null,null,null,null,null,null,null,null,{"$f":"IF(入力シート!H154=\"\",\"\",\"競技者\")","v":""},{"$f":"IF(入力シート!K154=\"\",\"\",入力シート!K154)","v":""},{"$f":"IF(入力シート!L154=\"\",\"\",入力シート!L154)","v":""}]
[{"$f":"IF(入力シート!B155=\"\",\"\",入力シート!B155)","v":""},{"$f":"IF(入力シート!C155=\"\",\"\",入力シート!C155)","v":""},{"$f":"IF(入力シート!D155=\"\",\"\",DBCS(入力シート!D155))","v":""},{"$f":"IF(入力シート!E155=\"\",\"\",DBCS(入力シート!E155))","v":""},{"$f":"ASC(IF(入力シート!F155=\"\",\"\",UPPER(入力シート!F155)))","v":""},{"$f":"IF(入力シート!G155=\"\",\"\",PROPER(入力シート!G155))","v":""},{"$f":"IF(入力シート!H155=\"\",\"\",入力シート!H155&\"性\")","v":""},{"$f":"IF(入力シート!I155=\"\",\"\",TEXT(入力シート!I155,\"yyyy/mm/dd\"))","v":""},null,null,null,null,null,{"$f":"IF(入力シート!J155=\"\",\"\",入力シート!J155)","v":""},{"$f":"IF(入力シート!K155=\"\",\"\",入力シート!K155)","v":""},null,null,null,null,null,null,null,null,null,null,null,null,null,{"$f":"IF(入力シート!H155=\"\",\"\",\"競技者\")","v":""},{"$f":"IF(入力シート!K155=\"\",\"\",入力シート!K155)","v":""},{"$f":"IF(入力シート!L155=\"\",\"\",入力シート!L155)","v":""}]
[{"$f":"IF(入力シート!B156=\"\",\"\",入力シート!B156)","v":""},{"$f":"IF(入力シート!C156=\"\",\"\",入力シート!C156)","v":""},{"$f":"IF(入力シート!D156=\"\",\"\",DBCS(入力シート!D156))","v":""},{"$f":"IF(入力シート!E156=\"\",\"\",DBCS(入力シート!E156))","v":""},{"$f":"ASC(IF(入力シート!F156=\"\",\"\",UPPER(入力シート!F156)))","v":""},{"$f":"IF(入力シート!G156=\"\",\"\",PROPER(入力シート!G156))","v":""},{"$f":"IF(入力シート!H156=\"\",\"\",入力シート!H156&\"性\")","v":""},{"$f":"IF(入力シート!I156=\"\",\"\",TEXT(入力シート!I156,\"yyyy/mm/dd\"))","v":""},null,null,null,null,null,{"$f":"IF(入力シート!J156=\"\",\"\",入力シート!J156)","v":""},{"$f":"IF(入力シート!K156=\"\",\"\",入力シート!K156)","v":""},null,null,null,null,null,null,null,null,null,null,null,null,null,{"$f":"IF(入力シート!H156=\"\",\"\",\"競技者\")","v":""},{"$f":"IF(入力シート!K156=\"\",\"\",入力シート!K156)","v":""},{"$f":"IF(入力シート!L156=\"\",\"\",入力シート!L156)","v":""}]
[{"$f":"IF(入力シート!B157=\"\",\"\",入力シート!B157)","v":""},{"$f":"IF(入力シート!C157=\"\",\"\",入力シート!C157)","v":""},{"$f":"IF(入力シート!D157=\"\",\"\",DBCS(入力シート!D157))","v":""},{"$f":"IF(入力シート!E157=\"\",\"\",DBCS(入力シート!E157))","v":""},{"$f":"ASC(IF(入力シート!F157=\"\",\"\",UPPER(入力シート!F157)))","v":""},{"$f":"IF(入力シート!G157=\"\",\"\",PROPER(入力シート!G157))","v":""},{"$f":"IF(入力シート!H157=\"\",\"\",入力シート!H157&\"性\")","v":""},{"$f":"IF(入力シート!I157=\"\",\"\",TEXT(入力シート!I157,\"yyyy/mm/dd\"))","v":""},null,null,null,null,null,{"$f":"IF(入力シート!J157=\"\",\"\",入力シート!J157)","v":""},{"$f":"IF(入力シート!K157=\"\",\"\",入力シート!K157)","v":""},null,null,null,null,null,null,null,null,null,null,null,null,null,{"$f":"IF(入力シート!H157=\"\",\"\",\"競技者\")","v":""},{"$f":"IF(入力シート!K157=\"\",\"\",入力シート!K157)","v":""},{"$f":"IF(入力シート!L157=\"\",\"\",入力シート!L157)","v":""}]
[{"$f":"IF(入力シート!B158=\"\",\"\",入力シート!B158)","v":""},{"$f":"IF(入力シート!C158=\"\",\"\",入力シート!C158)","v":""},{"$f":"IF(入力シート!D158=\"\",\"\",DBCS(入力シート!D158))","v":""},{"$f":"IF(入力シート!E158=\"\",\"\",DBCS(入力シート!E158))","v":""},{"$f":"ASC(IF(入力シート!F158=\"\",\"\",UPPER(入力シート!F158)))","v":""},{"$f":"IF(入力シート!G158=\"\",\"\",PROPER(入力シート!G158))","v":""},{"$f":"IF(入力シート!H158=\"\",\"\",入力シート!H158&\"性\")","v":""},{"$f":"IF(入力シート!I158=\"\",\"\",TEXT(入力シート!I158,\"yyyy/mm/dd\"))","v":""},null,null,null,null,null,{"$f":"IF(入力シート!J158=\"\",\"\",入力シート!J158)","v":""},{"$f":"IF(入力シート!K158=\"\",\"\",入力シート!K158)","v":""},null,null,null,null,null,null,null,null,null,null,null,null,null,{"$f":"IF(入力シート!H158=\"\",\"\",\"競技者\")","v":""},{"$f":"IF(入力シート!K158=\"\",\"\",入力シート!K158)","v":""},{"$f":"IF(入力シート!L158=\"\",\"\",入力シート!L158)","v":""}]
[{"$f":"IF(入力シート!B159=\"\",\"\",入力シート!B159)","v":""},{"$f":"IF(入力シート!C159=\"\",\"\",入力シート!C159)","v":""},{"$f":"IF(入力シート!D159=\"\",\"\",DBCS(入力シート!D159))","v":""},{"$f":"IF(入力シート!E159=\"\",\"\",DBCS(入力シート!E159))","v":""},{"$f":"ASC(IF(入力シート!F159=\"\",\"\",UPPER(入力シート!F159)))","v":""},{"$f":"IF(入力シート!G159=\"\",\"\",PROPER(入力シート!G159))","v":""},{"$f":"IF(入力シート!H159=\"\",\"\",入力シート!H159&\"性\")","v":""},{"$f":"IF(入力シート!I159=\"\",\"\",TEXT(入力シート!I159,\"yyyy/mm/dd\"))","v":""},null,null,null,null,null,{"$f":"IF(入力シート!J159=\"\",\"\",入力シート!J159)","v":""},{"$f":"IF(入力シート!K159=\"\",\"\",入力シート!K159)","v":""},null,null,null,null,null,null,null,null,null,null,null,null,null,{"$f":"IF(入力シート!H159=\"\",\"\",\"競技者\")","v":""},{"$f":"IF(入力シート!K159=\"\",\"\",入力シート!K159)","v":""},{"$f":"IF(入力シート!L159=\"\",\"\",入力シート!L159)","v":""}]
[{"$f":"IF(入力シート!B160=\"\",\"\",入力シート!B160)","v":""},{"$f":"IF(入力シート!C160=\"\",\"\",入力シート!C160)","v":""},{"$f":"IF(入力シート!D160=\"\",\"\",DBCS(入力シート!D160))","v":""},{"$f":"IF(入力シート!E160=\"\",\"\",DBCS(入力シート!E160))","v":""},{"$f":"ASC(IF(入力シート!F160=\"\",\"\",UPPER(入力シート!F160)))","v":""},{"$f":"IF(入力シート!G160=\"\",\"\",PROPER(入力シート!G160))","v":""},{"$f":"IF(入力シート!H160=\"\",\"\",入力シート!H160&\"性\")","v":""},{"$f":"IF(入力シート!I160=\"\",\"\",TEXT(入力シート!I160,\"yyyy/mm/dd\"))","v":""},null,null,null,null,null,{"$f":"IF(入力シート!J160=\"\",\"\",入力シート!J160)","v":""},{"$f":"IF(入力シート!K160=\"\",\"\",入力シート!K160)","v":""},null,null,null,null,null,null,null,null,null,null,null,null,null,{"$f":"IF(入力シート!H160=\"\",\"\",\"競技者\")","v":""},{"$f":"IF(入力シート!K160=\"\",\"\",入力シート!K160)","v":""},{"$f":"IF(入力シート!L160=\"\",\"\",入力シート!L160)","v":""}]
[{"$f":"IF(入力シート!B161=\"\",\"\",入力シート!B161)","v":""},{"$f":"IF(入力シート!C161=\"\",\"\",入力シート!C161)","v":""},{"$f":"IF(入力シート!D161=\"\",\"\",DBCS(入力シート!D161))","v":""},{"$f":"IF(入力シート!E161=\"\",\"\",DBCS(入力シート!E161))","v":""},{"$f":"ASC(IF(入力シート!F161=\"\",\"\",UPPER(入力シート!F161)))","v":""},{"$f":"IF(入力シート!G161=\"\",\"\",PROPER(入力シート!G161))","v":""},{"$f":"IF(入力シート!H161=\"\",\"\",入力シート!H161&\"性\")","v":""},{"$f":"IF(入力シート!I161=\"\",\"\",TEXT(入力シート!I161,\"yyyy/mm/dd\"))","v":""},null,null,null,null,null,{"$f":"IF(入力シート!J161=\"\",\"\",入力シート!J161)","v":""},{"$f":"IF(入力シート!K161=\"\",\"\",入力シート!K161)","v":""},null,null,null,null,null,null,null,null,null,null,null,null,null,{"$f":"IF(入力シート!H161=\"\",\"\",\"競技者\")","v":""},{"$f":"IF(入力シート!K161=\"\",\"\",入力シート!K161)","v":""},{"$f":"IF(入力シート!L161=\"\",\"\",入力シート!L161)","v":""}]
[{"$f":"IF(入力シート!B162=\"\",\"\",入力シート!B162)","v":""},{"$f":"IF(入力シート!C162=\"\",\"\",入力シート!C162)","v":""},{"$f":"IF(入力シート!D162=\"\",\"\",DBCS(入力シート!D162))","v":""},{"$f":"IF(入力シート!E162=\"\",\"\",DBCS(入力シート!E162))","v":""},{"$f":"ASC(IF(入力シート!F162=\"\",\"\",UPPER(入力シート!F162)))","v":""},{"$f":"IF(入力シート!G162=\"\",\"\",PROPER(入力シート!G162))","v":""},{"$f":"IF(入力シート!H162=\"\",\"\",入力シート!H162&\"性\")","v":""},{"$f":"IF(入力シート!I162=\"\",\"\",TEXT(入力シート!I162,\"yyyy/mm/dd\"))","v":""},null,null,null,null,null,{"$f":"IF(入力シート!J162=\"\",\"\",入力シート!J162)","v":""},{"$f":"IF(入力シート!K162=\"\",\"\",入力シート!K162)","v":""},null,null,null,null,null,null,null,null,null,null,null,null,null,{"$f":"IF(入力シート!H162=\"\",\"\",\"競技者\")","v":""},{"$f":"IF(入力シート!K162=\"\",\"\",入力シート!K162)","v":""},{"$f":"IF(入力シート!L162=\"\",\"\",入力シート!L162)","v":""}]
[{"$f":"IF(入力シート!B163=\"\",\"\",入力シート!B163)","v":""},{"$f":"IF(入力シート!C163=\"\",\"\",入力シート!C163)","v":""},{"$f":"IF(入力シート!D163=\"\",\"\",DBCS(入力シート!D163))","v":""},{"$f":"IF(入力シート!E163=\"\",\"\",DBCS(入力シート!E163))","v":""},{"$f":"ASC(IF(入力シート!F163=\"\",\"\",UPPER(入力シート!F163)))","v":""},{"$f":"IF(入力シート!G163=\"\",\"\",PROPER(入力シート!G163))","v":""},{"$f":"IF(入力シート!H163=\"\",\"\",入力シート!H163&\"性\")","v":""},{"$f":"IF(入力シート!I163=\"\",\"\",TEXT(入力シート!I163,\"yyyy/mm/dd\"))","v":""},null,null,null,null,null,{"$f":"IF(入力シート!J163=\"\",\"\",入力シート!J163)","v":""},{"$f":"IF(入力シート!K163=\"\",\"\",入力シート!K163)","v":""},null,null,null,null,null,null,null,null,null,null,null,null,null,{"$f":"IF(入力シート!H163=\"\",\"\",\"競技者\")","v":""},{"$f":"IF(入力シート!K163=\"\",\"\",入力シート!K163)","v":""},{"$f":"IF(入力シート!L163=\"\",\"\",入力シート!L163)","v":""}]
[{"$f":"IF(入力シート!B164=\"\",\"\",入力シート!B164)","v":""},{"$f":"IF(入力シート!C164=\"\",\"\",入力シート!C164)","v":""},{"$f":"IF(入力シート!D164=\"\",\"\",DBCS(入力シート!D164))","v":""},{"$f":"IF(入力シート!E164=\"\",\"\",DBCS(入力シート!E164))","v":""},{"$f":"ASC(IF(入力シート!F164=\"\",\"\",UPPER(入力シート!F164)))","v":""},{"$f":"IF(入力シート!G164=\"\",\"\",PROPER(入力シート!G164))","v":""},{"$f":"IF(入力シート!H164=\"\",\"\",入力シート!H164&\"性\")","v":""},{"$f":"IF(入力シート!I164=\"\",\"\",TEXT(入力シート!I164,\"yyyy/mm/dd\"))","v":""},null,null,null,null,null,{"$f":"IF(入力シート!J164=\"\",\"\",入力シート!J164)","v":""},{"$f":"IF(入力シート!K164=\"\",\"\",入力シート!K164)","v":""},null,null,null,null,null,null,null,null,null,null,null,null,null,{"$f":"IF(入力シート!H164=\"\",\"\",\"競技者\")","v":""},{"$f":"IF(入力シート!K164=\"\",\"\",入力シート!K164)","v":""},{"$f":"IF(入力シート!L164=\"\",\"\",入力シート!L164)","v":""}]
[{"$f":"IF(入力シート!B165=\"\",\"\",入力シート!B165)","v":""},{"$f":"IF(入力シート!C165=\"\",\"\",入力シート!C165)","v":""},{"$f":"IF(入力シート!D165=\"\",\"\",DBCS(入力シート!D165))","v":""},{"$f":"IF(入力シート!E165=\"\",\"\",DBCS(入力シート!E165))","v":""},{"$f":"ASC(IF(入力シート!F165=\"\",\"\",UPPER(入力シート!F165)))","v":""},{"$f":"IF(入力シート!G165=\"\",\"\",PROPER(入力シート!G165))","v":""},{"$f":"IF(入力シート!H165=\"\",\"\",入力シート!H165&\"性\")","v":""},{"$f":"IF(入力シート!I165=\"\",\"\",TEXT(入力シート!I165,\"yyyy/mm/dd\"))","v":""},null,null,null,null,null,{"$f":"IF(入力シート!J165=\"\",\"\",入力シート!J165)","v":""},{"$f":"IF(入力シート!K165=\"\",\"\",入力シート!K165)","v":""},null,null,null,null,null,null,null,null,null,null,null,null,null,{"$f":"IF(入力シート!H165=\"\",\"\",\"競技者\")","v":""},{"$f":"IF(入力シート!K165=\"\",\"\",入力シート!K165)","v":""},{"$f":"IF(入力シート!L165=\"\",\"\",入力シート!L165)","v":""}]
[{"$f":"IF(入力シート!B166=\"\",\"\",入力シート!B166)","v":""},{"$f":"IF(入力シート!C166=\"\",\"\",入力シート!C166)","v":""},{"$f":"IF(入力シート!D166=\"\",\"\",DBCS(入力シート!D166))","v":""},{"$f":"IF(入力シート!E166=\"\",\"\",DBCS(入力シート!E166))","v":""},{"$f":"ASC(IF(入力シート!F166=\"\",\"\",UPPER(入力シート!F166)))","v":""},{"$f":"IF(入力シート!G166=\"\",\"\",PROPER(入力シート!G166))","v":""},{"$f":"IF(入力シート!H166=\"\",\"\",入力シート!H166&\"性\")","v":""},{"$f":"IF(入力シート!I166=\"\",\"\",TEXT(入力シート!I166,\"yyyy/mm/dd\"))","v":""},null,null,null,null,null,{"$f":"IF(入力シート!J166=\"\",\"\",入力シート!J166)","v":""},{"$f":"IF(入力シート!K166=\"\",\"\",入力シート!K166)","v":""},null,null,null,null,null,null,null,null,null,null,null,null,null,{"$f":"IF(入力シート!H166=\"\",\"\",\"競技者\")","v":""},{"$f":"IF(入力シート!K166=\"\",\"\",入力シート!K166)","v":""},{"$f":"IF(入力シート!L166=\"\",\"\",入力シート!L166)","v":""}]
[{"$f":"IF(入力シート!B167=\"\",\"\",入力シート!B167)","v":""},{"$f":"IF(入力シート!C167=\"\",\"\",入力シート!C167)","v":""},{"$f":"IF(入力シート!D167=\"\",\"\",DBCS(入力シート!D167))","v":""},{"$f":"IF(入力シート!E167=\"\",\"\",DBCS(入力シート!E167))","v":""},{"$f":"ASC(IF(入力シート!F167=\"\",\"\",UPPER(入力シート!F167)))","v":""},{"$f":"IF(入力シート!G167=\"\",\"\",PROPER(入力シート!G167))","v":""},{"$f":"IF(入力シート!H167=\"\",\"\",入力シート!H167&\"性\")","v":""},{"$f":"IF(入力シート!I167=\"\",\"\",TEXT(入力シート!I167,\"yyyy/mm/dd\"))","v":""},null,null,null,null,null,{"$f":"IF(入力シート!J167=\"\",\"\",入力シート!J167)","v":""},{"$f":"IF(入力シート!K167=\"\",\"\",入力シート!K167)","v":""},null,null,null,null,null,null,null,null,null,null,null,null,null,{"$f":"IF(入力シート!H167=\"\",\"\",\"競技者\")","v":""},{"$f":"IF(入力シート!K167=\"\",\"\",入力シート!K167)","v":""},{"$f":"IF(入力シート!L167=\"\",\"\",入力シート!L167)","v":""}]
[{"$f":"IF(入力シート!B168=\"\",\"\",入力シート!B168)","v":""},{"$f":"IF(入力シート!C168=\"\",\"\",入力シート!C168)","v":""},{"$f":"IF(入力シート!D168=\"\",\"\",DBCS(入力シート!D168))","v":""},{"$f":"IF(入力シート!E168=\"\",\"\",DBCS(入力シート!E168))","v":""},{"$f":"ASC(IF(入力シート!F168=\"\",\"\",UPPER(入力シート!F168)))","v":""},{"$f":"IF(入力シート!G168=\"\",\"\",PROPER(入力シート!G168))","v":""},{"$f":"IF(入力シート!H168=\"\",\"\",入力シート!H168&\"性\")","v":""},{"$f":"IF(入力シート!I168=\"\",\"\",TEXT(入力シート!I168,\"yyyy/mm/dd\"))","v":""},null,null,null,null,null,{"$f":"IF(入力シート!J168=\"\",\"\",入力シート!J168)","v":""},{"$f":"IF(入力シート!K168=\"\",\"\",入力シート!K168)","v":""},null,null,null,null,null,null,null,null,null,null,null,null,null,{"$f":"IF(入力シート!H168=\"\",\"\",\"競技者\")","v":""},{"$f":"IF(入力シート!K168=\"\",\"\",入力シート!K168)","v":""},{"$f":"IF(入力シート!L168=\"\",\"\",入力シート!L168)","v":""}]
[{"$f":"IF(入力シート!B169=\"\",\"\",入力シート!B169)","v":""},{"$f":"IF(入力シート!C169=\"\",\"\",入力シート!C169)","v":""},{"$f":"IF(入力シート!D169=\"\",\"\",DBCS(入力シート!D169))","v":""},{"$f":"IF(入力シート!E169=\"\",\"\",DBCS(入力シート!E169))","v":""},{"$f":"ASC(IF(入力シート!F169=\"\",\"\",UPPER(入力シート!F169)))","v":""},{"$f":"IF(入力シート!G169=\"\",\"\",PROPER(入力シート!G169))","v":""},{"$f":"IF(入力シート!H169=\"\",\"\",入力シート!H169&\"性\")","v":""},{"$f":"IF(入力シート!I169=\"\",\"\",TEXT(入力シート!I169,\"yyyy/mm/dd\"))","v":""},null,null,null,null,null,{"$f":"IF(入力シート!J169=\"\",\"\",入力シート!J169)","v":""},{"$f":"IF(入力シート!K169=\"\",\"\",入力シート!K169)","v":""},null,null,null,null,null,null,null,null,null,null,null,null,null,{"$f":"IF(入力シート!H169=\"\",\"\",\"競技者\")","v":""},{"$f":"IF(入力シート!K169=\"\",\"\",入力シート!K169)","v":""},{"$f":"IF(入力シート!L169=\"\",\"\",入力シート!L169)","v":""}]
[{"$f":"IF(入力シート!B170=\"\",\"\",入力シート!B170)","v":""},{"$f":"IF(入力シート!C170=\"\",\"\",入力シート!C170)","v":""},{"$f":"IF(入力シート!D170=\"\",\"\",DBCS(入力シート!D170))","v":""},{"$f":"IF(入力シート!E170=\"\",\"\",DBCS(入力シート!E170))","v":""},{"$f":"ASC(IF(入力シート!F170=\"\",\"\",UPPER(入力シート!F170)))","v":""},{"$f":"IF(入力シート!G170=\"\",\"\",PROPER(入力シート!G170))","v":""},{"$f":"IF(入力シート!H170=\"\",\"\",入力シート!H170&\"性\")","v":""},{"$f":"IF(入力シート!I170=\"\",\"\",TEXT(入力シート!I170,\"yyyy/mm/dd\"))","v":""},null,null,null,null,null,{"$f":"IF(入力シート!J170=\"\",\"\",入力シート!J170)","v":""},{"$f":"IF(入力シート!K170=\"\",\"\",入力シート!K170)","v":""},null,null,null,null,null,null,null,null,null,null,null,null,null,{"$f":"IF(入力シート!H170=\"\",\"\",\"競技者\")","v":""},{"$f":"IF(入力シート!K170=\"\",\"\",入力シート!K170)","v":""},{"$f":"IF(入力シート!L170=\"\",\"\",入力シート!L170)","v":""}]
[{"$f":"IF(入力シート!B171=\"\",\"\",入力シート!B171)","v":""},{"$f":"IF(入力シート!C171=\"\",\"\",入力シート!C171)","v":""},{"$f":"IF(入力シート!D171=\"\",\"\",DBCS(入力シート!D171))","v":""},{"$f":"IF(入力シート!E171=\"\",\"\",DBCS(入力シート!E171))","v":""},{"$f":"ASC(IF(入力シート!F171=\"\",\"\",UPPER(入力シート!F171)))","v":""},{"$f":"IF(入力シート!G171=\"\",\"\",PROPER(入力シート!G171))","v":""},{"$f":"IF(入力シート!H171=\"\",\"\",入力シート!H171&\"性\")","v":""},{"$f":"IF(入力シート!I171=\"\",\"\",TEXT(入力シート!I171,\"yyyy/mm/dd\"))","v":""},null,null,null,null,null,{"$f":"IF(入力シート!J171=\"\",\"\",入力シート!J171)","v":""},{"$f":"IF(入力シート!K171=\"\",\"\",入力シート!K171)","v":""},null,null,null,null,null,null,null,null,null,null,null,null,null,{"$f":"IF(入力シート!H171=\"\",\"\",\"競技者\")","v":""},{"$f":"IF(入力シート!K171=\"\",\"\",入力シート!K171)","v":""},{"$f":"IF(入力シート!L171=\"\",\"\",入力シート!L171)","v":""}]
[{"$f":"IF(入力シート!B172=\"\",\"\",入力シート!B172)","v":""},{"$f":"IF(入力シート!C172=\"\",\"\",入力シート!C172)","v":""},{"$f":"IF(入力シート!D172=\"\",\"\",DBCS(入力シート!D172))","v":""},{"$f":"IF(入力シート!E172=\"\",\"\",DBCS(入力シート!E172))","v":""},{"$f":"ASC(IF(入力シート!F172=\"\",\"\",UPPER(入力シート!F172)))","v":""},{"$f":"IF(入力シート!G172=\"\",\"\",PROPER(入力シート!G172))","v":""},{"$f":"IF(入力シート!H172=\"\",\"\",入力シート!H172&\"性\")","v":""},{"$f":"IF(入力シート!I172=\"\",\"\",TEXT(入力シート!I172,\"yyyy/mm/dd\"))","v":""},null,null,null,null,null,{"$f":"IF(入力シート!J172=\"\",\"\",入力シート!J172)","v":""},{"$f":"IF(入力シート!K172=\"\",\"\",入力シート!K172)","v":""},null,null,null,null,null,null,null,null,null,null,null,null,null,{"$f":"IF(入力シート!H172=\"\",\"\",\"競技者\")","v":""},{"$f":"IF(入力シート!K172=\"\",\"\",入力シート!K172)","v":""},{"$f":"IF(入力シート!L172=\"\",\"\",入力シート!L172)","v":""}]
[{"$f":"IF(入力シート!B173=\"\",\"\",入力シート!B173)","v":""},{"$f":"IF(入力シート!C173=\"\",\"\",入力シート!C173)","v":""},{"$f":"IF(入力シート!D173=\"\",\"\",DBCS(入力シート!D173))","v":""},{"$f":"IF(入力シート!E173=\"\",\"\",DBCS(入力シート!E173))","v":""},{"$f":"ASC(IF(入力シート!F173=\"\",\"\",UPPER(入力シート!F173)))","v":""},{"$f":"IF(入力シート!G173=\"\",\"\",PROPER(入力シート!G173))","v":""},{"$f":"IF(入力シート!H173=\"\",\"\",入力シート!H173&\"性\")","v":""},{"$f":"IF(入力シート!I173=\"\",\"\",TEXT(入力シート!I173,\"yyyy/mm/dd\"))","v":""},null,null,null,null,null,{"$f":"IF(入力シート!J173=\"\",\"\",入力シート!J173)","v":""},{"$f":"IF(入力シート!K173=\"\",\"\",入力シート!K173)","v":""},null,null,null,null,null,null,null,null,null,null,null,null,null,{"$f":"IF(入力シート!H173=\"\",\"\",\"競技者\")","v":""},{"$f":"IF(入力シート!K173=\"\",\"\",入力シート!K173)","v":""},{"$f":"IF(入力シート!L173=\"\",\"\",入力シート!L173)","v":""}]
[{"$f":"IF(入力シート!B174=\"\",\"\",入力シート!B174)","v":""},{"$f":"IF(入力シート!C174=\"\",\"\",入力シート!C174)","v":""},{"$f":"IF(入力シート!D174=\"\",\"\",DBCS(入力シート!D174))","v":""},{"$f":"IF(入力シート!E174=\"\",\"\",DBCS(入力シート!E174))","v":""},{"$f":"ASC(IF(入力シート!F174=\"\",\"\",UPPER(入力シート!F174)))","v":""},{"$f":"IF(入力シート!G174=\"\",\"\",PROPER(入力シート!G174))","v":""},{"$f":"IF(入力シート!H174=\"\",\"\",入力シート!H174&\"性\")","v":""},{"$f":"IF(入力シート!I174=\"\",\"\",TEXT(入力シート!I174,\"yyyy/mm/dd\"))","v":""},null,null,null,null,null,{"$f":"IF(入力シート!J174=\"\",\"\",入力シート!J174)","v":""},{"$f":"IF(入力シート!K174=\"\",\"\",入力シート!K174)","v":""},null,null,null,null,null,null,null,null,null,null,null,null,null,{"$f":"IF(入力シート!H174=\"\",\"\",\"競技者\")","v":""},{"$f":"IF(入力シート!K174=\"\",\"\",入力シート!K174)","v":""},{"$f":"IF(入力シート!L174=\"\",\"\",入力シート!L174)","v":""}]
[{"$f":"IF(入力シート!B175=\"\",\"\",入力シート!B175)","v":""},{"$f":"IF(入力シート!C175=\"\",\"\",入力シート!C175)","v":""},{"$f":"IF(入力シート!D175=\"\",\"\",DBCS(入力シート!D175))","v":""},{"$f":"IF(入力シート!E175=\"\",\"\",DBCS(入力シート!E175))","v":""},{"$f":"ASC(IF(入力シート!F175=\"\",\"\",UPPER(入力シート!F175)))","v":""},{"$f":"IF(入力シート!G175=\"\",\"\",PROPER(入力シート!G175))","v":""},{"$f":"IF(入力シート!H175=\"\",\"\",入力シート!H175&\"性\")","v":""},{"$f":"IF(入力シート!I175=\"\",\"\",TEXT(入力シート!I175,\"yyyy/mm/dd\"))","v":""},null,null,null,null,null,{"$f":"IF(入力シート!J175=\"\",\"\",入力シート!J175)","v":""},{"$f":"IF(入力シート!K175=\"\",\"\",入力シート!K175)","v":""},null,null,null,null,null,null,null,null,null,null,null,null,null,{"$f":"IF(入力シート!H175=\"\",\"\",\"競技者\")","v":""},{"$f":"IF(入力シート!K175=\"\",\"\",入力シート!K175)","v":""},{"$f":"IF(入力シート!L175=\"\",\"\",入力シート!L175)","v":""}]
[{"$f":"IF(入力シート!B176=\"\",\"\",入力シート!B176)","v":""},{"$f":"IF(入力シート!C176=\"\",\"\",入力シート!C176)","v":""},{"$f":"IF(入力シート!D176=\"\",\"\",DBCS(入力シート!D176))","v":""},{"$f":"IF(入力シート!E176=\"\",\"\",DBCS(入力シート!E176))","v":""},{"$f":"ASC(IF(入力シート!F176=\"\",\"\",UPPER(入力シート!F176)))","v":""},{"$f":"IF(入力シート!G176=\"\",\"\",PROPER(入力シート!G176))","v":""},{"$f":"IF(入力シート!H176=\"\",\"\",入力シート!H176&\"性\")","v":""},{"$f":"IF(入力シート!I176=\"\",\"\",TEXT(入力シート!I176,\"yyyy/mm/dd\"))","v":""},null,null,null,null,null,{"$f":"IF(入力シート!J176=\"\",\"\",入力シート!J176)","v":""},{"$f":"IF(入力シート!K176=\"\",\"\",入力シート!K176)","v":""},null,null,null,null,null,null,null,null,null,null,null,null,null,{"$f":"IF(入力シート!H176=\"\",\"\",\"競技者\")","v":""},{"$f":"IF(入力シート!K176=\"\",\"\",入力シート!K176)","v":""},{"$f":"IF(入力シート!L176=\"\",\"\",入力シート!L176)","v":""}]
[{"$f":"IF(入力シート!B177=\"\",\"\",入力シート!B177)","v":""},{"$f":"IF(入力シート!C177=\"\",\"\",入力シート!C177)","v":""},{"$f":"IF(入力シート!D177=\"\",\"\",DBCS(入力シート!D177))","v":""},{"$f":"IF(入力シート!E177=\"\",\"\",DBCS(入力シート!E177))","v":""},{"$f":"ASC(IF(入力シート!F177=\"\",\"\",UPPER(入力シート!F177)))","v":""},{"$f":"IF(入力シート!G177=\"\",\"\",PROPER(入力シート!G177))","v":""},{"$f":"IF(入力シート!H177=\"\",\"\",入力シート!H177&\"性\")","v":""},{"$f":"IF(入力シート!I177=\"\",\"\",TEXT(入力シート!I177,\"yyyy/mm/dd\"))","v":""},null,null,null,null,null,{"$f":"IF(入力シート!J177=\"\",\"\",入力シート!J177)","v":""},{"$f":"IF(入力シート!K177=\"\",\"\",入力シート!K177)","v":""},null,null,null,null,null,null,null,null,null,null,null,null,null,{"$f":"IF(入力シート!H177=\"\",\"\",\"競技者\")","v":""},{"$f":"IF(入力シート!K177=\"\",\"\",入力シート!K177)","v":""},{"$f":"IF(入力シート!L177=\"\",\"\",入力シート!L177)","v":""}]
[{"$f":"IF(入力シート!B178=\"\",\"\",入力シート!B178)","v":""},{"$f":"IF(入力シート!C178=\"\",\"\",入力シート!C178)","v":""},{"$f":"IF(入力シート!D178=\"\",\"\",DBCS(入力シート!D178))","v":""},{"$f":"IF(入力シート!E178=\"\",\"\",DBCS(入力シート!E178))","v":""},{"$f":"ASC(IF(入力シート!F178=\"\",\"\",UPPER(入力シート!F178)))","v":""},{"$f":"IF(入力シート!G178=\"\",\"\",PROPER(入力シート!G178))","v":""},{"$f":"IF(入力シート!H178=\"\",\"\",入力シート!H178&\"性\")","v":""},{"$f":"IF(入力シート!I178=\"\",\"\",TEXT(入力シート!I178,\"yyyy/mm/dd\"))","v":""},null,null,null,null,null,{"$f":"IF(入力シート!J178=\"\",\"\",入力シート!J178)","v":""},{"$f":"IF(入力シート!K178=\"\",\"\",入力シート!K178)","v":""},null,null,null,null,null,null,null,null,null,null,null,null,null,{"$f":"IF(入力シート!H178=\"\",\"\",\"競技者\")","v":""},{"$f":"IF(入力シート!K178=\"\",\"\",入力シート!K178)","v":""},{"$f":"IF(入力シート!L178=\"\",\"\",入力シート!L178)","v":""}]
[{"$f":"IF(入力シート!B179=\"\",\"\",入力シート!B179)","v":""},{"$f":"IF(入力シート!C179=\"\",\"\",入力シート!C179)","v":""},{"$f":"IF(入力シート!D179=\"\",\"\",DBCS(入力シート!D179))","v":""},{"$f":"IF(入力シート!E179=\"\",\"\",DBCS(入力シート!E179))","v":""},{"$f":"ASC(IF(入力シート!F179=\"\",\"\",UPPER(入力シート!F179)))","v":""},{"$f":"IF(入力シート!G179=\"\",\"\",PROPER(入力シート!G179))","v":""},{"$f":"IF(入力シート!H179=\"\",\"\",入力シート!H179&\"性\")","v":""},{"$f":"IF(入力シート!I179=\"\",\"\",TEXT(入力シート!I179,\"yyyy/mm/dd\"))","v":""},null,null,null,null,null,{"$f":"IF(入力シート!J179=\"\",\"\",入力シート!J179)","v":""},{"$f":"IF(入力シート!K179=\"\",\"\",入力シート!K179)","v":""},null,null,null,null,null,null,null,null,null,null,null,null,null,{"$f":"IF(入力シート!H179=\"\",\"\",\"競技者\")","v":""},{"$f":"IF(入力シート!K179=\"\",\"\",入力シート!K179)","v":""},{"$f":"IF(入力シート!L179=\"\",\"\",入力シート!L179)","v":""}]
[{"$f":"IF(入力シート!B180=\"\",\"\",入力シート!B180)","v":""},{"$f":"IF(入力シート!C180=\"\",\"\",入力シート!C180)","v":""},{"$f":"IF(入力シート!D180=\"\",\"\",DBCS(入力シート!D180))","v":""},{"$f":"IF(入力シート!E180=\"\",\"\",DBCS(入力シート!E180))","v":""},{"$f":"ASC(IF(入力シート!F180=\"\",\"\",UPPER(入力シート!F180)))","v":""},{"$f":"IF(入力シート!G180=\"\",\"\",PROPER(入力シート!G180))","v":""},{"$f":"IF(入力シート!H180=\"\",\"\",入力シート!H180&\"性\")","v":""},{"$f":"IF(入力シート!I180=\"\",\"\",TEXT(入力シート!I180,\"yyyy/mm/dd\"))","v":""},null,null,null,null,null,{"$f":"IF(入力シート!J180=\"\",\"\",入力シート!J180)","v":""},{"$f":"IF(入力シート!K180=\"\",\"\",入力シート!K180)","v":""},null,null,null,null,null,null,null,null,null,null,null,null,null,{"$f":"IF(入力シート!H180=\"\",\"\",\"競技者\")","v":""},{"$f":"IF(入力シート!K180=\"\",\"\",入力シート!K180)","v":""},{"$f":"IF(入力シート!L180=\"\",\"\",入力シート!L180)","v":""}]
[{"$f":"IF(入力シート!B181=\"\",\"\",入力シート!B181)","v":""},{"$f":"IF(入力シート!C181=\"\",\"\",入力シート!C181)","v":""},{"$f":"IF(入力シート!D181=\"\",\"\",DBCS(入力シート!D181))","v":""},{"$f":"IF(入力シート!E181=\"\",\"\",DBCS(入力シート!E181))","v":""},{"$f":"ASC(IF(入力シート!F181=\"\",\"\",UPPER(入力シート!F181)))","v":""},{"$f":"IF(入力シート!G181=\"\",\"\",PROPER(入力シート!G181))","v":""},{"$f":"IF(入力シート!H181=\"\",\"\",入力シート!H181&\"性\")","v":""},{"$f":"IF(入力シート!I181=\"\",\"\",TEXT(入力シート!I181,\"yyyy/mm/dd\"))","v":""},null,null,null,null,null,{"$f":"IF(入力シート!J181=\"\",\"\",入力シート!J181)","v":""},{"$f":"IF(入力シート!K181=\"\",\"\",入力シート!K181)","v":""},null,null,null,null,null,null,null,null,null,null,null,null,null,{"$f":"IF(入力シート!H181=\"\",\"\",\"競技者\")","v":""},{"$f":"IF(入力シート!K181=\"\",\"\",入力シート!K181)","v":""},{"$f":"IF(入力シート!L181=\"\",\"\",入力シート!L181)","v":""}]
[{"$f":"IF(入力シート!B182=\"\",\"\",入力シート!B182)","v":""},{"$f":"IF(入力シート!C182=\"\",\"\",入力シート!C182)","v":""},{"$f":"IF(入力シート!D182=\"\",\"\",DBCS(入力シート!D182))","v":""},{"$f":"IF(入力シート!E182=\"\",\"\",DBCS(入力シート!E182))","v":""},{"$f":"ASC(IF(入力シート!F182=\"\",\"\",UPPER(入力シート!F182)))","v":""},{"$f":"IF(入力シート!G182=\"\",\"\",PROPER(入力シート!G182))","v":""},{"$f":"IF(入力シート!H182=\"\",\"\",入力シート!H182&\"性\")","v":""},{"$f":"IF(入力シート!I182=\"\",\"\",TEXT(入力シート!I182,\"yyyy/mm/dd\"))","v":""},null,null,null,null,null,{"$f":"IF(入力シート!J182=\"\",\"\",入力シート!J182)","v":""},{"$f":"IF(入力シート!K182=\"\",\"\",入力シート!K182)","v":""},null,null,null,null,null,null,null,null,null,null,null,null,null,{"$f":"IF(入力シート!H182=\"\",\"\",\"競技者\")","v":""},{"$f":"IF(入力シート!K182=\"\",\"\",入力シート!K182)","v":""},{"$f":"IF(入力シート!L182=\"\",\"\",入力シート!L182)","v":""}]
[{"$f":"IF(入力シート!B183=\"\",\"\",入力シート!B183)","v":""},{"$f":"IF(入力シート!C183=\"\",\"\",入力シート!C183)","v":""},{"$f":"IF(入力シート!D183=\"\",\"\",DBCS(入力シート!D183))","v":""},{"$f":"IF(入力シート!E183=\"\",\"\",DBCS(入力シート!E183))","v":""},{"$f":"ASC(IF(入力シート!F183=\"\",\"\",UPPER(入力シート!F183)))","v":""},{"$f":"IF(入力シート!G183=\"\",\"\",PROPER(入力シート!G183))","v":""},{"$f":"IF(入力シート!H183=\"\",\"\",入力シート!H183&\"性\")","v":""},{"$f":"IF(入力シート!I183=\"\",\"\",TEXT(入力シート!I183,\"yyyy/mm/dd\"))","v":""},null,null,null,null,null,{"$f":"IF(入力シート!J183=\"\",\"\",入力シート!J183)","v":""},{"$f":"IF(入力シート!K183=\"\",\"\",入力シート!K183)","v":""},null,null,null,null,null,null,null,null,null,null,null,null,null,{"$f":"IF(入力シート!H183=\"\",\"\",\"競技者\")","v":""},{"$f":"IF(入力シート!K183=\"\",\"\",入力シート!K183)","v":""},{"$f":"IF(入力シート!L183=\"\",\"\",入力シート!L183)","v":""}]
[{"$f":"IF(入力シート!B184=\"\",\"\",入力シート!B184)","v":""},{"$f":"IF(入力シート!C184=\"\",\"\",入力シート!C184)","v":""},{"$f":"IF(入力シート!D184=\"\",\"\",DBCS(入力シート!D184))","v":""},{"$f":"IF(入力シート!E184=\"\",\"\",DBCS(入力シート!E184))","v":""},{"$f":"ASC(IF(入力シート!F184=\"\",\"\",UPPER(入力シート!F184)))","v":""},{"$f":"IF(入力シート!G184=\"\",\"\",PROPER(入力シート!G184))","v":""},{"$f":"IF(入力シート!H184=\"\",\"\",入力シート!H184&\"性\")","v":""},{"$f":"IF(入力シート!I184=\"\",\"\",TEXT(入力シート!I184,\"yyyy/mm/dd\"))","v":""},null,null,null,null,null,{"$f":"IF(入力シート!J184=\"\",\"\",入力シート!J184)","v":""},{"$f":"IF(入力シート!K184=\"\",\"\",入力シート!K184)","v":""},null,null,null,null,null,null,null,null,null,null,null,null,null,{"$f":"IF(入力シート!H184=\"\",\"\",\"競技者\")","v":""},{"$f":"IF(入力シート!K184=\"\",\"\",入力シート!K184)","v":""},{"$f":"IF(入力シート!L184=\"\",\"\",入力シート!L184)","v":""}]
[{"$f":"IF(入力シート!B185=\"\",\"\",入力シート!B185)","v":""},{"$f":"IF(入力シート!C185=\"\",\"\",入力シート!C185)","v":""},{"$f":"IF(入力シート!D185=\"\",\"\",DBCS(入力シート!D185))","v":""},{"$f":"IF(入力シート!E185=\"\",\"\",DBCS(入力シート!E185))","v":""},{"$f":"ASC(IF(入力シート!F185=\"\",\"\",UPPER(入力シート!F185)))","v":""},{"$f":"IF(入力シート!G185=\"\",\"\",PROPER(入力シート!G185))","v":""},{"$f":"IF(入力シート!H185=\"\",\"\",入力シート!H185&\"性\")","v":""},{"$f":"IF(入力シート!I185=\"\",\"\",TEXT(入力シート!I185,\"yyyy/mm/dd\"))","v":""},null,null,null,null,null,{"$f":"IF(入力シート!J185=\"\",\"\",入力シート!J185)","v":""},{"$f":"IF(入力シート!K185=\"\",\"\",入力シート!K185)","v":""},null,null,null,null,null,null,null,null,null,null,null,null,null,{"$f":"IF(入力シート!H185=\"\",\"\",\"競技者\")","v":""},{"$f":"IF(入力シート!K185=\"\",\"\",入力シート!K185)","v":""},{"$f":"IF(入力シート!L185=\"\",\"\",入力シート!L185)","v":""}]
[{"$f":"IF(入力シート!B186=\"\",\"\",入力シート!B186)","v":""},{"$f":"IF(入力シート!C186=\"\",\"\",入力シート!C186)","v":""},{"$f":"IF(入力シート!D186=\"\",\"\",DBCS(入力シート!D186))","v":""},{"$f":"IF(入力シート!E186=\"\",\"\",DBCS(入力シート!E186))","v":""},{"$f":"ASC(IF(入力シート!F186=\"\",\"\",UPPER(入力シート!F186)))","v":""},{"$f":"IF(入力シート!G186=\"\",\"\",PROPER(入力シート!G186))","v":""},{"$f":"IF(入力シート!H186=\"\",\"\",入力シート!H186&\"性\")","v":""},{"$f":"IF(入力シート!I186=\"\",\"\",TEXT(入力シート!I186,\"yyyy/mm/dd\"))","v":""},null,null,null,null,null,{"$f":"IF(入力シート!J186=\"\",\"\",入力シート!J186)","v":""},{"$f":"IF(入力シート!K186=\"\",\"\",入力シート!K186)","v":""},null,null,null,null,null,null,null,null,null,null,null,null,null,{"$f":"IF(入力シート!H186=\"\",\"\",\"競技者\")","v":""},{"$f":"IF(入力シート!K186=\"\",\"\",入力シート!K186)","v":""},{"$f":"IF(入力シート!L186=\"\",\"\",入力シート!L186)","v":""}]
[{"$f":"IF(入力シート!B187=\"\",\"\",入力シート!B187)","v":""},{"$f":"IF(入力シート!C187=\"\",\"\",入力シート!C187)","v":""},{"$f":"IF(入力シート!D187=\"\",\"\",DBCS(入力シート!D187))","v":""},{"$f":"IF(入力シート!E187=\"\",\"\",DBCS(入力シート!E187))","v":""},{"$f":"ASC(IF(入力シート!F187=\"\",\"\",UPPER(入力シート!F187)))","v":""},{"$f":"IF(入力シート!G187=\"\",\"\",PROPER(入力シート!G187))","v":""},{"$f":"IF(入力シート!H187=\"\",\"\",入力シート!H187&\"性\")","v":""},{"$f":"IF(入力シート!I187=\"\",\"\",TEXT(入力シート!I187,\"yyyy/mm/dd\"))","v":""},null,null,null,null,null,{"$f":"IF(入力シート!J187=\"\",\"\",入力シート!J187)","v":""},{"$f":"IF(入力シート!K187=\"\",\"\",入力シート!K187)","v":""},null,null,null,null,null,null,null,null,null,null,null,null,null,{"$f":"IF(入力シート!H187=\"\",\"\",\"競技者\")","v":""},{"$f":"IF(入力シート!K187=\"\",\"\",入力シート!K187)","v":""},{"$f":"IF(入力シート!L187=\"\",\"\",入力シート!L187)","v":""}]
[{"$f":"IF(入力シート!B188=\"\",\"\",入力シート!B188)","v":""},{"$f":"IF(入力シート!C188=\"\",\"\",入力シート!C188)","v":""},{"$f":"IF(入力シート!D188=\"\",\"\",DBCS(入力シート!D188))","v":""},{"$f":"IF(入力シート!E188=\"\",\"\",DBCS(入力シート!E188))","v":""},{"$f":"ASC(IF(入力シート!F188=\"\",\"\",UPPER(入力シート!F188)))","v":""},{"$f":"IF(入力シート!G188=\"\",\"\",PROPER(入力シート!G188))","v":""},{"$f":"IF(入力シート!H188=\"\",\"\",入力シート!H188&\"性\")","v":""},{"$f":"IF(入力シート!I188=\"\",\"\",TEXT(入力シート!I188,\"yyyy/mm/dd\"))","v":""},null,null,null,null,null,{"$f":"IF(入力シート!J188=\"\",\"\",入力シート!J188)","v":""},{"$f":"IF(入力シート!K188=\"\",\"\",入力シート!K188)","v":""},null,null,null,null,null,null,null,null,null,null,null,null,null,{"$f":"IF(入力シート!H188=\"\",\"\",\"競技者\")","v":""},{"$f":"IF(入力シート!K188=\"\",\"\",入力シート!K188)","v":""},{"$f":"IF(入力シート!L188=\"\",\"\",入力シート!L188)","v":""}]
[{"$f":"IF(入力シート!B189=\"\",\"\",入力シート!B189)","v":""},{"$f":"IF(入力シート!C189=\"\",\"\",入力シート!C189)","v":""},{"$f":"IF(入力シート!D189=\"\",\"\",DBCS(入力シート!D189))","v":""},{"$f":"IF(入力シート!E189=\"\",\"\",DBCS(入力シート!E189))","v":""},{"$f":"ASC(IF(入力シート!F189=\"\",\"\",UPPER(入力シート!F189)))","v":""},{"$f":"IF(入力シート!G189=\"\",\"\",PROPER(入力シート!G189))","v":""},{"$f":"IF(入力シート!H189=\"\",\"\",入力シート!H189&\"性\")","v":""},{"$f":"IF(入力シート!I189=\"\",\"\",TEXT(入力シート!I189,\"yyyy/mm/dd\"))","v":""},null,null,null,null,null,{"$f":"IF(入力シート!J189=\"\",\"\",入力シート!J189)","v":""},{"$f":"IF(入力シート!K189=\"\",\"\",入力シート!K189)","v":""},null,null,null,null,null,null,null,null,null,null,null,null,null,{"$f":"IF(入力シート!H189=\"\",\"\",\"競技者\")","v":""},{"$f":"IF(入力シート!K189=\"\",\"\",入力シート!K189)","v":""},{"$f":"IF(入力シート!L189=\"\",\"\",入力シート!L189)","v":""}]
[{"$f":"IF(入力シート!B190=\"\",\"\",入力シート!B190)","v":""},{"$f":"IF(入力シート!C190=\"\",\"\",入力シート!C190)","v":""},{"$f":"IF(入力シート!D190=\"\",\"\",DBCS(入力シート!D190))","v":""},{"$f":"IF(入力シート!E190=\"\",\"\",DBCS(入力シート!E190))","v":""},{"$f":"ASC(IF(入力シート!F190=\"\",\"\",UPPER(入力シート!F190)))","v":""},{"$f":"IF(入力シート!G190=\"\",\"\",PROPER(入力シート!G190))","v":""},{"$f":"IF(入力シート!H190=\"\",\"\",入力シート!H190&\"性\")","v":""},{"$f":"IF(入力シート!I190=\"\",\"\",TEXT(入力シート!I190,\"yyyy/mm/dd\"))","v":""},null,null,null,null,null,{"$f":"IF(入力シート!J190=\"\",\"\",入力シート!J190)","v":""},{"$f":"IF(入力シート!K190=\"\",\"\",入力シート!K190)","v":""},null,null,null,null,null,null,null,null,null,null,null,null,null,{"$f":"IF(入力シート!H190=\"\",\"\",\"競技者\")","v":""},{"$f":"IF(入力シート!K190=\"\",\"\",入力シート!K190)","v":""},{"$f":"IF(入力シート!L190=\"\",\"\",入力シート!L190)","v":""}]
[{"$f":"IF(入力シート!B191=\"\",\"\",入力シート!B191)","v":""},{"$f":"IF(入力シート!C191=\"\",\"\",入力シート!C191)","v":""},{"$f":"IF(入力シート!D191=\"\",\"\",DBCS(入力シート!D191))","v":""},{"$f":"IF(入力シート!E191=\"\",\"\",DBCS(入力シート!E191))","v":""},{"$f":"ASC(IF(入力シート!F191=\"\",\"\",UPPER(入力シート!F191)))","v":""},{"$f":"IF(入力シート!G191=\"\",\"\",PROPER(入力シート!G191))","v":""},{"$f":"IF(入力シート!H191=\"\",\"\",入力シート!H191&\"性\")","v":""},{"$f":"IF(入力シート!I191=\"\",\"\",TEXT(入力シート!I191,\"yyyy/mm/dd\"))","v":""},null,null,null,null,null,{"$f":"IF(入力シート!J191=\"\",\"\",入力シート!J191)","v":""},{"$f":"IF(入力シート!K191=\"\",\"\",入力シート!K191)","v":""},null,null,null,null,null,null,null,null,null,null,null,null,null,{"$f":"IF(入力シート!H191=\"\",\"\",\"競技者\")","v":""},{"$f":"IF(入力シート!K191=\"\",\"\",入力シート!K191)","v":""},{"$f":"IF(入力シート!L191=\"\",\"\",入力シート!L191)","v":""}]
[{"$f":"IF(入力シート!B192=\"\",\"\",入力シート!B192)","v":""},{"$f":"IF(入力シート!C192=\"\",\"\",入力シート!C192)","v":""},{"$f":"IF(入力シート!D192=\"\",\"\",DBCS(入力シート!D192))","v":""},{"$f":"IF(入力シート!E192=\"\",\"\",DBCS(入力シート!E192))","v":""},{"$f":"ASC(IF(入力シート!F192=\"\",\"\",UPPER(入力シート!F192)))","v":""},{"$f":"IF(入力シート!G192=\"\",\"\",PROPER(入力シート!G192))","v":""},{"$f":"IF(入力シート!H192=\"\",\"\",入力シート!H192&\"性\")","v":""},{"$f":"IF(入力シート!I192=\"\",\"\",TEXT(入力シート!I192,\"yyyy/mm/dd\"))","v":""},null,null,null,null,null,{"$f":"IF(入力シート!J192=\"\",\"\",入力シート!J192)","v":""},{"$f":"IF(入力シート!K192=\"\",\"\",入力シート!K192)","v":""},null,null,null,null,null,null,null,null,null,null,null,null,null,{"$f":"IF(入力シート!H192=\"\",\"\",\"競技者\")","v":""},{"$f":"IF(入力シート!K192=\"\",\"\",入力シート!K192)","v":""},{"$f":"IF(入力シート!L192=\"\",\"\",入力シート!L192)","v":""}]
[{"$f":"IF(入力シート!B193=\"\",\"\",入力シート!B193)","v":""},{"$f":"IF(入力シート!C193=\"\",\"\",入力シート!C193)","v":""},{"$f":"IF(入力シート!D193=\"\",\"\",DBCS(入力シート!D193))","v":""},{"$f":"IF(入力シート!E193=\"\",\"\",DBCS(入力シート!E193))","v":""},{"$f":"ASC(IF(入力シート!F193=\"\",\"\",UPPER(入力シート!F193)))","v":""},{"$f":"IF(入力シート!G193=\"\",\"\",PROPER(入力シート!G193))","v":""},{"$f":"IF(入力シート!H193=\"\",\"\",入力シート!H193&\"性\")","v":""},{"$f":"IF(入力シート!I193=\"\",\"\",TEXT(入力シート!I193,\"yyyy/mm/dd\"))","v":""},null,null,null,null,null,{"$f":"IF(入力シート!J193=\"\",\"\",入力シート!J193)","v":""},{"$f":"IF(入力シート!K193=\"\",\"\",入力シート!K193)","v":""},null,null,null,null,null,null,null,null,null,null,null,null,null,{"$f":"IF(入力シート!H193=\"\",\"\",\"競技者\")","v":""},{"$f":"IF(入力シート!K193=\"\",\"\",入力シート!K193)","v":""},{"$f":"IF(入力シート!L193=\"\",\"\",入力シート!L193)","v":""}]
[{"$f":"IF(入力シート!B194=\"\",\"\",入力シート!B194)","v":""},{"$f":"IF(入力シート!C194=\"\",\"\",入力シート!C194)","v":""},{"$f":"IF(入力シート!D194=\"\",\"\",DBCS(入力シート!D194))","v":""},{"$f":"IF(入力シート!E194=\"\",\"\",DBCS(入力シート!E194))","v":""},{"$f":"ASC(IF(入力シート!F194=\"\",\"\",UPPER(入力シート!F194)))","v":""},{"$f":"IF(入力シート!G194=\"\",\"\",PROPER(入力シート!G194))","v":""},{"$f":"IF(入力シート!H194=\"\",\"\",入力シート!H194&\"性\")","v":""},{"$f":"IF(入力シート!I194=\"\",\"\",TEXT(入力シート!I194,\"yyyy/mm/dd\"))","v":""},null,null,null,null,null,{"$f":"IF(入力シート!J194=\"\",\"\",入力シート!J194)","v":""},{"$f":"IF(入力シート!K194=\"\",\"\",入力シート!K194)","v":""},null,null,null,null,null,null,null,null,null,null,null,null,null,{"$f":"IF(入力シート!H194=\"\",\"\",\"競技者\")","v":""},{"$f":"IF(入力シート!K194=\"\",\"\",入力シート!K194)","v":""},{"$f":"IF(入力シート!L194=\"\",\"\",入力シート!L194)","v":""}]
[{"$f":"IF(入力シート!B195=\"\",\"\",入力シート!B195)","v":""},{"$f":"IF(入力シート!C195=\"\",\"\",入力シート!C195)","v":""},{"$f":"IF(入力シート!D195=\"\",\"\",DBCS(入力シート!D195))","v":""},{"$f":"IF(入力シート!E195=\"\",\"\",DBCS(入力シート!E195))","v":""},{"$f":"ASC(IF(入力シート!F195=\"\",\"\",UPPER(入力シート!F195)))","v":""},{"$f":"IF(入力シート!G195=\"\",\"\",PROPER(入力シート!G195))","v":""},{"$f":"IF(入力シート!H195=\"\",\"\",入力シート!H195&\"性\")","v":""},{"$f":"IF(入力シート!I195=\"\",\"\",TEXT(入力シート!I195,\"yyyy/mm/dd\"))","v":""},null,null,null,null,null,{"$f":"IF(入力シート!J195=\"\",\"\",入力シート!J195)","v":""},{"$f":"IF(入力シート!K195=\"\",\"\",入力シート!K195)","v":""},null,null,null,null,null,null,null,null,null,null,null,null,null,{"$f":"IF(入力シート!H195=\"\",\"\",\"競技者\")","v":""},{"$f":"IF(入力シート!K195=\"\",\"\",入力シート!K195)","v":""},{"$f":"IF(入力シート!L195=\"\",\"\",入力シート!L195)","v":""}]
[{"$f":"IF(入力シート!B196=\"\",\"\",入力シート!B196)","v":""},{"$f":"IF(入力シート!C196=\"\",\"\",入力シート!C196)","v":""},{"$f":"IF(入力シート!D196=\"\",\"\",DBCS(入力シート!D196))","v":""},{"$f":"IF(入力シート!E196=\"\",\"\",DBCS(入力シート!E196))","v":""},{"$f":"ASC(IF(入力シート!F196=\"\",\"\",UPPER(入力シート!F196)))","v":""},{"$f":"IF(入力シート!G196=\"\",\"\",PROPER(入力シート!G196))","v":""},{"$f":"IF(入力シート!H196=\"\",\"\",入力シート!H196&\"性\")","v":""},{"$f":"IF(入力シート!I196=\"\",\"\",TEXT(入力シート!I196,\"yyyy/mm/dd\"))","v":""},null,null,null,null,null,{"$f":"IF(入力シート!J196=\"\",\"\",入力シート!J196)","v":""},{"$f":"IF(入力シート!K196=\"\",\"\",入力シート!K196)","v":""},null,null,null,null,null,null,null,null,null,null,null,null,null,{"$f":"IF(入力シート!H196=\"\",\"\",\"競技者\")","v":""},{"$f":"IF(入力シート!K196=\"\",\"\",入力シート!K196)","v":""},{"$f":"IF(入力シート!L196=\"\",\"\",入力シート!L196)","v":""}]
[{"$f":"IF(入力シート!B197=\"\",\"\",入力シート!B197)","v":""},{"$f":"IF(入力シート!C197=\"\",\"\",入力シート!C197)","v":""},{"$f":"IF(入力シート!D197=\"\",\"\",DBCS(入力シート!D197))","v":""},{"$f":"IF(入力シート!E197=\"\",\"\",DBCS(入力シート!E197))","v":""},{"$f":"ASC(IF(入力シート!F197=\"\",\"\",UPPER(入力シート!F197)))","v":""},{"$f":"IF(入力シート!G197=\"\",\"\",PROPER(入力シート!G197))","v":""},{"$f":"IF(入力シート!H197=\"\",\"\",入力シート!H197&\"性\")","v":""},{"$f":"IF(入力シート!I197=\"\",\"\",TEXT(入力シート!I197,\"yyyy/mm/dd\"))","v":""},null,null,null,null,null,{"$f":"IF(入力シート!J197=\"\",\"\",入力シート!J197)","v":""},{"$f":"IF(入力シート!K197=\"\",\"\",入力シート!K197)","v":""},null,null,null,null,null,null,null,null,null,null,null,null,null,{"$f":"IF(入力シート!H197=\"\",\"\",\"競技者\")","v":""},{"$f":"IF(入力シート!K197=\"\",\"\",入力シート!K197)","v":""},{"$f":"IF(入力シート!L197=\"\",\"\",入力シート!L197)","v":""}]
[{"$f":"IF(入力シート!B198=\"\",\"\",入力シート!B198)","v":""},{"$f":"IF(入力シート!C198=\"\",\"\",入力シート!C198)","v":""},{"$f":"IF(入力シート!D198=\"\",\"\",DBCS(入力シート!D198))","v":""},{"$f":"IF(入力シート!E198=\"\",\"\",DBCS(入力シート!E198))","v":""},{"$f":"ASC(IF(入力シート!F198=\"\",\"\",UPPER(入力シート!F198)))","v":""},{"$f":"IF(入力シート!G198=\"\",\"\",PROPER(入力シート!G198))","v":""},{"$f":"IF(入力シート!H198=\"\",\"\",入力シート!H198&\"性\")","v":""},{"$f":"IF(入力シート!I198=\"\",\"\",TEXT(入力シート!I198,\"yyyy/mm/dd\"))","v":""},null,null,null,null,null,{"$f":"IF(入力シート!J198=\"\",\"\",入力シート!J198)","v":""},{"$f":"IF(入力シート!K198=\"\",\"\",入力シート!K198)","v":""},null,null,null,null,null,null,null,null,null,null,null,null,null,{"$f":"IF(入力シート!H198=\"\",\"\",\"競技者\")","v":""},{"$f":"IF(入力シート!K198=\"\",\"\",入力シート!K198)","v":""},{"$f":"IF(入力シート!L198=\"\",\"\",入力シート!L198)","v":""}]
[{"$f":"IF(入力シート!B199=\"\",\"\",入力シート!B199)","v":""},{"$f":"IF(入力シート!C199=\"\",\"\",入力シート!C199)","v":""},{"$f":"IF(入力シート!D199=\"\",\"\",DBCS(入力シート!D199))","v":""},{"$f":"IF(入力シート!E199=\"\",\"\",DBCS(入力シート!E199))","v":""},{"$f":"ASC(IF(入力シート!F199=\"\",\"\",UPPER(入力シート!F199)))","v":""},{"$f":"IF(入力シート!G199=\"\",\"\",PROPER(入力シート!G199))","v":""},{"$f":"IF(入力シート!H199=\"\",\"\",入力シート!H199&\"性\")","v":""},{"$f":"IF(入力シート!I199=\"\",\"\",TEXT(入力シート!I199,\"yyyy/mm/dd\"))","v":""},null,null,null,null,null,{"$f":"IF(入力シート!J199=\"\",\"\",入力シート!J199)","v":""},{"$f":"IF(入力シート!K199=\"\",\"\",入力シート!K199)","v":""},null,null,null,null,null,null,null,null,null,null,null,null,null,{"$f":"IF(入力シート!H199=\"\",\"\",\"競技者\")","v":""},{"$f":"IF(入力シート!K199=\"\",\"\",入力シート!K199)","v":""},{"$f":"IF(入力シート!L199=\"\",\"\",入力シート!L199)","v":""}]
[{"$f":"IF(入力シート!B200=\"\",\"\",入力シート!B200)","v":""},{"$f":"IF(入力シート!C200=\"\",\"\",入力シート!C200)","v":""},{"$f":"IF(入力シート!D200=\"\",\"\",DBCS(入力シート!D200))","v":""},{"$f":"IF(入力シート!E200=\"\",\"\",DBCS(入力シート!E200))","v":""},{"$f":"ASC(IF(入力シート!F200=\"\",\"\",UPPER(入力シート!F200)))","v":""},{"$f":"IF(入力シート!G200=\"\",\"\",PROPER(入力シート!G200))","v":""},{"$f":"IF(入力シート!H200=\"\",\"\",入力シート!H200&\"性\")","v":""},{"$f":"IF(入力シート!I200=\"\",\"\",TEXT(入力シート!I200,\"yyyy/mm/dd\"))","v":""},null,null,null,null,null,{"$f":"IF(入力シート!J200=\"\",\"\",入力シート!J200)","v":""},{"$f":"IF(入力シート!K200=\"\",\"\",入力シート!K200)","v":""},null,null,null,null,null,null,null,null,null,null,null,null,null,{"$f":"IF(入力シート!H200=\"\",\"\",\"競技者\")","v":""},{"$f":"IF(入力シート!K200=\"\",\"\",入力シート!K200)","v":""},{"$f":"IF(入力シート!L200=\"\",\"\",入力シート!L200)","v":""}]
[{"$f":"IF(入力シート!B201=\"\",\"\",入力シート!B201)","v":""},{"$f":"IF(入力シート!C201=\"\",\"\",入力シート!C201)","v":""},{"$f":"IF(入力シート!D201=\"\",\"\",DBCS(入力シート!D201))","v":""},{"$f":"IF(入力シート!E201=\"\",\"\",DBCS(入力シート!E201))","v":""},{"$f":"ASC(IF(入力シート!F201=\"\",\"\",UPPER(入力シート!F201)))","v":""},{"$f":"IF(入力シート!G201=\"\",\"\",PROPER(入力シート!G201))","v":""},{"$f":"IF(入力シート!H201=\"\",\"\",入力シート!H201&\"性\")","v":""},{"$f":"IF(入力シート!I201=\"\",\"\",TEXT(入力シート!I201,\"yyyy/mm/dd\"))","v":""},null,null,null,null,null,{"$f":"IF(入力シート!J201=\"\",\"\",入力シート!J201)","v":""},{"$f":"IF(入力シート!K201=\"\",\"\",入力シート!K201)","v":""},null,null,null,null,null,null,null,null,null,null,null,null,null,{"$f":"IF(入力シート!H201=\"\",\"\",\"競技者\")","v":""},{"$f":"IF(入力シート!K201=\"\",\"\",入力シート!K201)","v":""},{"$f":"IF(入力シート!L201=\"\",\"\",入力シート!L201)","v":""}]
[{"$f":"IF(入力シート!B202=\"\",\"\",入力シート!B202)","v":""},{"$f":"IF(入力シート!C202=\"\",\"\",入力シート!C202)","v":""},{"$f":"IF(入力シート!D202=\"\",\"\",DBCS(入力シート!D202))","v":""},{"$f":"IF(入力シート!E202=\"\",\"\",DBCS(入力シート!E202))","v":""},{"$f":"ASC(IF(入力シート!F202=\"\",\"\",UPPER(入力シート!F202)))","v":""},{"$f":"IF(入力シート!G202=\"\",\"\",PROPER(入力シート!G202))","v":""},{"$f":"IF(入力シート!H202=\"\",\"\",入力シート!H202&\"性\")","v":""},{"$f":"IF(入力シート!I202=\"\",\"\",TEXT(入力シート!I202,\"yyyy/mm/dd\"))","v":""},null,null,null,null,null,{"$f":"IF(入力シート!J202=\"\",\"\",入力シート!J202)","v":""},{"$f":"IF(入力シート!K202=\"\",\"\",入力シート!K202)","v":""},null,null,null,null,null,null,null,null,null,null,null,null,null,{"$f":"IF(入力シート!H202=\"\",\"\",\"競技者\")","v":""},{"$f":"IF(入力シート!K202=\"\",\"\",入力シート!K202)","v":""},{"$f":"IF(入力シート!L202=\"\",\"\",入力シート!L202)","v":""}]
[{"$f":"IF(入力シート!B203=\"\",\"\",入力シート!B203)","v":""},{"$f":"IF(入力シート!C203=\"\",\"\",入力シート!C203)","v":""},{"$f":"IF(入力シート!D203=\"\",\"\",DBCS(入力シート!D203))","v":""},{"$f":"IF(入力シート!E203=\"\",\"\",DBCS(入力シート!E203))","v":""},{"$f":"ASC(IF(入力シート!F203=\"\",\"\",UPPER(入力シート!F203)))","v":""},{"$f":"IF(入力シート!G203=\"\",\"\",PROPER(入力シート!G203))","v":""},{"$f":"IF(入力シート!H203=\"\",\"\",入力シート!H203&\"性\")","v":""},{"$f":"IF(入力シート!I203=\"\",\"\",TEXT(入力シート!I203,\"yyyy/mm/dd\"))","v":""},null,null,null,null,null,{"$f":"IF(入力シート!J203=\"\",\"\",VLOOKUP(入力シート!J203,列挙値!A:B,2,FALSE))","v":""},null,null,null,null,null,null,null,null,null,null,null,null,null,null,{"$f":"IF(入力シート!H203=\"\",\"\",\"PLAYER\")","v":""},{"$f":"IF(入力シート!K203=\"\",\"\",VLOOKUP(入力シート!K203,列挙値!E:F,2,FALSE))","v":""},{"$f":"IF(入力シート!L203=\"\",\"\",TEXT(入力シート!L203,\"@\"))","v":""}]
[{"$f":"IF(入力シート!B204=\"\",\"\",入力シート!B204)","v":""},{"$f":"IF(入力シート!C204=\"\",\"\",入力シート!C204)","v":""},{"$f":"IF(入力シート!D204=\"\",\"\",DBCS(入力シート!D204))","v":""},{"$f":"IF(入力シート!E204=\"\",\"\",DBCS(入力シート!E204))","v":""},{"$f":"ASC(IF(入力シート!F204=\"\",\"\",UPPER(入力シート!F204)))","v":""},{"$f":"IF(入力シート!G204=\"\",\"\",PROPER(入力シート!G204))","v":""},{"$f":"IF(入力シート!H204=\"\",\"\",入力シート!H204&\"性\")","v":""},{"$f":"IF(入力シート!I204=\"\",\"\",TEXT(入力シート!I204,\"yyyy/mm/dd\"))","v":""},null,null,null,null,null,{"$f":"IF(入力シート!J204=\"\",\"\",VLOOKUP(入力シート!J204,列挙値!A:B,2,FALSE))","v":""},null,null,null,null,null,null,null,null,null,null,null,null,null,null,{"$f":"IF(入力シート!H204=\"\",\"\",\"PLAYER\")","v":""},{"$f":"IF(入力シート!K204=\"\",\"\",VLOOKUP(入力シート!K204,列挙値!E:F,2,FALSE))","v":""},{"$f":"IF(入力シート!L204=\"\",\"\",TEXT(入力シート!L204,\"@\"))","v":""}]
[{"$f":"IF(入力シート!B205=\"\",\"\",入力シート!B205)","v":""},{"$f":"IF(入力シート!C205=\"\",\"\",入力シート!C205)","v":""},{"$f":"IF(入力シート!D205=\"\",\"\",DBCS(入力シート!D205))","v":""},{"$f":"IF(入力シート!E205=\"\",\"\",DBCS(入力シート!E205))","v":""},{"$f":"ASC(IF(入力シート!F205=\"\",\"\",UPPER(入力シート!F205)))","v":""},{"$f":"IF(入力シート!G205=\"\",\"\",PROPER(入力シート!G205))","v":""},{"$f":"IF(入力シート!H205=\"\",\"\",入力シート!H205&\"性\")","v":""},{"$f":"IF(入力シート!I205=\"\",\"\",TEXT(入力シート!I205,\"yyyy/mm/dd\"))","v":""},null,null,null,null,null,{"$f":"IF(入力シート!J205=\"\",\"\",VLOOKUP(入力シート!J205,列挙値!A:B,2,FALSE))","v":""},null,null,null,null,null,null,null,null,null,null,null,null,null,null,{"$f":"IF(入力シート!H205=\"\",\"\",\"PLAYER\")","v":""},{"$f":"IF(入力シート!K205=\"\",\"\",VLOOKUP(入力シート!K205,列挙値!E:F,2,FALSE))","v":""},{"$f":"IF(入力シート!L205=\"\",\"\",TEXT(入力シート!L205,\"@\"))","v":""}]
[{"$f":"IF(入力シート!B206=\"\",\"\",入力シート!B206)","v":""},{"$f":"IF(入力シート!C206=\"\",\"\",入力シート!C206)","v":""},{"$f":"IF(入力シート!D206=\"\",\"\",DBCS(入力シート!D206))","v":""},{"$f":"IF(入力シート!E206=\"\",\"\",DBCS(入力シート!E206))","v":""},{"$f":"ASC(IF(入力シート!F206=\"\",\"\",UPPER(入力シート!F206)))","v":""},{"$f":"IF(入力シート!G206=\"\",\"\",PROPER(入力シート!G206))","v":""},{"$f":"IF(入力シート!H206=\"\",\"\",入力シート!H206&\"性\")","v":""},{"$f":"IF(入力シート!I206=\"\",\"\",TEXT(入力シート!I206,\"yyyy/mm/dd\"))","v":""},null,null,null,null,null,{"$f":"IF(入力シート!J206=\"\",\"\",VLOOKUP(入力シート!J206,列挙値!A:B,2,FALSE))","v":""},null,null,null,null,null,null,null,null,null,null,null,null,null,null,{"$f":"IF(入力シート!H206=\"\",\"\",\"PLAYER\")","v":""},{"$f":"IF(入力シート!K206=\"\",\"\",VLOOKUP(入力シート!K206,列挙値!E:F,2,FALSE))","v":""},{"$f":"IF(入力シート!L206=\"\",\"\",TEXT(入力シート!L206,\"@\"))","v":""}]
[{"$f":"IF(入力シート!B207=\"\",\"\",入力シート!B207)","v":""},{"$f":"IF(入力シート!C207=\"\",\"\",入力シート!C207)","v":""},{"$f":"IF(入力シート!D207=\"\",\"\",DBCS(入力シート!D207))","v":""},{"$f":"IF(入力シート!E207=\"\",\"\",DBCS(入力シート!E207))","v":""},{"$f":"ASC(IF(入力シート!F207=\"\",\"\",UPPER(入力シート!F207)))","v":""},{"$f":"IF(入力シート!G207=\"\",\"\",PROPER(入力シート!G207))","v":""},{"$f":"IF(入力シート!H207=\"\",\"\",入力シート!H207&\"性\")","v":""},{"$f":"IF(入力シート!I207=\"\",\"\",TEXT(入力シート!I207,\"yyyy/mm/dd\"))","v":""},null,null,null,null,null,{"$f":"IF(入力シート!J207=\"\",\"\",VLOOKUP(入力シート!J207,列挙値!A:B,2,FALSE))","v":""},null,null,null,null,null,null,null,null,null,null,null,null,null,null,{"$f":"IF(入力シート!H207=\"\",\"\",\"PLAYER\")","v":""},{"$f":"IF(入力シート!K207=\"\",\"\",VLOOKUP(入力シート!K207,列挙値!E:F,2,FALSE))","v":""},{"$f":"IF(入力シート!L207=\"\",\"\",TEXT(入力シート!L207,\"@\"))","v":""}]
[{"$f":"IF(入力シート!B208=\"\",\"\",入力シート!B208)","v":""},{"$f":"IF(入力シート!C208=\"\",\"\",入力シート!C208)","v":""},{"$f":"IF(入力シート!D208=\"\",\"\",DBCS(入力シート!D208))","v":""},{"$f":"IF(入力シート!E208=\"\",\"\",DBCS(入力シート!E208))","v":""},{"$f":"ASC(IF(入力シート!F208=\"\",\"\",UPPER(入力シート!F208)))","v":""},{"$f":"IF(入力シート!G208=\"\",\"\",PROPER(入力シート!G208))","v":""},{"$f":"IF(入力シート!H208=\"\",\"\",入力シート!H208&\"性\")","v":""},{"$f":"IF(入力シート!I208=\"\",\"\",TEXT(入力シート!I208,\"yyyy/mm/dd\"))","v":""},null,null,null,null,null,{"$f":"IF(入力シート!J208=\"\",\"\",VLOOKUP(入力シート!J208,列挙値!A:B,2,FALSE))","v":""},null,null,null,null,null,null,null,null,null,null,null,null,null,null,{"$f":"IF(入力シート!H208=\"\",\"\",\"PLAYER\")","v":""},{"$f":"IF(入力シート!K208=\"\",\"\",VLOOKUP(入力シート!K208,列挙値!E:F,2,FALSE))","v":""},{"$f":"IF(入力シート!L208=\"\",\"\",TEXT(入力シート!L208,\"@\"))","v":""}]
[{"$f":"IF(入力シート!B209=\"\",\"\",入力シート!B209)","v":""},{"$f":"IF(入力シート!C209=\"\",\"\",入力シート!C209)","v":""},{"$f":"IF(入力シート!D209=\"\",\"\",DBCS(入力シート!D209))","v":""},{"$f":"IF(入力シート!E209=\"\",\"\",DBCS(入力シート!E209))","v":""},{"$f":"ASC(IF(入力シート!F209=\"\",\"\",UPPER(入力シート!F209)))","v":""},{"$f":"IF(入力シート!G209=\"\",\"\",PROPER(入力シート!G209))","v":""},{"$f":"IF(入力シート!H209=\"\",\"\",入力シート!H209&\"性\")","v":""},{"$f":"IF(入力シート!I209=\"\",\"\",TEXT(入力シート!I209,\"yyyy/mm/dd\"))","v":""},null,null,null,null,null,{"$f":"IF(入力シート!J209=\"\",\"\",VLOOKUP(入力シート!J209,列挙値!A:B,2,FALSE))","v":""},null,null,null,null,null,null,null,null,null,null,null,null,null,null,{"$f":"IF(入力シート!H209=\"\",\"\",\"PLAYER\")","v":""},{"$f":"IF(入力シート!K209=\"\",\"\",VLOOKUP(入力シート!K209,列挙値!E:F,2,FALSE))","v":""},{"$f":"IF(入力シート!L209=\"\",\"\",TEXT(入力シート!L209,\"@\"))","v":""}]
[{"$f":"IF(入力シート!B210=\"\",\"\",入力シート!B210)","v":""},{"$f":"IF(入力シート!C210=\"\",\"\",入力シート!C210)","v":""},{"$f":"IF(入力シート!D210=\"\",\"\",DBCS(入力シート!D210))","v":""},{"$f":"IF(入力シート!E210=\"\",\"\",DBCS(入力シート!E210))","v":""},{"$f":"ASC(IF(入力シート!F210=\"\",\"\",UPPER(入力シート!F210)))","v":""},{"$f":"IF(入力シート!G210=\"\",\"\",PROPER(入力シート!G210))","v":""},{"$f":"IF(入力シート!H210=\"\",\"\",入力シート!H210&\"性\")","v":""},{"$f":"IF(入力シート!I210=\"\",\"\",TEXT(入力シート!I210,\"yyyy/mm/dd\"))","v":""},null,null,null,null,null,{"$f":"IF(入力シート!J210=\"\",\"\",VLOOKUP(入力シート!J210,列挙値!A:B,2,FALSE))","v":""},null,null,null,null,null,null,null,null,null,null,null,null,null,null,{"$f":"IF(入力シート!H210=\"\",\"\",\"PLAYER\")","v":""},{"$f":"IF(入力シート!K210=\"\",\"\",VLOOKUP(入力シート!K210,列挙値!E:F,2,FALSE))","v":""},{"$f":"IF(入力シート!L210=\"\",\"\",TEXT(入力シート!L210,\"@\"))","v":""}]
[{"$f":"IF(入力シート!B211=\"\",\"\",入力シート!B211)","v":""},{"$f":"IF(入力シート!C211=\"\",\"\",入力シート!C211)","v":""},{"$f":"IF(入力シート!D211=\"\",\"\",DBCS(入力シート!D211))","v":""},{"$f":"IF(入力シート!E211=\"\",\"\",DBCS(入力シート!E211))","v":""},{"$f":"ASC(IF(入力シート!F211=\"\",\"\",UPPER(入力シート!F211)))","v":""},{"$f":"IF(入力シート!G211=\"\",\"\",PROPER(入力シート!G211))","v":""},{"$f":"IF(入力シート!H211=\"\",\"\",入力シート!H211&\"性\")","v":""},{"$f":"IF(入力シート!I211=\"\",\"\",TEXT(入力シート!I211,\"yyyy/mm/dd\"))","v":""},null,null,null,null,null,{"$f":"IF(入力シート!J211=\"\",\"\",VLOOKUP(入力シート!J211,列挙値!A:B,2,FALSE))","v":""},null,null,null,null,null,null,null,null,null,null,null,null,null,null,{"$f":"IF(入力シート!H211=\"\",\"\",\"PLAYER\")","v":""},{"$f":"IF(入力シート!K211=\"\",\"\",VLOOKUP(入力シート!K211,列挙値!E:F,2,FALSE))","v":""},{"$f":"IF(入力シート!L211=\"\",\"\",TEXT(入力シート!L211,\"@\"))","v":""}]
[{"$f":"IF(入力シート!B212=\"\",\"\",入力シート!B212)","v":""},{"$f":"IF(入力シート!C212=\"\",\"\",入力シート!C212)","v":""},{"$f":"IF(入力シート!D212=\"\",\"\",DBCS(入力シート!D212))","v":""},{"$f":"IF(入力シート!E212=\"\",\"\",DBCS(入力シート!E212))","v":""},{"$f":"ASC(IF(入力シート!F212=\"\",\"\",UPPER(入力シート!F212)))","v":""},{"$f":"IF(入力シート!G212=\"\",\"\",PROPER(入力シート!G212))","v":""},{"$f":"IF(入力シート!H212=\"\",\"\",入力シート!H212&\"性\")","v":""},{"$f":"IF(入力シート!I212=\"\",\"\",TEXT(入力シート!I212,\"yyyy/mm/dd\"))","v":""},null,null,null,null,null,{"$f":"IF(入力シート!J212=\"\",\"\",VLOOKUP(入力シート!J212,列挙値!A:B,2,FALSE))","v":""},null,null,null,null,null,null,null,null,null,null,null,null,null,null,{"$f":"IF(入力シート!H212=\"\",\"\",\"PLAYER\")","v":""},{"$f":"IF(入力シート!K212=\"\",\"\",VLOOKUP(入力シート!K212,列挙値!E:F,2,FALSE))","v":""},{"$f":"IF(入力シート!L212=\"\",\"\",TEXT(入力シート!L212,\"@\"))","v":""}]
[{"$f":"IF(入力シート!B213=\"\",\"\",入力シート!B213)","v":""},{"$f":"IF(入力シート!C213=\"\",\"\",入力シート!C213)","v":""},{"$f":"IF(入力シート!D213=\"\",\"\",DBCS(入力シート!D213))","v":""},{"$f":"IF(入力シート!E213=\"\",\"\",DBCS(入力シート!E213))","v":""},{"$f":"ASC(IF(入力シート!F213=\"\",\"\",UPPER(入力シート!F213)))","v":""},{"$f":"IF(入力シート!G213=\"\",\"\",PROPER(入力シート!G213))","v":""},{"$f":"IF(入力シート!H213=\"\",\"\",入力シート!H213&\"性\")","v":""},{"$f":"IF(入力シート!I213=\"\",\"\",TEXT(入力シート!I213,\"yyyy/mm/dd\"))","v":""},null,null,null,null,null,{"$f":"IF(入力シート!J213=\"\",\"\",VLOOKUP(入力シート!J213,列挙値!A:B,2,FALSE))","v":""},null,null,null,null,null,null,null,null,null,null,null,null,null,null,{"$f":"IF(入力シート!H213=\"\",\"\",\"PLAYER\")","v":""},{"$f":"IF(入力シート!K213=\"\",\"\",VLOOKUP(入力シート!K213,列挙値!E:F,2,FALSE))","v":""},{"$f":"IF(入力シート!L213=\"\",\"\",TEXT(入力シート!L213,\"@\"))","v":""}]
[{"$f":"IF(入力シート!B214=\"\",\"\",入力シート!B214)","v":""},{"$f":"IF(入力シート!C214=\"\",\"\",入力シート!C214)","v":""},{"$f":"IF(入力シート!D214=\"\",\"\",DBCS(入力シート!D214))","v":""},{"$f":"IF(入力シート!E214=\"\",\"\",DBCS(入力シート!E214))","v":""},{"$f":"ASC(IF(入力シート!F214=\"\",\"\",UPPER(入力シート!F214)))","v":""},{"$f":"IF(入力シート!G214=\"\",\"\",PROPER(入力シート!G214))","v":""},{"$f":"IF(入力シート!H214=\"\",\"\",入力シート!H214&\"性\")","v":""},{"$f":"IF(入力シート!I214=\"\",\"\",TEXT(入力シート!I214,\"yyyy/mm/dd\"))","v":""},null,null,null,null,null,{"$f":"IF(入力シート!J214=\"\",\"\",VLOOKUP(入力シート!J214,列挙値!A:B,2,FALSE))","v":""},null,null,null,null,null,null,null,null,null,null,null,null,null,null,{"$f":"IF(入力シート!H214=\"\",\"\",\"PLAYER\")","v":""},{"$f":"IF(入力シート!K214=\"\",\"\",VLOOKUP(入力シート!K214,列挙値!E:F,2,FALSE))","v":""},{"$f":"IF(入力シート!L214=\"\",\"\",TEXT(入力シート!L214,\"@\"))","v":""}]
[{"$f":"IF(入力シート!B215=\"\",\"\",入力シート!B215)","v":""},{"$f":"IF(入力シート!C215=\"\",\"\",入力シート!C215)","v":""},{"$f":"IF(入力シート!D215=\"\",\"\",DBCS(入力シート!D215))","v":""},{"$f":"IF(入力シート!E215=\"\",\"\",DBCS(入力シート!E215))","v":""},{"$f":"ASC(IF(入力シート!F215=\"\",\"\",UPPER(入力シート!F215)))","v":""},{"$f":"IF(入力シート!G215=\"\",\"\",PROPER(入力シート!G215))","v":""},{"$f":"IF(入力シート!H215=\"\",\"\",入力シート!H215&\"性\")","v":""},{"$f":"IF(入力シート!I215=\"\",\"\",TEXT(入力シート!I215,\"yyyy/mm/dd\"))","v":""},null,null,null,null,null,{"$f":"IF(入力シート!J215=\"\",\"\",VLOOKUP(入力シート!J215,列挙値!A:B,2,FALSE))","v":""},null,null,null,null,null,null,null,null,null,null,null,null,null,null,{"$f":"IF(入力シート!H215=\"\",\"\",\"PLAYER\")","v":""},{"$f":"IF(入力シート!K215=\"\",\"\",VLOOKUP(入力シート!K215,列挙値!E:F,2,FALSE))","v":""},{"$f":"IF(入力シート!L215=\"\",\"\",TEXT(入力シート!L215,\"@\"))","v":""}]
[{"$f":"IF(入力シート!B216=\"\",\"\",入力シート!B216)","v":""},{"$f":"IF(入力シート!C216=\"\",\"\",入力シート!C216)","v":""},{"$f":"IF(入力シート!D216=\"\",\"\",DBCS(入力シート!D216))","v":""},{"$f":"IF(入力シート!E216=\"\",\"\",DBCS(入力シート!E216))","v":""},{"$f":"ASC(IF(入力シート!F216=\"\",\"\",UPPER(入力シート!F216)))","v":""},{"$f":"IF(入力シート!G216=\"\",\"\",PROPER(入力シート!G216))","v":""},{"$f":"IF(入力シート!H216=\"\",\"\",入力シート!H216&\"性\")","v":""},{"$f":"IF(入力シート!I216=\"\",\"\",TEXT(入力シート!I216,\"yyyy/mm/dd\"))","v":""},null,null,null,null,null,{"$f":"IF(入力シート!J216=\"\",\"\",VLOOKUP(入力シート!J216,列挙値!A:B,2,FALSE))","v":""},null,null,null,null,null,null,null,null,null,null,null,null,null,null,{"$f":"IF(入力シート!H216=\"\",\"\",\"PLAYER\")","v":""},{"$f":"IF(入力シート!K216=\"\",\"\",VLOOKUP(入力シート!K216,列挙値!E:F,2,FALSE))","v":""},{"$f":"IF(入力シート!L216=\"\",\"\",TEXT(入力シート!L216,\"@\"))","v":""}]
[{"$f":"IF(入力シート!B217=\"\",\"\",入力シート!B217)","v":""},{"$f":"IF(入力シート!C217=\"\",\"\",入力シート!C217)","v":""},{"$f":"IF(入力シート!D217=\"\",\"\",DBCS(入力シート!D217))","v":""},{"$f":"IF(入力シート!E217=\"\",\"\",DBCS(入力シート!E217))","v":""},{"$f":"ASC(IF(入力シート!F217=\"\",\"\",UPPER(入力シート!F217)))","v":""},{"$f":"IF(入力シート!G217=\"\",\"\",PROPER(入力シート!G217))","v":""},{"$f":"IF(入力シート!H217=\"\",\"\",入力シート!H217&\"性\")","v":""},{"$f":"IF(入力シート!I217=\"\",\"\",TEXT(入力シート!I217,\"yyyy/mm/dd\"))","v":""},null,null,null,null,null,{"$f":"IF(入力シート!J217=\"\",\"\",VLOOKUP(入力シート!J217,列挙値!A:B,2,FALSE))","v":""},null,null,null,null,null,null,null,null,null,null,null,null,null,null,{"$f":"IF(入力シート!H217=\"\",\"\",\"PLAYER\")","v":""},{"$f":"IF(入力シート!K217=\"\",\"\",VLOOKUP(入力シート!K217,列挙値!E:F,2,FALSE))","v":""},{"$f":"IF(入力シート!L217=\"\",\"\",TEXT(入力シート!L217,\"@\"))","v":""}]
[{"$f":"IF(入力シート!B218=\"\",\"\",入力シート!B218)","v":""},{"$f":"IF(入力シート!C218=\"\",\"\",入力シート!C218)","v":""},{"$f":"IF(入力シート!D218=\"\",\"\",DBCS(入力シート!D218))","v":""},{"$f":"IF(入力シート!E218=\"\",\"\",DBCS(入力シート!E218))","v":""},{"$f":"ASC(IF(入力シート!F218=\"\",\"\",UPPER(入力シート!F218)))","v":""},{"$f":"IF(入力シート!G218=\"\",\"\",PROPER(入力シート!G218))","v":""},{"$f":"IF(入力シート!H218=\"\",\"\",入力シート!H218&\"性\")","v":""},{"$f":"IF(入力シート!I218=\"\",\"\",TEXT(入力シート!I218,\"yyyy/mm/dd\"))","v":""},null,null,null,null,null,{"$f":"IF(入力シート!J218=\"\",\"\",VLOOKUP(入力シート!J218,列挙値!A:B,2,FALSE))","v":""},null,null,null,null,null,null,null,null,null,null,null,null,null,null,{"$f":"IF(入力シート!H218=\"\",\"\",\"PLAYER\")","v":""},{"$f":"IF(入力シート!K218=\"\",\"\",VLOOKUP(入力シート!K218,列挙値!E:F,2,FALSE))","v":""},{"$f":"IF(入力シート!L218=\"\",\"\",TEXT(入力シート!L218,\"@\"))","v":""}]

{"sheet":"(おまけ)アップロードCSV書式説明","index":3,"n_rows":53,"n_cols":7,"rows_kept":53,"cut":false,"hidden":false,"merged":[]}
["新規一括追加用アップロードCSVファイルの入力項目について"]
[]
[]
[null,"項目名","必須項目","入力条件"]
["1列目","氏名（姓）","○"]
["2列目","氏名（名）","○"]
["3列目","フリガナ（姓）","○","全角カナ"]
["4列目","フリガナ（名）","○","全角カナ"]
["5列目","英字（姓）"]
["6列目","英字（名）"]
["7列目","性別","○","男は”MALE”、女は”FEMALE”",null,"画面上の表記","入力書式"]
["8列目","生年月日","○","書式はyyyy/mm/dd（2007/09/20）",null,"小学1","E5_PRIMARY_SCHOOL_1"]
["9列目","郵便番号",null,null,null,"小学2","E5_PRIMARY_SCHOOL_2"]
["10列目","都道府県",null,null,null,"小学3","E5_PRIMARY_SCHOOL_3"]
["11列目","市区町村",null,null,null,"小学4","E5_PRIMARY_SCHOOL_4"]
["12列目","番地・建物名",null,null,null,"小学5","E5_PRIMARY_SCHOOL_5"]
["13列目","携帯電話番号",null,null,null,"小学6","E5_PRIMARY_SCHOOL_6"]
["14列目","国籍",null,"日本は”JPN\"",null,"中学1","E5_JUNIOR_HIGH_SCHOOL_1"]
["15列目","学年",null,"＊ここは使用していない",null,"中学2","E5_JUNIOR_HIGH_SCHOOL_2"]
["16列目","卒業高校名",null,null,null,"中学3","E5_JUNIOR_HIGH_SCHOOL_3"]
["17列目","卒業中学名",null,null,null,"高校1","E5_HIGH_SCHOOL_1"]
["18列目","E-mail配信希望",null,null,null,"高校2","E5_HIGH_SCHOOL_2"]
["19列目","勤務先名",null,null,null,"高校3","E5_HIGH_SCHOOL_3"]
["20列目","勤務先郵便番号",null,null,null,"定通制1","E5_PART_TIME_CORRESPONDENCE_1"]
["21列目","勤務先都道府県",null,null,null,"定通制2","E5_PART_TIME_CORRESPONDENCE_2"]
["22列目","勤務先市区町村 / 番地 / 建物名",null,null,null,"定通制3","E5_PART_TIME_CORRESPONDENCE_3"]
["23列目","在籍学校名",null,null,null,"定通制4","E5_PART_TIME_CORRESPONDENCE_4"]
["24列目","在籍学校都道府県",null,null,null,"通信制単位制","E5_CORRESPONDENCE_CREDIT"]
["25列目","障がいのクラス",null,null,null,"大学1","E5_COLLEGE_1"]
["26列目","会員基本情報備考",null,null,null,"大学2","E5_COLLEGE_2"]
["27列目","実施している種目",null,null,null,"大学3","E5_COLLEGE_3"]
["28列目","興味がある種目",null,null,null,"大学4","E5_COLLEGE_4"]
["29列目","属性","○","競技者は\"PLAYER\"",null,"大学5","E5_COLLEGE_5"]
["30列目","学年",null,"学年はここを使用します。表記は右の表の通り","→","大学6","E5_COLLEGE_6"]
["31列目","登録番号",null,null,null,"大学M1","E5_MASTER_1"]
["32列目","指導者チェック",null,null,null,"大学M2","E5_MASTER_2"]
["33列目","役職名",null,null,null,"大学M3","E5_MASTER_3"]
[null,null,null,null,null,"大学M4","E5_MASTER_4"]
[null,null,null,null,null,"大学D1","E5_DOCTOR_1"]
[null,null,null,null,null,"大学D2","E5_DOCTOR_2"]
[null,null,null,null,null,"大学D3","E5_DOCTOR_3"]
[null,null,null,null,null,"大学D4","E5_DOCTOR_4"]
[null,null,null,null,null,"大学D5","E5_DOCTOR_5"]
[null,null,null,null,null,"大学D6","E5_DOCTOR_6"]
[null,null,null,null,null,"高専1","E5_SPECIAL_SCHOOL_1"]
[null,null,null,null,null,"高専2","E5_SPECIAL_SCHOOL_2"]
[null,null,null,null,null,"高専3","E5_SPECIAL_SCHOOL_3"]
[null,null,null,null,null,"高専4","E5_SPECIAL_SCHOOL_4"]
[null,null,null,null,null,"高専5","E5_SPECIAL_SCHOOL_5"]
[null,null,null,null,null,"高専S1","E5_SPECIAL_SCHOOL_S1"]
[null,null,null,null,null,"高専S2","E5_SPECIAL_SCHOOL_S2"]
[null,null,null,null,null,"高専S3","E5_SPECIAL_SCHOOL_S3"]
[null,null,null,null,null,"高専S4","E5_SPECIAL_SCHOOL_S4"]

{"sheet":"列挙値","index":4,"n_rows":219,"n_cols":6,"rows_kept":219,"cut":false,"hidden":true,"merged":[]}
[]
["日本","JPN",null,null,"小学1","E5_PRIMARY_SCHOOL_1"]
["アイスランド","ISL",null,null,"小学2","E5_PRIMARY_SCHOOL_2"]
["アイルランド","IRL",null,null,"小学3","E5_PRIMARY_SCHOOL_3"]
["アゼルバイジャン","AZE",null,null,"小学4","E5_PRIMARY_SCHOOL_4"]
["アフガニスタン","AFG",null,null,"小学5","E5_PRIMARY_SCHOOL_5"]
["アメリカ","USA",null,null,"小学6","E5_PRIMARY_SCHOOL_6"]
["アラブ首長国連邦","UAE",null,null,"中学1","E5_JUNIOR_HIGH_SCHOOL_1"]
["アルジェリア","ALG",null,null,"中学2","E5_JUNIOR_HIGH_SCHOOL_2"]
["アルゼンチン","ARG",null,null,"中学3","E5_JUNIOR_HIGH_SCHOOL_3"]
["アルバ","ARU",null,null,"高校1","E5_HIGH_SCHOOL_1"]
["アルバニア","ALB",null,null,"高校2","E5_HIGH_SCHOOL_2"]
["アルメニア","ARM",null,null,"高校3","E5_HIGH_SCHOOL_3"]
["アンギラ","AIA",null,null,"定通制1","E5_PART_TIME_CORRESPONDENCE_1"]
["アンゴラ","ANG",null,null,"定通制2","E5_PART_TIME_CORRESPONDENCE_2"]
["アンティグア・バーブーダ","ANT",null,null,"定通制3","E5_PART_TIME_CORRESPONDENCE_3"]
["アンドラ","AND",null,null,"定通制4","E5_PART_TIME_CORRESPONDENCE_4"]
["イエメン","YEM",null,null,"通信制単位制","E5_CORRESPONDENCE_CREDIT"]
["イスラエル","ISR",null,null,"大学1","E5_COLLEGE_1"]
["イタリア","ITA",null,null,"大学2","E5_COLLEGE_2"]
["イラク","IRQ",null,null,"大学3","E5_COLLEGE_3"]
["イラン","IRI",null,null,"大学4","E5_COLLEGE_4"]
["インド","IND",null,null,"大学5","E5_COLLEGE_5"]
["インドネシア","INA",null,null,"大学6","E5_COLLEGE_6"]
["ウガンダ","UGA",null,null,"大学M1","E5_MASTER_1"]
["ウクライナ","UKR",null,null,"大学M2","E5_MASTER_2"]
["ウズベキスタン","UZB",null,null,"大学M3","E5_MASTER_3"]
["ウルグアイ","URU",null,null,"大学M4","E5_MASTER_4"]
["英領バージン諸島","IVB",null,null,"大学D1","E5_DOCTOR_1"]
["エクアドル","ECU",null,null,"大学D2","E5_DOCTOR_2"]
["エジプト","EGY",null,null,"大学D3","E5_DOCTOR_3"]
["エストニア","EST",null,null,"大学D4","E5_DOCTOR_4"]
["エチオピア","ETH",null,null,"大学D5","E5_DOCTOR_5"]
["エリトリア","ERI",null,null,"大学D6","E5_DOCTOR_6"]
["エルサルバドル","ESA",null,null,"高専1","E5_SPECIAL_SCHOOL_1"]
["オーストラリア","AUS",null,null,"高専2","E5_SPECIAL_SCHOOL_2"]
["オーストリア","AUT",null,null,"高専3","E5_SPECIAL_SCHOOL_3"]
["オマーン","OMA",null,null,"高専4","E5_SPECIAL_SCHOOL_4"]
["オランダ","NED",null,null,"高専5","E5_SPECIAL_SCHOOL_5"]
["ガーナ","GHA",null,null,"高専S1","E5_SPECIAL_SCHOOL_S1"]
["カボベルデ","CPV",null,null,"高専S2","E5_SPECIAL_SCHOOL_S2"]
["ガイアナ","GUY",null,null,"高専S3","E5_SPECIAL_SCHOOL_S3"]
["カザフスタン","KAZ",null,null,"高専S4","E5_SPECIAL_SCHOOL_S4"]
["カタール","QAT"]
["カナダ","CAN"]
["ガボン","GAB"]
["カメルーン","CMR"]
["ガンビア","GAM"]
["カンボジア","CAM"]
["朝鮮民主主義人民共和国","PRK"]
["北マリアナ諸島","NMI"]
["ギニア","GUI"]
["ギニアビサウ","GBS"]
["キプロス","CYP"]
["キューバ","CUB"]
["ギリシャ","GRE"]
["キリバス","KIR"]
["キルギスタン","KGZ"]
["グアテマラ","GUA"]
["グアム","GUM"]
["クウェート","KUW"]
["クック諸島","COK"]
["ジョージア","GEO"]
["イギリス","GBR"]
["グレナダ","GRN"]
["クロアチア","CRO"]
["ケイマン諸島","CAY"]
["ニュージーランド","NZL"]
["ネパール","NEP"]
["ケニア","KEN"]
["コートジボアール","CIV"]
["コスタリカ","CRC"]
["コモロ","COM"]
["コロンビア","COL"]
["コンゴ","CGO"]
["コンゴ民主共和国","COD"]
["サウジアラビア","KSA"]
["サモア","SAM"]
["サントメプリンシペ","STP"]
["ザンビア","ZAM"]
["サンマリノ","SMR"]
["シエラレオネ","SLE"]
["ジブチ","DJI"]
["ジブラルタル","GIB"]
["ジャマイカ","JAM"]
["シリア","SYR"]
["シンガポール","SGP"]
["ジンバブエ","ZIM"]
["スイス","SUI"]
["スウェーデン","SWE"]
["スーダン","SUD"]
["スペイン","ESP"]
["スリナム","SUR"]
["スリランカ","SRI"]
["スロバキア","SVK"]
["スロベニア","SLO"]
["スワジランド","SWZ"]
["パレスチナ","PLE"]
["セーシェル","SEY"]
["赤道ギニア","GEQ"]
["セネガル","SEN"]
["セルビア","SRB"]
["セントクリストファーネビス","SKN"]
["セントビンセント","VIN"]
["セントルシア","LCA"]
["ソマリア","SOM"]
["ソロモン諸島","SOL"]
["タークス・カイコス諸島","TKS"]
["タイ","THA"]
["韓国","KOR"]
["チャイニーズ　タイペイ","TPE"]
["タジキスタン","TJK"]
["タンザニア","TAN"]
["チェコ","CZE"]
["チャド","CHA"]
["中央アフリカ","CAF"]
["中国","CHN"]
["チュニジア","TUN"]
["チリ","CHI"]
["ツバル","TUV"]
["デンマーク","DEN"]
["ドイツ","GER"]
["トーゴ","TOG"]
["ドミニカ共和国","DOM"]
["ドミニカ","DMA"]
["トリニダード・トバゴ","TTO"]
["トルクメニスタン","TKM"]
["トルコ","TUR"]
["トンガ","TGA"]
["ナイジェリア","NGR"]
["ナウル","NRU"]
["ナミビア","NAM"]
["ニウエ","NIU"]
["ニカラグア","NCA"]
["ニジェール","NIG"]
["ヨルダン","JOR"]
["ラオス","LAO"]
["ノーフォーク島","NFI"]
["ノルウエー","NOR"]
["バーレーン","BRN"]
["ハイチ","HAI"]
["パキスタン","PAK"]
["バチカン市国","VAT"]
["パナマ","PAN"]
["バヌアツ","VAN"]
["バハマ","BAH"]
["パプアニューギニア","PNG"]
["バミューダ","BER"]
["パラオ","PLW"]
["パラグアイ","PAR"]
["バルバドス","BAR"]
["ハンガリー","HUN"]
["バングラデシュ","BAN"]
["東ティモール","TLS"]
["フィジー","FIJ"]
["フィリピン","PHI"]
["フィンランド","FIN"]
["ブータン","BHU"]
["プエルトリコ","PUR"]
["ブラジル","BRA"]
["フランス","FRA"]
["仏領ポリネシア","PYF"]
["ブルガリア","BUL"]
["ブルキナファソ","BUR"]
["ブルネイ","BRU"]
["ブルンジ","BDI"]
["米領サモア","ASA"]
["米領バージン諸島","ISV"]
["ベトナム","VIE"]
["ベニン","BEN"]
["ベネズエラ","VEN"]
["ベラルーシ","BLR"]
["ベリーズ","BIZ"]
["ペルー","PER"]
["ベルギー","BEL"]
["ポーランド","POL"]
["ボスニア・ヘルツェゴビナ","BIH"]
["ボツワナ","BOT"]
["ボリビア","BOL"]
["ポルトガル","POR"]
["中国・香港","HKG"]
["ホンジュラス","HON"]
["マーシャル諸島","MHL"]
["マカオ","MAC"]
["マケドニア","MKD"]
["マダガスカル","MAD"]
["マラウイ","MAW"]
["マリ","MLI"]
["マルタ","MLT"]
["マレーシア","MAS"]
["ミクロネシア連邦","FSM"]
["南アフリカ","RSA"]
["南スーダン","SSD"]
["ミャンマー","MYA"]
["メキシコ","MEX"]
["モーリシャス","MRI"]
["モーリタニア","MTN"]
["モザンビーク","MOZ"]
["モナコ","MON"]
["モルディブ","MDV"]
["モルドバ","MDA"]
["モロッコ","MAR"]
["モンゴル","MGL"]
["モンテネグロ","MNE"]
["モントセラト","MNT"]
["ラトビア","LAT"]
["リトアニア","LTU"]
["リビア","LBA"]
["リヒテンシュタイン","LIE"]
["リベリア","LBR"]
["ルーマニア","ROU"]
["ルクセンブルグ","LUX"]
["ルワンダ","RWA"]
["レソト","LES"]
["レバノン","LBN"]
["ロシア","RUS"]
["コソボ","KOS"]
["日本含む二重国籍　","DUAL1"]
["日本含まない二重国籍"," DUAL2"]